{"text_format":"1","workbook":"xlsx","n_sheets":22,"sheets":["Instructions","dropdown","2020-2022 Calculation Template","Composite Index Formula","Trend Analysis","Summary","Appropriation Act Language","2020-2022 Composite Index Data","2020-22 Comp Index Non-Res. AGI","2020-2022 Composite Index","Comp Index Comparison - Ranked","True Value of Property","Adjusted Gross Income","Taxable Sales","March 31 ADM","Population","AGI analysis","true value analysis","taxable retail analysis","ADM & Population Analysis","Final Check","Instructions For Updating"],"not_rendered":{"charts":0,"images":0,"macros":1,"external_links":1,"defined_names":55,"comments":5,"pivot_tables":0},"unopened":[],"bounds":{"document_bytes":16777216,"sheet_cells":100000,"rows_first":2000,"rows_last":500,"rows_between":2000,"halvings":0,"cell_chars":16384,"cell_head_chars":4096},"cells_cut":0,"cells_raw":0,"read":"whole","date_system":"1900"}

{"sheet":"Instructions","index":0,"n_rows":17,"n_cols":1,"rows_kept":17,"cut":false,"hidden":false,"merged":[]}
["VIRGINIA DEPARTMENT OF EDUCATION"]
["COMPOSITE INDEX OF LOCAL ABILITY-TO-PAY"]
["2020-2022 BIENNIUM"]
["INSTRUCTIONS FOR USING THE CALCULATION TEMPLATE:"]
["     1.  Select the school division to be calculated using the drop-down box located at the top of the sheet labeled \"2020-2022 Calculation Template.\"  A box will appear that asks you to confirm that you have chosen the correct division.  If the division name is correct, click \"Yes.\"  If you have selected the wrong division, click \"No\" and select the correct division using the drop-down box."]
["     2.  After you have confirmed your division selection using the drop-down box, the 2020-2022 composite index of local ability-to-pay for the selected division will automatically be calculated.  "]
["    3.  Note:  The sheet labeled \"Trend Analysis\" provides the percentage change in the data elements used to calculate the composite index for a division for the 2018-2020 and 2020-2022 biennia as compared to the percentage change in the statewide average of these data elements between the 2018-2020 and 2020-2022 biennia.  This data will assist you in assessing the components of the formula that contributed to a change in the composite index for a division between 2018-2020 and 2020-2022."]
["    4.  Included are six sheets that provide biennial comparisons of composite indices as well as base year data for True Value of Property, Adjusted Gross Income, Taxable Retail Sales, Population, and March 31 ADM for the 2018-2020 and 2020-2022 biennia.  This data is for your information to compare the base data used to calculate the composite indices for both biennia.  You have the ability to sort this data.  To sort the data, please click on the yellow box to the right of the data table and select the option for sorting the data."]
["If you have questions regarding the instructions or the Excel template, please contact the budget office staff at (804) 225-2025 or email us at Doebudgetoffice@doe.virginia.gov."]
["Updated 11/1/19"]
["End of worksheet"]
[]
[]
[]
[]
[]
["End of worksheet"]

{"sheet":"dropdown","index":1,"n_rows":136,"n_cols":1,"rows_kept":136,"cut":false,"hidden":true,"merged":[]}
["<SELECT DIVISION>"]
["001 - ACCOMACK"]
["002 - ALBEMARLE"]
["003 - ALLEGHANY"]
["004 - AMELIA"]
["005 - AMHERST"]
["006 - APPOMATTOX"]
["007 - ARLINGTON"]
["008 - AUGUSTA"]
["009 - BATH"]
["010 - BEDFORD"]
["011 - BLAND"]
["012 - BOTETOURT"]
["013 - BRUNSWICK"]
["014 - BUCHANAN"]
["015 - BUCKINGHAM"]
["016 - CAMPBELL"]
["017 - CAROLINE"]
["018 - CARROLL"]
["019 - CHARLES CITY COUNTY"]
["020 - CHARLOTTE"]
["021 - CHESTERFIELD"]
["022 - CLARKE"]
["023 - CRAIG"]
["024 - CULPEPER"]
["025 - CUMBERLAND"]
["026 - DICKENSON"]
["027 - DINWIDDIE"]
["028 - ESSEX"]
["029 - FAIRFAX"]
["030 - FAUQUIER"]
["031 - FLOYD"]
["032 - FLUVANNA"]
["033 - FRANKLIN"]
["034 - FREDERICK"]
["035 - GILES"]
["036 - GLOUCESTER"]
["037 - GOOCHLAND"]
["038 - GRAYSON"]
["039 - GREENE"]
["040 - GREENSVILLE"]
["041 - HALIFAX"]
["042 - HANOVER"]
["043 - HENRICO"]
["044 - HENRY"]
["045 - HIGHLAND"]
["046 - ISLE OF WIGHT"]
["047 - JAMES CITY COUNTY"]
["048 - KING GEORGE"]
["049 - KING AND QUEEN"]
["050 - KING WILLIAM"]
["051 - LANCASTER"]
["052 - LEE"]
["053 - LOUDOUN"]
["054 - LOUISA"]
["055 - LUNENBURG"]
["056 - MADISON"]
["057 - MATHEWS"]
["058 - MECKLENBURG"]
["059 - MIDDLESEX"]
["060 - MONTGOMERY"]
["062 - NELSON"]
["063 - NEW KENT"]
["065 - NORTHAMPTON"]
["066 - NORTHUMBERLAND"]
["067 - NOTTOWAY"]
["068 - ORANGE"]
["069 - PAGE"]
["070 - PATRICK"]
["071 - PITTSYLVANIA"]
["072 - POWHATAN"]
["073 - PRINCE EDWARD"]
["074 - PRINCE GEORGE"]
["075 - PRINCE WILLIAM"]
["077 - PULASKI"]
["078 - RAPPAHANNOCK"]
["079 - RICHMOND"]
["080 - ROANOKE"]
["081 - ROCKBRIDGE"]
["082 - ROCKINGHAM"]
["083 - RUSSELL"]
["084 - SCOTT"]
["085 - SHENANDOAH"]
["086 - SMYTH"]
["087 - SOUTHAMPTON"]
["088 - SPOTSYLVANIA"]
["089 - STAFFORD"]
["090 - SURRY"]
["091 - SUSSEX"]
["092 - TAZEWELL"]
["093 - WARREN"]
["094 - WASHINGTON"]
["095 - WESTMORELAND"]
["096 - WISE"]
["097 - WYTHE"]
["098 - YORK"]
["101 - ALEXANDRIA CITY"]
["102 - BRISTOL CITY"]
["103 - BUENA VISTA CITY"]
["104 - CHARLOTTESVILLE CITY"]
["106 - COLONIAL HEIGHTS CITY"]
["107 - COVINGTON CITY"]
["108 - DANVILLE CITY"]
["109 - FALLS CHURCH CITY"]
["110 - FREDERICKSBURG CITY"]
["111 - GALAX CITY"]
["112 - HAMPTON CITY"]
["113 - HARRISONBURG CITY"]
["114 - HOPEWELL CITY"]
["115 - LYNCHBURG CITY"]
["116 - MARTINSVILLE CITY"]
["117 - NEWPORT NEWS CITY"]
["118 - NORFOLK CITY"]
["119 - NORTON CITY"]
["120 - PETERSBURG CITY"]
["121 - PORTSMOUTH CITY"]
["122 - RADFORD CITY"]
["123 - RICHMOND CITY"]
["124 - ROANOKE CITY"]
["126 - STAUNTON CITY"]
["127 - SUFFOLK CITY"]
["128 - VIRGINIA BEACH CITY"]
["130 - WAYNESBORO CITY"]
["131 - WILLIAMSBURG CITY"]
["132 - WINCHESTER CITY"]
["134 - FAIRFAX CITY"]
["135 - FRANKLIN CITY"]
["136 - CHESAPEAKE CITY"]
["137 - LEXINGTON CITY"]
["139 - SALEM CITY"]
["138 - EMPORIA"]
["142 - POQUOSON CITY"]
["143 - MANASSAS CITY"]
["144 - MANASSAS PARK CITY"]
["202 - COLONIAL BEACH"]
["207 - WEST POINT"]

{"sheet":"2020-2022 Calculation Template","index":2,"n_rows":139,"n_cols":48,"rows_kept":139,"cut":false,"hidden":false,"merged":[[34,16,49,28],[29,0,29,11],[0,43,0,44],[24,30,24,31],[2,0,2,12],[0,13,0,15],[18,16,18,17],[1,0,1,12],[1,13,1,15],[16,16,17,18]]}
["Pick your school division from the drop down box",null,null,null,null,null,null,null,null,null,null,null,null,"Division Number:",null,null,null,null,null,null,null,null,null,null,null,null,null,null,null,null,null,null,null,null,null,null,null,null,null,null,null,null,null,"School Division",null,"2016-2018 Composite Index","From Template","Variance"]
[{"$f":"\"Calculation of the 2020-2022 Composite Index for \"&R22&\"\"","v":{"$error":"#N/A"}},null,null,null,null,null,null,null,null,null,null,null,null,"<SE",null,null,null,null,null,null,null,null,null,null,null,null,null,null,null,null,null,null,null,null,null,null,null,null,null,null,null,null,null,1,"ACCOMACK",{"$f":"VLOOKUP(AR2,'Comp Index Comparison - Ranked'!$B$6:$D$140,3,FALSE)","v":0.33739999999999998},0.3553,{"$f":"AT2-AU2","v":-1.7900000000000027E-2}]
["Step 1 -- Calculation of the 2020-2022 Average Daily Membership Composite Index:",null,null,null,null,null,null,null,null,null,null,null,null,null,null,null,"Step 3 -- Combining of the Two 2020-2022 Indices of Ability-to-Pay:",null,null,null,null,null,null,null,null,null,null,null,null,null,null,null,null,null,null,null,null,null,null,null,null,null,null,2,"ALBEMARLE",{"$f":"VLOOKUP(AR3,'Comp Index Comparison - Ranked'!$B$6:$D$140,3,FALSE)","v":0.64490000000000003},0.65039999999999998,-5.4999999999999494E-3]
["no data",null,"no data","no data","no data","no data","no data","no data","no data","no data","no data","no data","no data","no data","no data","no data",null,null,null,null,null,null,null,null,null,null,null,null,"Local",null,null,null,null,null,null,null,null,null,null,null,null,null,null,3,"ALLEGHANY",{"$f":"VLOOKUP(AR4,'Comp Index Comparison - Ranked'!$B$6:$D$140,3,FALSE)","v":0.28189999999999998},0.24249999999999999,3.9399999999999991E-2]
[null,null,null,null,null,null,null,"Local Adjusted",null,null,null,null,null,null,null,null,"(.6667 X ADM Composite Index)  +  (.3333 X Per Capita Composite Index) ",null,null,null,null,null,null,null,null,null,null,"=","Composite",null,null,null,null,null,null,null,null,null,null,null,null,null,null,4,"AMELIA",{"$f":"VLOOKUP(AR5,'Comp Index Comparison - Ranked'!$B$6:$D$140,3,FALSE)","v":0.34789999999999999},0.33079999999999998,1.7100000000000004E-2]
[null,null,"Local True Values",null,null,null,null,"Gross Income",null,null,null,null,"Local Taxable Retail Sales",null,null,null,null,null,null,null,null,null,null,null,null,null,null,null,"Index",null,null,null,null,null,null,null,null,null,null,null,null,null,null,5,"AMHERST",{"$f":"VLOOKUP(AR6,'Comp Index Comparison - Ranked'!$B$6:$D$140,3,FALSE)","v":0.31409999999999999},0.30790000000000001,6.1999999999999833E-3]
[null,null,"Division ADM",null,null,null,null,"Division ADM",null,null,null,null,"Division ADM",null,null,"ADM",null,null,null,null,null,null,null,null,null,null,null,null,null,null,null,null,null,null,null,null,null,null,null,null,null,null,null,6,"APPOMATTOX",{"$f":"VLOOKUP(AR7,'Comp Index Comparison - Ranked'!$B$6:$D$140,3,FALSE)","v":0.29780000000000001},0.30790000000000001,-1.0099999999999998E-2]
[0.5,null,"-",null,"+",0.4,null,"-",null,"+",0.1,null,"-",null,"=","Composite",null,null,null,null,null,null,null,null,null,null,null,null,null,null,null,null,null,null,null,null,null,null,null,null,null,null,null,7,"ARLINGTON",{"$f":"VLOOKUP(AR8,'Comp Index Comparison - Ranked'!$B$6:$D$140,3,FALSE)","v":0.8},0.8,0]
[null,null,"Statewide Total of ",null,null,null,null,"Total State Adjusted",null,null,null,null,"Total State Taxable Retail Sales",null,null,"Index",null,null,null,null,null,null,null,null,null,null,null,null,"Local",null,null,null,null,null,null,null,null,null,null,null,null,null,null,8,"AUGUSTA",{"$f":"VLOOKUP(AR9,'Comp Index Comparison - Ranked'!$B$6:$D$140,3,FALSE)","v":0.37690000000000001},0.3543,2.2600000000000009E-2]
[null,null,"Local True Values",null,null,null,null,"Gross Income",null,null,null,null,"Total State ADM",null,null,null,null,null,"(",".6667 X",{"$f":"P29","v":{"$error":"#N/A"}},")","+","(",".3333 X",{"$f":"P56","v":{"$error":"#N/A"}},")","=","Composite",null,null,null,null,null,null,null,null,null,null,null,null,null,null,9,"BATH",{"$f":"VLOOKUP(AR10,'Comp Index Comparison - Ranked'!$B$6:$D$140,3,FALSE)","v":0.8},0.8,0]
[null,null,"Total State ADM",null,null,null,null,"Total State ADM",null,null,null,null,null,null,null,null,null,null,null,null,null,null,null,null,null,null,null,null,"Index",null,null,null,null,null,null,null,null,null,null,null,null,null,null,10,"BEDFORD COUNTY",{"$f":"VLOOKUP(AR11,'Comp Index Comparison - Ranked'!$B$6:$D$140,3,FALSE)","v":0.31319999999999998},0.41089999999999999,-9.7700000000000009E-2]
["no data","no data","no data","no data","no data","no data","no data","no data","no data","no data","no data","no data","no data","no data","no data","no data",null,null,null,null,null,null,null,null,null,null,null,null,null,null,null,null,null,null,null,null,null,null,null,null,null,null,null,11,"BLAND",{"$f":"VLOOKUP(AR12,'Comp Index Comparison - Ranked'!$B$6:$D$140,3,FALSE)","v":0.33800000000000002},0.32519999999999999,1.2800000000000034E-2]
[null,null,null,null,null,null,null,null,null,null,null,null,null,null,null,null,null,null,null,null,null,null,null,null,null,null,null,null,null,null,null,null,null,null,null,null,null,null,null,null,null,null,null,12,"BOTETOURT",{"$f":"VLOOKUP(AR13,'Comp Index Comparison - Ranked'!$B$6:$D$140,3,FALSE)","v":0.39750000000000002},0.37180000000000002,2.5700000000000001E-2]
[null,null,{"$f":"R23","v":{"$error":"#N/A"}},null,null,null,null,{"$f":"R24","v":{"$error":"#N/A"}},null,null,null,null,{"$f":"R25","v":{"$error":"#N/A"}},null,null,null,null,null,null,null,null,null,null,null,null,null,null,null,"Local",null,null,null,null,null,null,null,null,null,null,null,null,null,null,13,"BRUNSWICK",{"$f":"VLOOKUP(AR14,'Comp Index Comparison - Ranked'!$B$6:$D$140,3,FALSE)","v":0.42899999999999999},0.2984,0.13059999999999999]
[null,null,{"$f":"R26","v":{"$error":"#N/A"}},null,null,null,null,{"$f":"R26","v":{"$error":"#N/A"}},null,null,null,null,{"$f":"R26","v":{"$error":"#N/A"}},null,null,"ADM",null,null,null,null,{"$f":"ROUND(+U10*0.6667,4)","v":{"$error":"#N/A"}},null,"+",null,{"$f":"ROUND(+Z10*0.3333,4)","v":{"$error":"#N/A"}},null,null,"=","Composite",null,null,null,null,null,null,null,null,null,null,null,null,null,null,14,"BUCHANAN",{"$f":"VLOOKUP(AR15,'Comp Index Comparison - Ranked'!$B$6:$D$140,3,FALSE)","v":0.29749999999999999},0.35699999999999998,-5.9499999999999997E-2]
[0.5,null,"-",null,"+",0.4,null,"-",null,"+",0.1,null,"-",null,"=","Composite",null,null,null,null,null,null,null,null,null,null,null,null,"Index",null,null,null,null,null,null,null,null,null,null,null,null,null,null,15,"BUCKINGHAM",{"$f":"VLOOKUP(AR16,'Comp Index Comparison - Ranked'!$B$6:$D$140,3,FALSE)","v":0.3422},0.33460000000000001,7.5999999999999956E-3]
[null,null,{"$f":"R28","v":1255682912828.5125},null,null,null,null,{"$f":"R29","v":276897521668.16241},null,null,null,null,{"$f":"R30","v":103736609467.58997},null,null,"Index",{"$f":"IF(N2=3,\"Step 4 -- Final Composite Index (adjusted for nominal state/local shares).  Please see note below on Alleghany County's Composite Index.\",IF(N2=10,\"Step 4 -- Final Composite Index (adjusted for nominal state/local shares).  Please see note below on Bedford County's Composite Index.\",\"Step 4 -- Final Composite Index (adjusted for nominal state/local shares)\"))","v":"Step 4 -- Final Composite Index (adjusted for nominal state/local shares)"},null,null,null,null,null,null,null,null,null,null,null,{"$f":"U18*0.45","v":{"$error":"#N/A"}},null,null,null,null,null,null,null,null,null,null,null,null,null,null,16,"CAMPBELL",{"$f":"VLOOKUP(AR17,'Comp Index Comparison - Ranked'!$B$6:$D$140,3,FALSE)","v":0.2878},0.27589999999999998,1.1900000000000022E-2]
[null,null,{"$f":"R31","v":1246930.6500000001},null,null,null,null,{"$f":"R31","v":1246930.6500000001},null,null,null,null,{"$f":"R31","v":1246930.6500000001},null,null,null,null,null,null,"(",{"$f":"U15+Y15","v":{"$error":"#N/A"}},")",null,"X",0.45,null,null,"=",{"$f":"ROUND(IF(AC17>0.8,\"0.8000\",AC17), 4)","v":{"$error":"#N/A"}},null,null,null,null,null,null,null,null,null,null,null,null,null,null,17,"CAROLINE",{"$f":"VLOOKUP(AR18,'Comp Index Comparison - Ranked'!$B$6:$D$140,3,FALSE)","v":0.3553},0.32719999999999999,2.8100000000000014E-2]
["no data","no data","no data","no data","no data","no data","no data","no data","no data","no data","no data","no data","no data","no data","no data","no data","Input Data:",null,null,null,null,null,null,null,null,null,null,null,null,null,null,null,null,null,null,null,null,null,null,null,null,null,null,18,"CARROLL",{"$f":"VLOOKUP(AR19,'Comp Index Comparison - Ranked'!$B$6:$D$140,3,FALSE)","v":0.27489999999999998},0.26950000000000002,5.3999999999999604E-3]
["no data","no data","no data","no data","no data","no data","no data","no data","no data","no data","no data","no data","no data","no data","no data","no data","no data","no data",null,null,null,null,null,null,null,null,null,null,null,null,null,null,null,null,null,null,null,null,null,null,null,null,null,19,"CHARLES CITY",{"$f":"VLOOKUP(AR20,'Comp Index Comparison - Ranked'!$B$6:$D$140,3,FALSE)","v":0.58799999999999997},0.44309999999999999,0.14489999999999997]
[null,null,{"$f":"ROUND(C14/C15,2)","v":{"$error":"#N/A"}},null,null,null,null,{"$f":"ROUND(H14/H15,2)","v":{"$error":"#N/A"}},null,null,null,null,{"$f":"ROUND(M14/M15,2)","v":{"$error":"#N/A"}},null,null,"ADM","Source Data Used in the Calculation:",null,null,null,null,null,null,null,null,null,null,null,null,null,null,null,null,null,null,null,null,null,null,null,null,null,null,20,"CHARLOTTE",{"$f":"VLOOKUP(AR21,'Comp Index Comparison - Ranked'!$B$6:$D$140,3,FALSE)","v":0.24440000000000001},0.25790000000000002,-1.3500000000000012E-2]
[0.5,null,"-",null,"+",0.4,null,"-",null,"+",0.1,null,"-",null,"=","Composite","School Division:",{"$f":"VLOOKUP(N2, 'true value analysis'!A10:B144, 2, FALSE)","v":{"$error":"#N/A"}},null,null,null,null,null,null,null,null,null,null,null,null,null,null,null,null,null,null,null,null,null,null,null,null,null,21,"CHESTERFIELD",{"$f":"VLOOKUP(AR22,'Comp Index Comparison - Ranked'!$B$6:$D$140,3,FALSE)","v":0.3584},0.34949999999999998,8.900000000000019E-3]
[null,null,{"$f":"ROUND(C17/C18,2)","v":1007019.05},null,null,null,null,{"$f":"ROUND(H17/H18,2)","v":222063.29},null,null,null,null,{"$f":"ROUND(M17/M18,2)","v":83193.570000000007},null,null,"Index","Local True Value of Property",{"$f":"VLOOKUP($N$2, '2020-2022 Composite Index Data'!$A$5:$G$139, 3, FALSE)","v":{"$error":"#N/A"}},null,null,null,null,null,null,null,null,null,null,null,null,null,null,null,null,null,null,null,null,null,null,null,null,null,22,"CLARKE",{"$f":"VLOOKUP(AR23,'Comp Index Comparison - Ranked'!$B$6:$D$140,3,FALSE)","v":0.57289999999999996},0.5151,5.7799999999999963E-2]
["no data","no data","no data","no data","no data","no data","no data","no data","no data","no data","no data","no data","no data","no data","no data","no data","Local AGI",{"$f":"IF(ISERROR(VLOOKUP(N2,'2020-22 Comp Index Non-Res. AGI'!$A$5:$AJ$139,36,FALSE)),VLOOKUP($N$2,'2020-2022 Composite Index Data'!$A$5:$G$139,4,FALSE),IF(VLOOKUP(N2,'2020-22 Comp Index Non-Res. AGI'!$A$5:$AJ$139,36)=\"YES\",VLOOKUP($N$2,'2020-22 Comp Index Non-Res. AGI'!$A$5:$D$138,4,FALSE),VLOOKUP($N$2,'2020-2022 Composite Index Data'!$A$5:$G$139,4,FALSE)))","v":{"$error":"#N/A"}},null,null,null,null,null,null,null,null,null,null,null,null,null,null,null,null,null,null,null,null,null,null,null,null,null,23,"CRAIG",{"$f":"VLOOKUP(AR24,'Comp Index Comparison - Ranked'!$B$6:$D$140,3,FALSE)","v":0.33360000000000001},0.3155,1.8100000000000005E-2]
["no data","no data","no data","no data","no data","no data","no data","no data","no data","no data","no data","no data","no data","no data",null,"ADM","Local Taxable Retail Sales",{"$f":"VLOOKUP($N$2, '2020-2022 Composite Index Data'!$A$5:$G$139, 5, FALSE)","v":{"$error":"#N/A"}},null,null,null,null,null,null,null,null,null,null,null,null,null,null,null,null,null,null,null,null,null,null,null,null,null,24,"CULPEPER",{"$f":"VLOOKUP(AR25,'Comp Index Comparison - Ranked'!$B$6:$D$140,3,FALSE)","v":0.37409999999999999},0.34439999999999998,2.9700000000000004E-2]
[0.5,null,{"$f":"ROUND(C21/C23,4)","v":{"$error":"#N/A"}},null,"+",0.4,null,{"$f":"ROUND(H21/H23,4)","v":{"$error":"#N/A"}},null,"+",0.1,null,{"$f":"ROUND(M21/M23,4)","v":{"$error":"#N/A"}},null,"=","Composite","Division ADM",{"$f":"VLOOKUP($N$2, '2020-2022 Composite Index Data'!$A$5:$G$139, 6, FALSE)","v":{"$error":"#N/A"}},null,null,null,null,null,null,null,null,null,null,null,null,null,null,null,null,null,null,null,null,null,null,null,null,null,25,"CUMBERLAND",{"$f":"VLOOKUP(AR26,'Comp Index Comparison - Ranked'!$B$6:$D$140,3,FALSE)","v":0.29780000000000001},0.27800000000000002,1.9799999999999984E-2]
["no data","no data","no data","no data","no data","no data","no data","no data","no data","no data","no data","no data","no data","no data","no data","Index","Local Population",{"$f":"VLOOKUP($N$2, '2020-2022 Composite Index Data'!$A$5:$G$139, 7, FALSE)","v":{"$error":"#N/A"}},null,null,null,null,null,null,null,null,null,null,null,null,null,null,null,null,null,null,null,null,null,null,null,null,null,26,"DICKENSON",{"$f":"VLOOKUP(AR27,'Comp Index Comparison - Ranked'!$B$6:$D$140,3,FALSE)","v":0.24709999999999999},0.27089999999999997,-2.3799999999999988E-2]
["no data","no data","no data","no data","no data","no data","no data","no data","no data","no data","no data","no data","no data","no data","no data","no data","State True Value of Property",{"$f":"'true value analysis'!D146","v":1255682912828.5125},null,null,null,null,null,null,null,null,null,null,null,null,null,null,null,null,null,null,null,null,null,null,null,null,null,27,"DINWIDDIE",{"$f":"VLOOKUP(AR28,'Comp Index Comparison - Ranked'!$B$6:$D$140,3,FALSE)","v":0.28789999999999999},0.28810000000000002,-2.0000000000003348E-4]
[null,null,{"$f":"ROUND(A26*C26,4)","v":{"$error":"#N/A"}},null,"+",null,null,{"$f":"ROUND(F26*H26,4)","v":{"$error":"#N/A"}},null,"+",null,null,{"$f":"ROUND(K26*M26,4)","v":{"$error":"#N/A"}},null,"=",{"$f":"M29+H29+C29","v":{"$error":"#N/A"}},"State AGI",{"$f":"IF(ISERROR(VLOOKUP(N2,'2020-22 Comp Index Non-Res. AGI'!$A$5:$AJ$173,36,FALSE)), '2020-2022 Composite Index Data'!D140, IF(VLOOKUP(N2,'2020-22 Comp Index Non-Res. AGI'!$A$5:$AJ$173,36,FALSE) =\"YES\",'2020-22 Comp Index Non-Res. AGI'!D139,'2020-2022 Composite Index Data'!D140))","v":276897521668.16241},null,null,null,null,null,null,null,null,null,null,null,null,null,null,null,null,null,null,null,null,null,null,null,null,null,28,"ESSEX",{"$f":"VLOOKUP(AR29,'Comp Index Comparison - Ranked'!$B$6:$D$140,3,FALSE)","v":0.46360000000000001},0.40210000000000001,6.1499999999999999E-2]
["Step 2 -- Calculation of the 2020-2022 Per Capita Composite Index:",null,null,null,null,null,null,null,null,null,null,null,"no data","no data","no data","no data","State Taxable Retail Sales",{"$f":"'taxable retail analysis'!D146","v":103736609467.58997},null,null,null,null,null,null,null,null,null,null,null,null,null,null,null,null,null,null,null,null,null,null,null,null,null,29,"FAIRFAX COUNTY",{"$f":"VLOOKUP(AR30,'Comp Index Comparison - Ranked'!$B$6:$D$140,3,FALSE)","v":0.65410000000000001},0.6804,-2.629999999999999E-2]
["no data","no data","no data","no data","no data","no data","no data","no data","no data","no data","no data","no data","no data","no data","no data","no data","State ADM",{"$f":"'ADM & Population Analysis'!D146","v":1246930.6500000001},null,null,null,null,null,null,null,null,null,null,null,null,null,null,null,null,null,null,null,null,null,null,null,null,null,30,"FAUQUIER",{"$f":"VLOOKUP(AR31,'Comp Index Comparison - Ranked'!$B$6:$D$140,3,FALSE)","v":0.58789999999999998},0.55840000000000001,2.9499999999999971E-2]
[null,null,null,null,null,null,null,"Local Adjusted",null,null,null,null,null,null,null,null,"State Population",{"$f":"'ADM & Population Analysis'!K146","v":8470020},null,null,null,null,null,null,null,null,null,null,null,null,null,null,null,null,null,null,null,null,null,null,null,null,null,31,"FLOYD",{"$f":"VLOOKUP(AR32,'Comp Index Comparison - Ranked'!$B$6:$D$140,3,FALSE)","v":0.34179999999999999},0.3468,-5.0000000000000044E-3]
[null,null,"Local True Values",null,null,null,null,"Gross Income",null,null,null,null,"Local Taxable Retail Sales",null,null,null,null,null,null,null,null,null,null,null,null,null,null,null,null,null,null,null,null,null,null,null,null,null,null,null,null,null,null,32,"FLUVANNA",{"$f":"VLOOKUP(AR33,'Comp Index Comparison - Ranked'!$B$6:$D$140,3,FALSE)","v":0.39400000000000002},0.38340000000000002,1.0599999999999998E-2]
[null,null,"Local Population",null,null,null,null,"Local Population",null,null,null,null,"Local Population",null,null,"Per Capita","EXCEPTIONS:",null,null,null,null,null,null,null,null,null,null,null,null,null,null,null,null,null,null,null,null,null,null,null,null,null,null,33,"FRANKLIN COUNTY",{"$f":"VLOOKUP(AR34,'Comp Index Comparison - Ranked'!$B$6:$D$140,3,FALSE)","v":0.39529999999999998},0.41360000000000002,{"$f":"AT34-AU34","v":-1.8300000000000038E-2}]
[0.5,null,"-",null,"+",0.4,null,"-",null,"+",0.1,null,"-",null,"=","Composite","*Please note the following exceptions to the standard composite index calculation as specified in the appropriation act (see actual appropriation act language under the tab labeled \"Appropriation Act Language\"):\n1) For those divisions in which three percent or more of the adjusted gross income is derived from individuals who are not residents of Virginia, the Department of Education shall compute the composite index for such localities by using adjusted gross income data which exclude nonresident income.  School divisions are no longer required to submit a certification form requesting the exclusion of nonresident AGI.\n2) Any division with a calculated composite index that exceeds .8000 is considered as having an index of .8000;\n3) Under hold harmless provisions addressing the consolidation of school divisions contained in the appropriation act and Section 15.2-1302, Code of Virginia, the composite indices to be used for funding in the 2020-2022 biennium for the following divisions are:\n     Bedford County: .3132 (the index approved effective July 1, 2013); the 2020-2022 composite\nindex for Bedford County calculated based on the data elements from base-year 2017 is shown above as .4359.\nThis lower composite index of .3132 will be used for Bedford County.",null,null,null,null,null,null,null,null,null,null,null,null,null,null,null,null,null,null,null,null,null,null,null,null,null,null,34,"FREDERICK",{"$f":"VLOOKUP(AR35,'Comp Index Comparison - Ranked'!$B$6:$D$140,3,FALSE)","v":0.41199999999999998},0.37180000000000002,4.0199999999999958E-2]
[null,null,"Statewide Total of Local True Values",null,null,null,null,"Total State Adjusted",null,null,null,null,"Total State Taxable Retail Sales",null,null,"Index",null,null,null,null,null,null,null,null,null,null,null,null,null,null,null,null,null,null,null,null,null,null,null,null,null,null,null,35,"GILES",{"$f":"VLOOKUP(AR36,'Comp Index Comparison - Ranked'!$B$6:$D$140,3,FALSE)","v":0.26950000000000002},0.28660000000000002,-1.7100000000000004E-2]
[null,null,"State Population",null,null,null,null,"Gross Income",null,null,null,null,"State Population",null,null,null,null,null,null,null,null,null,null,null,null,null,null,null,null,null,null,null,null,null,null,null,null,null,null,null,null,null,null,36,"GLOUCESTER",{"$f":"VLOOKUP(AR37,'Comp Index Comparison - Ranked'!$B$6:$D$140,3,FALSE)","v":0.38850000000000001},0.3659,2.2600000000000009E-2]
[null,null,null,null,null,null,null,"State Population",null,null,null,null,null,null,null,null,null,null,null,null,null,null,null,null,null,null,null,null,null,null,null,null,null,null,null,null,null,null,null,null,null,null,null,37,"GOOCHLAND",{"$f":"VLOOKUP(AR38,'Comp Index Comparison - Ranked'!$B$6:$D$140,3,FALSE)","v":0.8},0.8,0]
["no data","no data","no data","no data","no data","no data","no data","no data","no data","o data","no data","no data","no data","no data","no data","no data",null,null,null,null,null,null,null,null,null,null,null,null,null,null,null,null,null,null,null,null,null,null,null,null,null,null,null,38,"GRAYSON",{"$f":"VLOOKUP(AR39,'Comp Index Comparison - Ranked'!$B$6:$D$140,3,FALSE)","v":0.36149999999999999},0.34589999999999999,1.5600000000000003E-2]
["no data","no data","no data","no data","no data","no data","no data","no data","no data","no data","no data","no data","no data","no data","no data","no data",null,null,null,null,null,null,null,null,null,null,null,null,null,null,null,null,null,null,null,null,null,null,null,null,null,null,null,39,"GREENE",{"$f":"VLOOKUP(AR40,'Comp Index Comparison - Ranked'!$B$6:$D$140,3,FALSE)","v":0.34460000000000002},0.35659999999999997,-1.1999999999999955E-2]
[null,null,{"$f":"R23","v":{"$error":"#N/A"}},null,null,null,null,{"$f":"R24","v":{"$error":"#N/A"}},null,null,null,null,{"$f":"R25","v":{"$error":"#N/A"}},null,null,null,null,null,null,null,null,null,null,null,null,null,null,null,null,null,null,null,null,null,null,null,null,null,null,null,null,null,null,40,"GREENSVILLE",{"$f":"VLOOKUP(AR41,'Comp Index Comparison - Ranked'!$B$6:$D$140,3,FALSE)","v":0.27989999999999998},0.2258,5.4099999999999981E-2]
[null,null,{"$f":"R27","v":{"$error":"#N/A"}},null,null,null,null,{"$f":"R27","v":{"$error":"#N/A"}},null,null,null,null,{"$f":"R27","v":{"$error":"#N/A"}},null,null,"Per Capita",null,null,null,null,null,null,null,null,null,null,null,null,null,null,null,null,null,null,null,null,null,null,null,null,null,null,null,41,"HALIFAX",{"$f":"VLOOKUP(AR42,'Comp Index Comparison - Ranked'!$B$6:$D$140,3,FALSE)","v":0.30580000000000002},0.30099999999999999,4.8000000000000265E-3]
[0.5,null,"-",null,"+",0.4,null,"-",null,"+",0.1,null,"-",null,"=","Composite",null,null,null,null,null,null,null,null,null,null,null,null,null,null,null,null,null,null,null,null,null,null,null,null,null,null,null,42,"HANOVER",{"$f":"VLOOKUP(AR43,'Comp Index Comparison - Ranked'!$B$6:$D$140,3,FALSE)","v":0.46260000000000001},0.40689999999999998,5.5700000000000027E-2]
[null,null,{"$f":"R28","v":1255682912828.5125},null,null,null,null,{"$f":"R29","v":276897521668.16241},null,null,null,null,{"$f":"R30","v":103736609467.58997},null,null,"Index",null,null,null,null,null,null,null,null,null,null,null,null,null,null,null,null,null,null,null,null,null,null,null,null,null,null,null,43,"HENRICO",{"$f":"VLOOKUP(AR44,'Comp Index Comparison - Ranked'!$B$6:$D$140,3,FALSE)","v":0.4279},0.40579999999999999,2.2100000000000009E-2]
[null,null,{"$f":"R32","v":8470020},null,null,null,null,{"$f":"R32","v":8470020},null,null,null,null,{"$f":"R32","v":8470020},null,null,null,null,null,null,null,null,null,null,null,null,null,null,null,null,null,null,null,null,null,null,null,null,null,null,null,null,null,null,44,"HENRY",{"$f":"VLOOKUP(AR45,'Comp Index Comparison - Ranked'!$B$6:$D$140,3,FALSE)","v":0.2253},0.2407,-1.5399999999999997E-2]
["no data","no data","no data","no data","no data","no data","no data","no data","no data","no data","no data","no data","no data","no data","no data","no data",null,null,null,null,null,null,null,null,null,null,null,null,null,null,null,null,null,null,null,null,null,null,null,null,null,null,null,45,"HIGHLAND",{"$f":"VLOOKUP(AR46,'Comp Index Comparison - Ranked'!$B$6:$D$140,3,FALSE)","v":0.8},0.8,0]
["no data","no data","no data","no data","no data","no data","no data","no data","no data","no data","no data","no data","no data","no data","no data","no data",null,null,null,null,null,null,null,null,null,null,null,null,null,null,null,null,null,null,null,null,null,null,null,null,null,null,null,46,"ISLE OF WIGHT",{"$f":"VLOOKUP(AR47,'Comp Index Comparison - Ranked'!$B$6:$D$140,3,FALSE)","v":0.39639999999999997},0.41930000000000001,-2.2900000000000031E-2]
[null,null,{"$f":"ROUND(C41/C42,2)","v":{"$error":"#N/A"}},null,null,null,null,{"$f":"ROUND(H41/H42,2)","v":{"$error":"#N/A"}},null,null,null,null,{"$f":"ROUND(M41/M42,2)","v":{"$error":"#N/A"}},null,null,"Per Capita",null,null,null,null,null,null,null,null,null,null,null,null,null,null,null,null,null,null,null,null,null,null,null,null,null,null,null,47,"JAMES CITY",{"$f":"VLOOKUP(AR48,'Comp Index Comparison - Ranked'!$B$6:$D$140,3,FALSE)","v":0.55530000000000002},0.56289999999999996,-7.5999999999999401E-3]
[0.5,null,"-",null,"+",0.4,null,"-",null,"+",0.1,null,"-",null,"=","Composite",null,null,null,null,null,null,null,null,null,null,null,null,null,null,null,null,null,null,null,null,null,null,null,null,null,null,null,48,"KING GEORGE",{"$f":"VLOOKUP(AR49,'Comp Index Comparison - Ranked'!$B$6:$D$140,3,FALSE)","v":0.37030000000000002},0.37719999999999998,-6.8999999999999617E-3]
[null,null,{"$f":"ROUND(C44/C45,2)","v":148250.29},null,null,null,null,{"$f":"ROUND(H44/H45,2)","v":32691.48},null,null,null,null,{"$f":"ROUND(M44/M45,2)","v":12247.5},null,null,"Index",null,null,null,null,null,null,null,null,null,null,null,null,null,null,null,null,null,null,null,null,null,null,null,null,null,null,null,49,"KING AND QUEEN",{"$f":"VLOOKUP(AR50,'Comp Index Comparison - Ranked'!$B$6:$D$140,3,FALSE)","v":0.41389999999999999},0.43359999999999999,-1.9699999999999995E-2]
["no data","no data","no data","no data","no data","no data","no data","no data","no data","no data","no data","no data","no data","no data","no data","no data",null,null,null,null,null,null,null,null,null,null,null,null,null,null,null,null,null,null,null,null,null,null,null,null,null,null,null,50,"KING WILLIAM",{"$f":"VLOOKUP(AR51,'Comp Index Comparison - Ranked'!$B$6:$D$140,3,FALSE)","v":0.3407},0.31950000000000001,2.1199999999999997E-2]
["no data","no data","no data","no data","no data","no data","no data","no data","no data","no data","no data","no data","no data","no data","no","Per Capita",null,null,null,null,null,null,null,null,null,null,null,null,null,null,null,null,null,null,null,null,null,null,null,null,null,null,null,51,"LANCASTER",{"$f":"VLOOKUP(AR52,'Comp Index Comparison - Ranked'!$B$6:$D$140,3,FALSE)","v":0.78349999999999997},0.77890000000000004,4.5999999999999375E-3]
[0.5,null,{"$f":"ROUND(C48/C50,4)","v":{"$error":"#N/A"}},null,"+",0.4,null,{"$f":"ROUND(H48/H50,4)","v":{"$error":"#N/A"}},null,"+",0.1,null,{"$f":"ROUND(M48/M50,4)","v":{"$error":"#N/A"}},null,"=","Composite",null,null,null,null,null,null,null,null,null,null,null,null,null,null,null,null,null,null,null,null,null,null,null,null,null,null,null,52,"LEE",{"$f":"VLOOKUP(AR53,'Comp Index Comparison - Ranked'!$B$6:$D$140,3,FALSE)","v":0.16919999999999999},0.1885,-1.9300000000000012E-2]
["no data","no data","no data","no data","no data","no data","no data","no data","no data","no data","no data","no data","no data","no","no data","Index",null,null,null,null,null,null,null,null,null,null,null,null,null,null,null,null,null,null,null,null,null,null,null,null,null,null,null,53,"LOUDOUN",{"$f":"VLOOKUP(AR54,'Comp Index Comparison - Ranked'!$B$6:$D$140,3,FALSE)","v":0.54659999999999997},0.56159999999999999,-1.5000000000000013E-2]
["no data","no data","no data","no data","no data","no data","no data","no data","no data","no data","no data","no data","no data","no","no","no data",null,null,null,null,null,null,null,null,null,null,null,null,null,null,null,null,null,null,null,null,null,null,null,null,null,null,null,54,"LOUISA",{"$f":"VLOOKUP(AR55,'Comp Index Comparison - Ranked'!$B$6:$D$140,3,FALSE)","v":0.54059999999999997},0.56420000000000003,-2.3600000000000065E-2]
[null,null,{"$f":"ROUND(A53*C53,4)","v":{"$error":"#N/A"}},null,"+",null,null,{"$f":"ROUND(F53*H53,4)","v":{"$error":"#N/A"}},null,"+",null,null,{"$f":"ROUND(K53*M53,4)","v":{"$error":"#N/A"}},null,"=",{"$f":"M56+H56+C56","v":{"$error":"#N/A"}}]
["End of worksheet",null,null,null,null,null,null,null,null,null,null,null,null,null,null,null,null,null,null,null,null,null,null,null,null,null,null,null,null,null,null,null,null,null,null,null,null,null,null,null,null,null,null,55,"LUNENBURG",{"$f":"VLOOKUP(AR57,'Comp Index Comparison - Ranked'!$B$6:$D$140,3,FALSE)","v":0.25609999999999999},0.25009999999999999,6.0000000000000053E-3]
[null,null,null,null,null,null,null,null,null,null,null,null,null,null,null,null,null,null,null,null,null,null,null,null,null,null,null,null,null,null,null,null,null,null,null,null,null,null,null,null,null,null,null,56,"MADISON",{"$f":"VLOOKUP(AR58,'Comp Index Comparison - Ranked'!$B$6:$D$140,3,FALSE)","v":0.4738},0.44690000000000002,2.6899999999999979E-2]
[null,null,null,null,null,null,null,null,null,null,null,null,null,null,null,null,null,null,null,null,null,null,null,null,null,null,null,null,null,null,null,null,null,null,null,null,null,null,null,null,null,null,null,57,"MATHEWS",{"$f":"VLOOKUP(AR59,'Comp Index Comparison - Ranked'!$B$6:$D$140,3,FALSE)","v":0.51619999999999999},0.54349999999999998,-2.7299999999999991E-2]
[null,null,null,null,null,null,null,null,null,null,null,null,null,null,null,null,null,null,null,null,null,null,null,null,null,null,null,null,null,null,null,null,null,null,null,null,null,null,null,null,null,null,null,58,"MECKLENBURG",{"$f":"VLOOKUP(AR60,'Comp Index Comparison - Ranked'!$B$6:$D$140,3,FALSE)","v":0.39960000000000001},0.36080000000000001,3.8800000000000001E-2]
[null,null,null,null,null,null,null,null,null,null,null,null,null,null,null,null,null,null,null,null,null,null,null,null,null,null,null,null,null,null,null,null,null,null,null,null,null,null,null,null,null,null,null,59,"MIDDLESEX",{"$f":"VLOOKUP(AR61,'Comp Index Comparison - Ranked'!$B$6:$D$140,3,FALSE)","v":0.6008},0.74450000000000005,-0.14370000000000005]
[null,null,null,null,null,null,null,null,null,null,null,null,null,null,null,null,null,null,null,null,null,null,null,null,null,null,null,null,null,null,null,null,null,null,null,null,null,null,null,null,null,null,null,60,"MONTGOMERY",{"$f":"VLOOKUP(AR62,'Comp Index Comparison - Ranked'!$B$6:$D$140,3,FALSE)","v":0.40050000000000002},0.38640000000000002,1.4100000000000001E-2]
[null,null,null,null,null,null,null,null,null,null,null,null,null,null,null,null,null,null,null,null,null,null,null,null,null,null,null,null,null,null,null,null,null,null,null,null,null,null,null,null,null,null,null,62,"NELSON",{"$f":"VLOOKUP(AR63,'Comp Index Comparison - Ranked'!$B$6:$D$140,3,FALSE)","v":0.56040000000000001},0.56859999999999999,-8.1999999999999851E-3]
[null,null,null,null,null,null,null,null,null,null,null,null,null,null,null,null,null,null,null,null,null,null,null,null,null,null,null,null,null,null,null,null,null,null,null,null,null,null,null,null,null,null,null,63,"NEW KENT",{"$f":"VLOOKUP(AR64,'Comp Index Comparison - Ranked'!$B$6:$D$140,3,FALSE)","v":0.41660000000000003},0.42959999999999998,-1.2999999999999956E-2]
[null,null,null,null,null,null,null,null,null,null,null,null,null,null,null,null,null,null,null,null,null,null,null,null,null,null,null,null,null,null,null,null,null,null,null,null,null,null,null,null,null,null,null,65,"NORTHAMPTON",{"$f":"VLOOKUP(AR65,'Comp Index Comparison - Ranked'!$B$6:$D$140,3,FALSE)","v":0.46960000000000002},0.48380000000000001,-1.419999999999999E-2]
[null,null,null,null,null,null,null,null,null,null,null,null,null,null,null,null,null,null,null,null,null,null,null,null,null,null,null,null,null,null,null,null,null,null,null,null,null,null,null,null,null,null,null,66,"NORTHUMBERLAND",{"$f":"VLOOKUP(AR66,'Comp Index Comparison - Ranked'!$B$6:$D$140,3,FALSE)","v":0.71160000000000001},0.74280000000000002,-3.1200000000000006E-2]
[null,null,null,null,null,null,null,null,null,null,null,null,null,null,null,null,null,null,null,null,null,null,null,null,null,null,null,null,null,null,null,null,null,null,null,null,null,null,null,null,null,null,null,67,"NOTTOWAY",{"$f":"VLOOKUP(AR67,'Comp Index Comparison - Ranked'!$B$6:$D$140,3,FALSE)","v":0.25969999999999999},0.2477,{"$f":"AT67-AU67","v":1.1999999999999983E-2}]
[null,null,null,null,null,null,null,null,null,null,null,null,null,null,null,null,null,null,null,null,null,null,null,null,null,null,null,null,null,null,null,null,null,null,null,null,null,null,null,null,null,null,null,68,"ORANGE",{"$f":"VLOOKUP(AR68,'Comp Index Comparison - Ranked'!$B$6:$D$140,3,FALSE)","v":0.41049999999999998},0.36170000000000002,4.8799999999999955E-2]
[null,null,null,null,null,null,null,null,null,null,null,null,null,null,null,null,null,null,null,null,null,null,null,null,null,null,null,null,null,null,null,null,null,null,null,null,null,null,null,null,null,null,null,69,"PAGE",{"$f":"VLOOKUP(AR69,'Comp Index Comparison - Ranked'!$B$6:$D$140,3,FALSE)","v":0.31979999999999997},0.2984,2.1399999999999975E-2]
[null,null,null,null,null,null,null,null,null,null,null,null,null,null,null,null,null,null,null,null,null,null,null,null,null,null,null,null,null,null,null,null,null,null,null,null,null,null,null,null,null,null,null,70,"PATRICK",{"$f":"VLOOKUP(AR70,'Comp Index Comparison - Ranked'!$B$6:$D$140,3,FALSE)","v":0.24560000000000001},0.27250000000000002,-2.6900000000000007E-2]
[null,null,null,null,null,null,null,null,null,null,null,null,null,null,null,null,null,null,null,null,null,null,null,null,null,null,null,null,null,null,null,null,null,null,null,null,null,null,null,null,null,null,null,71,"PITTSYLVANIA",{"$f":"VLOOKUP(AR71,'Comp Index Comparison - Ranked'!$B$6:$D$140,3,FALSE)","v":0.24460000000000001},0.25069999999999998,-6.0999999999999666E-3]
[null,null,null,null,null,null,null,null,null,null,null,null,null,null,null,null,null,null,null,null,null,null,null,null,null,null,null,null,null,null,null,null,null,null,null,null,null,null,null,null,null,null,null,72,"POWHATAN",{"$f":"VLOOKUP(AR72,'Comp Index Comparison - Ranked'!$B$6:$D$140,3,FALSE)","v":0.45069999999999999},0.39119999999999999,5.9499999999999997E-2]
[null,null,null,null,null,null,null,null,null,null,null,null,null,null,null,null,null,null,null,null,null,null,null,null,null,null,null,null,null,null,null,null,null,null,null,null,null,null,null,null,null,null,null,73,"PRINCE EDWARD",{"$f":"VLOOKUP(AR73,'Comp Index Comparison - Ranked'!$B$6:$D$140,3,FALSE)","v":0.35539999999999999},0.32719999999999999,2.8200000000000003E-2]
[null,null,null,null,null,null,null,null,null,null,null,null,null,null,null,null,null,null,null,null,null,null,null,null,null,null,null,null,null,null,null,null,null,null,null,null,null,null,null,null,null,null,null,74,"PRINCE GEORGE",{"$f":"VLOOKUP(AR74,'Comp Index Comparison - Ranked'!$B$6:$D$140,3,FALSE)","v":0.2467},0.2429,3.7999999999999978E-3]
[null,null,null,null,null,null,null,null,null,null,null,null,null,null,null,null,null,null,null,null,null,null,null,null,null,null,null,null,null,null,null,null,null,null,null,null,null,null,null,null,null,null,null,75,"PRINCE WILLIAM",{"$f":"VLOOKUP(AR75,'Comp Index Comparison - Ranked'!$B$6:$D$140,3,FALSE)","v":0.37990000000000002},0.3821,-2.1999999999999797E-3]
[null,null,null,null,null,null,null,null,null,null,null,null,null,null,null,null,null,null,null,null,null,null,null,null,null,null,null,null,null,null,null,null,null,null,null,null,null,null,null,null,null,null,null,77,"PULASKI",{"$f":"VLOOKUP(AR76,'Comp Index Comparison - Ranked'!$B$6:$D$140,3,FALSE)","v":0.32350000000000001},0.31109999999999999,1.2400000000000022E-2]
[null,null,null,null,null,null,null,null,null,null,null,null,null,null,null,null,null,null,null,null,null,null,null,null,null,null,null,null,null,null,null,null,null,null,null,null,null,null,null,null,null,null,null,78,"RAPPAHANNOCK",{"$f":"VLOOKUP(AR77,'Comp Index Comparison - Ranked'!$B$6:$D$140,3,FALSE)","v":0.79900000000000004},0.79120000000000001,7.8000000000000291E-3]
[null,null,null,null,null,null,null,null,null,null,null,null,null,null,null,null,null,null,null,null,null,null,null,null,null,null,null,null,null,null,null,null,null,null,null,null,null,null,null,null,null,null,null,79,"RICHMOND COUNTY",{"$f":"VLOOKUP(AR78,'Comp Index Comparison - Ranked'!$B$6:$D$140,3,FALSE)","v":0.312},0.35809999999999997,-4.6099999999999974E-2]
[null,null,null,null,null,null,null,null,null,null,null,null,null,null,null,null,null,null,null,null,null,null,null,null,null,null,null,null,null,null,null,null,null,null,null,null,null,null,null,null,null,null,null,80,"ROANOKE COUNTY",{"$f":"VLOOKUP(AR79,'Comp Index Comparison - Ranked'!$B$6:$D$140,3,FALSE)","v":0.36599999999999999},0.37030000000000002,-4.300000000000026E-3]
[null,null,null,null,null,null,null,null,null,null,null,null,null,null,null,null,null,null,null,null,null,null,null,null,null,null,null,null,null,null,null,null,null,null,null,null,null,null,null,null,null,null,null,81,"ROCKBRIDGE",{"$f":"VLOOKUP(AR80,'Comp Index Comparison - Ranked'!$B$6:$D$140,3,FALSE)","v":0.4506},0.47389999999999999,-2.3299999999999987E-2]
[null,null,null,null,null,null,null,null,null,null,null,null,null,null,null,null,null,null,null,null,null,null,null,null,null,null,null,null,null,null,null,null,null,null,null,null,null,null,null,null,null,null,null,82,"ROCKINGHAM",{"$f":"VLOOKUP(AR81,'Comp Index Comparison - Ranked'!$B$6:$D$140,3,FALSE)","v":0.37990000000000002},0.37,9.9000000000000199E-3]
[null,null,null,null,null,null,null,null,null,null,null,null,null,null,null,null,null,null,null,null,null,null,null,null,null,null,null,null,null,null,null,null,null,null,null,null,null,null,null,null,null,null,null,83,"RUSSELL",{"$f":"VLOOKUP(AR82,'Comp Index Comparison - Ranked'!$B$6:$D$140,3,FALSE)","v":0.23730000000000001},0.2485,-1.1199999999999988E-2]
[null,null,null,null,null,null,null,null,null,null,null,null,null,null,null,null,null,null,null,null,null,null,null,null,null,null,null,null,null,null,null,null,null,null,null,null,null,null,null,null,null,null,null,84,"SCOTT",{"$f":"VLOOKUP(AR83,'Comp Index Comparison - Ranked'!$B$6:$D$140,3,FALSE)","v":0.18990000000000001},0.19389999999999999,-3.9999999999999758E-3]
[null,null,null,null,null,null,null,null,null,null,null,null,null,null,null,null,null,null,null,null,null,null,null,null,null,null,null,null,null,null,null,null,null,null,null,null,null,null,null,null,null,null,null,85,"SHENANDOAH",{"$f":"VLOOKUP(AR84,'Comp Index Comparison - Ranked'!$B$6:$D$140,3,FALSE)","v":0.38319999999999999},0.36509999999999998,1.8100000000000005E-2]
[null,null,null,null,null,null,null,null,null,null,null,null,null,null,null,null,null,null,null,null,null,null,null,null,null,null,null,null,null,null,null,null,null,null,null,null,null,null,null,null,null,null,null,86,"SMYTH",{"$f":"VLOOKUP(AR85,'Comp Index Comparison - Ranked'!$B$6:$D$140,3,FALSE)","v":0.2228},0.22509999999999999,-2.2999999999999965E-3]
[null,null,null,null,null,null,null,null,null,null,null,null,null,null,null,null,null,null,null,null,null,null,null,null,null,null,null,null,null,null,null,null,null,null,null,null,null,null,null,null,null,null,null,87,"SOUTHAMPTON",{"$f":"VLOOKUP(AR86,'Comp Index Comparison - Ranked'!$B$6:$D$140,3,FALSE)","v":0.30149999999999999},0.28760000000000002,1.3899999999999968E-2]
[null,null,null,null,null,null,null,null,null,null,null,null,null,null,null,null,null,null,null,null,null,null,null,null,null,null,null,null,null,null,null,null,null,null,null,null,null,null,null,null,null,null,null,88,"SPOTSYLVANIA",{"$f":"VLOOKUP(AR87,'Comp Index Comparison - Ranked'!$B$6:$D$140,3,FALSE)","v":0.37219999999999998},0.35539999999999999,1.6799999999999982E-2]
[null,null,null,null,null,null,null,null,null,null,null,null,null,null,null,null,null,null,null,null,null,null,null,null,null,null,null,null,null,null,null,null,null,null,null,null,null,null,null,null,null,null,null,89,"STAFFORD",{"$f":"VLOOKUP(AR88,'Comp Index Comparison - Ranked'!$B$6:$D$140,3,FALSE)","v":0.34699999999999998},0.34110000000000001,5.8999999999999608E-3]
[null,null,null,null,null,null,null,null,null,null,null,null,null,null,null,null,null,null,null,null,null,null,null,null,null,null,null,null,null,null,null,null,null,null,null,null,null,null,null,null,null,null,null,90,"SURRY",{"$f":"VLOOKUP(AR89,'Comp Index Comparison - Ranked'!$B$6:$D$140,3,FALSE)","v":0.8},0.8,0]
[null,null,null,null,null,null,null,null,null,null,null,null,null,null,null,null,null,null,null,null,null,null,null,null,null,null,null,null,null,null,null,null,null,null,null,null,null,null,null,null,null,null,null,91,"SUSSEX",{"$f":"VLOOKUP(AR90,'Comp Index Comparison - Ranked'!$B$6:$D$140,3,FALSE)","v":0.34920000000000001},0.35830000000000001,-9.099999999999997E-3]
[null,null,null,null,null,null,null,null,null,null,null,null,null,null,null,null,null,null,null,null,null,null,null,null,null,null,null,null,null,null,null,null,null,null,null,null,null,null,null,null,null,null,null,92,"TAZEWELL",{"$f":"VLOOKUP(AR91,'Comp Index Comparison - Ranked'!$B$6:$D$140,3,FALSE)","v":0.25750000000000001},0.27539999999999998,-1.7899999999999971E-2]
[null,null,null,null,null,null,null,null,null,null,null,null,null,null,null,null,null,null,null,null,null,null,null,null,null,null,null,null,null,null,null,null,null,null,null,null,null,null,null,null,null,null,null,93,"WARREN",{"$f":"VLOOKUP(AR92,'Comp Index Comparison - Ranked'!$B$6:$D$140,3,FALSE)","v":0.44319999999999998},0.38700000000000001,5.6199999999999972E-2]
[null,null,null,null,null,null,null,null,null,null,null,null,null,null,null,null,null,null,null,null,null,null,null,null,null,null,null,null,null,null,null,null,null,null,null,null,null,null,null,null,null,null,null,94,"WASHINGTON",{"$f":"VLOOKUP(AR93,'Comp Index Comparison - Ranked'!$B$6:$D$140,3,FALSE)","v":0.34160000000000001},0.38119999999999998,-3.9599999999999969E-2]
[null,null,null,null,null,null,null,null,null,null,null,null,null,null,null,null,null,null,null,null,null,null,null,null,null,null,null,null,null,null,null,null,null,null,null,null,null,null,null,null,null,null,null,95,"WESTMORELAND",{"$f":"VLOOKUP(AR94,'Comp Index Comparison - Ranked'!$B$6:$D$140,3,FALSE)","v":0.46179999999999999},0.46310000000000001,-1.3000000000000234E-3]
[null,null,null,null,null,null,null,null,null,null,null,null,null,null,null,null,null,null,null,null,null,null,null,null,null,null,null,null,null,null,null,null,null,null,null,null,null,null,null,null,null,null,null,96,"WISE",{"$f":"VLOOKUP(AR95,'Comp Index Comparison - Ranked'!$B$6:$D$140,3,FALSE)","v":0.23719999999999999},0.25380000000000003,-1.6600000000000031E-2]
[null,null,null,null,null,null,null,null,null,null,null,null,null,null,null,null,null,null,null,null,null,null,null,null,null,null,null,null,null,null,null,null,null,null,null,null,null,null,null,null,null,null,null,97,"WYTHE",{"$f":"VLOOKUP(AR96,'Comp Index Comparison - Ranked'!$B$6:$D$140,3,FALSE)","v":0.32040000000000002},0.31819999999999998,2.2000000000000353E-3]
[null,null,null,null,null,null,null,null,null,null,null,null,null,null,null,null,null,null,null,null,null,null,null,null,null,null,null,null,null,null,null,null,null,null,null,null,null,null,null,null,null,null,null,98,"YORK",{"$f":"VLOOKUP(AR97,'Comp Index Comparison - Ranked'!$B$6:$D$140,3,FALSE)","v":0.38119999999999998},0.40239999999999998,-2.1199999999999997E-2]
[null,null,null,null,null,null,null,null,null,null,null,null,null,null,null,null,null,null,null,null,null,null,null,null,null,null,null,null,null,null,null,null,null,null,null,null,null,null,null,null,null,null,null,101,"ALEXANDRIA",{"$f":"VLOOKUP(AR98,'Comp Index Comparison - Ranked'!$B$6:$D$140,3,FALSE)","v":0.8},0.8,0]
[null,null,null,null,null,null,null,null,null,null,null,null,null,null,null,null,null,null,null,null,null,null,null,null,null,null,null,null,null,null,null,null,null,null,null,null,null,null,null,null,null,null,null,102,"BRISTOL",{"$f":"VLOOKUP(AR99,'Comp Index Comparison - Ranked'!$B$6:$D$140,3,FALSE)","v":0.30509999999999998},0.3085,{"$f":"AT99-AU99","v":-3.4000000000000141E-3}]
[null,null,null,null,null,null,null,null,null,null,null,null,null,null,null,null,null,null,null,null,null,null,null,null,null,null,null,null,null,null,null,null,null,null,null,null,null,null,null,null,null,null,null,103,"BUENA VISTA",{"$f":"VLOOKUP(AR100,'Comp Index Comparison - Ranked'!$B$6:$D$140,3,FALSE)","v":0.1893},0.17560000000000001,1.369999999999999E-2]
[null,null,null,null,null,null,null,null,null,null,null,null,null,null,null,null,null,null,null,null,null,null,null,null,null,null,null,null,null,null,null,null,null,null,null,null,null,null,null,null,null,null,null,104,"CHARLOTTESVILLE",{"$f":"VLOOKUP(AR101,'Comp Index Comparison - Ranked'!$B$6:$D$140,3,FALSE)","v":0.68859999999999999},0.66800000000000004,2.0599999999999952E-2]
[null,null,null,null,null,null,null,null,null,null,null,null,null,null,null,null,null,null,null,null,null,null,null,null,null,null,null,null,null,null,null,null,null,null,null,null,null,null,null,null,null,null,null,106,"COLONIAL HEIGHTS",{"$f":"VLOOKUP(AR102,'Comp Index Comparison - Ranked'!$B$6:$D$140,3,FALSE)","v":0.41560000000000002},0.43219999999999997,-1.6599999999999948E-2]
[null,null,null,null,null,null,null,null,null,null,null,null,null,null,null,null,null,null,null,null,null,null,null,null,null,null,null,null,null,null,null,null,null,null,null,null,null,null,null,null,null,null,null,107,"COVINGTON",{"$f":"VLOOKUP(AR103,'Comp Index Comparison - Ranked'!$B$6:$D$140,3,FALSE)","v":0.2913},0.28170000000000001,9.5999999999999974E-3]
[null,null,null,null,null,null,null,null,null,null,null,null,null,null,null,null,null,null,null,null,null,null,null,null,null,null,null,null,null,null,null,null,null,null,null,null,null,null,null,null,null,null,null,108,"DANVILLE",{"$f":"VLOOKUP(AR104,'Comp Index Comparison - Ranked'!$B$6:$D$140,3,FALSE)","v":0.26219999999999999},0.26490000000000002,-2.7000000000000357E-3]
[null,null,null,null,null,null,null,null,null,null,null,null,null,null,null,null,null,null,null,null,null,null,null,null,null,null,null,null,null,null,null,null,null,null,null,null,null,null,null,null,null,null,null,109,"FALLS CHURCH",{"$f":"VLOOKUP(AR105,'Comp Index Comparison - Ranked'!$B$6:$D$140,3,FALSE)","v":0.8},0.8,0]
[null,null,null,null,null,null,null,null,null,null,null,null,null,null,null,null,null,null,null,null,null,null,null,null,null,null,null,null,null,null,null,null,null,null,null,null,null,null,null,null,null,null,null,110,"FREDERICKSBURG",{"$f":"VLOOKUP(AR106,'Comp Index Comparison - Ranked'!$B$6:$D$140,3,FALSE)","v":0.58399999999999996},0.61339999999999995,-2.9399999999999982E-2]
[null,null,null,null,null,null,null,null,null,null,null,null,null,null,null,null,null,null,null,null,null,null,null,null,null,null,null,null,null,null,null,null,null,null,null,null,null,null,null,null,null,null,null,111,"GALAX",{"$f":"VLOOKUP(AR107,'Comp Index Comparison - Ranked'!$B$6:$D$140,3,FALSE)","v":0.27750000000000002},0.2737,3.8000000000000256E-3]
[null,null,null,null,null,null,null,null,null,null,null,null,null,null,null,null,null,null,null,null,null,null,null,null,null,null,null,null,null,null,null,null,null,null,null,null,null,null,null,null,null,null,null,112,"HAMPTON",{"$f":"VLOOKUP(AR108,'Comp Index Comparison - Ranked'!$B$6:$D$140,3,FALSE)","v":0.27429999999999999},0.2949,-2.0600000000000007E-2]
[null,null,null,null,null,null,null,null,null,null,null,null,null,null,null,null,null,null,null,null,null,null,null,null,null,null,null,null,null,null,null,null,null,null,null,null,null,null,null,null,null,null,null,113,"HARRISONBURG",{"$f":"VLOOKUP(AR109,'Comp Index Comparison - Ranked'!$B$6:$D$140,3,FALSE)","v":0.35370000000000001},0.40079999999999999,-4.7099999999999975E-2]
[null,null,null,null,null,null,null,null,null,null,null,null,null,null,null,null,null,null,null,null,null,null,null,null,null,null,null,null,null,null,null,null,null,null,null,null,null,null,null,null,null,null,null,114,"HOPEWELL",{"$f":"VLOOKUP(AR110,'Comp Index Comparison - Ranked'!$B$6:$D$140,3,FALSE)","v":0.20530000000000001},0.2298,-2.4499999999999994E-2]
[null,null,null,null,null,null,null,null,null,null,null,null,null,null,null,null,null,null,null,null,null,null,null,null,null,null,null,null,null,null,null,null,null,null,null,null,null,null,null,null,null,null,null,115,"LYNCHBURG",{"$f":"VLOOKUP(AR111,'Comp Index Comparison - Ranked'!$B$6:$D$140,3,FALSE)","v":0.36680000000000001},0.3679,-1.0999999999999899E-3]
[null,null,null,null,null,null,null,null,null,null,null,null,null,null,null,null,null,null,null,null,null,null,null,null,null,null,null,null,null,null,null,null,null,null,null,null,null,null,null,null,null,null,null,116,"MARTINSVILLE",{"$f":"VLOOKUP(AR112,'Comp Index Comparison - Ranked'!$B$6:$D$140,3,FALSE)","v":0.2185},0.22209999999999999,-3.5999999999999921E-3]
[null,null,null,null,null,null,null,null,null,null,null,null,null,null,null,null,null,null,null,null,null,null,null,null,null,null,null,null,null,null,null,null,null,null,null,null,null,null,null,null,null,null,null,117,"NEWPORT NEWS",{"$f":"VLOOKUP(AR113,'Comp Index Comparison - Ranked'!$B$6:$D$140,3,FALSE)","v":0.28420000000000001},0.29070000000000001,-6.5000000000000058E-3]
[null,null,null,null,null,null,null,null,null,null,null,null,null,null,null,null,null,null,null,null,null,null,null,null,null,null,null,null,null,null,null,null,null,null,null,null,null,null,null,null,null,null,null,118,"NORFOLK",{"$f":"VLOOKUP(AR114,'Comp Index Comparison - Ranked'!$B$6:$D$140,3,FALSE)","v":0.30590000000000001},0.31219999999999998,-6.2999999999999723E-3]
[null,null,null,null,null,null,null,null,null,null,null,null,null,null,null,null,null,null,null,null,null,null,null,null,null,null,null,null,null,null,null,null,null,null,null,null,null,null,null,null,null,null,null,119,"NORTON",{"$f":"VLOOKUP(AR115,'Comp Index Comparison - Ranked'!$B$6:$D$140,3,FALSE)","v":0.27100000000000002},0.31009999999999999,-3.9099999999999968E-2]
[null,null,null,null,null,null,null,null,null,null,null,null,null,null,null,null,null,null,null,null,null,null,null,null,null,null,null,null,null,null,null,null,null,null,null,null,null,null,null,null,null,null,null,120,"PETERSBURG",{"$f":"VLOOKUP(AR116,'Comp Index Comparison - Ranked'!$B$6:$D$140,3,FALSE)","v":0.2442},0.24729999999999999,-3.0999999999999917E-3]
[null,null,null,null,null,null,null,null,null,null,null,null,null,null,null,null,null,null,null,null,null,null,null,null,null,null,null,null,null,null,null,null,null,null,null,null,null,null,null,null,null,null,null,121,"PORTSMOUTH",{"$f":"VLOOKUP(AR117,'Comp Index Comparison - Ranked'!$B$6:$D$140,3,FALSE)","v":0.24260000000000001},0.26769999999999999,-2.5099999999999983E-2]
[null,null,null,null,null,null,null,null,null,null,null,null,null,null,null,null,null,null,null,null,null,null,null,null,null,null,null,null,null,null,null,null,null,null,null,null,null,null,null,null,null,null,null,122,"RADFORD",{"$f":"VLOOKUP(AR118,'Comp Index Comparison - Ranked'!$B$6:$D$140,3,FALSE)","v":0.2452},0.26740000000000003,-2.2200000000000025E-2]
[null,null,null,null,null,null,null,null,null,null,null,null,null,null,null,null,null,null,null,null,null,null,null,null,null,null,null,null,null,null,null,null,null,null,null,null,null,null,null,null,null,null,null,123,"RICHMOND CITY",{"$f":"VLOOKUP(AR119,'Comp Index Comparison - Ranked'!$B$6:$D$140,3,FALSE)","v":0.46879999999999999},0.46350000000000002,5.2999999999999714E-3]
[null,null,null,null,null,null,null,null,null,null,null,null,null,null,null,null,null,null,null,null,null,null,null,null,null,null,null,null,null,null,null,null,null,null,null,null,null,null,null,null,null,null,null,124,"ROANOKE CITY",{"$f":"VLOOKUP(AR120,'Comp Index Comparison - Ranked'!$B$6:$D$140,3,FALSE)","v":0.32840000000000003},0.35909999999999997,-3.069999999999995E-2]
[null,null,null,null,null,null,null,null,null,null,null,null,null,null,null,null,null,null,null,null,null,null,null,null,null,null,null,null,null,null,null,null,null,null,null,null,null,null,null,null,null,null,null,126,"STAUNTON",{"$f":"VLOOKUP(AR121,'Comp Index Comparison - Ranked'!$B$6:$D$140,3,FALSE)","v":0.38769999999999999},0.39219999999999999,-4.500000000000004E-3]
[null,null,null,null,null,null,null,null,null,null,null,null,null,null,null,null,null,null,null,null,null,null,null,null,null,null,null,null,null,null,null,null,null,null,null,null,null,null,null,null,null,null,null,127,"SUFFOLK",{"$f":"VLOOKUP(AR122,'Comp Index Comparison - Ranked'!$B$6:$D$140,3,FALSE)","v":0.34870000000000001},0.34889999999999999,-1.9999999999997797E-4]
[null,null,null,null,null,null,null,null,null,null,null,null,null,null,null,null,null,null,null,null,null,null,null,null,null,null,null,null,null,null,null,null,null,null,null,null,null,null,null,null,null,null,null,128,"VIRGINIA BEACH",{"$f":"VLOOKUP(AR123,'Comp Index Comparison - Ranked'!$B$6:$D$140,3,FALSE)","v":0.40820000000000001},0.40329999999999999,4.9000000000000155E-3]
[null,null,null,null,null,null,null,null,null,null,null,null,null,null,null,null,null,null,null,null,null,null,null,null,null,null,null,null,null,null,null,null,null,null,null,null,null,null,null,null,null,null,null,130,"WAYNESBORO",{"$f":"VLOOKUP(AR124,'Comp Index Comparison - Ranked'!$B$6:$D$140,3,FALSE)","v":0.36520000000000002},0.34920000000000001,1.6000000000000014E-2]
[null,null,null,null,null,null,null,null,null,null,null,null,null,null,null,null,null,null,null,null,null,null,null,null,null,null,null,null,null,null,null,null,null,null,null,null,null,null,null,null,null,null,null,131,"WILLIAMSBURG",{"$f":"VLOOKUP(AR125,'Comp Index Comparison - Ranked'!$B$6:$D$140,3,FALSE)","v":0.74590000000000001},0.8,-5.4100000000000037E-2]
[null,null,null,null,null,null,null,null,null,null,null,null,null,null,null,null,null,null,null,null,null,null,null,null,null,null,null,null,null,null,null,null,null,null,null,null,null,null,null,null,null,null,null,132,"WINCHESTER",{"$f":"VLOOKUP(AR126,'Comp Index Comparison - Ranked'!$B$6:$D$140,3,FALSE)","v":0.43190000000000001},0.43740000000000001,-5.5000000000000049E-3]
[null,null,null,null,null,null,null,null,null,null,null,null,null,null,null,null,null,null,null,null,null,null,null,null,null,null,null,null,null,null,null,null,null,null,null,null,null,null,null,null,null,null,null,134,"FAIRFAX CITY",{"$f":"VLOOKUP(AR127,'Comp Index Comparison - Ranked'!$B$6:$D$140,3,FALSE)","v":0.8},0.8,0]
[null,null,null,null,null,null,null,null,null,null,null,null,null,null,null,null,null,null,null,null,null,null,null,null,null,null,null,null,null,null,null,null,null,null,null,null,null,null,null,null,null,null,null,135,"FRANKLIN CITY",{"$f":"VLOOKUP(AR128,'Comp Index Comparison - Ranked'!$B$6:$D$140,3,FALSE)","v":0.29289999999999999},0.29770000000000002,-4.8000000000000265E-3]
[null,null,null,null,null,null,null,null,null,null,null,null,null,null,null,null,null,null,null,null,null,null,null,null,null,null,null,null,null,null,null,null,null,null,null,null,null,null,null,null,null,null,null,136,"CHESAPEAKE",{"$f":"VLOOKUP(AR129,'Comp Index Comparison - Ranked'!$B$6:$D$140,3,FALSE)","v":0.34860000000000002},0.3609,-1.2299999999999978E-2]
[null,null,null,null,null,null,null,null,null,null,null,null,null,null,null,null,null,null,null,null,null,null,null,null,null,null,null,null,null,null,null,null,null,null,null,null,null,null,null,null,null,null,null,137,"LEXINGTON",{"$f":"VLOOKUP(AR130,'Comp Index Comparison - Ranked'!$B$6:$D$140,3,FALSE)","v":0.39200000000000002},0.45079999999999998,-5.8799999999999963E-2]
[null,null,null,null,null,null,null,null,null,null,null,null,null,null,null,null,null,null,null,null,null,null,null,null,null,null,null,null,null,null,null,null,null,null,null,null,null,null,null,null,null,null,null,138,"EMPORIA",{"$f":"VLOOKUP(AR131,'Comp Index Comparison - Ranked'!$B$6:$D$140,3,FALSE)","v":0.2228},0.2495,{"$f":"AT131-AU131","v":-2.6700000000000002E-2}]
[null,null,null,null,null,null,null,null,null,null,null,null,null,null,null,null,null,null,null,null,null,null,null,null,null,null,null,null,null,null,null,null,null,null,null,null,null,null,null,null,null,null,null,139,"SALEM",{"$f":"VLOOKUP(AR132,'Comp Index Comparison - Ranked'!$B$6:$D$140,3,FALSE)","v":0.36409999999999998},0.3695,-5.4000000000000159E-3]
[null,null,null,null,null,null,null,null,null,null,null,null,null,null,null,null,null,null,null,null,null,null,null,null,null,null,null,null,null,null,null,null,null,null,null,null,null,null,null,null,null,null,null,142,"POQUOSON",{"$f":"VLOOKUP(AR133,'Comp Index Comparison - Ranked'!$B$6:$D$140,3,FALSE)","v":0.37030000000000002},0.38929999999999998,-1.8999999999999961E-2]
[null,null,null,null,null,null,null,null,null,null,null,null,null,null,null,null,null,null,null,null,null,null,null,null,null,null,null,null,null,null,null,null,null,null,null,null,null,null,null,null,null,null,null,143,"MANASSAS",{"$f":"VLOOKUP(AR134,'Comp Index Comparison - Ranked'!$B$6:$D$140,3,FALSE)","v":0.36109999999999998},0.36609999999999998,-5.0000000000000044E-3]
[null,null,null,null,null,null,null,null,null,null,null,null,null,null,null,null,null,null,null,null,null,null,null,null,null,null,null,null,null,null,null,null,null,null,null,null,null,null,null,null,null,null,null,144,"MANASSAS PARK",{"$f":"VLOOKUP(AR135,'Comp Index Comparison - Ranked'!$B$6:$D$140,3,FALSE)","v":0.27550000000000002},0.26819999999999999,7.3000000000000287E-3]
[null,null,null,null,null,null,null,null,null,null,null,null,null,null,null,null,null,null,null,null,null,null,null,null,null,null,null,null,null,null,null,null,null,null,null,null,null,null,null,null,null,null,null,202,"COLONIAL BEACH",{"$f":"VLOOKUP(AR136,'Comp Index Comparison - Ranked'!$B$6:$D$140,3,FALSE)","v":0.33169999999999999},0.35189999999999999,-2.0199999999999996E-2]
[null,null,null,null,null,null,null,null,null,null,null,null,null,null,null,null,null,null,null,null,null,null,null,null,null,null,null,null,null,null,null,null,null,null,null,null,null,null,null,null,null,null,null,207,"WEST POINT",{"$f":"VLOOKUP(AR137,'Comp Index Comparison - Ranked'!$B$6:$D$140,3,FALSE)","v":0.26140000000000002},0.25800000000000001,3.4000000000000141E-3]
[]
[null,null,null,null,null,null,null,null,null,null,null,null,null,null,null,null,null,null,null,null,null,null,null,null,null,null,null,null,null,null,null,null,null,null,null,null,null,null,null,null,null,null,null,null,null,null,"Variance excluding hold harmless divisions",{"$f":"SUM(AV2:AV137)-AV4-AV11","v":6.920000000000015E-2}]

{"sheet":"Composite Index Formula","index":3,"n_rows":29,"n_cols":12,"rows_kept":29,"cut":false,"hidden":false,"merged":[[0,0,0,12]]}
["COMPOSITE INDEX OF LOCAL ABILITY-TO-PAY FORMULA"]
[null,"no data","no data","no data","no data","no data","no data","no data","no data","no data","no data"]
["no data","no data","no data","no data","no data","no data","no data","no data","no data","no data","no data","no"]
[null,null,"Average Daily Membership (ADM) Component ="]
["no data","no data","no data","no data","no data","no data","no data","no data","no data","no data","no data","no"]
[null,null,"Local True Values",null,null,null,"Local Adjusted Gross Income",null,null,null,"Local Taxable Retail Sales"]
[null,null,"Division ADM",null,null,null,"Division ADM",null,null,null,"Division ADM"]
[".5",null,null,null,"+ .4",null,null,null,"+ .1"]
[]
[null,null,"State True Values",null,null,null,"State Adjusted Gross Income",null,null,null,"State Taxable Retail Sales"]
[null,null,"State ADM",null,null,null,"State ADM",null,null,null,"State ADM"]
["no data","no data","no data","no data","no data","no data","no data","no data","no data","no data","no data","no"]
["no data","no data","no data","no data","no data","no data","no data","no data","no data","no data","no data","no"]
["no data","no data","no data","no data","no data","no data","no data","no data","no data","no data","no data","no"]
[null,null,"Population Component ="]
["no data","no data","no data","no data","no data","no data","no data","no data","no data","no data","no data","no"]
[null,null,"Local True Values",null,null,null,"Local Adjusted Gross Income",null,null,null,"Local Taxable Retail Sales"]
[null,null,"Local Population",null,null,null,"Local Population",null,null,null,"Local Population"]
[".5",null,null,null,"+ .4",null,null,null,"+ .1"]
[]
[null,null,"State True Values",null,null,null,"State Adjusted Gross Income",null,null,null,"State Taxable Retail Sales"]
[null,null,"State Population",null,null,null,"State Population",null,null,null,"State Population"]
["no data","no data","no data","no data","no data","no data","no data","no data","no data","no data","no data","no"]
["no data","no data","no data","no data","no data","no data","no data","no data","no data","no data","no data","no"]
["no data","no data","no data","no data","no data","no data","no data","no data","no data","no data","no data","no"]
[null,null,"Final Composite Index ="]
["no data","no data","no data","no data","no data","no data","no data","no data","no data","no data","no data","no"]
[null,null,"((.6667 x ADM Component) + (.3333 x Population Component)) x 0.45"]
["End of worksheet"]

{"sheet":"Trend Analysis","index":4,"n_rows":50,"n_cols":5,"rows_kept":50,"cut":false,"hidden":false,"merged":[[49,0,49,1],[40,2,40,4],[3,0,3,4],[47,0,48,4],[46,0,46,4],[0,0,0,4],[1,0,1,4],[26,2,26,4],[33,2,33,4],[5,2,5,3],[12,2,12,3],[19,2,19,4]]}
["Trend Analysis of Composite Index Formula Components"]
["Change from 2018-20 (2015 base-year data) to 2020-22 (2017 base-year data) "]
[]
["Please note BLUE text represents division data elements above the state average, and RED text represents division data elements below the state average."]
["no data","no data","no data","no data","no data"]
["no data","no data","AVERAGE DAILY MEMBERSHIP",null,"no data"]
["no data","no data","ABSOLUTE","DIVISION vs STATE","no data"]
["no data","no data","% CHANGE","AVERAGE CHANGE","no data"]
[null,"DIVISION","2016 to 2018",{"$f":"C9","v":"2016 to 2018"},"no data"]
[{"$f":"'2020-2022 Calculation Template'!N2","v":"<SE"},{"$f":"VLOOKUP(A10,Summary!A10:B144,2,FALSE)","v":{"$error":"#N/A"}},{"$f":"VLOOKUP($A$10,'ADM & Population Analysis'!$A$10:$O$144,7,FALSE)","v":{"$error":"#N/A"}},{"$f":"VLOOKUP($A$10,'ADM & Population Analysis'!$A$10:$O$144,6,FALSE)","v":{"$error":"#N/A"}},"no data"]
[null," STATE AVERAGE",{"$f":"'ADM & Population Analysis'!G146","v":5.7666219033953529E-3},{"$f":"'ADM & Population Analysis'!F148","v":52.95814814814787},"no data"]
["no data","no data","no data","no data","no data"]
["no data","no data","POPULATION",null,"no data"]
["no data","no data","ABSOLUTE","DIVISION vs STATE","no data"]
["no data","no data","% CHANGE","AVERAGE CHANGE","no data"]
[null,"DIVISION","2015 to 2017",{"$f":"C16","v":"2015 to 2017"},"no data"]
[{"$f":"A10","v":"<SE"},{"$f":"B10","v":{"$error":"#N/A"}},{"$f":"VLOOKUP($A$17,'ADM & Population Analysis'!$A$10:$O$144,14,FALSE)","v":{"$error":"#N/A"}},{"$f":"VLOOKUP($A$17,'ADM & Population Analysis'!$A$10:$O$144,13,FALSE)","v":{"$error":"#N/A"}},"no data"]
["no data"," STATE AVERAGE",{"$f":"'ADM & Population Analysis'!N146","v":1.0381375721058099E-2},{"$f":"'ADM & Population Analysis'!M148","v":644.64444444444439},"no data"]
["no data","no data","no data","no data","no data"]
["no data","no data","TRUE VALUE OF PROPERTY"]
["no data","no data","ABSOLUTE","PER ADM","PER CAPITA"]
["no data","no data","% CHANGE","% CHANGE","% CHANGE"]
[null,"DIVISION",{"$f":"C16","v":"2015 to 2017"},{"$f":"D16","v":"2015 to 2017"},{"$f":"D16","v":"2015 to 2017"}]
[{"$f":"A10","v":"<SE"},{"$f":"B10","v":{"$error":"#N/A"}},{"$f":"VLOOKUP($A$24,Summary!$A$10:$N$144,3,FALSE)","v":{"$error":"#N/A"}},{"$f":"VLOOKUP($A$24,Summary!$A$10:$N$144,4,FALSE)","v":{"$error":"#N/A"}},{"$f":"VLOOKUP($A$24,Summary!$A$10:$N$144,5,FALSE)","v":{"$error":"#N/A"}}]
[null," STATE AVERAGE",{"$f":"+'true value analysis'!G146","v":7.314877257756168E-2},{"$f":"+'true value analysis'!N146","v":6.6995811162082808E-2},{"$f":"+'true value analysis'!U146","v":6.2122480050376856E-2}]
["no data","no data","no data","no data","no data"]
["no data","no data","ADJUSTED GROSS INCOME"]
["no data","no data","ABSOLUTE","PER ADM","PER CAPITA"]
["no data","no data","% CHANGE","% CHANGE","% CHANGE"]
[null,"DIVISION",{"$f":"C23","v":"2015 to 2017"},{"$f":"D23","v":"2015 to 2017"},{"$f":"E23","v":"2015 to 2017"}]
[{"$f":"A10","v":"<SE"},{"$f":"B10","v":{"$error":"#N/A"}},{"$f":"VLOOKUP($A$24,Summary!$A$10:$N$144,6,FALSE)","v":{"$error":"#N/A"}},{"$f":"VLOOKUP($A$24,Summary!$A$10:$N$144,7,FALSE)","v":{"$error":"#N/A"}},{"$f":"VLOOKUP($A$24,Summary!$A$10:$N$144,8,FALSE)","v":{"$error":"#N/A"}}]
[null," STATE AVERAGE",{"$f":"+'AGI analysis'!G146","v":{"$error":"#N/A"}},{"$f":"+'AGI analysis'!N146","v":{"$error":"#N/A"}},{"$f":"+'AGI analysis'!U146","v":{"$error":"#N/A"}}]
["no data","no data","no data","no data","no data"]
["no data","no data","TAXABLE RETAIL SALES"]
["no data","no data","ABSOLUTE","PER ADM","PER CAPITA"]
["no data","no data","% CHANGE","% CHANGE","% CHANGE"]
[null,"DIVISION",{"$f":"C30","v":"2015 to 2017"},{"$f":"D30","v":"2015 to 2017"},{"$f":"E30","v":"2015 to 2017"}]
[{"$f":"A10","v":"<SE"},{"$f":"B10","v":{"$error":"#N/A"}},{"$f":"VLOOKUP($A$24,Summary!$A$10:$N$144,9,FALSE)","v":{"$error":"#N/A"}},{"$f":"VLOOKUP($A$24,Summary!$A$10:$N$144,10,FALSE)","v":{"$error":"#N/A"}},{"$f":"VLOOKUP($A$24,Summary!$A$10:$N$144,11,FALSE)","v":{"$error":"#N/A"}}]
[null," STATE AVERAGE",{"$f":"+'taxable retail analysis'!G146","v":3.5220352062207597E-2},{"$f":"+'taxable retail analysis'!N146","v":2.9284855469821645E-2},{"$f":"+'taxable retail analysis'!U146","v":2.4583763060184127E-2}]
["no data","no data","no data","no data","no data"]
["no data","no data","FINAL INDEX COMPARISON"]
["no data","no data","2018-2020","2020-2022","COMPOSITE"]
["no data","no data","COMPOSITE","COMPOSITE","INDEX"]
["no data","DIVISION","INDEX","INDEX","VARIANCE"]
[{"$f":"A10","v":"<SE"},{"$f":"B10","v":{"$error":"#N/A"}},{"$f":"VLOOKUP($A$24,Summary!$A$10:$N$144,13,FALSE)","v":{"$error":"#N/A"}},{"$f":"VLOOKUP($A$24,Summary!$A$10:$N$144,14,FALSE)","v":{"$error":"#N/A"}},{"$f":"D45-C45","v":{"$error":"#N/A"}}]
["no data","no data","no data","no data","no data"]
["EXCEPTIONS:"]
["*Please note the following exceptions to the standard composite index calculation as specified in the appropriation act (see actual appropriation act language under the tab labeled \"Appropriation Act Language\"):\n1) For those divisions in which three percent or more of the adjusted gross income is derived from individuals who are not residents of Virginia, the Department of Education shall compute the composite index for such localities by using adjusted gross income data which exclude nonresident income.  School divisions are no longer required to submit a certification form requesting the exclusion of nonresident AGI.\n2) Any division with a calculated composite index that exceeds .8000 is considered as having an index of .8000;\n3) Under hold harmless provisions addressing the consolidation of school divisions contained in the appropriation act and Section 15.2-1302, Code of Virginia, the composite index to be used for funding in the 2020-2022 biennium for the following divisions are:\n     Bedford County: .3132 (the index approved effective July 1, 2013); the 2020-2022 composite\nindex for Bedford County calculated based on the data elements from base-year 2017 is shown above as .4359.\nThis lower composite index of .3132 will be used for Bedford County."]
[]
["End of worksheet"]

{"sheet":"Summary","index":5,"n_rows":144,"n_cols":14,"rows_kept":144,"cut":false,"hidden":true,"merged":[[2,2,2,4],[2,5,2,7],[2,8,2,10],[2,12,2,13]]}
["SUMMARY OF RESULTS"]
[]
[null,null,"TRUE VALUE OF PROPERTY",null,null,"ADJUSTED GROSS INCOME",null,null,"TAXABLE RETAIL SALES",null,null,null,"FINAL INDEX COMPARISON"]
[]
[null," STATE TOTALS",{"$f":"'true value analysis'!G146","v":7.314877257756168E-2},{"$f":"'true value analysis'!N146","v":6.6995811162082808E-2},{"$f":"'true value analysis'!U146","v":6.2122480050376856E-2},{"$f":"'AGI analysis'!G146","v":{"$error":"#N/A"}},{"$f":"'AGI analysis'!N146","v":{"$error":"#N/A"}},{"$f":"'AGI analysis'!U146","v":{"$error":"#N/A"}},{"$f":"'taxable retail analysis'!G146","v":3.5220352062207597E-2},{"$f":"'taxable retail analysis'!N146","v":2.9284855469821645E-2},{"$f":"'taxable retail analysis'!U146","v":2.4583763060184127E-2}]
[]
[null,null,"ABSOLUTE","PER ADM","PER CAPITA","ABSOLUTE","PER ADM","PER CAPITA","ABSOLUTE","PER ADM","PER CAPITA",null,"2016-18","2018-20"]
["Div",null,"% CHANGE","% CHANGE","% CHANGE","% CHANGE","% CHANGE","% CHANGE","% CHANGE","% CHANGE","% CHANGE",null,"COMPOSITE","COMPOSITE"]
["Num","DIVISION","2013 to 2015","2013 to 2015","2013 to 2015","2013 to 2015","2013 to 2015","2013 to 2015","2013 to 2015","2013 to 2015","2013 to 2015",null,"INDEX","INDEX"]
[1,"ACCOMACK",{"$f":"'true value analysis'!G10","v":6.5624276127324382E-2},{"$f":"'true value analysis'!N10","v":8.3659571018592421E-2},{"$f":"'true value analysis'!U10","v":8.0943774058999482E-2},{"$f":"'AGI analysis'!G10","v":0.13783631463313034},{"$f":"'AGI analysis'!N10","v":0.15709377144237266},{"$f":"'AGI analysis'!U10","v":0.15419393847776994},{"$f":"'taxable retail analysis'!G10","v":-0.31922347555765362},{"$f":"'taxable retail analysis'!N10","v":-0.30770158585559965},{"$f":"'taxable retail analysis'!U10","v":-0.30943657900155319},null,{"$f":"VLOOKUP(A10,'Comp Index Comparison - Ranked'!$B$6:$E$140,4,FALSE)","v":0.35060000000000002},{"$f":"IF(VLOOKUP(A10,'2020-22 Comp Index Non-Res. AGI'!$A$5:$J$138,10,FALSE)=\"YES\",VLOOKUP(A10,'2020-22 Comp Index Non-Res. AGI'!$A$5:$H$147,8,FALSE),VLOOKUP(A10,'2020-2022 Composite Index Data'!$A$5:$H$139,8,FALSE))","v":0.33739999999999998}]
[2,"ALBEMARLE",{"$f":"'true value analysis'!G11","v":6.0704284543543832E-2},{"$f":"'true value analysis'!N11","v":4.280290751590754E-2},{"$f":"'true value analysis'!U11","v":3.464391575980607E-2},{"$f":"'AGI analysis'!G11","v":0.19111085452193244},{"$f":"'AGI analysis'!N11","v":0.17100862169491687},{"$f":"'AGI analysis'!U11","v":0.16184653591449633},{"$f":"'taxable retail analysis'!G11","v":0.12094922681416345},{"$f":"'taxable retail analysis'!N11","v":0.10203110323302479},{"$f":"'taxable retail analysis'!U11","v":9.3408704291249367E-2},null,{"$f":"VLOOKUP(A11,'Comp Index Comparison - Ranked'!$B$6:$E$140,4,FALSE)","v":0.67800000000000005},{"$f":"IF(VLOOKUP(A11,'2020-22 Comp Index Non-Res. AGI'!$A$5:$J$138,10,FALSE)=\"YES\",VLOOKUP(A11,'2020-22 Comp Index Non-Res. AGI'!$A$5:$H$147,8,FALSE),VLOOKUP(A11,'2020-2022 Composite Index Data'!$A$5:$H$139,8,FALSE))","v":0.64490000000000003}]
[3,"ALLEGHANY",{"$f":"'true value analysis'!G12","v":-1.0716463593070359E-2},{"$f":"'true value analysis'!N12","v":3.9914539884070906E-2},{"$f":"'true value analysis'!U12","v":-3.652446130898197E-3},{"$f":"'AGI analysis'!G12","v":6.4968477622826065E-2},{"$f":"'AGI analysis'!N12","v":0.11947299600327514},{"$f":"'AGI analysis'!U12","v":7.2572926343274669E-2},{"$f":"'taxable retail analysis'!G12","v":-7.378340436181148E-2},{"$f":"'taxable retail analysis'!N12","v":-2.6380133258497366E-2},{"$f":"'taxable retail analysis'!U12","v":-6.7169718836319753E-2},null,{"$f":"VLOOKUP(A12,'Comp Index Comparison - Ranked'!$B$6:$E$140,4,FALSE)","v":0.28989999999999999},{"$f":"IF(VLOOKUP(A12,'2020-22 Comp Index Non-Res. AGI'!$A$5:$J$138,10,FALSE)=\"YES\",VLOOKUP(A12,'2020-22 Comp Index Non-Res. AGI'!$A$5:$H$147,8,FALSE),VLOOKUP(A12,'2020-2022 Composite Index Data'!$A$5:$H$139,8,FALSE))","v":0.28189999999999998}]
[4,"AMELIA",{"$f":"'true value analysis'!G13","v":0.14722838625093704},{"$f":"'true value analysis'!N13","v":0.1667984965036379},{"$f":"'true value analysis'!U13","v":0.14377287906343422},{"$f":"'AGI analysis'!G13","v":0.16213068931177907},{"$f":"'AGI analysis'!N13","v":0.18195501199281153},{"$f":"'AGI analysis'!U13","v":0.15863029566927375},{"$f":"'taxable retail analysis'!G13","v":4.2937890429668078E-2},{"$f":"'taxable retail analysis'!N13","v":6.0728950820988697E-2},{"$f":"'taxable retail analysis'!U13","v":3.9796511241627038E-2},null,{"$f":"VLOOKUP(A13,'Comp Index Comparison - Ranked'!$B$6:$E$140,4,FALSE)","v":0.3231},{"$f":"IF(VLOOKUP(A13,'2020-22 Comp Index Non-Res. AGI'!$A$5:$J$138,10,FALSE)=\"YES\",VLOOKUP(A13,'2020-22 Comp Index Non-Res. AGI'!$A$5:$H$147,8,FALSE),VLOOKUP(A13,'2020-2022 Composite Index Data'!$A$5:$H$139,8,FALSE))","v":0.34789999999999999}]
[5,"AMHERST",{"$f":"'true value analysis'!G14","v":4.3080488756285187E-2},{"$f":"'true value analysis'!N14","v":7.9894776922383809E-2},{"$f":"'true value analysis'!U14","v":4.4580760861931773E-2},{"$f":"'AGI analysis'!G14","v":8.6930108637247122E-2},{"$f":"'AGI analysis'!N14","v":0.12529201710654642},{"$f":"'AGI analysis'!U14","v":8.8493450047956695E-2},{"$f":"'taxable retail analysis'!G14","v":6.0452211445365618E-2},{"$f":"'taxable retail analysis'!N14","v":9.7879613951068062E-2},{"$f":"'taxable retail analysis'!U14","v":6.1977469456949916E-2},null,{"$f":"VLOOKUP(A14,'Comp Index Comparison - Ranked'!$B$6:$E$140,4,FALSE)","v":0.30730000000000002},{"$f":"IF(VLOOKUP(A14,'2020-22 Comp Index Non-Res. AGI'!$A$5:$J$138,10,FALSE)=\"YES\",VLOOKUP(A14,'2020-22 Comp Index Non-Res. AGI'!$A$5:$H$147,8,FALSE),VLOOKUP(A14,'2020-2022 Composite Index Data'!$A$5:$H$139,8,FALSE))","v":0.31409999999999999}]
[6,"APPOMATTOX",{"$f":"'true value analysis'!G15","v":4.5694886114779856E-2},{"$f":"'true value analysis'!N15","v":5.0205459590371593E-2},{"$f":"'true value analysis'!U15","v":4.0242949594742679E-2},{"$f":"'AGI analysis'!G15","v":0.15701487814429263},{"$f":"'AGI analysis'!N15","v":0.16200562706113286},{"$f":"'AGI analysis'!U15","v":0.15098255289135182},{"$f":"'taxable retail analysis'!G15","v":5.4369237404789904E-2},{"$f":"'taxable retail analysis'!N15","v":5.8917227434068735E-2},{"$f":"'taxable retail analysis'!U15","v":4.8872075443552286E-2},null,{"$f":"VLOOKUP(A15,'Comp Index Comparison - Ranked'!$B$6:$E$140,4,FALSE)","v":0.29499999999999998},{"$f":"IF(VLOOKUP(A15,'2020-22 Comp Index Non-Res. AGI'!$A$5:$J$138,10,FALSE)=\"YES\",VLOOKUP(A15,'2020-22 Comp Index Non-Res. AGI'!$A$5:$H$147,8,FALSE),VLOOKUP(A15,'2020-2022 Composite Index Data'!$A$5:$H$139,8,FALSE))","v":0.29780000000000001}]
[7,"ARLINGTON",{"$f":"'true value analysis'!G16","v":5.9465229134946403E-2},{"$f":"'true value analysis'!N16","v":-3.9293896135925563E-3},{"$f":"'true value analysis'!U16","v":3.9984193358252929E-2},{"$f":"'AGI analysis'!G16","v":0.18232224325053251},{"$f":"'AGI analysis'!N16","v":0.1115762991764794},{"$f":"'AGI analysis'!U16","v":0.16058216034177059},{"$f":"'taxable retail analysis'!G16","v":2.5018874854403975E-2},{"$f":"'taxable retail analysis'!N16","v":-3.631459697129067E-2},{"$f":"'taxable retail analysis'!U16","v":6.1712252820540457E-3},null,{"$f":"VLOOKUP(A16,'Comp Index Comparison - Ranked'!$B$6:$E$140,4,FALSE)","v":0.8},{"$f":"IF(VLOOKUP(A16,'2020-22 Comp Index Non-Res. AGI'!$A$5:$J$138,10,FALSE)=\"YES\",VLOOKUP(A16,'2020-22 Comp Index Non-Res. AGI'!$A$5:$H$147,8,FALSE),VLOOKUP(A16,'2020-2022 Composite Index Data'!$A$5:$H$139,8,FALSE))","v":0.8}]
[8,"AUGUSTA",{"$f":"'true value analysis'!G17","v":9.5976767938476426E-2},{"$f":"'true value analysis'!N17","v":0.11427732120041986},{"$f":"'true value analysis'!U17","v":9.4048183114940773E-2},{"$f":"'AGI analysis'!G17","v":0.1514405502821714},{"$f":"'AGI analysis'!N17","v":0.17066723440070131},{"$f":"'AGI analysis'!U17","v":0.14941436611892969},{"$f":"'taxable retail analysis'!G17","v":8.3293351287506909E-2},{"$f":"'taxable retail analysis'!N17","v":0.10138211763137449},{"$f":"'taxable retail analysis'!U17","v":8.1387085408659965E-2},null,{"$f":"VLOOKUP(A17,'Comp Index Comparison - Ranked'!$B$6:$E$140,4,FALSE)","v":0.36020000000000002},{"$f":"IF(VLOOKUP(A17,'2020-22 Comp Index Non-Res. AGI'!$A$5:$J$138,10,FALSE)=\"YES\",VLOOKUP(A17,'2020-22 Comp Index Non-Res. AGI'!$A$5:$H$147,8,FALSE),VLOOKUP(A17,'2020-2022 Composite Index Data'!$A$5:$H$139,8,FALSE))","v":0.37690000000000001}]
[9,"BATH",{"$f":"'true value analysis'!G18","v":-9.7100531841159826E-2},{"$f":"'true value analysis'!N18","v":-5.2086616029718535E-2},{"$f":"'true value analysis'!U18","v":-6.3212075068736287E-2},{"$f":"'AGI analysis'!G18","v":-3.6301238025376097E-2},{"$f":"'AGI analysis'!N18","v":1.1743817342276851E-2},{"$f":"'AGI analysis'!U18","v":-1.3080600218463349E-4},{"$f":"'taxable retail analysis'!G18","v":-4.0788810315517773E-2},{"$f":"'taxable retail analysis'!N18","v":7.0325178173875876E-3},{"$f":"'taxable retail analysis'!U18","v":-4.7868100003187865E-3},null,{"$f":"VLOOKUP(A18,'Comp Index Comparison - Ranked'!$B$6:$E$140,4,FALSE)","v":0.8},{"$f":"IF(VLOOKUP(A18,'2020-22 Comp Index Non-Res. AGI'!$A$5:$J$138,10,FALSE)=\"YES\",VLOOKUP(A18,'2020-22 Comp Index Non-Res. AGI'!$A$5:$H$147,8,FALSE),VLOOKUP(A18,'2020-2022 Composite Index Data'!$A$5:$H$139,8,FALSE))","v":0.8}]
[10,"BEDFORD COUNTY",{"$f":"'true value analysis'!G19","v":7.2808041090474299E-2},{"$f":"'true value analysis'!N19","v":8.9692923372609742E-2},{"$f":"'true value analysis'!U19","v":6.9609209808803155E-2},{"$f":"'AGI analysis'!G19","v":0.13445581976791438},{"$f":"'AGI analysis'!N19","v":0.15231097394031801},{"$f":"'AGI analysis'!U19","v":0.1310731710321173},{"$f":"'taxable retail analysis'!G19","v":4.5721881091471753E-2},{"$f":"'taxable retail analysis'!N19","v":6.2180455399075997E-2},{"$f":"'taxable retail analysis'!U19","v":4.2603813611512033E-2},null,{"$f":"VLOOKUP(A19,'Comp Index Comparison - Ranked'!$B$6:$E$140,4,FALSE)","v":0.31319999999999998},{"$f":"IF(VLOOKUP(A19,'2020-22 Comp Index Non-Res. AGI'!$A$5:$J$138,10,FALSE)=\"YES\",VLOOKUP(A19,'2020-22 Comp Index Non-Res. AGI'!$A$5:$H$147,8,FALSE),VLOOKUP(A19,'2020-2022 Composite Index Data'!$A$5:$H$139,8,FALSE))","v":0.31319999999999998}]
[11,"BLAND",{"$f":"'true value analysis'!G20","v":7.3206156290243851E-2},{"$f":"'true value analysis'!N20","v":0.18379223156100857},{"$f":"'true value analysis'!U20","v":0.1017216938479481},{"$f":"'AGI analysis'!G20","v":-7.4250351791479846E-3},{"$f":"'AGI analysis'!N20","v":9.4852583271141683E-2},{"$f":"'AGI analysis'!U20","v":1.8948097813327555E-2},{"$f":"'taxable retail analysis'!G20","v":0.52544537226787835},{"$f":"'taxable retail analysis'!N20","v":0.68263140383349763},{"$f":"'taxable retail analysis'!U20","v":0.56597709541368435},null,{"$f":"VLOOKUP(A20,'Comp Index Comparison - Ranked'!$B$6:$E$140,4,FALSE)","v":0.307},{"$f":"IF(VLOOKUP(A20,'2020-22 Comp Index Non-Res. AGI'!$A$5:$J$138,10,FALSE)=\"YES\",VLOOKUP(A20,'2020-22 Comp Index Non-Res. AGI'!$A$5:$H$147,8,FALSE),VLOOKUP(A20,'2020-2022 Composite Index Data'!$A$5:$H$139,8,FALSE))","v":0.33800000000000002}]
[12,"BOTETOURT",{"$f":"'true value analysis'!G21","v":8.3518157624580078E-2},{"$f":"'true value analysis'!N21","v":0.11142156923325812},{"$f":"'true value analysis'!U21","v":8.7936702435282968E-2},{"$f":"'AGI analysis'!G21","v":9.1695428353125205E-2},{"$f":"'AGI analysis'!N21","v":0.11980942595832612},{"$f":"'AGI analysis'!U21","v":9.6147319755104918E-2},{"$f":"'taxable retail analysis'!G21","v":1.5652425443185871E-2},{"$f":"'taxable retail analysis'!N21","v":4.1808117878118542E-2},{"$f":"'taxable retail analysis'!U21","v":1.979421644349403E-2},null,{"$f":"VLOOKUP(A21,'Comp Index Comparison - Ranked'!$B$6:$E$140,4,FALSE)","v":0.3856},{"$f":"IF(VLOOKUP(A21,'2020-22 Comp Index Non-Res. AGI'!$A$5:$J$138,10,FALSE)=\"YES\",VLOOKUP(A21,'2020-22 Comp Index Non-Res. AGI'!$A$5:$H$147,8,FALSE),VLOOKUP(A21,'2020-2022 Composite Index Data'!$A$5:$H$139,8,FALSE))","v":0.39750000000000002}]
[13,"BRUNSWICK",{"$f":"'true value analysis'!G22","v":0.29012838261786672},{"$f":"'true value analysis'!N22","v":0.38078229608290609},{"$f":"'true value analysis'!U22","v":0.31728324695256538},{"$f":"'AGI analysis'!G22","v":6.8484012643293457E-2},{"$f":"'AGI analysis'!N22","v":0.14356356172227341},{"$f":"'AGI analysis'!U22","v":9.0973664679510138E-2},{"$f":"'taxable retail analysis'!G22","v":4.4550743407533608E-2},{"$f":"'taxable retail analysis'!N22","v":0.11794856487903976},{"$f":"'taxable retail analysis'!U22","v":6.6536643500967663E-2},null,{"$f":"VLOOKUP(A22,'Comp Index Comparison - Ranked'!$B$6:$E$140,4,FALSE)","v":0.35370000000000001},{"$f":"IF(VLOOKUP(A22,'2020-22 Comp Index Non-Res. AGI'!$A$5:$J$138,10,FALSE)=\"YES\",VLOOKUP(A22,'2020-22 Comp Index Non-Res. AGI'!$A$5:$H$147,8,FALSE),VLOOKUP(A22,'2020-2022 Composite Index Data'!$A$5:$H$139,8,FALSE))","v":0.42899999999999999}]
[14,"BUCHANAN",{"$f":"'true value analysis'!G23","v":-4.4195211367095234E-2},{"$f":"'true value analysis'!N23","v":1.2599951425258247E-2},{"$f":"'true value analysis'!U23","v":-1.6696301967801671E-3},{"$f":"'AGI analysis'!G23","v":-0.10517967583041517},{"$f":"'AGI analysis'!N23","v":-5.2008289177489578E-2},{"$f":"'AGI analysis'!U23","v":-6.5367409998656326E-2},{"$f":"'taxable retail analysis'!G23","v":-1.0308528955260611E-2},{"$f":"'taxable retail analysis'!N23","v":4.8500224548252306E-2},{"$f":"'taxable retail analysis'!U23","v":3.3724735458155221E-2},null,{"$f":"VLOOKUP(A23,'Comp Index Comparison - Ranked'!$B$6:$E$140,4,FALSE)","v":0.30780000000000002},{"$f":"IF(VLOOKUP(A23,'2020-22 Comp Index Non-Res. AGI'!$A$5:$J$138,10,FALSE)=\"YES\",VLOOKUP(A23,'2020-22 Comp Index Non-Res. AGI'!$A$5:$H$147,8,FALSE),VLOOKUP(A23,'2020-2022 Composite Index Data'!$A$5:$H$139,8,FALSE))","v":0.29749999999999999}]
[15,"BUCKINGHAM",{"$f":"'true value analysis'!G24","v":6.2631771546725098E-2},{"$f":"'true value analysis'!N24","v":3.8067794282757472E-2},{"$f":"'true value analysis'!U24","v":6.4574425608053654E-2},{"$f":"'AGI analysis'!G24","v":0.12751894677910686},{"$f":"'AGI analysis'!N24","v":0.10145502650589598},{"$f":"'AGI analysis'!U24","v":0.12958022456115287},{"$f":"'taxable retail analysis'!G24","v":4.5612977212118169E-2},{"$f":"'taxable retail analysis'!N24","v":2.1442409300561356E-2},{"$f":"'taxable retail analysis'!U24","v":4.7524518303913681E-2},null,{"$f":"VLOOKUP(A24,'Comp Index Comparison - Ranked'!$B$6:$E$140,4,FALSE)","v":0.34849999999999998},{"$f":"IF(VLOOKUP(A24,'2020-22 Comp Index Non-Res. AGI'!$A$5:$J$138,10,FALSE)=\"YES\",VLOOKUP(A24,'2020-22 Comp Index Non-Res. AGI'!$A$5:$H$147,8,FALSE),VLOOKUP(A24,'2020-2022 Composite Index Data'!$A$5:$H$139,8,FALSE))","v":0.3422}]
[16,"CAMPBELL",{"$f":"'true value analysis'!G25","v":7.4067703977493557E-2},{"$f":"'true value analysis'!N25","v":7.0269067249197528E-2},{"$f":"'true value analysis'!U25","v":8.691711671988675E-2},{"$f":"'AGI analysis'!G25","v":0.10333681173018945},{"$f":"'AGI analysis'!N25","v":9.9434659453197294E-2},{"$f":"'AGI analysis'!U25","v":0.11653638009566232},{"$f":"'taxable retail analysis'!G25","v":5.0816365121203647E-2},{"$f":"'taxable retail analysis'!N25","v":4.7099961002113166E-2},{"$f":"'taxable retail analysis'!U25","v":6.3387614719252167E-2},null,{"$f":"VLOOKUP(A25,'Comp Index Comparison - Ranked'!$B$6:$E$140,4,FALSE)","v":0.28510000000000002},{"$f":"IF(VLOOKUP(A25,'2020-22 Comp Index Non-Res. AGI'!$A$5:$J$138,10,FALSE)=\"YES\",VLOOKUP(A25,'2020-22 Comp Index Non-Res. AGI'!$A$5:$H$147,8,FALSE),VLOOKUP(A25,'2020-2022 Composite Index Data'!$A$5:$H$139,8,FALSE))","v":0.2878}]
[17,"CAROLINE",{"$f":"'true value analysis'!G26","v":7.9281616419915449E-2},{"$f":"'true value analysis'!N26","v":9.4317304268860661E-2},{"$f":"'true value analysis'!U26","v":7.2155982540250851E-2},{"$f":"'AGI analysis'!G26","v":0.14804758635961629},{"$f":"'AGI analysis'!N26","v":0.16404126667587796},{"$f":"'AGI analysis'!U26","v":0.14046794574277058},{"$f":"'taxable retail analysis'!G26","v":9.7916836357778647E-2},{"$f":"'taxable retail analysis'!N26","v":0.11321213517917023},{"$f":"'taxable retail analysis'!U26","v":9.0668169015369962E-2},null,{"$f":"VLOOKUP(A26,'Comp Index Comparison - Ranked'!$B$6:$E$140,4,FALSE)","v":0.34460000000000002},{"$f":"IF(VLOOKUP(A26,'2020-22 Comp Index Non-Res. AGI'!$A$5:$J$138,10,FALSE)=\"YES\",VLOOKUP(A26,'2020-22 Comp Index Non-Res. AGI'!$A$5:$H$147,8,FALSE),VLOOKUP(A26,'2020-2022 Composite Index Data'!$A$5:$H$139,8,FALSE))","v":0.3553}]
[18,"CARROLL",{"$f":"'true value analysis'!G27","v":1.5240100222506648E-2},{"$f":"'true value analysis'!N27","v":5.4645365524454328E-2},{"$f":"'true value analysis'!U27","v":1.7707649418583653E-2},{"$f":"'AGI analysis'!G27","v":0.13891705941100324},{"$f":"'AGI analysis'!N27","v":0.18312269005263038},{"$f":"'AGI analysis'!U27","v":0.14168520644709046},{"$f":"'taxable retail analysis'!G27","v":3.0413787688350534E-2},{"$f":"'taxable retail analysis'!N27","v":7.0408000550653049E-2},{"$f":"'taxable retail analysis'!U27","v":3.2918216653360706E-2},null,{"$f":"VLOOKUP(A27,'Comp Index Comparison - Ranked'!$B$6:$E$140,4,FALSE)","v":0.2727},{"$f":"IF(VLOOKUP(A27,'2020-22 Comp Index Non-Res. AGI'!$A$5:$J$138,10,FALSE)=\"YES\",VLOOKUP(A27,'2020-22 Comp Index Non-Res. AGI'!$A$5:$H$147,8,FALSE),VLOOKUP(A27,'2020-2022 Composite Index Data'!$A$5:$H$139,8,FALSE))","v":0.27489999999999998}]
[19,"CHARLES CITY",{"$f":"'true value analysis'!G28","v":0.11679972019522013},{"$f":"'true value analysis'!N28","v":0.24047928020364595},{"$f":"'true value analysis'!U28","v":0.14491102625523117},{"$f":"'AGI analysis'!G28","v":0.13473643452155717},{"$f":"'AGI analysis'!N28","v":0.26040238913213287},{"$f":"'AGI analysis'!U28","v":0.16329923108341995},{"$f":"'taxable retail analysis'!G28","v":3.0622512939089973E-2},{"$f":"'taxable retail analysis'!N28","v":0.14475841092517044},{"$f":"'taxable retail analysis'!U28","v":5.6564626255973742E-2},null,{"$f":"VLOOKUP(A28,'Comp Index Comparison - Ranked'!$B$6:$E$140,4,FALSE)","v":0.51749999999999996},{"$f":"IF(VLOOKUP(A28,'2020-22 Comp Index Non-Res. AGI'!$A$5:$J$138,10,FALSE)=\"YES\",VLOOKUP(A28,'2020-22 Comp Index Non-Res. AGI'!$A$5:$H$147,8,FALSE),VLOOKUP(A28,'2020-2022 Composite Index Data'!$A$5:$H$139,8,FALSE))","v":0.58799999999999997}]
[20,"CHARLOTTE",{"$f":"'true value analysis'!G29","v":3.054617947051232E-2},{"$f":"'true value analysis'!N29","v":5.9104190285042692E-2},{"$f":"'true value analysis'!U29","v":4.9335468819046747E-2},{"$f":"'AGI analysis'!G29","v":5.9945171326573662E-2},{"$f":"'AGI analysis'!N29","v":8.9317873170081635E-2},{"$f":"'AGI analysis'!U29","v":7.9270473689898494E-2},{"$f":"'taxable retail analysis'!G29","v":7.0407718199120256E-2},{"$f":"'taxable retail analysis'!N29","v":0.10007035321853609},{"$f":"'taxable retail analysis'!U29","v":8.9923777487682557E-2},null,{"$f":"VLOOKUP(A29,'Comp Index Comparison - Ranked'!$B$6:$E$140,4,FALSE)","v":0.24390000000000001},{"$f":"IF(VLOOKUP(A29,'2020-22 Comp Index Non-Res. AGI'!$A$5:$J$138,10,FALSE)=\"YES\",VLOOKUP(A29,'2020-22 Comp Index Non-Res. AGI'!$A$5:$H$147,8,FALSE),VLOOKUP(A29,'2020-2022 Composite Index Data'!$A$5:$H$139,8,FALSE))","v":0.24440000000000001}]
[21,"CHESTERFIELD",{"$f":"'true value analysis'!G30","v":0.11301175747497832},{"$f":"'true value analysis'!N30","v":9.155035189940966E-2},{"$f":"'true value analysis'!U30","v":9.1505707105557124E-2},{"$f":"'AGI analysis'!G30","v":0.14472590835539637},{"$f":"'AGI analysis'!N30","v":0.12265298160769419},{"$f":"'AGI analysis'!U30","v":0.12260706470533171},{"$f":"'taxable retail analysis'!G30","v":7.8768688781422569E-2},{"$f":"'taxable retail analysis'!N30","v":5.7967567682139828E-2},{"$f":"'taxable retail analysis'!U30","v":5.7924296435990133E-2},null,{"$f":"VLOOKUP(A30,'Comp Index Comparison - Ranked'!$B$6:$E$140,4,FALSE)","v":0.35220000000000001},{"$f":"IF(VLOOKUP(A30,'2020-22 Comp Index Non-Res. AGI'!$A$5:$J$138,10,FALSE)=\"YES\",VLOOKUP(A30,'2020-22 Comp Index Non-Res. AGI'!$A$5:$H$147,8,FALSE),VLOOKUP(A30,'2020-2022 Composite Index Data'!$A$5:$H$139,8,FALSE))","v":0.3584}]
[22,"CLARKE",{"$f":"'true value analysis'!G31","v":5.4142949734583216E-2},{"$f":"'true value analysis'!N31","v":7.3040230658263261E-2},{"$f":"'true value analysis'!U31","v":4.6335574617767522E-2},{"$f":"'AGI analysis'!G31","v":0.22147417102573544},{"$f":"'AGI analysis'!N31","v":0.24337114482488145},{"$f":"'AGI analysis'!U31","v":0.21242747859080466},{"$f":"'taxable retail analysis'!G31","v":3.4131792151060117E-2},{"$f":"'taxable retail analysis'!N31","v":5.267033950206973E-2},{"$f":"'taxable retail analysis'!U31","v":2.647262711696206E-2},null,{"$f":"VLOOKUP(A31,'Comp Index Comparison - Ranked'!$B$6:$E$140,4,FALSE)","v":0.55059999999999998},{"$f":"IF(VLOOKUP(A31,'2020-22 Comp Index Non-Res. AGI'!$A$5:$J$138,10,FALSE)=\"YES\",VLOOKUP(A31,'2020-22 Comp Index Non-Res. AGI'!$A$5:$H$147,8,FALSE),VLOOKUP(A31,'2020-2022 Composite Index Data'!$A$5:$H$139,8,FALSE))","v":0.57289999999999996}]
[23,"CRAIG",{"$f":"'true value analysis'!G32","v":5.4701314490332595E-2},{"$f":"'true value analysis'!N32","v":9.1531057559972068E-2},{"$f":"'true value analysis'!U32","v":6.7656312114214537E-2},{"$f":"'AGI analysis'!G32","v":9.499415052191916E-2},{"$f":"'AGI analysis'!N32","v":0.13323090311947164},{"$f":"'AGI analysis'!U32","v":0.10844406892372867},{"$f":"'taxable retail analysis'!G32","v":-1.1661535735745705E-3},{"$f":"'taxable retail analysis'!N32","v":3.3712720120559127E-2},{"$f":"'taxable retail analysis'!U32","v":1.1102618570091895E-2},null,{"$f":"VLOOKUP(A32,'Comp Index Comparison - Ranked'!$B$6:$E$140,4,FALSE)","v":0.32350000000000001},{"$f":"IF(VLOOKUP(A32,'2020-22 Comp Index Non-Res. AGI'!$A$5:$J$138,10,FALSE)=\"YES\",VLOOKUP(A32,'2020-22 Comp Index Non-Res. AGI'!$A$5:$H$147,8,FALSE),VLOOKUP(A32,'2020-2022 Composite Index Data'!$A$5:$H$139,8,FALSE))","v":0.33360000000000001}]
[24,"CULPEPER",{"$f":"'true value analysis'!G33","v":0.11134448700976111},{"$f":"'true value analysis'!N33","v":0.10408849768285298},{"$f":"'true value analysis'!U33","v":8.1191044133382295E-2},{"$f":"'AGI analysis'!G33","v":0.19000739408321232},{"$f":"'AGI analysis'!N33","v":0.18223781313748541},{"$f":"'AGI analysis'!U33","v":0.15771963776698256},{"$f":"'taxable retail analysis'!G33","v":0.17389328174867888},{"$f":"'taxable retail analysis'!N33","v":0.16622891014935956},{"$f":"'taxable retail analysis'!U33","v":0.1420427399698517},null,{"$f":"VLOOKUP(A33,'Comp Index Comparison - Ranked'!$B$6:$E$140,4,FALSE)","v":0.35730000000000001},{"$f":"IF(VLOOKUP(A33,'2020-22 Comp Index Non-Res. AGI'!$A$5:$J$138,10,FALSE)=\"YES\",VLOOKUP(A33,'2020-22 Comp Index Non-Res. AGI'!$A$5:$H$147,8,FALSE),VLOOKUP(A33,'2020-2022 Composite Index Data'!$A$5:$H$139,8,FALSE))","v":0.37409999999999999}]
[25,"CUMBERLAND",{"$f":"'true value analysis'!G34","v":9.1624674097282338E-2},{"$f":"'true value analysis'!N34","v":0.13519663237548446},{"$f":"'true value analysis'!U34","v":0.10579442952618938},{"$f":"'AGI analysis'!G34","v":0.16160244060749679},{"$f":"'AGI analysis'!N34","v":0.20796754601321898},{"$f":"'AGI analysis'!U34","v":0.17668053739258541},{"$f":"'taxable retail analysis'!G34","v":4.9932018370861871E-2},{"$f":"'taxable retail analysis'!N34","v":9.1839823484587954E-2},{"$f":"'taxable retail analysis'!U34","v":6.3560585286131108E-2},null,{"$f":"VLOOKUP(A34,'Comp Index Comparison - Ranked'!$B$6:$E$140,4,FALSE)","v":0.28100000000000003},{"$f":"IF(VLOOKUP(A34,'2020-22 Comp Index Non-Res. AGI'!$A$5:$J$138,10,FALSE)=\"YES\",VLOOKUP(A34,'2020-22 Comp Index Non-Res. AGI'!$A$5:$H$147,8,FALSE),VLOOKUP(A34,'2020-2022 Composite Index Data'!$A$5:$H$139,8,FALSE))","v":0.29780000000000001}]
[26,"DICKENSON",{"$f":"'true value analysis'!G35","v":-3.2065622004553748E-2},{"$f":"'true value analysis'!N35","v":5.703531094107242E-2},{"$f":"'true value analysis'!U35","v":1.1248155841993521E-2},{"$f":"'AGI analysis'!G35","v":-1.9062423519398072E-2},{"$f":"'AGI analysis'!N35","v":7.123548841844439E-2},{"$f":"'AGI analysis'!U35","v":2.4833230189071822E-2},{"$f":"'taxable retail analysis'!G35","v":-3.1970525009523354E-2},{"$f":"'taxable retail analysis'!N35","v":5.7139161867330049E-2},{"$f":"'taxable retail analysis'!U35","v":1.1347508301247838E-2},null,{"$f":"VLOOKUP(A35,'Comp Index Comparison - Ranked'!$B$6:$E$140,4,FALSE)","v":0.247},{"$f":"IF(VLOOKUP(A35,'2020-22 Comp Index Non-Res. AGI'!$A$5:$J$138,10,FALSE)=\"YES\",VLOOKUP(A35,'2020-22 Comp Index Non-Res. AGI'!$A$5:$H$147,8,FALSE),VLOOKUP(A35,'2020-2022 Composite Index Data'!$A$5:$H$139,8,FALSE))","v":0.24709999999999999}]
[27,"DINWIDDIE",{"$f":"'true value analysis'!G36","v":8.3663710413902137E-2},{"$f":"'true value analysis'!N36","v":0.10993806266805856},{"$f":"'true value analysis'!U36","v":9.3283602299330776E-2},{"$f":"'AGI analysis'!G36","v":9.1918702060810764E-2},{"$f":"'AGI analysis'!N36","v":0.11839320363832428},{"$f":"'AGI analysis'!U36","v":0.10161187510015748},{"$f":"'taxable retail analysis'!G36","v":4.0392426558095516E-2},{"$f":"'taxable retail analysis'!N36","v":6.5617629575647249E-2},{"$f":"'taxable retail analysis'!U36","v":4.9628190906137612E-2},null,{"$f":"VLOOKUP(A36,'Comp Index Comparison - Ranked'!$B$6:$E$140,4,FALSE)","v":0.27829999999999999},{"$f":"IF(VLOOKUP(A36,'2020-22 Comp Index Non-Res. AGI'!$A$5:$J$138,10,FALSE)=\"YES\",VLOOKUP(A36,'2020-22 Comp Index Non-Res. AGI'!$A$5:$H$147,8,FALSE),VLOOKUP(A36,'2020-2022 Composite Index Data'!$A$5:$H$139,8,FALSE))","v":0.28789999999999999}]
[28,"ESSEX",{"$f":"'true value analysis'!G37","v":0.1290980318011905},{"$f":"'true value analysis'!N37","v":0.20287931426888656},{"$f":"'true value analysis'!U37","v":0.13964449450459573},{"$f":"'AGI analysis'!G37","v":1.0484094504192146E-2},{"$f":"'AGI analysis'!N37","v":7.6514510204053449E-2},{"$f":"'AGI analysis'!U37","v":1.9922630853486941E-2},{"$f":"'taxable retail analysis'!G37","v":5.639950282415216E-2},{"$f":"'taxable retail analysis'!N37","v":0.12543027599117715},{"$f":"'taxable retail analysis'!U37","v":6.6266917027910766E-2},null,{"$f":"VLOOKUP(A37,'Comp Index Comparison - Ranked'!$B$6:$E$140,4,FALSE)","v":0.42980000000000002},{"$f":"IF(VLOOKUP(A37,'2020-22 Comp Index Non-Res. AGI'!$A$5:$J$138,10,FALSE)=\"YES\",VLOOKUP(A37,'2020-22 Comp Index Non-Res. AGI'!$A$5:$H$147,8,FALSE),VLOOKUP(A37,'2020-2022 Composite Index Data'!$A$5:$H$139,8,FALSE))","v":0.46360000000000001}]
[29,"FAIRFAX COUNTY",{"$f":"'true value analysis'!G38","v":5.4548660035231775E-2},{"$f":"'true value analysis'!N38","v":4.3372683633742456E-2},{"$f":"'true value analysis'!U38","v":4.154559508075123E-2},{"$f":"'AGI analysis'!G38","v":8.9444010662366152E-2},{"$f":"'AGI analysis'!N38","v":7.7898217646518372E-2},{"$f":"'AGI analysis'!U38","v":7.6010670152086332E-2},{"$f":"'taxable retail analysis'!G38","v":-5.3040190694342414E-3},{"$f":"'taxable retail analysis'!N38","v":-1.5845684173029267E-2},{"$f":"'taxable retail analysis'!U38","v":-1.7569073248696804E-2},null,{"$f":"VLOOKUP(A38,'Comp Index Comparison - Ranked'!$B$6:$E$140,4,FALSE)","v":0.6754},{"$f":"IF(VLOOKUP(A38,'2020-22 Comp Index Non-Res. AGI'!$A$5:$J$138,10,FALSE)=\"YES\",VLOOKUP(A38,'2020-22 Comp Index Non-Res. AGI'!$A$5:$H$147,8,FALSE),VLOOKUP(A38,'2020-2022 Composite Index Data'!$A$5:$H$139,8,FALSE))","v":0.65410000000000001}]
[30,"FAUQUIER",{"$f":"'true value analysis'!G39","v":5.8793374825056588E-2},{"$f":"'true value analysis'!N39","v":5.3848917129714534E-2},{"$f":"'true value analysis'!U39","v":4.0405692840193533E-2},{"$f":"'AGI analysis'!G39","v":0.12236416597526818},{"$f":"'AGI analysis'!N39","v":0.11712283913153949},{"$f":"'AGI analysis'!U39","v":0.10287247302944742},{"$f":"'taxable retail analysis'!G39","v":0.1573435531552683},{"$f":"'taxable retail analysis'!N39","v":0.15193887612043283},{"$f":"'taxable retail analysis'!U39","v":0.13724438583079707},null,{"$f":"VLOOKUP(A39,'Comp Index Comparison - Ranked'!$B$6:$E$140,4,FALSE)","v":0.61140000000000005},{"$f":"IF(VLOOKUP(A39,'2020-22 Comp Index Non-Res. AGI'!$A$5:$J$138,10,FALSE)=\"YES\",VLOOKUP(A39,'2020-22 Comp Index Non-Res. AGI'!$A$5:$H$147,8,FALSE),VLOOKUP(A39,'2020-2022 Composite Index Data'!$A$5:$H$139,8,FALSE))","v":0.58789999999999998}]
[31,"FLOYD",{"$f":"'true value analysis'!G40","v":8.8507676607058966E-2},{"$f":"'true value analysis'!N40","v":9.9810579794321702E-2},{"$f":"'true value analysis'!U40","v":8.0107617366361489E-2},{"$f":"'AGI analysis'!G40","v":8.9186211520796754E-2},{"$f":"'AGI analysis'!N40","v":0.10049616051453739},{"$f":"'AGI analysis'!U40","v":8.0780915997806596E-2},{"$f":"'taxable retail analysis'!G40","v":4.1928114489855707E-2},{"$f":"'taxable retail analysis'!N40","v":5.2747342373369567E-2},{"$f":"'taxable retail analysis'!U40","v":3.3887511677072268E-2},null,{"$f":"VLOOKUP(A40,'Comp Index Comparison - Ranked'!$B$6:$E$140,4,FALSE)","v":0.3337},{"$f":"IF(VLOOKUP(A40,'2020-22 Comp Index Non-Res. AGI'!$A$5:$J$138,10,FALSE)=\"YES\",VLOOKUP(A40,'2020-22 Comp Index Non-Res. AGI'!$A$5:$H$147,8,FALSE),VLOOKUP(A40,'2020-2022 Composite Index Data'!$A$5:$H$139,8,FALSE))","v":0.34179999999999999}]
[32,"FLUVANNA",{"$f":"'true value analysis'!G41","v":4.7439373168358279E-2},{"$f":"'true value analysis'!N41","v":4.0171417877391424E-2},{"$f":"'true value analysis'!U41","v":3.5368907727758622E-2},{"$f":"'AGI analysis'!G41","v":0.17450553792126022},{"$f":"'AGI analysis'!N41","v":0.16635589799242728},{"$f":"'AGI analysis'!U41","v":0.16097078940174592},{"$f":"'taxable retail analysis'!G41","v":0.13217208386657911},{"$f":"'taxable retail analysis'!N41","v":0.12431618662039019},{"$f":"'taxable retail analysis'!U41","v":0.11912517694175555},null,{"$f":"VLOOKUP(A41,'Comp Index Comparison - Ranked'!$B$6:$E$140,4,FALSE)","v":0.39119999999999999},{"$f":"IF(VLOOKUP(A41,'2020-22 Comp Index Non-Res. AGI'!$A$5:$J$138,10,FALSE)=\"YES\",VLOOKUP(A41,'2020-22 Comp Index Non-Res. AGI'!$A$5:$H$147,8,FALSE),VLOOKUP(A41,'2020-2022 Composite Index Data'!$A$5:$H$139,8,FALSE))","v":0.39400000000000002}]
[33,"FRANKLIN COUNTY",{"$f":"'true value analysis'!G42","v":3.5996813355842594E-2},{"$f":"'true value analysis'!N42","v":5.0073542505523871E-2},{"$f":"'true value analysis'!U42","v":3.5005376137468111E-2},{"$f":"'AGI analysis'!G42","v":0.11831915235436312},{"$f":"'AGI analysis'!N42","v":0.13351444601516158},{"$f":"'AGI analysis'!U42","v":0.11724893358981535},{"$f":"'taxable retail analysis'!G42","v":4.9635384277707841E-2},{"$f":"'taxable retail analysis'!N42","v":6.3897429121781882E-2},{"$f":"'taxable retail analysis'!U42","v":4.863089510140936E-2},null,{"$f":"VLOOKUP(A42,'Comp Index Comparison - Ranked'!$B$6:$E$140,4,FALSE)","v":0.39539999999999997},{"$f":"IF(VLOOKUP(A42,'2020-22 Comp Index Non-Res. AGI'!$A$5:$J$138,10,FALSE)=\"YES\",VLOOKUP(A42,'2020-22 Comp Index Non-Res. AGI'!$A$5:$H$147,8,FALSE),VLOOKUP(A42,'2020-2022 Composite Index Data'!$A$5:$H$139,8,FALSE))","v":0.39529999999999998}]
[34,"FREDERICK",{"$f":"'true value analysis'!G43","v":0.19607909386183964},{"$f":"'true value analysis'!N43","v":0.16900846253036522},{"$f":"'true value analysis'!U43","v":0.15152229051674165},{"$f":"'AGI analysis'!G43","v":0.19329858481922696},{"$f":"'AGI analysis'!N43","v":0.16629088422167532},{"$f":"'AGI analysis'!U43","v":0.14884536207782553},{"$f":"'taxable retail analysis'!G43","v":7.7573145566641605E-2},{"$f":"'taxable retail analysis'!N43","v":5.3184636891895669E-2},{"$f":"'taxable retail analysis'!U43","v":3.7430971873137146E-2},null,{"$f":"VLOOKUP(A43,'Comp Index Comparison - Ranked'!$B$6:$E$140,4,FALSE)","v":0.38979999999999998},{"$f":"IF(VLOOKUP(A43,'2020-22 Comp Index Non-Res. AGI'!$A$5:$J$138,10,FALSE)=\"YES\",VLOOKUP(A43,'2020-22 Comp Index Non-Res. AGI'!$A$5:$H$147,8,FALSE),VLOOKUP(A43,'2020-2022 Composite Index Data'!$A$5:$H$139,8,FALSE))","v":0.41199999999999998}]
[35,"GILES",{"$f":"'true value analysis'!G44","v":4.3748691109681645E-2},{"$f":"'true value analysis'!N44","v":4.5651035698349128E-2},{"$f":"'true value analysis'!U44","v":5.146066759943823E-2},{"$f":"'AGI analysis'!G44","v":6.0623532589049713E-2},{"$f":"'AGI analysis'!N44","v":6.2556633396763567E-2},{"$f":"'AGI analysis'!U44","v":6.846019271373284E-2},{"$f":"'taxable retail analysis'!G44","v":-0.11920827839234638},{"$f":"'taxable retail analysis'!N44","v":-0.11760294046031786},{"$f":"'taxable retail analysis'!U44","v":-0.11270034683059395},null,{"$f":"VLOOKUP(A44,'Comp Index Comparison - Ranked'!$B$6:$E$140,4,FALSE)","v":0.27789999999999998},{"$f":"IF(VLOOKUP(A44,'2020-22 Comp Index Non-Res. AGI'!$A$5:$J$138,10,FALSE)=\"YES\",VLOOKUP(A44,'2020-22 Comp Index Non-Res. AGI'!$A$5:$H$147,8,FALSE),VLOOKUP(A44,'2020-2022 Composite Index Data'!$A$5:$H$139,8,FALSE))","v":0.26950000000000002}]
[36,"GLOUCESTER",{"$f":"'true value analysis'!G45","v":3.798669303247796E-2},{"$f":"'true value analysis'!N45","v":5.9847544179269074E-2},{"$f":"'true value analysis'!U45","v":3.5277857464554523E-2},{"$f":"'AGI analysis'!G45","v":0.14129772832192813},{"$f":"'AGI analysis'!N45","v":0.16533439461109395},{"$f":"'AGI analysis'!U45","v":0.13831928177649436},{"$f":"'taxable retail analysis'!G45","v":8.6682238693855634E-2},{"$f":"'taxable retail analysis'!N45","v":0.1095686579739964},{"$f":"'taxable retail analysis'!U45","v":8.3846322280895808E-2},null,{"$f":"VLOOKUP(A45,'Comp Index Comparison - Ranked'!$B$6:$E$140,4,FALSE)","v":0.3821},{"$f":"IF(VLOOKUP(A45,'2020-22 Comp Index Non-Res. AGI'!$A$5:$J$138,10,FALSE)=\"YES\",VLOOKUP(A45,'2020-22 Comp Index Non-Res. AGI'!$A$5:$H$147,8,FALSE),VLOOKUP(A45,'2020-2022 Composite Index Data'!$A$5:$H$139,8,FALSE))","v":0.38850000000000001}]
[37,"GOOCHLAND",{"$f":"'true value analysis'!G46","v":7.3645997444318087E-2},{"$f":"'true value analysis'!N46","v":5.0368092771429236E-2},{"$f":"'true value analysis'!U46","v":5.3407262059769804E-2},{"$f":"'AGI analysis'!G46","v":0.22748528046925418},{"$f":"'AGI analysis'!N46","v":0.20087195967808771},{"$f":"'AGI analysis'!U46","v":0.20434660176232447},{"$f":"'taxable retail analysis'!G46","v":0.13135724255122325},{"$f":"'taxable retail analysis'!N46","v":0.10682809038581803},{"$f":"'taxable retail analysis'!U46","v":0.11003062287221332},null,{"$f":"VLOOKUP(A46,'Comp Index Comparison - Ranked'!$B$6:$E$140,4,FALSE)","v":0.8},{"$f":"IF(VLOOKUP(A46,'2020-22 Comp Index Non-Res. AGI'!$A$5:$J$138,10,FALSE)=\"YES\",VLOOKUP(A46,'2020-22 Comp Index Non-Res. AGI'!$A$5:$H$147,8,FALSE),VLOOKUP(A46,'2020-2022 Composite Index Data'!$A$5:$H$139,8,FALSE))","v":0.8}]
[38,"GRAYSON",{"$f":"'true value analysis'!G47","v":9.3997792573393704E-2},{"$f":"'true value analysis'!N47","v":0.17009959419595555},{"$f":"'true value analysis'!U47","v":0.1231822381216532},{"$f":"'AGI analysis'!G47","v":0.12362420202838303},{"$f":"'AGI analysis'!N47","v":0.20178690647034536},{"$f":"'AGI analysis'!U47","v":0.15359898768463831},{"$f":"'taxable retail analysis'!G47","v":2.4299229852416188E-2},{"$f":"'taxable retail analysis'!N47","v":9.5552588242663702E-2},{"$f":"'taxable retail analysis'!U47","v":5.1624335352340227E-2},null,{"$f":"VLOOKUP(A47,'Comp Index Comparison - Ranked'!$B$6:$E$140,4,FALSE)","v":0.34620000000000001},{"$f":"IF(VLOOKUP(A47,'2020-22 Comp Index Non-Res. AGI'!$A$5:$J$138,10,FALSE)=\"YES\",VLOOKUP(A47,'2020-22 Comp Index Non-Res. AGI'!$A$5:$H$147,8,FALSE),VLOOKUP(A47,'2020-2022 Composite Index Data'!$A$5:$H$139,8,FALSE))","v":0.36149999999999999}]
[39,"GREENE",{"$f":"'true value analysis'!G48","v":5.991283899742008E-2},{"$f":"'true value analysis'!N48","v":9.0928923040206319E-2},{"$f":"'true value analysis'!U48","v":5.2222703312925368E-2},{"$f":"'AGI analysis'!G48","v":0.17498049489674297},{"$f":"'AGI analysis'!N48","v":0.20936378797282645},{"$f":"'AGI analysis'!U48","v":0.16645549255698672},{"$f":"'taxable retail analysis'!G48","v":6.6555016411941947E-2},{"$f":"'taxable retail analysis'!N48","v":9.7765469581448897E-2},{"$f":"'taxable retail analysis'!U48","v":5.8816688797244332E-2},null,{"$f":"VLOOKUP(A48,'Comp Index Comparison - Ranked'!$B$6:$E$140,4,FALSE)","v":0.33210000000000001},{"$f":"IF(VLOOKUP(A48,'2020-22 Comp Index Non-Res. AGI'!$A$5:$J$138,10,FALSE)=\"YES\",VLOOKUP(A48,'2020-22 Comp Index Non-Res. AGI'!$A$5:$H$147,8,FALSE),VLOOKUP(A48,'2020-2022 Composite Index Data'!$A$5:$H$139,8,FALSE))","v":0.34460000000000002}]
[40,"GREENSVILLE",{"$f":"'true value analysis'!G49","v":0.32461302984246632},{"$f":"'true value analysis'!N49","v":0.52206796833308378},{"$f":"'true value analysis'!U49","v":0.35222106756555149},{"$f":"'AGI analysis'!G49","v":0.12222002332835287},{"$f":"'AGI analysis'!N49","v":0.2895050195401086},{"$f":"'AGI analysis'!U49","v":0.14560971680081949},{"$f":"'taxable retail analysis'!G49","v":0.12695952305607763},{"$f":"'taxable retail analysis'!N49","v":0.29495101815175684},{"$f":"'taxable retail analysis'!U49","v":0.15044799880255472},null,{"$f":"VLOOKUP(A49,'Comp Index Comparison - Ranked'!$B$6:$E$140,4,FALSE)","v":0.21890000000000001},{"$f":"IF(VLOOKUP(A49,'2020-22 Comp Index Non-Res. AGI'!$A$5:$J$138,10,FALSE)=\"YES\",VLOOKUP(A49,'2020-22 Comp Index Non-Res. AGI'!$A$5:$H$147,8,FALSE),VLOOKUP(A49,'2020-2022 Composite Index Data'!$A$5:$H$139,8,FALSE))","v":0.27989999999999998}]
[41,"HALIFAX",{"$f":"'true value analysis'!G50","v":3.1162456591614877E-2},{"$f":"'true value analysis'!N50","v":0.10045611951897886},{"$f":"'true value analysis'!U50","v":4.7296788938114467E-2},{"$f":"'AGI analysis'!G50","v":6.2208875798285788E-2},{"$f":"'AGI analysis'!N50","v":0.13358884442254229},{"$f":"'AGI analysis'!U50","v":7.8828983438917824E-2},{"$f":"'taxable retail analysis'!G50","v":-3.1568286093757586E-2},{"$f":"'taxable retail analysis'!N50","v":3.3509898553693677E-2},{"$f":"'taxable retail analysis'!U50","v":-1.6415485458734523E-2},null,{"$f":"VLOOKUP(A50,'Comp Index Comparison - Ranked'!$B$6:$E$140,4,FALSE)","v":0.3},{"$f":"IF(VLOOKUP(A50,'2020-22 Comp Index Non-Res. AGI'!$A$5:$J$138,10,FALSE)=\"YES\",VLOOKUP(A50,'2020-22 Comp Index Non-Res. AGI'!$A$5:$H$147,8,FALSE),VLOOKUP(A50,'2020-2022 Composite Index Data'!$A$5:$H$139,8,FALSE))","v":0.30580000000000002}]
[42,"HANOVER",{"$f":"'true value analysis'!G51","v":9.7968214500428169E-2},{"$f":"'true value analysis'!N51","v":0.10669853477063096},{"$f":"'true value analysis'!U51","v":7.358841734273143E-2},{"$f":"'AGI analysis'!G51","v":0.19322649567784042},{"$f":"'AGI analysis'!N51","v":0.20271424707590713},{"$f":"'AGI analysis'!U51","v":0.16673153931787738},{"$f":"'taxable retail analysis'!G51","v":6.8371748725433668E-2},{"$f":"'taxable retail analysis'!N51","v":7.6866737387972991E-2},{"$f":"'taxable retail analysis'!U51","v":4.4649125266073071E-2},null,{"$f":"VLOOKUP(A51,'Comp Index Comparison - Ranked'!$B$6:$E$140,4,FALSE)","v":0.44679999999999997},{"$f":"IF(VLOOKUP(A51,'2020-22 Comp Index Non-Res. AGI'!$A$5:$J$138,10,FALSE)=\"YES\",VLOOKUP(A51,'2020-22 Comp Index Non-Res. AGI'!$A$5:$H$147,8,FALSE),VLOOKUP(A51,'2020-2022 Composite Index Data'!$A$5:$H$139,8,FALSE))","v":0.46260000000000001}]
[43,"HENRICO",{"$f":"'true value analysis'!G52","v":0.10845593440360991},{"$f":"'true value analysis'!N52","v":0.1090052711356278},{"$f":"'true value analysis'!U52","v":9.5888228592063793E-2},{"$f":"'AGI analysis'!G52","v":0.14751888161392906},{"$f":"'AGI analysis'!N52","v":0.14808757744818782},{"$f":"'AGI analysis'!U52","v":0.13450827896414713},{"$f":"'taxable retail analysis'!G52","v":4.1619519312305744E-2},{"$f":"'taxable retail analysis'!N52","v":4.2135732762913547E-2},{"$f":"'taxable retail analysis'!U52","v":2.9809606730328026E-2},null,{"$f":"VLOOKUP(A52,'Comp Index Comparison - Ranked'!$B$6:$E$140,4,FALSE)","v":0.41830000000000001},{"$f":"IF(VLOOKUP(A52,'2020-22 Comp Index Non-Res. AGI'!$A$5:$J$138,10,FALSE)=\"YES\",VLOOKUP(A52,'2020-22 Comp Index Non-Res. AGI'!$A$5:$H$147,8,FALSE),VLOOKUP(A52,'2020-2022 Composite Index Data'!$A$5:$H$139,8,FALSE))","v":0.4279}]
[44,"HENRY",{"$f":"'true value analysis'!G53","v":3.6574319587946394E-2},{"$f":"'true value analysis'!N53","v":3.6487511958297227E-2},{"$f":"'true value analysis'!U53","v":5.3466641833083334E-2},{"$f":"'AGI analysis'!G53","v":0.12030983168400039},{"$f":"'AGI analysis'!N53","v":0.12021601164705423},{"$f":"'AGI analysis'!U53","v":0.13856673264477684},{"$f":"'taxable retail analysis'!G53","v":-1.7657015617480093E-2},{"$f":"'taxable retail analysis'!N53","v":-1.7739281658964406E-2},{"$f":"'taxable retail analysis'!U53","v":-1.6484632793946233E-3},null,{"$f":"VLOOKUP(A53,'Comp Index Comparison - Ranked'!$B$6:$E$140,4,FALSE)","v":0.2253},{"$f":"IF(VLOOKUP(A53,'2020-22 Comp Index Non-Res. AGI'!$A$5:$J$138,10,FALSE)=\"YES\",VLOOKUP(A53,'2020-22 Comp Index Non-Res. AGI'!$A$5:$H$147,8,FALSE),VLOOKUP(A53,'2020-2022 Composite Index Data'!$A$5:$H$139,8,FALSE))","v":0.2253}]
[45,"HIGHLAND",{"$f":"'true value analysis'!G54","v":-2.4032075209824345E-2},{"$f":"'true value analysis'!N54","v":-2.3020866667328214E-2},{"$f":"'true value analysis'!U54","v":-2.7023220338340787E-2},{"$f":"'AGI analysis'!G54","v":3.0529977993283716E-2},{"$f":"'AGI analysis'!N54","v":3.1597718736166361E-2},{"$f":"'AGI analysis'!U54","v":2.7371611160554678E-2},{"$f":"'taxable retail analysis'!G54","v":-3.7348879690639616E-2},{"$f":"'taxable retail analysis'!N54","v":-3.6351468800820137E-2},{"$f":"'taxable retail analysis'!U54","v":-4.0299211495440725E-2},null,{"$f":"VLOOKUP(A54,'Comp Index Comparison - Ranked'!$B$6:$E$140,4,FALSE)","v":0.8},{"$f":"IF(VLOOKUP(A54,'2020-22 Comp Index Non-Res. AGI'!$A$5:$J$138,10,FALSE)=\"YES\",VLOOKUP(A54,'2020-22 Comp Index Non-Res. AGI'!$A$5:$H$147,8,FALSE),VLOOKUP(A54,'2020-2022 Composite Index Data'!$A$5:$H$139,8,FALSE))","v":0.8}]
[46,"ISLE OF WIGHT",{"$f":"'true value analysis'!G55","v":7.1074995931673782E-2},{"$f":"'true value analysis'!N55","v":6.6283548977068368E-2},{"$f":"'true value analysis'!U55","v":4.5397656276171913E-2},{"$f":"'AGI analysis'!G55","v":9.6051635725784124E-2},{"$f":"'AGI analysis'!N55","v":9.114845593721993E-2},{"$f":"'AGI analysis'!U55","v":6.9775520386149467E-2},{"$f":"'taxable retail analysis'!G55","v":7.4856627313898666E-2},{"$f":"'taxable retail analysis'!N55","v":7.0048263256159829E-2},{"$f":"'taxable retail analysis'!U55","v":4.9088628989468815E-2},null,{"$f":"VLOOKUP(A55,'Comp Index Comparison - Ranked'!$B$6:$E$140,4,FALSE)","v":0.39679999999999999},{"$f":"IF(VLOOKUP(A55,'2020-22 Comp Index Non-Res. AGI'!$A$5:$J$138,10,FALSE)=\"YES\",VLOOKUP(A55,'2020-22 Comp Index Non-Res. AGI'!$A$5:$H$147,8,FALSE),VLOOKUP(A55,'2020-2022 Composite Index Data'!$A$5:$H$139,8,FALSE))","v":0.39639999999999997}]
[47,"JAMES CITY",{"$f":"'true value analysis'!G56","v":4.2963237648594277E-2},{"$f":"'true value analysis'!N56","v":2.8527296323551981E-2},{"$f":"'true value analysis'!U56","v":2.3464032019795723E-2},{"$f":"'AGI analysis'!G56","v":0.18555541087731586},{"$f":"'AGI analysis'!N56","v":0.16914581202357581},{"$f":"'AGI analysis'!U56","v":0.16339030677148875},{"$f":"'taxable retail analysis'!G56","v":-2.0258758694204428E-2},{"$f":"'taxable retail analysis'!N56","v":-3.3819626961336932E-2},{"$f":"'taxable retail analysis'!U56","v":-3.8575968004771581E-2},null,{"$f":"VLOOKUP(A56,'Comp Index Comparison - Ranked'!$B$6:$E$140,4,FALSE)","v":0.56569999999999998},{"$f":"IF(VLOOKUP(A56,'2020-22 Comp Index Non-Res. AGI'!$A$5:$J$138,10,FALSE)=\"YES\",VLOOKUP(A56,'2020-22 Comp Index Non-Res. AGI'!$A$5:$H$147,8,FALSE),VLOOKUP(A56,'2020-2022 Composite Index Data'!$A$5:$H$139,8,FALSE))","v":0.55530000000000002}]
[48,"KING GEORGE",{"$f":"'true value analysis'!G57","v":8.8444345602094895E-2},{"$f":"'true value analysis'!N57","v":5.262971825112598E-2},{"$f":"'true value analysis'!U57","v":5.4951771081184125E-2},{"$f":"'AGI analysis'!G57","v":0.16683186354137486},{"$f":"'AGI analysis'!N57","v":0.12843794056054103},{"$f":"'AGI analysis'!U57","v":0.1309272228485017},{"$f":"'taxable retail analysis'!G57","v":7.3289306743302474E-2},{"$f":"'taxable retail analysis'!N57","v":3.7973347120647163E-2},{"$f":"'taxable retail analysis'!U57","v":4.0263068668895702E-2},null,{"$f":"VLOOKUP(A57,'Comp Index Comparison - Ranked'!$B$6:$E$140,4,FALSE)","v":0.37209999999999999},{"$f":"IF(VLOOKUP(A57,'2020-22 Comp Index Non-Res. AGI'!$A$5:$J$138,10,FALSE)=\"YES\",VLOOKUP(A57,'2020-22 Comp Index Non-Res. AGI'!$A$5:$H$147,8,FALSE),VLOOKUP(A57,'2020-2022 Composite Index Data'!$A$5:$H$139,8,FALSE))","v":0.37030000000000002}]
[49,"KING AND QUEEN",{"$f":"'true value analysis'!G58","v":4.1401691182869654E-2},{"$f":"'true value analysis'!N58","v":9.549208424792914E-2},{"$f":"'true value analysis'!U58","v":7.9694038875967294E-2},{"$f":"'AGI analysis'!G58","v":0.10867992767035793},{"$f":"'AGI analysis'!N58","v":0.16626475164247584},{"$f":"'AGI analysis'!U58","v":0.14944609660416341},{"$f":"'taxable retail analysis'!G58","v":9.3865232488593658E-2},{"$f":"'taxable retail analysis'!N58","v":0.15068058134625267},{"$f":"'taxable retail analysis'!U58","v":0.13408666497375465},null,{"$f":"VLOOKUP(A58,'Comp Index Comparison - Ranked'!$B$6:$E$140,4,FALSE)","v":0.39450000000000002},{"$f":"IF(VLOOKUP(A58,'2020-22 Comp Index Non-Res. AGI'!$A$5:$J$138,10,FALSE)=\"YES\",VLOOKUP(A58,'2020-22 Comp Index Non-Res. AGI'!$A$5:$H$147,8,FALSE),VLOOKUP(A58,'2020-2022 Composite Index Data'!$A$5:$H$139,8,FALSE))","v":0.41389999999999999}]
[50,"KING WILLIAM",{"$f":"'true value analysis'!G59","v":0.10722341272738123},{"$f":"'true value analysis'!N59","v":0.12706397072081588},{"$f":"'true value analysis'!U59","v":7.4457450235674183E-2},{"$f":"'AGI analysis'!G59","v":0.19417893206476677},{"$f":"'AGI analysis'!N59","v":0.21557766341728263},{"$f":"'AGI analysis'!U59","v":0.15883970273973161},{"$f":"'taxable retail analysis'!G59","v":2.7843315579427676E-2},{"$f":"'taxable retail analysis'!N59","v":4.6261445720556703E-2},{"$f":"'taxable retail analysis'!U59","v":-2.5735588638873129E-3},null,{"$f":"VLOOKUP(A59,'Comp Index Comparison - Ranked'!$B$6:$E$140,4,FALSE)","v":0.32829999999999998},{"$f":"IF(VLOOKUP(A59,'2020-22 Comp Index Non-Res. AGI'!$A$5:$J$138,10,FALSE)=\"YES\",VLOOKUP(A59,'2020-22 Comp Index Non-Res. AGI'!$A$5:$H$147,8,FALSE),VLOOKUP(A59,'2020-2022 Composite Index Data'!$A$5:$H$139,8,FALSE))","v":0.3407}]
[51,"LANCASTER",{"$f":"'true value analysis'!G60","v":-3.331857233380944E-3},{"$f":"'true value analysis'!N60","v":6.2080646686122662E-2},{"$f":"'true value analysis'!U60","v":7.9097671501651284E-3},{"$f":"'AGI analysis'!G60","v":0.14435758841766},{"$f":"'AGI analysis'!N60","v":0.21946312457927086},{"$f":"'AGI analysis'!U60","v":0.15726503234753422},{"$f":"'taxable retail analysis'!G60","v":4.9904793114762099E-2},{"$f":"'taxable retail analysis'!N60","v":0.11881128108987399},{"$f":"'taxable retail analysis'!U60","v":6.1746884595601743E-2},null,{"$f":"VLOOKUP(A60,'Comp Index Comparison - Ranked'!$B$6:$E$140,4,FALSE)","v":0.77180000000000004},{"$f":"IF(VLOOKUP(A60,'2020-22 Comp Index Non-Res. AGI'!$A$5:$J$138,10,FALSE)=\"YES\",VLOOKUP(A60,'2020-22 Comp Index Non-Res. AGI'!$A$5:$H$147,8,FALSE),VLOOKUP(A60,'2020-2022 Composite Index Data'!$A$5:$H$139,8,FALSE))","v":0.78349999999999997}]
[52,"LEE",{"$f":"'true value analysis'!G61","v":-1.3939993867640487E-2},{"$f":"'true value analysis'!N61","v":-1.0697756385712145E-2},{"$f":"'true value analysis'!U61","v":1.9207941321884733E-2},{"$f":"'AGI analysis'!G61","v":4.582198060913404E-2},{"$f":"'AGI analysis'!N61","v":4.9260719837850166E-2},{"$f":"'AGI analysis'!U61","v":8.0978907182991264E-2},{"$f":"'taxable retail analysis'!G61","v":-6.8607633968816112E-2},{"$f":"'taxable retail analysis'!N61","v":-6.5545147689332145E-2},{"$f":"'taxable retail analysis'!U61","v":-3.7297436218968388E-2},null,{"$f":"VLOOKUP(A61,'Comp Index Comparison - Ranked'!$B$6:$E$140,4,FALSE)","v":0.1754},{"$f":"IF(VLOOKUP(A61,'2020-22 Comp Index Non-Res. AGI'!$A$5:$J$138,10,FALSE)=\"YES\",VLOOKUP(A61,'2020-22 Comp Index Non-Res. AGI'!$A$5:$H$147,8,FALSE),VLOOKUP(A61,'2020-2022 Composite Index Data'!$A$5:$H$139,8,FALSE))","v":0.16919999999999999}]
[53,"LOUDOUN",{"$f":"'true value analysis'!G62","v":0.14664529966507064},{"$f":"'true value analysis'!N62","v":7.9203583982165413E-2},{"$f":"'true value analysis'!U62","v":8.4062532456258388E-2},{"$f":"'AGI analysis'!G62","v":0.26763246232772342},{"$f":"'AGI analysis'!N62","v":0.19307469966153631},{"$f":"'AGI analysis'!U62","v":0.19844633535422809},{"$f":"'taxable retail analysis'!G62","v":6.7835409320951015E-2},{"$f":"'taxable retail analysis'!N62","v":5.0290191560080841E-3},{"$f":"'taxable retail analysis'!U62","v":9.5540080381132653E-3},null,{"$f":"VLOOKUP(A62,'Comp Index Comparison - Ranked'!$B$6:$E$140,4,FALSE)","v":0.5383},{"$f":"IF(VLOOKUP(A62,'2020-22 Comp Index Non-Res. AGI'!$A$5:$J$138,10,FALSE)=\"YES\",VLOOKUP(A62,'2020-22 Comp Index Non-Res. AGI'!$A$5:$H$147,8,FALSE),VLOOKUP(A62,'2020-2022 Composite Index Data'!$A$5:$H$139,8,FALSE))","v":0.54659999999999997}]
[54,"LOUISA",{"$f":"'true value analysis'!G63","v":2.7295328697006425E-2},{"$f":"'true value analysis'!N63","v":2.3761967356434831E-2},{"$f":"'true value analysis'!U63","v":4.1016479492018542E-3},{"$f":"'AGI analysis'!G63","v":0.20744016778300006},{"$f":"'AGI analysis'!N63","v":0.20328720194083172},{"$f":"'AGI analysis'!U63","v":0.18017928087800925},{"$f":"'taxable retail analysis'!G63","v":8.0608036810800365E-2},{"$f":"'taxable retail analysis'!N63","v":7.6891307497506264E-2},{"$f":"'taxable retail analysis'!U63","v":5.621069252316397E-2},null,{"$f":"VLOOKUP(A63,'Comp Index Comparison - Ranked'!$B$6:$E$140,4,FALSE)","v":0.5474},{"$f":"IF(VLOOKUP(A63,'2020-22 Comp Index Non-Res. AGI'!$A$5:$J$138,10,FALSE)=\"YES\",VLOOKUP(A63,'2020-22 Comp Index Non-Res. AGI'!$A$5:$H$147,8,FALSE),VLOOKUP(A63,'2020-2022 Composite Index Data'!$A$5:$H$139,8,FALSE))","v":0.54059999999999997}]
[55,"LUNENBURG",{"$f":"'true value analysis'!G64","v":2.2018208606857038E-2},{"$f":"'true value analysis'!N64","v":5.1702443430257365E-2},{"$f":"'true value analysis'!U64","v":2.6061393833866235E-2},{"$f":"'AGI analysis'!G64","v":0.12508618090095605},{"$f":"'AGI analysis'!N64","v":0.15776399633435378},{"$f":"'AGI analysis'!U64","v":0.12953711121454767},{"$f":"'taxable retail analysis'!G64","v":2.1269127078944485E-2},{"$f":"'taxable retail analysis'!N64","v":5.0931605037555977E-2},{"$f":"'taxable retail analysis'!U64","v":2.530934887991871E-2},null,{"$f":"VLOOKUP(A64,'Comp Index Comparison - Ranked'!$B$6:$E$140,4,FALSE)","v":0.2525},{"$f":"IF(VLOOKUP(A64,'2020-22 Comp Index Non-Res. AGI'!$A$5:$J$138,10,FALSE)=\"YES\",VLOOKUP(A64,'2020-22 Comp Index Non-Res. AGI'!$A$5:$H$147,8,FALSE),VLOOKUP(A64,'2020-2022 Composite Index Data'!$A$5:$H$139,8,FALSE))","v":0.25609999999999999}]
[56,"MADISON",{"$f":"'true value analysis'!G65","v":6.2281755548520203E-2},{"$f":"'true value analysis'!N65","v":8.593753774404958E-2},{"$f":"'true value analysis'!U65","v":5.4952897341172445E-2},{"$f":"'AGI analysis'!G65","v":0.12892175071573503},{"$f":"'AGI analysis'!N65","v":0.15406152828532854},{"$f":"'AGI analysis'!U65","v":0.12113313211716539},{"$f":"'taxable retail analysis'!G65","v":6.5590904384393037E-2},{"$f":"'taxable retail analysis'!N65","v":8.9320377485094388E-2},{"$f":"'taxable retail analysis'!U65","v":5.8239215809792563E-2},null,{"$f":"VLOOKUP(A65,'Comp Index Comparison - Ranked'!$B$6:$E$140,4,FALSE)","v":0.46079999999999999},{"$f":"IF(VLOOKUP(A65,'2020-22 Comp Index Non-Res. AGI'!$A$5:$J$138,10,FALSE)=\"YES\",VLOOKUP(A65,'2020-22 Comp Index Non-Res. AGI'!$A$5:$H$147,8,FALSE),VLOOKUP(A65,'2020-2022 Composite Index Data'!$A$5:$H$139,8,FALSE))","v":0.4738}]
[57,"MATHEWS",{"$f":"'true value analysis'!G66","v":8.8733545457521684E-2},{"$f":"'true value analysis'!N66","v":0.10930910551771399},{"$f":"'true value analysis'!U66","v":9.9556697105810638E-2},{"$f":"'AGI analysis'!G66","v":0.10290782564220323},{"$f":"'AGI analysis'!N66","v":0.12375126001789438},{"$f":"'AGI analysis'!U66","v":0.11387188447993647},{"$f":"'taxable retail analysis'!G66","v":-1.8130860896923107E-2},{"$f":"'taxable retail analysis'!N66","v":4.2510950295549692E-4},{"$f":"'taxable retail analysis'!U66","v":-8.3700533645146291E-3},null,{"$f":"VLOOKUP(A66,'Comp Index Comparison - Ranked'!$B$6:$E$140,4,FALSE)","v":0.50600000000000001},{"$f":"IF(VLOOKUP(A66,'2020-22 Comp Index Non-Res. AGI'!$A$5:$J$138,10,FALSE)=\"YES\",VLOOKUP(A66,'2020-22 Comp Index Non-Res. AGI'!$A$5:$H$147,8,FALSE),VLOOKUP(A66,'2020-2022 Composite Index Data'!$A$5:$H$139,8,FALSE))","v":0.51619999999999999}]
[58,"MECKLENBURG",{"$f":"'true value analysis'!G67","v":0.11378693106751901},{"$f":"'true value analysis'!N67","v":0.16794341381421532},{"$f":"'true value analysis'!U67","v":0.12604200733054455},{"$f":"'AGI analysis'!G67","v":6.700011445133866E-2},{"$f":"'AGI analysis'!N67","v":0.11888164733449295},{"$f":"'AGI analysis'!U67","v":7.8740392066847159E-2},{"$f":"'taxable retail analysis'!G67","v":9.9779268007067629E-3},{"$f":"'taxable retail analysis'!N67","v":5.9086827831626561E-2},{"$f":"'taxable retail analysis'!U67","v":2.1090785258339951E-2},null,{"$f":"VLOOKUP(A67,'Comp Index Comparison - Ranked'!$B$6:$E$140,4,FALSE)","v":0.37669999999999998},{"$f":"IF(VLOOKUP(A67,'2020-22 Comp Index Non-Res. AGI'!$A$5:$J$138,10,FALSE)=\"YES\",VLOOKUP(A67,'2020-22 Comp Index Non-Res. AGI'!$A$5:$H$147,8,FALSE),VLOOKUP(A67,'2020-2022 Composite Index Data'!$A$5:$H$139,8,FALSE))","v":0.39960000000000001}]
[59,"MIDDLESEX",{"$f":"'true value analysis'!G68","v":2.0371073753013138E-2},{"$f":"'true value analysis'!N68","v":1.9431238054649115E-2},{"$f":"'true value analysis'!U68","v":2.7603802192919982E-2},{"$f":"'AGI analysis'!G68","v":0.11782199476721353},{"$f":"'AGI analysis'!N68","v":0.11679239970898171},{"$f":"'AGI analysis'!U68","v":0.1257454876417903},{"$f":"'taxable retail analysis'!G68","v":4.5695399102446362E-2},{"$f":"'taxable retail analysis'!N68","v":4.4732237865351833E-2},{"$f":"'taxable retail analysis'!U68","v":5.3107634755844228E-2},null,{"$f":"VLOOKUP(A68,'Comp Index Comparison - Ranked'!$B$6:$E$140,4,FALSE)","v":0.61599999999999999},{"$f":"IF(VLOOKUP(A68,'2020-22 Comp Index Non-Res. AGI'!$A$5:$J$138,10,FALSE)=\"YES\",VLOOKUP(A68,'2020-22 Comp Index Non-Res. AGI'!$A$5:$H$147,8,FALSE),VLOOKUP(A68,'2020-2022 Composite Index Data'!$A$5:$H$139,8,FALSE))","v":0.6008}]
[60,"MONTGOMERY",{"$f":"'true value analysis'!G69","v":0.10639846152165344},{"$f":"'true value analysis'!N69","v":8.9293225240245716E-2},{"$f":"'true value analysis'!U69","v":9.9061750252755307E-2},{"$f":"'AGI analysis'!G69","v":0.1719349650641932},{"$f":"'AGI analysis'!N69","v":0.15381651571611984},{"$f":"'AGI analysis'!U69","v":0.1641636703962874},{"$f":"'taxable retail analysis'!G69","v":4.2128077310548233E-2},{"$f":"'taxable retail analysis'!N69","v":2.6016479529248238E-2},{"$f":"'taxable retail analysis'!U69","v":3.5217553593872047E-2},null,{"$f":"VLOOKUP(A69,'Comp Index Comparison - Ranked'!$B$6:$E$140,4,FALSE)","v":0.39200000000000002},{"$f":"IF(VLOOKUP(A69,'2020-22 Comp Index Non-Res. AGI'!$A$5:$J$138,10,FALSE)=\"YES\",VLOOKUP(A69,'2020-22 Comp Index Non-Res. AGI'!$A$5:$H$147,8,FALSE),VLOOKUP(A69,'2020-2022 Composite Index Data'!$A$5:$H$139,8,FALSE))","v":0.40050000000000002}]
[62,"NELSON",{"$f":"'true value analysis'!G70","v":6.3990685266651207E-2},{"$f":"'true value analysis'!N70","v":0.12422160751459983},{"$f":"'true value analysis'!U70","v":7.3658119814436845E-2},{"$f":"'AGI analysis'!G70","v":9.5776009984388927E-2},{"$f":"'AGI analysis'!N70","v":0.15780625195215256},{"$f":"'AGI analysis'!U70","v":0.10573224644608575},{"$f":"'taxable retail analysis'!G70","v":4.9512211313917927E-2},{"$f":"'taxable retail analysis'!N70","v":0.1089235287937125},{"$f":"'taxable retail analysis'!U70","v":5.9048094240784194E-2},null,{"$f":"VLOOKUP(A70,'Comp Index Comparison - Ranked'!$B$6:$E$140,4,FALSE)","v":0.53559999999999997},{"$f":"IF(VLOOKUP(A70,'2020-22 Comp Index Non-Res. AGI'!$A$5:$J$138,10,FALSE)=\"YES\",VLOOKUP(A70,'2020-22 Comp Index Non-Res. AGI'!$A$5:$H$147,8,FALSE),VLOOKUP(A70,'2020-2022 Composite Index Data'!$A$5:$H$139,8,FALSE))","v":0.56040000000000001}]
[63,"NEW KENT",{"$f":"'true value analysis'!G71","v":0.11348088018549576},{"$f":"'true value analysis'!N71","v":5.1863706985689657E-2},{"$f":"'true value analysis'!U71","v":4.9828488444273268E-2},{"$f":"'AGI analysis'!G71","v":0.19810526774636525},{"$f":"'AGI analysis'!N71","v":0.13180519820046563},{"$f":"'AGI analysis'!U71","v":0.12961530334113056},{"$f":"'taxable retail analysis'!G71","v":9.64684840862335E-2},{"$f":"'taxable retail analysis'!N71","v":3.5792733209563631E-2},{"$f":"'taxable retail analysis'!U71","v":3.3788609898061893E-2},null,{"$f":"VLOOKUP(A71,'Comp Index Comparison - Ranked'!$B$6:$E$140,4,FALSE)","v":0.41720000000000002},{"$f":"IF(VLOOKUP(A71,'2020-22 Comp Index Non-Res. AGI'!$A$5:$J$138,10,FALSE)=\"YES\",VLOOKUP(A71,'2020-22 Comp Index Non-Res. AGI'!$A$5:$H$147,8,FALSE),VLOOKUP(A71,'2020-2022 Composite Index Data'!$A$5:$H$139,8,FALSE))","v":0.41660000000000003}]
[65,"NORTHAMPTON",{"$f":"'true value analysis'!G72","v":-9.4296361009735003E-3},{"$f":"'true value analysis'!N72","v":1.109867395313068E-2},{"$f":"'true value analysis'!U72","v":5.09872923621208E-3},{"$f":"'AGI analysis'!G72","v":0.14389544993668582},{"$f":"'AGI analysis'!N72","v":0.16760122725607754},{"$f":"'AGI analysis'!U72","v":0.16067258320242378},{"$f":"'taxable retail analysis'!G72","v":0.11014627042743068},{"$f":"'taxable retail analysis'!N72","v":0.13315263895539611},{"$f":"'taxable retail analysis'!U72","v":0.12642841572703287},null,{"$f":"VLOOKUP(A72,'Comp Index Comparison - Ranked'!$B$6:$E$140,4,FALSE)","v":0.47460000000000002},{"$f":"IF(VLOOKUP(A72,'2020-22 Comp Index Non-Res. AGI'!$A$5:$J$138,10,FALSE)=\"YES\",VLOOKUP(A72,'2020-22 Comp Index Non-Res. AGI'!$A$5:$H$147,8,FALSE),VLOOKUP(A72,'2020-2022 Composite Index Data'!$A$5:$H$139,8,FALSE))","v":0.46960000000000002}]
[66,"NORTHUMBERLAND",{"$f":"'true value analysis'!G73","v":1.3132127820616346E-2},{"$f":"'true value analysis'!N73","v":6.3373110317030412E-2},{"$f":"'true value analysis'!U73","v":2.7169551312364641E-2},{"$f":"'AGI analysis'!G73","v":9.959356981657011E-2},{"$f":"'AGI analysis'!N73","v":0.1541221547634935},{"$f":"'AGI analysis'!U73","v":0.11482895736816454},{"$f":"'taxable retail analysis'!G73","v":-1.9049299873597238E-2},{"$f":"'taxable retail analysis'!N73","v":2.9595813238067828E-2},{"$f":"'taxable retail analysis'!U73","v":-5.4577652414632763E-3},null,{"$f":"VLOOKUP(A73,'Comp Index Comparison - Ranked'!$B$6:$E$140,4,FALSE)","v":0.71870000000000001},{"$f":"IF(VLOOKUP(A73,'2020-22 Comp Index Non-Res. AGI'!$A$5:$J$138,10,FALSE)=\"YES\",VLOOKUP(A73,'2020-22 Comp Index Non-Res. AGI'!$A$5:$H$147,8,FALSE),VLOOKUP(A73,'2020-2022 Composite Index Data'!$A$5:$H$139,8,FALSE))","v":0.71160000000000001}]
[67,"NOTTOWAY",{"$f":"'true value analysis'!G74","v":0.11444055870626847},{"$f":"'true value analysis'!N74","v":0.19115290000126597},{"$f":"'true value analysis'!U74","v":0.14369945882755661},{"$f":"'AGI analysis'!G74","v":5.6926631701641119E-2},{"$f":"'AGI analysis'!N74","v":0.1296800108401317},{"$f":"'AGI analysis'!U74","v":8.467554169140977E-2},{"$f":"'taxable retail analysis'!G74","v":0.10074957122817596},{"$f":"'taxable retail analysis'!N74","v":0.17651949554464538},{"$f":"'taxable retail analysis'!U74","v":0.12964902352422664},null,{"$f":"VLOOKUP(A74,'Comp Index Comparison - Ranked'!$B$6:$E$140,4,FALSE)","v":0.23849999999999999},{"$f":"IF(VLOOKUP(A74,'2020-22 Comp Index Non-Res. AGI'!$A$5:$J$138,10,FALSE)=\"YES\",VLOOKUP(A74,'2020-22 Comp Index Non-Res. AGI'!$A$5:$H$147,8,FALSE),VLOOKUP(A74,'2020-2022 Composite Index Data'!$A$5:$H$139,8,FALSE))","v":0.25969999999999999}]
[68,"ORANGE",{"$f":"'true value analysis'!G75","v":1.7814143871749559E-2},{"$f":"'true value analysis'!N75","v":3.812508637700289E-2},{"$f":"'true value analysis'!U75","v":2.895284140018196E-3},{"$f":"'AGI analysis'!G75","v":0.16777651830624632},{"$f":"'AGI analysis'!N75","v":0.19108002795495074},{"$f":"'AGI analysis'!U75","v":0.15065954839625048},{"$f":"'taxable retail analysis'!G75","v":0.17248488544432572},{"$f":"'taxable retail analysis'!N75","v":0.19588235269306051},{"$f":"'taxable retail analysis'!U75","v":0.15529890149151926},null,{"$f":"VLOOKUP(A75,'Comp Index Comparison - Ranked'!$B$6:$E$140,4,FALSE)","v":0.40250000000000002},{"$f":"IF(VLOOKUP(A75,'2020-22 Comp Index Non-Res. AGI'!$A$5:$J$138,10,FALSE)=\"YES\",VLOOKUP(A75,'2020-22 Comp Index Non-Res. AGI'!$A$5:$H$147,8,FALSE),VLOOKUP(A75,'2020-2022 Composite Index Data'!$A$5:$H$139,8,FALSE))","v":0.41049999999999998}]
[69,"PAGE",{"$f":"'true value analysis'!G76","v":0.13842305939649363},{"$f":"'true value analysis'!N76","v":0.15495036700208159},{"$f":"'true value analysis'!U76","v":0.14102077100466642},{"$f":"'AGI analysis'!G76","v":0.1385127667804856},{"$f":"'AGI analysis'!N76","v":0.15504137673278687},{"$f":"'AGI analysis'!U76","v":0.1411106830875275},{"$f":"'taxable retail analysis'!G76","v":5.3462120141483584E-2},{"$f":"'taxable retail analysis'!N76","v":6.875598859109415E-2},{"$f":"'taxable retail analysis'!U76","v":5.5865963559511789E-2},null,{"$f":"VLOOKUP(A76,'Comp Index Comparison - Ranked'!$B$6:$E$140,4,FALSE)","v":0.30070000000000002},{"$f":"IF(VLOOKUP(A76,'2020-22 Comp Index Non-Res. AGI'!$A$5:$J$138,10,FALSE)=\"YES\",VLOOKUP(A76,'2020-22 Comp Index Non-Res. AGI'!$A$5:$H$147,8,FALSE),VLOOKUP(A76,'2020-2022 Composite Index Data'!$A$5:$H$139,8,FALSE))","v":0.31979999999999997}]
[70,"PATRICK",{"$f":"'true value analysis'!G77","v":-7.2307200926398562E-3},{"$f":"'true value analysis'!N77","v":7.4016359765331635E-2},{"$f":"'true value analysis'!U77","v":2.1561250099876857E-2},{"$f":"'AGI analysis'!G77","v":0.12981743651970393},{"$f":"'AGI analysis'!N77","v":0.22228037765584652},{"$f":"'AGI analysis'!U77","v":0.16258403255931611},{"$f":"'taxable retail analysis'!G77","v":-8.1218777833186821E-3},{"$f":"'taxable retail analysis'!N77","v":7.3052270768732816E-2},{"$f":"'taxable retail analysis'!U77","v":2.0644247345107079E-2},null,{"$f":"VLOOKUP(A77,'Comp Index Comparison - Ranked'!$B$6:$E$140,4,FALSE)","v":0.23960000000000001},{"$f":"IF(VLOOKUP(A77,'2020-22 Comp Index Non-Res. AGI'!$A$5:$J$138,10,FALSE)=\"YES\",VLOOKUP(A77,'2020-22 Comp Index Non-Res. AGI'!$A$5:$H$147,8,FALSE),VLOOKUP(A77,'2020-2022 Composite Index Data'!$A$5:$H$139,8,FALSE))","v":0.24560000000000001}]
[71,"PITTSYLVANIA",{"$f":"'true value analysis'!G78","v":1.4715362119734697E-2},{"$f":"'true value analysis'!N78","v":4.2016244464198556E-2},{"$f":"'true value analysis'!U78","v":3.2490754285040453E-2},{"$f":"'AGI analysis'!G78","v":8.9126627935300629E-2},{"$f":"'AGI analysis'!N78","v":0.11842954285852611},{"$f":"'AGI analysis'!U78","v":0.10820552794208155},{"$f":"'taxable retail analysis'!G78","v":2.6548408801283729E-2},{"$f":"'taxable retail analysis'!N78","v":5.4167658864705474E-2},{"$f":"'taxable retail analysis'!U78","v":4.4531087712337998E-2},null,{"$f":"VLOOKUP(A78,'Comp Index Comparison - Ranked'!$B$6:$E$140,4,FALSE)","v":0.24429999999999999},{"$f":"IF(VLOOKUP(A78,'2020-22 Comp Index Non-Res. AGI'!$A$5:$J$138,10,FALSE)=\"YES\",VLOOKUP(A78,'2020-22 Comp Index Non-Res. AGI'!$A$5:$H$147,8,FALSE),VLOOKUP(A78,'2020-2022 Composite Index Data'!$A$5:$H$139,8,FALSE))","v":0.24460000000000001}]
[72,"POWHATAN",{"$f":"'true value analysis'!G79","v":9.9211459912079053E-2},{"$f":"'true value analysis'!N79","v":9.7919504916222741E-2},{"$f":"'true value analysis'!U79","v":7.1925267188484937E-2},{"$f":"'AGI analysis'!G79","v":0.23452252960226547},{"$f":"'AGI analysis'!N79","v":0.23307153713376946},{"$f":"'AGI analysis'!U79","v":0.20387745275141045},{"$f":"'taxable retail analysis'!G79","v":0.18702364220967677},{"$f":"'taxable retail analysis'!N79","v":0.18562847742047853},{"$f":"'taxable retail analysis'!U79","v":0.15755765040552794},null,{"$f":"VLOOKUP(A79,'Comp Index Comparison - Ranked'!$B$6:$E$140,4,FALSE)","v":0.43020000000000003},{"$f":"IF(VLOOKUP(A79,'2020-22 Comp Index Non-Res. AGI'!$A$5:$J$138,10,FALSE)=\"YES\",VLOOKUP(A79,'2020-22 Comp Index Non-Res. AGI'!$A$5:$H$147,8,FALSE),VLOOKUP(A79,'2020-2022 Composite Index Data'!$A$5:$H$139,8,FALSE))","v":0.45069999999999999}]
[73,"PRINCE EDWARD",{"$f":"'true value analysis'!G80","v":3.1279472564513015E-2},{"$f":"'true value analysis'!N80","v":3.5193395786457637E-2},{"$f":"'true value analysis'!U80","v":4.9397804597683836E-2},{"$f":"'AGI analysis'!G80","v":8.7106497988939963E-2},{"$f":"'AGI analysis'!N80","v":9.1232296553149933E-2},{"$f":"'AGI analysis'!U80","v":0.10620564328366879},{"$f":"'taxable retail analysis'!G80","v":1.1729612549598787E-2},{"$f":"'taxable retail analysis'!N80","v":1.5569339927319112E-2},{"$f":"'taxable retail analysis'!U80","v":2.9504477206199389E-2},null,{"$f":"VLOOKUP(A80,'Comp Index Comparison - Ranked'!$B$6:$E$140,4,FALSE)","v":0.35980000000000001},{"$f":"IF(VLOOKUP(A80,'2020-22 Comp Index Non-Res. AGI'!$A$5:$J$138,10,FALSE)=\"YES\",VLOOKUP(A80,'2020-22 Comp Index Non-Res. AGI'!$A$5:$H$147,8,FALSE),VLOOKUP(A80,'2020-2022 Composite Index Data'!$A$5:$H$139,8,FALSE))","v":0.35539999999999999}]
[74,"PRINCE GEORGE",{"$f":"'true value analysis'!G81","v":7.8032336443223202E-2},{"$f":"'true value analysis'!N81","v":9.606320397180125E-2},{"$f":"'true value analysis'!U81","v":8.1118668047895248E-2},{"$f":"'AGI analysis'!G81","v":9.5924553335097931E-2},{"$f":"'AGI analysis'!N81","v":0.11425468108219071},{"$f":"'AGI analysis'!U81","v":9.9062109112370622E-2},{"$f":"'taxable retail analysis'!G81","v":0.18318140146619963},{"$f":"'taxable retail analysis'!N81","v":0.20297096286516617},{"$f":"'taxable retail analysis'!U81","v":0.18656876753116705},null,{"$f":"VLOOKUP(A81,'Comp Index Comparison - Ranked'!$B$6:$E$140,4,FALSE)","v":0.23910000000000001},{"$f":"IF(VLOOKUP(A81,'2020-22 Comp Index Non-Res. AGI'!$A$5:$J$138,10,FALSE)=\"YES\",VLOOKUP(A81,'2020-22 Comp Index Non-Res. AGI'!$A$5:$H$147,8,FALSE),VLOOKUP(A81,'2020-2022 Composite Index Data'!$A$5:$H$139,8,FALSE))","v":0.2467}]
[75,"PRINCE WILLIAM",{"$f":"'true value analysis'!G82","v":9.7164468954268252E-2},{"$f":"'true value analysis'!N82","v":6.6766329810823255E-2},{"$f":"'true value analysis'!U82","v":6.7023063873915364E-2},{"$f":"'AGI analysis'!G82","v":0.14136033147368871},{"$f":"'AGI analysis'!N82","v":0.10973769772032411},{"$f":"'AGI analysis'!U82","v":0.11000477351765693},{"$f":"'taxable retail analysis'!G82","v":5.2395925754011065E-2},{"$f":"'taxable retail analysis'!N82","v":2.3238147963816822E-2},{"$f":"'taxable retail analysis'!U82","v":2.3484406286653207E-2},null,{"$f":"VLOOKUP(A82,'Comp Index Comparison - Ranked'!$B$6:$E$140,4,FALSE)","v":0.37830000000000003},{"$f":"IF(VLOOKUP(A82,'2020-22 Comp Index Non-Res. AGI'!$A$5:$J$138,10,FALSE)=\"YES\",VLOOKUP(A82,'2020-22 Comp Index Non-Res. AGI'!$A$5:$H$147,8,FALSE),VLOOKUP(A82,'2020-2022 Composite Index Data'!$A$5:$H$139,8,FALSE))","v":0.37990000000000002}]
[77,"PULASKI",{"$f":"'true value analysis'!G83","v":2.5522480351807736E-2},{"$f":"'true value analysis'!N83","v":7.1342784303668111E-2},{"$f":"'true value analysis'!U83","v":3.665038262504234E-2},{"$f":"'AGI analysis'!G83","v":6.6566816928477796E-2},{"$f":"'AGI analysis'!N83","v":0.11422098021884869},{"$f":"'AGI analysis'!U83","v":7.8140089610499799E-2},{"$f":"'taxable retail analysis'!G83","v":5.3348186200243362E-2},{"$f":"'taxable retail analysis'!N83","v":0.10041174159132429},{"$f":"'taxable retail analysis'!U83","v":6.4778024063674958E-2},null,{"$f":"VLOOKUP(A83,'Comp Index Comparison - Ranked'!$B$6:$E$140,4,FALSE)","v":0.31919999999999998},{"$f":"IF(VLOOKUP(A83,'2020-22 Comp Index Non-Res. AGI'!$A$5:$J$138,10,FALSE)=\"YES\",VLOOKUP(A83,'2020-22 Comp Index Non-Res. AGI'!$A$5:$H$147,8,FALSE),VLOOKUP(A83,'2020-2022 Composite Index Data'!$A$5:$H$139,8,FALSE))","v":0.32350000000000001}]
[78,"RAPPAHANNOCK",{"$f":"'true value analysis'!G84","v":6.357465914814403E-2},{"$f":"'true value analysis'!N84","v":0.13004157173310407},{"$f":"'true value analysis'!U84","v":6.6493360188616332E-2},{"$f":"'AGI analysis'!G84","v":0.16063865937023875},{"$f":"'AGI analysis'!N84","v":0.23317147843615599},{"$f":"'AGI analysis'!U84","v":0.16382372704139753},{"$f":"'taxable retail analysis'!G84","v":9.6032928528551921E-3},{"$f":"'taxable retail analysis'!N84","v":7.2697325071792704E-2},{"$f":"'taxable retail analysis'!U84","v":1.2373883667489788E-2},null,{"$f":"VLOOKUP(A84,'Comp Index Comparison - Ranked'!$B$6:$E$140,4,FALSE)","v":0.76719999999999999},{"$f":"IF(VLOOKUP(A84,'2020-22 Comp Index Non-Res. AGI'!$A$5:$J$138,10,FALSE)=\"YES\",VLOOKUP(A84,'2020-22 Comp Index Non-Res. AGI'!$A$5:$H$147,8,FALSE),VLOOKUP(A84,'2020-2022 Composite Index Data'!$A$5:$H$139,8,FALSE))","v":0.79900000000000004}]
[79,"RICHMOND COUNTY",{"$f":"'true value analysis'!G85","v":8.9021471606255689E-2},{"$f":"'true value analysis'!N85","v":6.4953802534419694E-2},{"$f":"'true value analysis'!U85","v":9.2015262764179123E-2},{"$f":"'AGI analysis'!G85","v":0.11525635865959519},{"$f":"'AGI analysis'!N85","v":9.0608891488089455E-2},{"$f":"'AGI analysis'!U85","v":0.11832227123563333},{"$f":"'taxable retail analysis'!G85","v":9.9036708734934267E-2},{"$f":"'taxable retail analysis'!N85","v":7.4747700213717572E-2},{"$f":"'taxable retail analysis'!U85","v":0.10205803243389777},null,{"$f":"VLOOKUP(A85,'Comp Index Comparison - Ranked'!$B$6:$E$140,4,FALSE)","v":0.31},{"$f":"IF(VLOOKUP(A85,'2020-22 Comp Index Non-Res. AGI'!$A$5:$J$138,10,FALSE)=\"YES\",VLOOKUP(A85,'2020-22 Comp Index Non-Res. AGI'!$A$5:$H$147,8,FALSE),VLOOKUP(A85,'2020-2022 Composite Index Data'!$A$5:$H$139,8,FALSE))","v":0.312}]
[80,"ROANOKE COUNTY",{"$f":"'true value analysis'!G86","v":4.6726206067824932E-2},{"$f":"'true value analysis'!N86","v":6.2149490671158727E-2},{"$f":"'true value analysis'!U86","v":4.7172880717024517E-2},{"$f":"'AGI analysis'!G86","v":0.10008483197758059},{"$f":"'AGI analysis'!N86","v":0.11629434441076913},{"$f":"'AGI analysis'!U86","v":0.10055427661703324},{"$f":"'taxable retail analysis'!G86","v":2.7571435118505655E-2},{"$f":"'taxable retail analysis'!N86","v":4.2712478308420586E-2},{"$f":"'taxable retail analysis'!U86","v":2.8009935757591826E-2},null,{"$f":"VLOOKUP(A86,'Comp Index Comparison - Ranked'!$B$6:$E$140,4,FALSE)","v":0.36199999999999999},{"$f":"IF(VLOOKUP(A86,'2020-22 Comp Index Non-Res. AGI'!$A$5:$J$138,10,FALSE)=\"YES\",VLOOKUP(A86,'2020-22 Comp Index Non-Res. AGI'!$A$5:$H$147,8,FALSE),VLOOKUP(A86,'2020-2022 Composite Index Data'!$A$5:$H$139,8,FALSE))","v":0.36599999999999999}]
[81,"ROCKBRIDGE",{"$f":"'true value analysis'!G87","v":0.10503558130453085},{"$f":"'true value analysis'!N87","v":9.5022149996309133E-2},{"$f":"'true value analysis'!U87","v":8.3860134026036232E-2},{"$f":"'AGI analysis'!G87","v":0.10361391917630382},{"$f":"'AGI analysis'!N87","v":9.3613370454222591E-2},{"$f":"'AGI analysis'!U87","v":8.2465714759445072E-2},{"$f":"'taxable retail analysis'!G87","v":1.0871960108837732E-2},{"$f":"'taxable retail analysis'!N87","v":1.7118053543567942E-3},{"$f":"'taxable retail analysis'!U87","v":-8.4990594843258466E-3},null,{"$f":"VLOOKUP(A87,'Comp Index Comparison - Ranked'!$B$6:$E$140,4,FALSE)","v":0.44979999999999998},{"$f":"IF(VLOOKUP(A87,'2020-22 Comp Index Non-Res. AGI'!$A$5:$J$138,10,FALSE)=\"YES\",VLOOKUP(A87,'2020-22 Comp Index Non-Res. AGI'!$A$5:$H$147,8,FALSE),VLOOKUP(A87,'2020-2022 Composite Index Data'!$A$5:$H$139,8,FALSE))","v":0.4506}]
[82,"ROCKINGHAM",{"$f":"'true value analysis'!G88","v":9.132647386780722E-2},{"$f":"'true value analysis'!N88","v":9.4692807802598436E-2},{"$f":"'true value analysis'!U88","v":7.0600118799184972E-2},{"$f":"'AGI analysis'!G88","v":0.16435974754664587},{"$f":"'AGI analysis'!N88","v":0.167951361810872},{"$f":"'AGI analysis'!U88","v":0.14224635239575881},{"$f":"'taxable retail analysis'!G88","v":0.14774215476024899},{"$f":"'taxable retail analysis'!N88","v":0.15128250996694198},{"$f":"'taxable retail analysis'!U88","v":0.1259443591450865},null,{"$f":"VLOOKUP(A88,'Comp Index Comparison - Ranked'!$B$6:$E$140,4,FALSE)","v":0.36820000000000003},{"$f":"IF(VLOOKUP(A88,'2020-22 Comp Index Non-Res. AGI'!$A$5:$J$138,10,FALSE)=\"YES\",VLOOKUP(A88,'2020-22 Comp Index Non-Res. AGI'!$A$5:$H$147,8,FALSE),VLOOKUP(A88,'2020-2022 Composite Index Data'!$A$5:$H$139,8,FALSE))","v":0.37990000000000002}]
[83,"RUSSELL",{"$f":"'true value analysis'!G89","v":6.960794410656472E-2},{"$f":"'true value analysis'!N89","v":0.13464557701247951},{"$f":"'true value analysis'!U89","v":9.6985583453684354E-2},{"$f":"'AGI analysis'!G89","v":-1.7231765955022257E-3},{"$f":"'AGI analysis'!N89","v":5.8977159389096513E-2},{"$f":"'AGI analysis'!U89","v":2.3828674426495788E-2},{"$f":"'taxable retail analysis'!G89","v":-9.4569146022018297E-2},{"$f":"'taxable retail analysis'!N89","v":-3.9514319786694521E-2},{"$f":"'taxable retail analysis'!U89","v":-7.1393776476058671E-2},null,{"$f":"VLOOKUP(A89,'Comp Index Comparison - Ranked'!$B$6:$E$140,4,FALSE)","v":0.23219999999999999},{"$f":"IF(VLOOKUP(A89,'2020-22 Comp Index Non-Res. AGI'!$A$5:$J$138,10,FALSE)=\"YES\",VLOOKUP(A89,'2020-22 Comp Index Non-Res. AGI'!$A$5:$H$147,8,FALSE),VLOOKUP(A89,'2020-2022 Composite Index Data'!$A$5:$H$139,8,FALSE))","v":0.23730000000000001}]
[84,"SCOTT",{"$f":"'true value analysis'!G90","v":2.6843877192306961E-2},{"$f":"'true value analysis'!N90","v":5.9338500992554923E-2},{"$f":"'true value analysis'!U90","v":4.4373231488569212E-2},{"$f":"'AGI analysis'!G90","v":2.9190724657129713E-2},{"$f":"'AGI analysis'!N90","v":6.175961478664134E-2},{"$f":"'AGI analysis'!U90","v":4.6760142220655901E-2},{"$f":"'taxable retail analysis'!G90","v":-9.0529268444020771E-3},{"$f":"'taxable retail analysis'!N90","v":2.2305737372590177E-2},{"$f":"'taxable retail analysis'!U90","v":7.8636295280089582E-3},null,{"$f":"VLOOKUP(A90,'Comp Index Comparison - Ranked'!$B$6:$E$140,4,FALSE)","v":0.19170000000000001},{"$f":"IF(VLOOKUP(A90,'2020-22 Comp Index Non-Res. AGI'!$A$5:$J$138,10,FALSE)=\"YES\",VLOOKUP(A90,'2020-22 Comp Index Non-Res. AGI'!$A$5:$H$147,8,FALSE),VLOOKUP(A90,'2020-2022 Composite Index Data'!$A$5:$H$139,8,FALSE))","v":0.18990000000000001}]
[85,"SHENANDOAH",{"$f":"'true value analysis'!G91","v":3.6876363363238629E-2},{"$f":"'true value analysis'!N91","v":4.0354617119574894E-2},{"$f":"'true value analysis'!U91","v":2.9634687174669966E-2},{"$f":"'AGI analysis'!G91","v":0.14199350240115091},{"$f":"'AGI analysis'!N91","v":0.14582437687161748},{"$f":"'AGI analysis'!U91","v":0.1340176747653333},{"$f":"'taxable retail analysis'!G91","v":3.7050813212496536E-2},{"$f":"'taxable retail analysis'!N91","v":4.0529652169600271E-2},{"$f":"'taxable retail analysis'!U91","v":2.980791864402834E-2},null,{"$f":"VLOOKUP(A91,'Comp Index Comparison - Ranked'!$B$6:$E$140,4,FALSE)","v":0.3821},{"$f":"IF(VLOOKUP(A91,'2020-22 Comp Index Non-Res. AGI'!$A$5:$J$138,10,FALSE)=\"YES\",VLOOKUP(A91,'2020-22 Comp Index Non-Res. AGI'!$A$5:$H$147,8,FALSE),VLOOKUP(A91,'2020-2022 Composite Index Data'!$A$5:$H$139,8,FALSE))","v":0.38319999999999999}]
[86,"SMYTH",{"$f":"'true value analysis'!G92","v":7.2800645591607774E-2},{"$f":"'true value analysis'!N92","v":0.11979172611971213},{"$f":"'true value analysis'!U92","v":9.8356836425456021E-2},{"$f":"'AGI analysis'!G92","v":2.3544470012498528E-2},{"$f":"'AGI analysis'!N92","v":6.837801929502102E-2},{"$f":"'AGI analysis'!U92","v":4.7927283268678449E-2},{"$f":"'taxable retail analysis'!G92","v":-1.1324068672286924E-2},{"$f":"'taxable retail analysis'!N92","v":3.1982160212017031E-2},{"$f":"'taxable retail analysis'!U92","v":1.2228108405225844E-2},null,{"$f":"VLOOKUP(A92,'Comp Index Comparison - Ranked'!$B$6:$E$140,4,FALSE)","v":0.21740000000000001},{"$f":"IF(VLOOKUP(A92,'2020-22 Comp Index Non-Res. AGI'!$A$5:$J$138,10,FALSE)=\"YES\",VLOOKUP(A92,'2020-22 Comp Index Non-Res. AGI'!$A$5:$H$147,8,FALSE),VLOOKUP(A92,'2020-2022 Composite Index Data'!$A$5:$H$139,8,FALSE))","v":0.2228}]
[87,"SOUTHAMPTON",{"$f":"'true value analysis'!G93","v":9.8609041218544385E-2},{"$f":"'true value analysis'!N93","v":9.4931531946235589E-2},{"$f":"'true value analysis'!U93","v":0.12480249040483569},{"$f":"'AGI analysis'!G93","v":7.214003673330513E-2},{"$f":"'AGI analysis'!N93","v":6.855113041780006E-2},{"$f":"'AGI analysis'!U93","v":9.7702401978008932E-2},{"$f":"'taxable retail analysis'!G93","v":-3.2581046095165385E-2},{"$f":"'taxable retail analysis'!N93","v":-3.5819406639919671E-2},{"$f":"'taxable retail analysis'!U93","v":-9.5154802202888269E-3},null,{"$f":"VLOOKUP(A93,'Comp Index Comparison - Ranked'!$B$6:$E$140,4,FALSE)","v":0.29630000000000001},{"$f":"IF(VLOOKUP(A93,'2020-22 Comp Index Non-Res. AGI'!$A$5:$J$138,10,FALSE)=\"YES\",VLOOKUP(A93,'2020-22 Comp Index Non-Res. AGI'!$A$5:$H$147,8,FALSE),VLOOKUP(A93,'2020-2022 Composite Index Data'!$A$5:$H$139,8,FALSE))","v":0.30149999999999999}]
[88,"SPOTSYLVANIA",{"$f":"'true value analysis'!G94","v":8.7397873021601943E-2},{"$f":"'true value analysis'!N94","v":8.3174197254311064E-2},{"$f":"'true value analysis'!U94","v":6.63110386551065E-2},{"$f":"'AGI analysis'!G94","v":0.1644714451527548},{"$f":"'AGI analysis'!N94","v":0.15994839986581963},{"$f":"'AGI analysis'!U94","v":0.14188999902557281},{"$f":"'taxable retail analysis'!G94","v":5.6219058766526095E-2},{"$f":"'taxable retail analysis'!N94","v":5.2116487891464142E-2},{"$f":"'taxable retail analysis'!U94","v":3.5736844390792312E-2},null,{"$f":"VLOOKUP(A94,'Comp Index Comparison - Ranked'!$B$6:$E$140,4,FALSE)","v":0.36270000000000002},{"$f":"IF(VLOOKUP(A94,'2020-22 Comp Index Non-Res. AGI'!$A$5:$J$138,10,FALSE)=\"YES\",VLOOKUP(A94,'2020-22 Comp Index Non-Res. AGI'!$A$5:$H$147,8,FALSE),VLOOKUP(A94,'2020-2022 Composite Index Data'!$A$5:$H$139,8,FALSE))","v":0.37219999999999998}]
[89,"STAFFORD",{"$f":"'true value analysis'!G95","v":9.0307201490375577E-2},{"$f":"'true value analysis'!N95","v":5.3244957226744383E-2},{"$f":"'true value analysis'!U95","v":4.8977016150521913E-2},{"$f":"'AGI analysis'!G95","v":0.17606867992833106},{"$f":"'AGI analysis'!N95","v":0.13609119044029638},{"$f":"'AGI analysis'!U95","v":0.13148754128466042},{"$f":"'taxable retail analysis'!G95","v":6.5093407413177942E-2},{"$f":"'taxable retail analysis'!N95","v":2.8888242506286421E-2},{"$f":"'taxable retail analysis'!U95","v":2.4718999289972E-2},null,{"$f":"VLOOKUP(A95,'Comp Index Comparison - Ranked'!$B$6:$E$140,4,FALSE)","v":0.34620000000000001},{"$f":"IF(VLOOKUP(A95,'2020-22 Comp Index Non-Res. AGI'!$A$5:$J$138,10,FALSE)=\"YES\",VLOOKUP(A95,'2020-22 Comp Index Non-Res. AGI'!$A$5:$H$147,8,FALSE),VLOOKUP(A95,'2020-2022 Composite Index Data'!$A$5:$H$139,8,FALSE))","v":0.34699999999999998}]
[90,"SURRY",{"$f":"'true value analysis'!G96","v":6.6582317877602618E-2},{"$f":"'true value analysis'!N96","v":0.14611465456732006},{"$f":"'true value analysis'!U96","v":8.9754993348422588E-2},{"$f":"'AGI analysis'!G96","v":-6.540907593152249E-3},{"$f":"'AGI analysis'!N96","v":6.7538815744085448E-2},{"$f":"'AGI analysis'!U96","v":1.5043085274542281E-2},{"$f":"'taxable retail analysis'!G96","v":-0.31478233746104733},{"$f":"'taxable retail analysis'!N96","v":-0.26368739529921509},{"$f":"'taxable retail analysis'!U96","v":-0.29989522912000022},null,{"$f":"VLOOKUP(A96,'Comp Index Comparison - Ranked'!$B$6:$E$140,4,FALSE)","v":0.8},{"$f":"IF(VLOOKUP(A96,'2020-22 Comp Index Non-Res. AGI'!$A$5:$J$138,10,FALSE)=\"YES\",VLOOKUP(A96,'2020-22 Comp Index Non-Res. AGI'!$A$5:$H$147,8,FALSE),VLOOKUP(A96,'2020-2022 Composite Index Data'!$A$5:$H$139,8,FALSE))","v":0.8}]
[91,"SUSSEX",{"$f":"'true value analysis'!G97","v":4.3863573414099785E-2},{"$f":"'true value analysis'!N97","v":4.7437116143795109E-2},{"$f":"'true value analysis'!U97","v":6.4642324939802959E-2},{"$f":"'AGI analysis'!G97","v":5.726261112368479E-2},{"$f":"'AGI analysis'!N97","v":6.0882023864569014E-2},{"$f":"'AGI analysis'!U97","v":7.8308078801136091E-2},{"$f":"'taxable retail analysis'!G97","v":0.1131574545894401},{"$f":"'taxable retail analysis'!N97","v":0.11696821667575755},{"$f":"'taxable retail analysis'!U97","v":0.13531554377560492},null,{"$f":"VLOOKUP(A97,'Comp Index Comparison - Ranked'!$B$6:$E$140,4,FALSE)","v":0.34820000000000001},{"$f":"IF(VLOOKUP(A97,'2020-22 Comp Index Non-Res. AGI'!$A$5:$J$138,10,FALSE)=\"YES\",VLOOKUP(A97,'2020-22 Comp Index Non-Res. AGI'!$A$5:$H$147,8,FALSE),VLOOKUP(A97,'2020-2022 Composite Index Data'!$A$5:$H$139,8,FALSE))","v":0.34920000000000001}]
[92,"TAZEWELL",{"$f":"'true value analysis'!G98","v":1.3323368983956389E-2},{"$f":"'true value analysis'!N98","v":6.9237548435721441E-2},{"$f":"'true value analysis'!U98","v":4.8478125783629936E-2},{"$f":"'AGI analysis'!G98","v":-8.197421458713347E-2},{"$f":"'AGI analysis'!N98","v":-3.1318461371463602E-2},{"$f":"'AGI analysis'!U98","v":-5.012557257428997E-2},{"$f":"'taxable retail analysis'!G98","v":-3.8228088193289177E-2},{"$f":"'taxable retail analysis'!N98","v":1.4841532931059907E-2},{"$f":"'taxable retail analysis'!U98","v":-4.8617821440922844E-3},null,{"$f":"VLOOKUP(A98,'Comp Index Comparison - Ranked'!$B$6:$E$140,4,FALSE)","v":0.26240000000000002},{"$f":"IF(VLOOKUP(A98,'2020-22 Comp Index Non-Res. AGI'!$A$5:$J$138,10,FALSE)=\"YES\",VLOOKUP(A98,'2020-22 Comp Index Non-Res. AGI'!$A$5:$H$147,8,FALSE),VLOOKUP(A98,'2020-2022 Composite Index Data'!$A$5:$H$139,8,FALSE))","v":0.25750000000000001}]
[93,"WARREN",{"$f":"'true value analysis'!G99","v":5.9706882113787746E-2},{"$f":"'true value analysis'!N99","v":7.0276112873657315E-2},{"$f":"'true value analysis'!U99","v":4.863422935335409E-2},{"$f":"'AGI analysis'!G99","v":0.11977697477008152},{"$f":"'AGI analysis'!N99","v":0.13094532844003776},{"$f":"'AGI analysis'!U99","v":0.10807666233460324},{"$f":"'taxable retail analysis'!G99","v":9.5241800345362684E-2},{"$f":"'taxable retail analysis'!N99","v":0.106165446799951},{"$f":"'taxable retail analysis'!U99","v":8.3797850750785816E-2},null,{"$f":"VLOOKUP(A99,'Comp Index Comparison - Ranked'!$B$6:$E$140,4,FALSE)","v":0.43330000000000002},{"$f":"IF(VLOOKUP(A99,'2020-22 Comp Index Non-Res. AGI'!$A$5:$J$138,10,FALSE)=\"YES\",VLOOKUP(A99,'2020-22 Comp Index Non-Res. AGI'!$A$5:$H$147,8,FALSE),VLOOKUP(A99,'2020-2022 Composite Index Data'!$A$5:$H$139,8,FALSE))","v":0.44319999999999998}]
[94,"WASHINGTON",{"$f":"'true value analysis'!G100","v":4.7812405800216631E-2},{"$f":"'true value analysis'!N100","v":6.4323176259499779E-2},{"$f":"'true value analysis'!U100","v":5.4455102827078543E-2},{"$f":"'AGI analysis'!G100","v":4.4356592202437331E-2},{"$f":"'AGI analysis'!N100","v":6.0812908119335665E-2},{"$f":"'AGI analysis'!U100","v":5.0977380801240611E-2},{"$f":"'taxable retail analysis'!G100","v":2.4190083354987311E-2},{"$f":"'taxable retail analysis'!N100","v":4.0328628078585949E-2},{"$f":"'taxable retail analysis'!U100","v":3.0683024633390992E-2},null,{"$f":"VLOOKUP(A100,'Comp Index Comparison - Ranked'!$B$6:$E$140,4,FALSE)","v":0.34339999999999998},{"$f":"IF(VLOOKUP(A100,'2020-22 Comp Index Non-Res. AGI'!$A$5:$J$138,10,FALSE)=\"YES\",VLOOKUP(A100,'2020-22 Comp Index Non-Res. AGI'!$A$5:$H$147,8,FALSE),VLOOKUP(A100,'2020-2022 Composite Index Data'!$A$5:$H$139,8,FALSE))","v":0.34160000000000001}]
[95,"WESTMORELAND",{"$f":"'true value analysis'!G101","v":-1.4736013575522186E-2},{"$f":"'true value analysis'!N101","v":1.3395478470786657E-2},{"$f":"'true value analysis'!U101","v":-1.7929738004775087E-2},{"$f":"'AGI analysis'!G101","v":0.13645498731374958},{"$f":"'AGI analysis'!N101","v":0.16890332083360596},{"$f":"'AGI analysis'!U101","v":0.1327711786028459},{"$f":"'taxable retail analysis'!G101","v":1.2749029483922652E-3},{"$f":"'taxable retail analysis'!N101","v":2.986354249735278E-2},{"$f":"'taxable retail analysis'!U101","v":-1.9707207240498574E-3},null,{"$f":"VLOOKUP(A101,'Comp Index Comparison - Ranked'!$B$6:$E$140,4,FALSE)","v":0.4743},{"$f":"IF(VLOOKUP(A101,'2020-22 Comp Index Non-Res. AGI'!$A$5:$J$138,10,FALSE)=\"YES\",VLOOKUP(A101,'2020-22 Comp Index Non-Res. AGI'!$A$5:$H$147,8,FALSE),VLOOKUP(A101,'2020-2022 Composite Index Data'!$A$5:$H$139,8,FALSE))","v":0.46179999999999999}]
[96,"WISE",{"$f":"'true value analysis'!G102","v":-1.4899631275151209E-2},{"$f":"'true value analysis'!N102","v":1.6678357405533539E-2},{"$f":"'true value analysis'!U102","v":5.4906096638805283E-3},{"$f":"'AGI analysis'!G102","v":-4.2503003754287706E-2},{"$f":"'AGI analysis'!N102","v":-1.1809857888983288E-2},{"$f":"'AGI analysis'!U102","v":-2.2684115170253094E-2},{"$f":"'taxable retail analysis'!G102","v":-5.5258837078745883E-2},{"$f":"'taxable retail analysis'!N102","v":-2.4974587172798351E-2},{"$f":"'taxable retail analysis'!U102","v":-3.5703976935996404E-2},null,{"$f":"VLOOKUP(A102,'Comp Index Comparison - Ranked'!$B$6:$E$140,4,FALSE)","v":0.24740000000000001},{"$f":"IF(VLOOKUP(A102,'2020-22 Comp Index Non-Res. AGI'!$A$5:$J$138,10,FALSE)=\"YES\",VLOOKUP(A102,'2020-22 Comp Index Non-Res. AGI'!$A$5:$H$147,8,FALSE),VLOOKUP(A102,'2020-2022 Composite Index Data'!$A$5:$H$139,8,FALSE))","v":0.23719999999999999}]
[97,"WYTHE",{"$f":"'true value analysis'!G103","v":7.3290690274266088E-2},{"$f":"'true value analysis'!N103","v":9.531304764188854E-2},{"$f":"'true value analysis'!U103","v":7.4038029124855659E-2},{"$f":"'AGI analysis'!G103","v":9.1752579840144441E-2},{"$f":"'AGI analysis'!N103","v":0.11415374821710994},{"$f":"'AGI analysis'!U103","v":9.2512773816985527E-2},{"$f":"'taxable retail analysis'!G103","v":2.602691018974362E-2},{"$f":"'taxable retail analysis'!N103","v":4.7079483821237625E-2},{"$f":"'taxable retail analysis'!U103","v":2.6741338982132896E-2},null,{"$f":"VLOOKUP(A103,'Comp Index Comparison - Ranked'!$B$6:$E$140,4,FALSE)","v":0.31459999999999999},{"$f":"IF(VLOOKUP(A103,'2020-22 Comp Index Non-Res. AGI'!$A$5:$J$138,10,FALSE)=\"YES\",VLOOKUP(A103,'2020-22 Comp Index Non-Res. AGI'!$A$5:$H$147,8,FALSE),VLOOKUP(A103,'2020-2022 Composite Index Data'!$A$5:$H$139,8,FALSE))","v":0.32040000000000002}]
[98,"YORK",{"$f":"'true value analysis'!G104","v":5.3302390857453461E-2},{"$f":"'true value analysis'!N104","v":4.5959181556986917E-2},{"$f":"'true value analysis'!U104","v":6.2109215899315902E-2},{"$f":"'AGI analysis'!G104","v":9.9075883839812806E-2},{"$f":"'AGI analysis'!N104","v":9.1413559779615058E-2},{"$f":"'AGI analysis'!U104","v":0.10826542817268742},{"$f":"'taxable retail analysis'!G104","v":2.9560086061013364E-2},{"$f":"'taxable retail analysis'!N104","v":2.2382398755853277E-2},{"$f":"'taxable retail analysis'!U104","v":3.8168398001369674E-2},null,{"$f":"VLOOKUP(A104,'Comp Index Comparison - Ranked'!$B$6:$E$140,4,FALSE)","v":0.38219999999999998},{"$f":"IF(VLOOKUP(A104,'2020-22 Comp Index Non-Res. AGI'!$A$5:$J$138,10,FALSE)=\"YES\",VLOOKUP(A104,'2020-22 Comp Index Non-Res. AGI'!$A$5:$H$147,8,FALSE),VLOOKUP(A104,'2020-2022 Composite Index Data'!$A$5:$H$139,8,FALSE))","v":0.38119999999999998}]
[101,"ALEXANDRIA",{"$f":"'true value analysis'!G105","v":4.7327302729821323E-2},{"$f":"'true value analysis'!N105","v":2.1242588188410678E-3},{"$f":"'true value analysis'!U105","v":3.984634687809354E-2},{"$f":"'AGI analysis'!G105","v":0.15030123710616608},{"$f":"'AGI analysis'!N105","v":0.10065379910255813},{"$f":"'AGI analysis'!U105","v":0.14208474857526507},{"$f":"'taxable retail analysis'!G105","v":3.7334532115139769E-2},{"$f":"'taxable retail analysis'!N105","v":-7.4372200232394377E-3},{"$f":"'taxable retail analysis'!U105","v":2.9924953640484163E-2},null,{"$f":"VLOOKUP(A105,'Comp Index Comparison - Ranked'!$B$6:$E$140,4,FALSE)","v":0.8},{"$f":"IF(VLOOKUP(A105,'2020-22 Comp Index Non-Res. AGI'!$A$5:$J$138,10,FALSE)=\"YES\",VLOOKUP(A105,'2020-22 Comp Index Non-Res. AGI'!$A$5:$H$147,8,FALSE),VLOOKUP(A105,'2020-2022 Composite Index Data'!$A$5:$H$139,8,FALSE))","v":0.8}]
[102,"BRISTOL",{"$f":"'true value analysis'!G106","v":0.10390492879610361},{"$f":"'true value analysis'!N106","v":0.1223270542337779},{"$f":"'true value analysis'!U106","v":0.133818436482012},{"$f":"'AGI analysis'!G106","v":3.3755894972709144E-2},{"$f":"'AGI analysis'!N106","v":5.1007363167430861E-2},{"$f":"'AGI analysis'!U106","v":6.1768511007808696E-2},{"$f":"'taxable retail analysis'!G106","v":6.7180946796352531E-2},{"$f":"'taxable retail analysis'!N106","v":8.4990217100108595E-2},{"$f":"'taxable retail analysis'!U106","v":9.6099311613386626E-2},null,{"$f":"VLOOKUP(A106,'Comp Index Comparison - Ranked'!$B$6:$E$140,4,FALSE)","v":0.29220000000000002},{"$f":"IF(VLOOKUP(A106,'2020-22 Comp Index Non-Res. AGI'!$A$5:$J$138,10,FALSE)=\"YES\",VLOOKUP(A106,'2020-22 Comp Index Non-Res. AGI'!$A$5:$H$147,8,FALSE),VLOOKUP(A106,'2020-2022 Composite Index Data'!$A$5:$H$139,8,FALSE))","v":0.30509999999999998}]
[103,"BUENA VISTA",{"$f":"'true value analysis'!G107","v":-1.486854027633693E-2},{"$f":"'true value analysis'!N107","v":6.5468141686586157E-2},{"$f":"'true value analysis'!U107","v":4.5398686322573316E-2},{"$f":"'AGI analysis'!G107","v":6.8956860808527018E-2},{"$f":"'AGI analysis'!N107","v":0.15612943712940519},{"$f":"'AGI analysis'!U107","v":0.1343522602944783},{"$f":"'taxable retail analysis'!G107","v":-7.7903430403352555E-2},{"$f":"'taxable retail analysis'!N107","v":-2.7071932721503536E-3},{"$f":"'taxable retail analysis'!U107","v":-2.1492478994342076E-2},null,{"$f":"VLOOKUP(A107,'Comp Index Comparison - Ranked'!$B$6:$E$140,4,FALSE)","v":0.18490000000000001},{"$f":"IF(VLOOKUP(A107,'2020-22 Comp Index Non-Res. AGI'!$A$5:$J$138,10,FALSE)=\"YES\",VLOOKUP(A107,'2020-22 Comp Index Non-Res. AGI'!$A$5:$H$147,8,FALSE),VLOOKUP(A107,'2020-2022 Composite Index Data'!$A$5:$H$139,8,FALSE))","v":0.1893}]
[104,"CHARLOTTESVILLE",{"$f":"'true value analysis'!G108","v":0.23769262485288764},{"$f":"'true value analysis'!N108","v":0.20106173952784165},{"$f":"'true value analysis'!U108","v":0.21446636497919308},{"$f":"'AGI analysis'!G108","v":0.14496386176690956},{"$f":"'AGI analysis'!N108","v":0.11107738698348696},{"$f":"'AGI analysis'!U108","v":0.12347772888917018},{"$f":"'taxable retail analysis'!G108","v":1.2427717851750982E-2},{"$f":"'taxable retail analysis'!N108","v":-1.7536202824380988E-2},{"$f":"'taxable retail analysis'!U108","v":-6.5712717244786377E-3},null,{"$f":"VLOOKUP(A108,'Comp Index Comparison - Ranked'!$B$6:$E$140,4,FALSE)","v":0.67720000000000002},{"$f":"IF(VLOOKUP(A108,'2020-22 Comp Index Non-Res. AGI'!$A$5:$J$138,10,FALSE)=\"YES\",VLOOKUP(A108,'2020-22 Comp Index Non-Res. AGI'!$A$5:$H$147,8,FALSE),VLOOKUP(A108,'2020-2022 Composite Index Data'!$A$5:$H$139,8,FALSE))","v":0.68859999999999999}]
[106,"COLONIAL HEIGHTS",{"$f":"'true value analysis'!G109","v":6.843701775697264E-2},{"$f":"'true value analysis'!N109","v":7.2568805800198671E-2},{"$f":"'true value analysis'!U109","v":6.195977255694475E-2},{"$f":"'AGI analysis'!G109","v":7.1318200841058763E-2},{"$f":"'AGI analysis'!N109","v":7.5461130802450371E-2},{"$f":"'AGI analysis'!U109","v":6.4823488884458894E-2},{"$f":"'taxable retail analysis'!G109","v":-4.8519731959012977E-3},{"$f":"'taxable retail analysis'!N109","v":-1.0036034276756168E-3},{"$f":"'taxable retail analysis'!U109","v":-1.0884914466942322E-2},null,{"$f":"VLOOKUP(A109,'Comp Index Comparison - Ranked'!$B$6:$E$140,4,FALSE)","v":0.41789999999999999},{"$f":"IF(VLOOKUP(A109,'2020-22 Comp Index Non-Res. AGI'!$A$5:$J$138,10,FALSE)=\"YES\",VLOOKUP(A109,'2020-22 Comp Index Non-Res. AGI'!$A$5:$H$147,8,FALSE),VLOOKUP(A109,'2020-2022 Composite Index Data'!$A$5:$H$139,8,FALSE))","v":0.41560000000000002}]
[107,"COVINGTON",{"$f":"'true value analysis'!G110","v":4.0635801189392647E-2},{"$f":"'true value analysis'!N110","v":1.7657998157347414E-2},{"$f":"'true value analysis'!U110","v":0.10254028987553081},{"$f":"'AGI analysis'!G110","v":5.4670781759333917E-2},{"$f":"'AGI analysis'!N110","v":3.1383078742369744E-2},{"$f":"'AGI analysis'!U110","v":0.11741017185373526},{"$f":"'taxable retail analysis'!G110","v":-1.7835949133135534E-2},{"$f":"'taxable retail analysis'!N110","v":-3.9522664197311132E-2},{"$f":"'taxable retail analysis'!U110","v":4.0590220046636774E-2},null,{"$f":"VLOOKUP(A110,'Comp Index Comparison - Ranked'!$B$6:$E$140,4,FALSE)","v":0.29809999999999998},{"$f":"IF(VLOOKUP(A110,'2020-22 Comp Index Non-Res. AGI'!$A$5:$J$138,10,FALSE)=\"YES\",VLOOKUP(A110,'2020-22 Comp Index Non-Res. AGI'!$A$5:$H$147,8,FALSE),VLOOKUP(A110,'2020-2022 Composite Index Data'!$A$5:$H$139,8,FALSE))","v":0.2913}]
[108,"DANVILLE",{"$f":"'true value analysis'!G111","v":-5.8300795152727561E-3},{"$f":"'true value analysis'!N111","v":6.9096525812460868E-2},{"$f":"'true value analysis'!U111","v":2.2679169618991111E-2},{"$f":"'AGI analysis'!G111","v":5.7602264054980472E-2},{"$f":"'AGI analysis'!N111","v":0.13730951107561931},{"$f":"'AGI analysis'!U111","v":8.7930526668482265E-2},{"$f":"'taxable retail analysis'!G111","v":3.0356981709715063E-2},{"$f":"'taxable retail analysis'!N111","v":0.10801086091539228},{"$f":"'taxable retail analysis'!U111","v":5.990394675414959E-2},null,{"$f":"VLOOKUP(A111,'Comp Index Comparison - Ranked'!$B$6:$E$140,4,FALSE)","v":0.25459999999999999},{"$f":"IF(VLOOKUP(A111,'2020-22 Comp Index Non-Res. AGI'!$A$5:$J$138,10,FALSE)=\"YES\",VLOOKUP(A111,'2020-22 Comp Index Non-Res. AGI'!$A$5:$H$147,8,FALSE),VLOOKUP(A111,'2020-2022 Composite Index Data'!$A$5:$H$139,8,FALSE))","v":0.26219999999999999}]
[109,"FALLS CHURCH",{"$f":"'true value analysis'!G112","v":0.10063982552818976},{"$f":"'true value analysis'!N112","v":3.7137639759691352E-2},{"$f":"'true value analysis'!U112","v":9.4006212451210047E-2},{"$f":"'AGI analysis'!G112","v":0.22071401519249512},{"$f":"'AGI analysis'!N112","v":0.15028406493536814},{"$f":"'AGI analysis'!U112","v":0.21335670877252488},{"$f":"'taxable retail analysis'!G112","v":0.12424743296335329},{"$f":"'taxable retail analysis'!N112","v":5.938318974597228E-2},{"$f":"'taxable retail analysis'!U112","v":0.11747153561701869},null,{"$f":"VLOOKUP(A112,'Comp Index Comparison - Ranked'!$B$6:$E$140,4,FALSE)","v":0.8},{"$f":"IF(VLOOKUP(A112,'2020-22 Comp Index Non-Res. AGI'!$A$5:$J$138,10,FALSE)=\"YES\",VLOOKUP(A112,'2020-22 Comp Index Non-Res. AGI'!$A$5:$H$147,8,FALSE),VLOOKUP(A112,'2020-2022 Composite Index Data'!$A$5:$H$139,8,FALSE))","v":0.8}]
[110,"FREDERICKSBURG",{"$f":"'true value analysis'!G113","v":-3.7149974051908616E-3},{"$f":"'true value analysis'!N113","v":-3.3039128285250845E-2},{"$f":"'true value analysis'!U113","v":-2.8077039790942091E-2},{"$f":"'AGI analysis'!G113","v":9.6386954274207376E-2},{"$f":"'AGI analysis'!N113","v":6.4116474985056834E-2},{"$f":"'AGI analysis'!U113","v":6.9577130396856549E-2},{"$f":"'taxable retail analysis'!G113","v":3.0840082594448703E-2},{"$f":"'taxable retail analysis'!N113","v":4.988755907481304E-4},{"$f":"'taxable retail analysis'!U113","v":5.6330688185815382E-3},null,{"$f":"VLOOKUP(A113,'Comp Index Comparison - Ranked'!$B$6:$E$140,4,FALSE)","v":0.621},{"$f":"IF(VLOOKUP(A113,'2020-22 Comp Index Non-Res. AGI'!$A$5:$J$138,10,FALSE)=\"YES\",VLOOKUP(A113,'2020-22 Comp Index Non-Res. AGI'!$A$5:$H$147,8,FALSE),VLOOKUP(A113,'2020-2022 Composite Index Data'!$A$5:$H$139,8,FALSE))","v":0.58399999999999996}]
[111,"GALAX",{"$f":"'true value analysis'!G114","v":0.14231632042261622},{"$f":"'true value analysis'!N114","v":0.21229557356367601},{"$f":"'true value analysis'!U114","v":0.19225457094494461},{"$f":"'AGI analysis'!G114","v":4.0748888730213539E-2},{"$f":"'AGI analysis'!N114","v":0.10450603606203436},{"$f":"'AGI analysis'!U114","v":8.6246950700488142E-2},{"$f":"'taxable retail analysis'!G114","v":2.1461447207049199E-2},{"$f":"'taxable retail analysis'!N114","v":8.4037029740519298E-2},{"$f":"'taxable retail analysis'!U114","v":6.6116326715952536E-2},null,{"$f":"VLOOKUP(A114,'Comp Index Comparison - Ranked'!$B$6:$E$140,4,FALSE)","v":0.25869999999999999},{"$f":"IF(VLOOKUP(A114,'2020-22 Comp Index Non-Res. AGI'!$A$5:$J$138,10,FALSE)=\"YES\",VLOOKUP(A114,'2020-22 Comp Index Non-Res. AGI'!$A$5:$H$147,8,FALSE),VLOOKUP(A114,'2020-2022 Composite Index Data'!$A$5:$H$139,8,FALSE))","v":0.27750000000000002}]
[112,"HAMPTON",{"$f":"'true value analysis'!G115","v":3.7800766431241715E-2},{"$f":"'true value analysis'!N115","v":7.7935079232207979E-2},{"$f":"'true value analysis'!U115","v":5.2091654031996656E-2},{"$f":"'AGI analysis'!G115","v":4.9316792642142768E-2},{"$f":"'AGI analysis'!N115","v":8.9896458552417111E-2},{"$f":"'AGI analysis'!U115","v":6.376626004116985E-2},{"$f":"'taxable retail analysis'!G115","v":-2.979270973033419E-2},{"$f":"'taxable retail analysis'!N115","v":7.7275967957069038E-3},{"$f":"'taxable retail analysis'!U115","v":-1.6432608463155786E-2},null,{"$f":"VLOOKUP(A115,'Comp Index Comparison - Ranked'!$B$6:$E$140,4,FALSE)","v":0.27410000000000001},{"$f":"IF(VLOOKUP(A115,'2020-22 Comp Index Non-Res. AGI'!$A$5:$J$138,10,FALSE)=\"YES\",VLOOKUP(A115,'2020-22 Comp Index Non-Res. AGI'!$A$5:$H$147,8,FALSE),VLOOKUP(A115,'2020-2022 Composite Index Data'!$A$5:$H$139,8,FALSE))","v":0.27429999999999999}]
[113,"HARRISONBURG",{"$f":"'true value analysis'!G116","v":9.2956425488522509E-2},{"$f":"'true value analysis'!N116","v":2.5313397058875822E-2},{"$f":"'true value analysis'!U116","v":7.6688683705939911E-2},{"$f":"'AGI analysis'!G116","v":0.17216655710944159},{"$f":"'AGI analysis'!N116","v":9.9621216876508614E-2},{"$f":"'AGI analysis'!U116","v":0.1547198388025226},{"$f":"'taxable retail analysis'!G116","v":3.6782190027577703E-2},{"$f":"'taxable retail analysis'!N116","v":-2.7384217269072014E-2},{"$f":"'taxable retail analysis'!U116","v":2.1350554731952392E-2},null,{"$f":"VLOOKUP(A116,'Comp Index Comparison - Ranked'!$B$6:$E$140,4,FALSE)","v":0.36449999999999999},{"$f":"IF(VLOOKUP(A116,'2020-22 Comp Index Non-Res. AGI'!$A$5:$J$138,10,FALSE)=\"YES\",VLOOKUP(A116,'2020-22 Comp Index Non-Res. AGI'!$A$5:$H$147,8,FALSE),VLOOKUP(A116,'2020-2022 Composite Index Data'!$A$5:$H$139,8,FALSE))","v":0.35370000000000001}]
[114,"HOPEWELL",{"$f":"'true value analysis'!G117","v":8.4640063533718571E-2},{"$f":"'true value analysis'!N117","v":9.2950572498499653E-2},{"$f":"'true value analysis'!U117","v":9.2578657152955476E-2},{"$f":"'AGI analysis'!G117","v":7.5441196669341778E-2},{"$f":"'AGI analysis'!N117","v":8.3681223943364441E-2},{"$f":"'AGI analysis'!U117","v":8.3312462823690731E-2},{"$f":"'taxable retail analysis'!G117","v":-1.1686202630887712E-2},{"$f":"'taxable retail analysis'!N117","v":-4.113745233090829E-3},{"$f":"'taxable retail analysis'!U117","v":-4.4526309886629466E-3},null,{"$f":"VLOOKUP(A117,'Comp Index Comparison - Ranked'!$B$6:$E$140,4,FALSE)","v":0.20319999999999999},{"$f":"IF(VLOOKUP(A117,'2020-22 Comp Index Non-Res. AGI'!$A$5:$J$138,10,FALSE)=\"YES\",VLOOKUP(A117,'2020-22 Comp Index Non-Res. AGI'!$A$5:$H$147,8,FALSE),VLOOKUP(A117,'2020-2022 Composite Index Data'!$A$5:$H$139,8,FALSE))","v":0.20530000000000001}]
[115,"LYNCHBURG",{"$f":"'true value analysis'!G118","v":5.7352992605104972E-2},{"$f":"'true value analysis'!N118","v":6.1353710350413149E-2},{"$f":"'true value analysis'!U118","v":3.4924691381023006E-2},{"$f":"'AGI analysis'!G118","v":9.4607693443757399E-2},{"$f":"'AGI analysis'!N118","v":9.8749372196206664E-2},{"$f":"'AGI analysis'!U118","v":7.138915503468056E-2},{"$f":"'taxable retail analysis'!G118","v":1.4245680740753377E-2},{"$f":"'taxable retail analysis'!N118","v":1.8083292892438086E-2},{"$f":"'taxable retail analysis'!U118","v":-7.2682392102665734E-3},null,{"$f":"VLOOKUP(A118,'Comp Index Comparison - Ranked'!$B$6:$E$140,4,FALSE)","v":0.37},{"$f":"IF(VLOOKUP(A118,'2020-22 Comp Index Non-Res. AGI'!$A$5:$J$138,10,FALSE)=\"YES\",VLOOKUP(A118,'2020-22 Comp Index Non-Res. AGI'!$A$5:$H$147,8,FALSE),VLOOKUP(A118,'2020-2022 Composite Index Data'!$A$5:$H$139,8,FALSE))","v":0.36680000000000001}]
[116,"MARTINSVILLE",{"$f":"'true value analysis'!G119","v":-5.3920464292942843E-3},{"$f":"'true value analysis'!N119","v":8.0185503433629568E-2},{"$f":"'true value analysis'!U119","v":1.4457903461132381E-3},{"$f":"'AGI analysis'!G119","v":6.6240858367881864E-2},{"$f":"'AGI analysis'!N119","v":0.157981810061747},{"$f":"'AGI analysis'!U119","v":7.3571164672607936E-2},{"$f":"'taxable retail analysis'!G119","v":8.7731018981823256E-3},{"$f":"'taxable retail analysis'!N119","v":9.5569442223175566E-2},{"$f":"'taxable retail analysis'!U119","v":1.5708322745188234E-2},null,{"$f":"VLOOKUP(A119,'Comp Index Comparison - Ranked'!$B$6:$E$140,4,FALSE)","v":0.2135},{"$f":"IF(VLOOKUP(A119,'2020-22 Comp Index Non-Res. AGI'!$A$5:$J$138,10,FALSE)=\"YES\",VLOOKUP(A119,'2020-22 Comp Index Non-Res. AGI'!$A$5:$H$147,8,FALSE),VLOOKUP(A119,'2020-2022 Composite Index Data'!$A$5:$H$139,8,FALSE))","v":0.2185}]
[117,"NEWPORT NEWS",{"$f":"'true value analysis'!G120","v":6.8519711901493724E-2},{"$f":"'true value analysis'!N120","v":8.3648541457899198E-2},{"$f":"'true value analysis'!U120","v":7.6139635075494122E-2},{"$f":"'AGI analysis'!G120","v":7.7739370922351864E-2},{"$f":"'AGI analysis'!N120","v":9.299873868815213E-2},{"$f":"'AGI analysis'!U120","v":8.5425042151953831E-2},{"$f":"'taxable retail analysis'!G120","v":5.1014267579945462E-2},{"$f":"'taxable retail analysis'!N120","v":6.5895243137496146E-2},{"$f":"'taxable retail analysis'!U120","v":5.8509354366398557E-2},null,{"$f":"VLOOKUP(A120,'Comp Index Comparison - Ranked'!$B$6:$E$140,4,FALSE)","v":0.27810000000000001},{"$f":"IF(VLOOKUP(A120,'2020-22 Comp Index Non-Res. AGI'!$A$5:$J$138,10,FALSE)=\"YES\",VLOOKUP(A120,'2020-22 Comp Index Non-Res. AGI'!$A$5:$H$147,8,FALSE),VLOOKUP(A120,'2020-2022 Composite Index Data'!$A$5:$H$139,8,FALSE))","v":0.28420000000000001}]
[118,"NORFOLK",{"$f":"'true value analysis'!G121","v":6.7610942600878424E-2},{"$f":"'true value analysis'!N121","v":0.11174143149692808},{"$f":"'true value analysis'!U121","v":7.1655843068061345E-2},{"$f":"'AGI analysis'!G121","v":0.10791063252867895},{"$f":"'AGI analysis'!N121","v":0.15370693895048412},{"$f":"'AGI analysis'!U121","v":0.11210821805004406},{"$f":"'taxable retail analysis'!G121","v":4.8049389642218845E-2},{"$f":"'taxable retail analysis'!N121","v":9.1371287261067316E-2},{"$f":"'taxable retail analysis'!U121","v":5.2020176467864464E-2},null,{"$f":"VLOOKUP(A121,'Comp Index Comparison - Ranked'!$B$6:$E$140,4,FALSE)","v":0.29580000000000001},{"$f":"IF(VLOOKUP(A121,'2020-22 Comp Index Non-Res. AGI'!$A$5:$J$138,10,FALSE)=\"YES\",VLOOKUP(A121,'2020-22 Comp Index Non-Res. AGI'!$A$5:$H$147,8,FALSE),VLOOKUP(A121,'2020-2022 Composite Index Data'!$A$5:$H$139,8,FALSE))","v":0.30590000000000001}]
[119,"NORTON",{"$f":"'true value analysis'!G122","v":2.3872901899663922E-2},{"$f":"'true value analysis'!N122","v":8.7023133346440434E-2},{"$f":"'true value analysis'!U122","v":4.0752826093785256E-2},{"$f":"'AGI analysis'!G122","v":-0.12171934568998551},{"$f":"'AGI analysis'!N122","v":-6.7548924251935719E-2},{"$f":"'AGI analysis'!U122","v":-0.10723970584561636},{"$f":"'taxable retail analysis'!G122","v":-6.4583009762598328E-2},{"$f":"'taxable retail analysis'!N122","v":-6.8885446359806118E-3},{"$f":"'taxable retail analysis'!U122","v":-4.9161400443898211E-2},null,{"$f":"VLOOKUP(A122,'Comp Index Comparison - Ranked'!$B$6:$E$140,4,FALSE)","v":0.28699999999999998},{"$f":"IF(VLOOKUP(A122,'2020-22 Comp Index Non-Res. AGI'!$A$5:$J$138,10,FALSE)=\"YES\",VLOOKUP(A122,'2020-22 Comp Index Non-Res. AGI'!$A$5:$H$147,8,FALSE),VLOOKUP(A122,'2020-2022 Composite Index Data'!$A$5:$H$139,8,FALSE))","v":0.27100000000000002}]
[120,"PETERSBURG",{"$f":"'true value analysis'!G123","v":5.1849926982671331E-2},{"$f":"'true value analysis'!N123","v":8.901872324706743E-2},{"$f":"'true value analysis'!U123","v":6.3527932795568426E-2},{"$f":"'AGI analysis'!G123","v":3.161273578057499E-2},{"$f":"'AGI analysis'!N123","v":6.8066418588708294E-2},{"$f":"'AGI analysis'!U123","v":4.3066061218037931E-2},{"$f":"'taxable retail analysis'!G123","v":-3.0495817215736423E-2},{"$f":"'taxable retail analysis'!N123","v":3.7631607268286253E-3},{"$f":"'taxable retail analysis'!U123","v":-1.9732042658409013E-2},null,{"$f":"VLOOKUP(A123,'Comp Index Comparison - Ranked'!$B$6:$E$140,4,FALSE)","v":0.24299999999999999},{"$f":"IF(VLOOKUP(A123,'2020-22 Comp Index Non-Res. AGI'!$A$5:$J$138,10,FALSE)=\"YES\",VLOOKUP(A123,'2020-22 Comp Index Non-Res. AGI'!$A$5:$H$147,8,FALSE),VLOOKUP(A123,'2020-2022 Composite Index Data'!$A$5:$H$139,8,FALSE))","v":0.2442}]
[121,"PORTSMOUTH",{"$f":"'true value analysis'!G124","v":-3.2533857704666862E-3},{"$f":"'true value analysis'!N124","v":3.5736068894759207E-2},{"$f":"'true value analysis'!U124","v":1.1722878320115421E-2},{"$f":"'AGI analysis'!G124","v":4.7961770406879115E-2},{"$f":"'AGI analysis'!N124","v":8.8954593813409866E-2},{"$f":"'AGI analysis'!U124","v":6.3707549731726806E-2},{"$f":"'taxable retail analysis'!G124","v":-1.5179889727385425E-2},{"$f":"'taxable retail analysis'!N124","v":2.3343039264510292E-2},{"$f":"'taxable retail analysis'!U124","v":-3.828231082432604E-4},null,{"$f":"VLOOKUP(A124,'Comp Index Comparison - Ranked'!$B$6:$E$140,4,FALSE)","v":0.2462},{"$f":"IF(VLOOKUP(A124,'2020-22 Comp Index Non-Res. AGI'!$A$5:$J$138,10,FALSE)=\"YES\",VLOOKUP(A124,'2020-22 Comp Index Non-Res. AGI'!$A$5:$H$147,8,FALSE),VLOOKUP(A124,'2020-2022 Composite Index Data'!$A$5:$H$139,8,FALSE))","v":0.24260000000000001}]
[122,"RADFORD",{"$f":"'true value analysis'!G125","v":6.122715889016099E-2},{"$f":"'true value analysis'!N125","v":7.9408402195598304E-2},{"$f":"'true value analysis'!U125","v":7.4301319611029981E-2},{"$f":"'AGI analysis'!G125","v":{"$error":"#N/A"}},{"$f":"'AGI analysis'!N125","v":{"$error":"#N/A"}},{"$f":"'AGI analysis'!U125","v":{"$error":"#N/A"}},{"$f":"'taxable retail analysis'!G125","v":-0.12095707797691112},{"$f":"'taxable retail analysis'!N125","v":-0.10589706645408266},{"$f":"'taxable retail analysis'!U125","v":-0.11012739995105714},null,{"$f":"VLOOKUP(A125,'Comp Index Comparison - Ranked'!$B$6:$E$140,4,FALSE)","v":0.2429},{"$f":"IF(VLOOKUP(A125,'2020-22 Comp Index Non-Res. AGI'!$A$5:$J$138,10,FALSE)=\"YES\",VLOOKUP(A125,'2020-22 Comp Index Non-Res. AGI'!$A$5:$H$147,8,FALSE),VLOOKUP(A125,'2020-2022 Composite Index Data'!$A$5:$H$139,8,FALSE))","v":{"$error":"#N/A"}}]
[123,"RICHMOND CITY",{"$f":"'true value analysis'!G126","v":0.10159389831490918},{"$f":"'true value analysis'!N126","v":4.2904450052257757E-2},{"$f":"'true value analysis'!U126","v":7.7298358159659894E-2},{"$f":"'AGI analysis'!G126","v":0.13726464608534505},{"$f":"'AGI analysis'!N126","v":7.6674772893901205E-2},{"$f":"'AGI analysis'!U126","v":0.11218239125588579},{"$f":"'taxable retail analysis'!G126","v":1.0267789230969259E-2},{"$f":"'taxable retail analysis'!N126","v":-4.3556091999847703E-2},{"$f":"'taxable retail analysis'!U126","v":-1.2013562979098346E-2},null,{"$f":"VLOOKUP(A126,'Comp Index Comparison - Ranked'!$B$6:$E$140,4,FALSE)","v":0.49249999999999999},{"$f":"IF(VLOOKUP(A126,'2020-22 Comp Index Non-Res. AGI'!$A$5:$J$138,10,FALSE)=\"YES\",VLOOKUP(A126,'2020-22 Comp Index Non-Res. AGI'!$A$5:$H$147,8,FALSE),VLOOKUP(A126,'2020-2022 Composite Index Data'!$A$5:$H$139,8,FALSE))","v":0.46879999999999999}]
[124,"ROANOKE CITY",{"$f":"'true value analysis'!G127","v":3.8673892615286358E-2},{"$f":"'true value analysis'!N127","v":3.6131242241757802E-2},{"$f":"'true value analysis'!U127","v":3.6313931715021334E-2},{"$f":"'AGI analysis'!G127","v":5.6056231110964534E-2},{"$f":"'AGI analysis'!N127","v":5.3471029162987925E-2},{"$f":"'AGI analysis'!U127","v":5.365677596761069E-2},{"$f":"'taxable retail analysis'!G127","v":-3.0092600853881828E-3},{"$f":"'taxable retail analysis'!N127","v":-5.4498710367865402E-3},{"$f":"'taxable retail analysis'!U127","v":-5.2745130977657883E-3},null,{"$f":"VLOOKUP(A127,'Comp Index Comparison - Ranked'!$B$6:$E$140,4,FALSE)","v":0.34160000000000001},{"$f":"IF(VLOOKUP(A127,'2020-22 Comp Index Non-Res. AGI'!$A$5:$J$138,10,FALSE)=\"YES\",VLOOKUP(A127,'2020-22 Comp Index Non-Res. AGI'!$A$5:$H$147,8,FALSE),VLOOKUP(A127,'2020-2022 Composite Index Data'!$A$5:$H$139,8,FALSE))","v":0.32840000000000003}]
[126,"STAUNTON",{"$f":"'true value analysis'!G128","v":7.2967317678269306E-2},{"$f":"'true value analysis'!N128","v":6.1317960621133434E-2},{"$f":"'true value analysis'!U128","v":6.3477400365901493E-2},{"$f":"'AGI analysis'!G128","v":0.14070985684145984},{"$f":"'AGI analysis'!N128","v":0.12832500951014036},{"$f":"'AGI analysis'!U128","v":0.13062078698772703},{"$f":"'taxable retail analysis'!G128","v":-8.6143262461268952E-3},{"$f":"'taxable retail analysis'!N128","v":-1.9377939922523263E-2},{"$f":"'taxable retail analysis'!U128","v":-1.738269030864855E-2},null,{"$f":"VLOOKUP(A128,'Comp Index Comparison - Ranked'!$B$6:$E$140,4,FALSE)","v":0.38669999999999999},{"$f":"IF(VLOOKUP(A128,'2020-22 Comp Index Non-Res. AGI'!$A$5:$J$138,10,FALSE)=\"YES\",VLOOKUP(A128,'2020-22 Comp Index Non-Res. AGI'!$A$5:$H$147,8,FALSE),VLOOKUP(A128,'2020-2022 Composite Index Data'!$A$5:$H$139,8,FALSE))","v":0.38769999999999999}]
[127,"SUFFOLK",{"$f":"'true value analysis'!G129","v":6.9447854967300798E-2},{"$f":"'true value analysis'!N129","v":7.3605975688336947E-2},{"$f":"'true value analysis'!U129","v":4.5096254668854904E-2},{"$f":"'AGI analysis'!G129","v":0.15175945855978679},{"$f":"'AGI analysis'!N129","v":0.15623761506647602},{"$f":"'AGI analysis'!U129","v":0.12553360206334263},{"$f":"'taxable retail analysis'!G129","v":9.02601523890975E-2},{"$f":"'taxable retail analysis'!N129","v":9.4499193413783614E-2},{"$f":"'taxable retail analysis'!U129","v":6.5434650772551811E-2},null,{"$f":"VLOOKUP(A129,'Comp Index Comparison - Ranked'!$B$6:$E$140,4,FALSE)","v":0.34200000000000003},{"$f":"IF(VLOOKUP(A129,'2020-22 Comp Index Non-Res. AGI'!$A$5:$J$138,10,FALSE)=\"YES\",VLOOKUP(A129,'2020-22 Comp Index Non-Res. AGI'!$A$5:$H$147,8,FALSE),VLOOKUP(A129,'2020-2022 Composite Index Data'!$A$5:$H$139,8,FALSE))","v":0.34870000000000001}]
[128,"VIRGINIA BEACH",{"$f":"'true value analysis'!G130","v":6.499029847509738E-2},{"$f":"'true value analysis'!N130","v":7.7669997859484238E-2},{"$f":"'true value analysis'!U130","v":6.2768678393252134E-2},{"$f":"'AGI analysis'!G130","v":0.12687431242947564},{"$f":"'AGI analysis'!N130","v":0.14029079851958579},{"$f":"'AGI analysis'!U130","v":0.12452359937059294},{"$f":"'taxable retail analysis'!G130","v":4.1414497097982207E-2},{"$f":"'taxable retail analysis'!N130","v":5.3813504653874474E-2},{"$f":"'taxable retail analysis'!U130","v":3.9242057251731646E-2},null,{"$f":"VLOOKUP(A130,'Comp Index Comparison - Ranked'!$B$6:$E$140,4,FALSE)","v":0.40460000000000002},{"$f":"IF(VLOOKUP(A130,'2020-22 Comp Index Non-Res. AGI'!$A$5:$J$138,10,FALSE)=\"YES\",VLOOKUP(A130,'2020-22 Comp Index Non-Res. AGI'!$A$5:$H$147,8,FALSE),VLOOKUP(A130,'2020-2022 Composite Index Data'!$A$5:$H$139,8,FALSE))","v":0.40820000000000001}]
[130,"WAYNESBORO",{"$f":"'true value analysis'!G131","v":7.2281396242219548E-2},{"$f":"'true value analysis'!N131","v":0.11142268959998178},{"$f":"'true value analysis'!U131","v":6.4467002099711887E-2},{"$f":"'AGI analysis'!G131","v":0.15591097621163183},{"$f":"'AGI analysis'!N131","v":0.19810498496149234},{"$f":"'AGI analysis'!U131","v":0.14748712031576036},{"$f":"'taxable retail analysis'!G131","v":-3.4546288930339702E-2},{"$f":"'taxable retail analysis'!N131","v":6.9549280787627827E-4},{"$f":"'taxable retail analysis'!U131","v":-4.1582162023992363E-2},null,{"$f":"VLOOKUP(A131,'Comp Index Comparison - Ranked'!$B$6:$E$140,4,FALSE)","v":0.35780000000000001},{"$f":"IF(VLOOKUP(A131,'2020-22 Comp Index Non-Res. AGI'!$A$5:$J$138,10,FALSE)=\"YES\",VLOOKUP(A131,'2020-22 Comp Index Non-Res. AGI'!$A$5:$H$147,8,FALSE),VLOOKUP(A131,'2020-2022 Composite Index Data'!$A$5:$H$139,8,FALSE))","v":0.36520000000000002}]
[131,"WILLIAMSBURG",{"$f":"'true value analysis'!G132","v":6.433846707108612E-2},{"$f":"'true value analysis'!N132","v":5.5287389718794801E-2},{"$f":"'true value analysis'!U132","v":2.6750819311629415E-2},{"$f":"'AGI analysis'!G132","v":6.2314794479733843E-2},{"$f":"'AGI analysis'!N132","v":5.328092633083685E-2},{"$f":"'AGI analysis'!U132","v":2.4798613734669094E-2},{"$f":"'taxable retail analysis'!G132","v":2.7609643682898845E-2},{"$f":"'taxable retail analysis'!N132","v":1.8870906278688128E-2},{"$f":"'taxable retail analysis'!U132","v":-8.6809072235863108E-3},null,{"$f":"VLOOKUP(A132,'Comp Index Comparison - Ranked'!$B$6:$E$140,4,FALSE)","v":0.77029999999999998},{"$f":"IF(VLOOKUP(A132,'2020-22 Comp Index Non-Res. AGI'!$A$5:$J$138,10,FALSE)=\"YES\",VLOOKUP(A132,'2020-22 Comp Index Non-Res. AGI'!$A$5:$H$147,8,FALSE),VLOOKUP(A132,'2020-2022 Composite Index Data'!$A$5:$H$139,8,FALSE))","v":0.74590000000000001}]
[132,"WINCHESTER",{"$f":"'true value analysis'!G133","v":7.0603729326307096E-2},{"$f":"'true value analysis'!N133","v":8.5317964271291166E-2},{"$f":"'true value analysis'!U133","v":5.1871509102422414E-2},{"$f":"'AGI analysis'!G133","v":0.17737849372344541},{"$f":"'AGI analysis'!N133","v":0.19356022679728743},{"$f":"'AGI analysis'!U133","v":0.156778048734176},{"$f":"'taxable retail analysis'!G133","v":6.8872569496714858E-2},{"$f":"'taxable retail analysis'!N133","v":8.3563011611763577E-2},{"$f":"'taxable retail analysis'!U133","v":5.0170639160939418E-2},null,{"$f":"VLOOKUP(A133,'Comp Index Comparison - Ranked'!$B$6:$E$140,4,FALSE)","v":0.4244},{"$f":"IF(VLOOKUP(A133,'2020-22 Comp Index Non-Res. AGI'!$A$5:$J$138,10,FALSE)=\"YES\",VLOOKUP(A133,'2020-22 Comp Index Non-Res. AGI'!$A$5:$H$147,8,FALSE),VLOOKUP(A133,'2020-2022 Composite Index Data'!$A$5:$H$139,8,FALSE))","v":0.43190000000000001}]
[134,"FAIRFAX CITY",{"$f":"'true value analysis'!G134","v":4.2936063963294795E-2},{"$f":"'true value analysis'!N134","v":5.8393842752604327E-2},{"$f":"'true value analysis'!U134","v":1.5270351794362935E-2},{"$f":"'AGI analysis'!G134","v":0.13387656838830503},{"$f":"'AGI analysis'!N134","v":0.15068221331146758},{"$f":"'AGI analysis'!U134","v":0.10379849950178212},{"$f":"'taxable retail analysis'!G134","v":8.7256882539618712E-3},{"$f":"'taxable retail analysis'!N134","v":2.3676421177003779E-2},{"$f":"'taxable retail analysis'!U134","v":-1.8032533570865057E-2},null,{"$f":"VLOOKUP(A134,'Comp Index Comparison - Ranked'!$B$6:$E$140,4,FALSE)","v":0.8},{"$f":"IF(VLOOKUP(A134,'2020-22 Comp Index Non-Res. AGI'!$A$5:$J$138,10,FALSE)=\"YES\",VLOOKUP(A134,'2020-22 Comp Index Non-Res. AGI'!$A$5:$H$147,8,FALSE),VLOOKUP(A134,'2020-2022 Composite Index Data'!$A$5:$H$139,8,FALSE))","v":0.8}]
[135,"FRANKLIN CITY",{"$f":"'true value analysis'!G135","v":2.5134612002342484E-2},{"$f":"'true value analysis'!N135","v":4.9567635556787552E-2},{"$f":"'true value analysis'!U135","v":3.2514032740145381E-2},{"$f":"'AGI analysis'!G135","v":3.318290742852658E-2},{"$f":"'AGI analysis'!N135","v":5.7807753783039768E-2},{"$f":"'AGI analysis'!U135","v":4.0620263736426056E-2},{"$f":"'taxable retail analysis'!G135","v":1.2031325441431134E-2},{"$f":"'taxable retail analysis'!N135","v":3.6152045708644359E-2},{"$f":"'taxable retail analysis'!U135","v":1.9316422308545408E-2},null,{"$f":"VLOOKUP(A135,'Comp Index Comparison - Ranked'!$B$6:$E$140,4,FALSE)","v":0.29520000000000002},{"$f":"IF(VLOOKUP(A135,'2020-22 Comp Index Non-Res. AGI'!$A$5:$J$138,10,FALSE)=\"YES\",VLOOKUP(A135,'2020-22 Comp Index Non-Res. AGI'!$A$5:$H$147,8,FALSE),VLOOKUP(A135,'2020-2022 Composite Index Data'!$A$5:$H$139,8,FALSE))","v":0.29289999999999999}]
[136,"CHESAPEAKE",{"$f":"'true value analysis'!G136","v":7.7582330032606325E-2},{"$f":"'true value analysis'!N136","v":5.7774484381205138E-2},{"$f":"'true value analysis'!U136","v":5.8167152323914707E-2},{"$f":"'AGI analysis'!G136","v":0.15684692711286186},{"$f":"'AGI analysis'!N136","v":0.13558205970003426},{"$f":"'AGI analysis'!U136","v":0.13600361143695394},{"$f":"'taxable retail analysis'!G136","v":5.1201726148657173E-2},{"$f":"'taxable retail analysis'!N136","v":3.1878802080842462E-2},{"$f":"'taxable retail analysis'!U136","v":3.2261857006369028E-2},null,{"$f":"VLOOKUP(A136,'Comp Index Comparison - Ranked'!$B$6:$E$140,4,FALSE)","v":0.34760000000000002},{"$f":"IF(VLOOKUP(A136,'2020-22 Comp Index Non-Res. AGI'!$A$5:$J$138,10,FALSE)=\"YES\",VLOOKUP(A136,'2020-22 Comp Index Non-Res. AGI'!$A$5:$H$147,8,FALSE),VLOOKUP(A136,'2020-2022 Composite Index Data'!$A$5:$H$139,8,FALSE))","v":0.34860000000000002}]
[137,"LEXINGTON",{"$f":"'true value analysis'!G137","v":-1.2433169500840344E-2},{"$f":"'true value analysis'!N137","v":-2.2746050056985809E-2},{"$f":"'true value analysis'!U137","v":4.6499470069704335E-3},{"$f":"'AGI analysis'!G137","v":7.4595005933131134E-2},{"$f":"'AGI analysis'!N137","v":6.3373314802803005E-2},{"$f":"'AGI analysis'!U137","v":9.3183552164264397E-2},{"$f":"'taxable retail analysis'!G137","v":5.794211760931893E-2},{"$f":"'taxable retail analysis'!N137","v":4.6894327872693244E-2},{"$f":"'taxable retail analysis'!U137","v":7.6242599050666257E-2},null,{"$f":"VLOOKUP(A137,'Comp Index Comparison - Ranked'!$B$6:$E$140,4,FALSE)","v":0.41720000000000002},{"$f":"IF(VLOOKUP(A137,'2020-22 Comp Index Non-Res. AGI'!$A$5:$J$138,10,FALSE)=\"YES\",VLOOKUP(A137,'2020-22 Comp Index Non-Res. AGI'!$A$5:$H$147,8,FALSE),VLOOKUP(A137,'2020-2022 Composite Index Data'!$A$5:$H$139,8,FALSE))","v":0.39200000000000002}]
[138,"EMPORIA",{"$f":"'true value analysis'!G138","v":4.6432562548489854E-2},{"$f":"'true value analysis'!N138","v":4.8081261918960658E-2},{"$f":"'true value analysis'!U138","v":9.7878703712250367E-2},{"$f":"'AGI analysis'!G138","v":6.6249525392498357E-2},{"$f":"'AGI analysis'!N138","v":6.7929447237627352E-2},{"$f":"'AGI analysis'!U138","v":0.11866993504177584},{"$f":"'taxable retail analysis'!G138","v":5.9072726936574206E-2},{"$f":"'taxable retail analysis'!N138","v":6.0741341428014219E-2},{"$f":"'taxable retail analysis'!U138","v":0.11114030105714075},null,{"$f":"VLOOKUP(A138,'Comp Index Comparison - Ranked'!$B$6:$E$140,4,FALSE)","v":0.21679999999999999},{"$f":"IF(VLOOKUP(A138,'2020-22 Comp Index Non-Res. AGI'!$A$5:$J$138,10,FALSE)=\"YES\",VLOOKUP(A138,'2020-22 Comp Index Non-Res. AGI'!$A$5:$H$147,8,FALSE),VLOOKUP(A138,'2020-2022 Composite Index Data'!$A$5:$H$139,8,FALSE))","v":0.2228}]
[139,"SALEM",{"$f":"'true value analysis'!G139","v":7.6955016603670337E-2},{"$f":"'true value analysis'!N139","v":3.3567317015796738E-2},{"$f":"'true value analysis'!U139","v":6.6847685360184109E-2},{"$f":"'AGI analysis'!G139","v":9.7391735631837353E-2},{"$f":"'AGI analysis'!N139","v":5.3180694110377472E-2},{"$f":"'AGI analysis'!U139","v":8.7092603722990686E-2},{"$f":"'taxable retail analysis'!G139","v":4.8131696530105496E-2},{"$f":"'taxable retail analysis'!N139","v":5.9052130870072186E-3},{"$f":"'taxable retail analysis'!U139","v":3.8294875047035444E-2},null,{"$f":"VLOOKUP(A139,'Comp Index Comparison - Ranked'!$B$6:$E$140,4,FALSE)","v":0.3715},{"$f":"IF(VLOOKUP(A139,'2020-22 Comp Index Non-Res. AGI'!$A$5:$J$138,10,FALSE)=\"YES\",VLOOKUP(A139,'2020-22 Comp Index Non-Res. AGI'!$A$5:$H$147,8,FALSE),VLOOKUP(A139,'2020-2022 Composite Index Data'!$A$5:$H$139,8,FALSE))","v":0.36409999999999998}]
[142,"POQUOSON",{"$f":"'true value analysis'!G140","v":4.2242083127253173E-2},{"$f":"'true value analysis'!N140","v":3.3845249238752123E-2},{"$f":"'true value analysis'!U140","v":4.6305735144969627E-2},{"$f":"'AGI analysis'!G140","v":7.8204377430671712E-2},{"$f":"'AGI analysis'!N140","v":6.95178129542353E-2},{"$f":"'AGI analysis'!U140","v":8.240824471331902E-2},{"$f":"'taxable retail analysis'!G140","v":3.714511356522658E-3},{"$f":"'taxable retail analysis'!N140","v":-4.3719247601715786E-3},{"$f":"'taxable retail analysis'!U140","v":7.6279462151947995E-3},null,{"$f":"VLOOKUP(A140,'Comp Index Comparison - Ranked'!$B$6:$E$140,4,FALSE)","v":0.37419999999999998},{"$f":"IF(VLOOKUP(A140,'2020-22 Comp Index Non-Res. AGI'!$A$5:$J$138,10,FALSE)=\"YES\",VLOOKUP(A140,'2020-22 Comp Index Non-Res. AGI'!$A$5:$H$147,8,FALSE),VLOOKUP(A140,'2020-2022 Composite Index Data'!$A$5:$H$139,8,FALSE))","v":0.37030000000000002}]
[143,"MANASSAS",{"$f":"'true value analysis'!G141","v":0.10426292946319886},{"$f":"'true value analysis'!N141","v":7.5949716406371118E-2},{"$f":"'true value analysis'!U141","v":9.8818653957145855E-2},{"$f":"'AGI analysis'!G141","v":6.9261235075984695E-2},{"$f":"'AGI analysis'!N141","v":4.1845462659509711E-2},{"$f":"'AGI analysis'!U141","v":6.3989526141115222E-2},{"$f":"'taxable retail analysis'!G141","v":0.10382266606529016},{"$f":"'taxable retail analysis'!N141","v":7.5520741326718432E-2},{"$f":"'taxable retail analysis'!U141","v":9.8380561161155705E-2},null,{"$f":"VLOOKUP(A141,'Comp Index Comparison - Ranked'!$B$6:$E$140,4,FALSE)","v":0.35570000000000002},{"$f":"IF(VLOOKUP(A141,'2020-22 Comp Index Non-Res. AGI'!$A$5:$J$138,10,FALSE)=\"YES\",VLOOKUP(A141,'2020-22 Comp Index Non-Res. AGI'!$A$5:$H$147,8,FALSE),VLOOKUP(A141,'2020-2022 Composite Index Data'!$A$5:$H$139,8,FALSE))","v":0.36109999999999998}]
[144,"MANASSAS PARK",{"$f":"'true value analysis'!G142","v":0.10152612047316448},{"$f":"'true value analysis'!N142","v":3.5989382021603011E-2},{"$f":"'true value analysis'!U142","v":7.1364148892868448E-2},{"$f":"'AGI analysis'!G142","v":0.23866565573946347},{"$f":"'AGI analysis'!N142","v":0.16496962111955019},{"$f":"'AGI analysis'!U142","v":0.20474853147748581},{"$f":"'taxable retail analysis'!G142","v":8.8919126960321143E-2},{"$f":"'taxable retail analysis'!N142","v":2.4132458090547575E-2},{"$f":"'taxable retail analysis'!U142","v":5.910235988582848E-2},null,{"$f":"VLOOKUP(A142,'Comp Index Comparison - Ranked'!$B$6:$E$140,4,FALSE)","v":0.26750000000000002},{"$f":"IF(VLOOKUP(A142,'2020-22 Comp Index Non-Res. AGI'!$A$5:$J$138,10,FALSE)=\"YES\",VLOOKUP(A142,'2020-22 Comp Index Non-Res. AGI'!$A$5:$H$147,8,FALSE),VLOOKUP(A142,'2020-2022 Composite Index Data'!$A$5:$H$139,8,FALSE))","v":0.27550000000000002}]
[202,"COLONIAL BEACH",{"$f":"'true value analysis'!G143","v":-2.3125599652746374E-2},{"$f":"'true value analysis'!N143","v":-6.7245561959567351E-2},{"$f":"'true value analysis'!U143","v":-2.0114779141729405E-2},{"$f":"'AGI analysis'!G143","v":0.13529364048928738},{"$f":"'AGI analysis'!N143","v":8.4018765635615666E-2},{"$f":"'AGI analysis'!U143","v":0.13879272427897144},{"$f":"'taxable retail analysis'!G143","v":-5.0372911199230239E-3},{"$f":"'taxable retail analysis'!N143","v":-4.9974201327496311E-2},{"$f":"'taxable retail analysis'!U143","v":-1.9707207086928674E-3},null,{"$f":"VLOOKUP(A143,'Comp Index Comparison - Ranked'!$B$6:$E$140,4,FALSE)","v":0.36},{"$f":"IF(VLOOKUP(A143,'2020-22 Comp Index Non-Res. AGI'!$A$5:$J$138,10,FALSE)=\"YES\",VLOOKUP(A143,'2020-22 Comp Index Non-Res. AGI'!$A$5:$H$147,8,FALSE),VLOOKUP(A143,'2020-2022 Composite Index Data'!$A$5:$H$139,8,FALSE))","v":0.33169999999999999}]
[207,"WEST POINT",{"$f":"'true value analysis'!G144","v":0.16182586456742032},{"$f":"'true value analysis'!N144","v":0.11565494328343114},{"$f":"'true value analysis'!U144","v":0.16883960356269601},{"$f":"'AGI analysis'!G144","v":0.13864761126554132},{"$f":"'AGI analysis'!N144","v":9.3397792998224927E-2},{"$f":"'AGI analysis'!U144","v":0.14552142721039807},{"$f":"'taxable retail analysis'!G144","v":-8.558715866859596E-3},{"$f":"'taxable retail analysis'!N144","v":-4.7958559581349376E-2},{"$f":"'taxable retail analysis'!U144","v":-2.5735587033633412E-3},null,{"$f":"VLOOKUP(A144,'Comp Index Comparison - Ranked'!$B$6:$E$140,4,FALSE)","v":0.25540000000000002},{"$f":"IF(VLOOKUP(A144,'2020-22 Comp Index Non-Res. AGI'!$A$5:$J$138,10,FALSE)=\"YES\",VLOOKUP(A144,'2020-22 Comp Index Non-Res. AGI'!$A$5:$H$147,8,FALSE),VLOOKUP(A144,'2020-2022 Composite Index Data'!$A$5:$H$139,8,FALSE))","v":0.26140000000000002}]

{"sheet":"Appropriation Act Language","index":6,"n_rows":14,"n_cols":1,"rows_kept":14,"cut":false,"hidden":false,"merged":[]}
["Excerpts from Current Budget Language on the Composite Index from"]
["Chapter 854, 2019 Acts of Assembly (2018-2020 Appropriation Act)"]
["no data"]
["Item 136 Definitions:"]
["no data"]
["4.a. \"Composite Index of Local Ability-to-Pay\" - An index figure computed for each locality. The composite index is the sum of 2/3 of the index of wealth per pupil in unadjusted March 31 ADM reported for the first seven (7) months of the 2015-2016 school year and 1/3 of the index of wealth per capita (population estimates for 2015 as determined by the Weldon Cooper Center for Public Service of the University of Virginia) multiplied by the local nominal share of the costs of the Standards of Quality of 0.45 in each year. The indices of wealth are determined by combining the following constituent index elements with the indicated weighting:"]
["(1) true values of real estate and public service corporations as reported by the State Department of Taxation for the calendar year 2015 - 50 percent; (2) adjusted gross income for the calendar year 2015 as reported by the State Department of Taxation - 40 percent; (3) the sales for the calendar year 2015 which are subject to the state general sales and use tax, as reported by the State Department of Taxation - 10 percent. Each constituent index element for a locality is its sum per March 31 ADM, or per capita, expressed as a percentage of the state average per March 31 ADM, or per capita, for the same element. A locality whose composite index exceeds 0.8000 shall be considered as having an index of 0.8000 for purposes of distributing all payments based on the composite index of local ability-to-pay. Each constituent index element for a locality used to determine the composite index of local ability-to-pay for the current biennium shall be the latest available data for the specified official base year provided to the Department of Education by the responsible source agencies no later than November 15, 2017."]
["b. For any locality whose total calendar year 2015 Virginia Adjusted Gross Income is comprised of at least 3 percent or more by nonresidents of Virginia, such nonresident income shall be excluded in computing the composite index of ability-to-pay. The Department of Education shall compute the composite index for such localities by using adjusted gross income data which exclude nonresident income, but shall not adjust the composite index of any other localities. The Department of Taxation shall furnish to the Department of Education such data as are necessary to implement this provision."]
["c.1) Notwithstanding the funding provisions in § 22.1-25 D, Code of Virginia, additional state funding for future consolidations shall be as set forth in future Appropriation Acts."]
["2) In the case of the consolidation of Clifton Forge and Alleghany County school divisions, the fifteen year period for the application of a new composite index shall apply beginning with the fiscal year that starts on July 1, 2004. The composite index established by the Board of Education shall equal the lowest composite index that was in effect prior to July 1, 2004, of any individual localities involved in such consolidation, and this index shall remain in effect for a period of fifteen years, unless a lower composite index is calculated for the combined division through the process for computing an index as set forth above."]
["3) If the composite index of a consolidated school division is reduced during the course of the fifteen year period to a level that would entitle the school division to a lower interest rate for a Literary Fund loan than it received when the loan was originally released, the Board of Education shall reduce the interest rate of such loan for the remainder of the period of the loan. Such reduction shall be based on the interest rate that would apply at the time of such adjustment. This rate shall remain in effect for the duration of the loan and shall apply only to those years remaining to be paid."]
["4) In the case of the consolidation of Bedford County and Bedford City school divisions, the fifteen year period for the application of a new composite shall apply beginning with the fiscal year that starts on July 1, 2013. The composite index established by the Board of Education shall equal the lowest composite index that was in effect prior to July 1, 2013, of any individual localities involved in such consolidation, and this index shall remain in effect for a period of fifteen years, unless a lower composite index is calculated for the combined division through the process for computing an index as set forth above."]
["d. When it is determined that a substantial error exists in a constituent index element, the Department of Education will make adjustments in funding for the current school year only in the division where the error occurred. The composite index of any other locality shall not be changed as a result of the adjustment. No adjustment during the biennium will be made as a result of updating of data used in a constituent index element.\n\n"]
["End of worksheet"]

{"sheet":"2020-2022 Composite Index Data","index":7,"n_rows":145,"n_cols":8,"rows_kept":145,"cut":false,"hidden":false,"merged":[[142,0,142,7],[143,0,143,7],[140,0,140,7],[0,0,0,7],[1,0,1,7],[2,0,2,7],[141,0,141,7]]}
["2020-2022 COMPOSITE INDEX OF LOCAL ABILITY-TO-PAY"]
["2017 is the base year of Indicators of Ability-to-Pay in the table below"]
["Footnotes are provided in cell A149 and A150"]
["DivNum","DIVISION","TRUE VALUE OF PROPERTY INDICATOR","ADJUSTED GROSS INCOME (including nonresident AGI ) INDICATOR","TAXABLE RETAIL SALES INDICATOR",{"$f":"+'2020-2022 Composite Index'!G5","v":"MARCH 31, 2018 ADM INDICATOR"},"TOTAL POPULATION INDICATOR","2012-2014 Composite Index Calculated Including Nonresident AGI"]
[1,"ACCOMACK",{"$f":"VLOOKUP($A5,'2020-2022 Composite Index'!$A$6:$K$140,3,FALSE)","v":4275437691.2961879},{"$f":"VLOOKUP($A5,'2020-2022 Composite Index'!$A$6:$K$140,4,FALSE)","v":710967096.66079998},{"$f":"VLOOKUP($A5,'2020-2022 Composite Index'!$A$6:$K$140,6,FALSE)","v":342140946.14999998},{"$f":"VLOOKUP($A5,'2020-2022 Composite Index'!$A$6:$K$140,7,FALSE)","v":5017.54},{"$f":"VLOOKUP($A5,'2020-2022 Composite Index'!$A$6:$K$140,8,FALSE)","v":33041},{"$f":"VLOOKUP($A5,'2020-2022 Composite Index'!$A$6:$K$140,9,FALSE)","v":0.34570000000000001}]
[2,"ALBEMARLE",{"$f":"VLOOKUP($A6,'2020-2022 Composite Index'!$A$6:$K$140,3,FALSE)","v":20330392876.497055},{"$f":"VLOOKUP($A6,'2020-2022 Composite Index'!$A$6:$K$140,4,FALSE)","v":4705654613.3959999},{"$f":"VLOOKUP($A6,'2020-2022 Composite Index'!$A$6:$K$140,6,FALSE)","v":1490607721.02},{"$f":"VLOOKUP($A6,'2020-2022 Composite Index'!$A$6:$K$140,7,FALSE)","v":13510.2},{"$f":"VLOOKUP($A6,'2020-2022 Composite Index'!$A$6:$K$140,8,FALSE)","v":107697},{"$f":"VLOOKUP($A6,'2020-2022 Composite Index'!$A$6:$K$140,9,FALSE)","v":0.64490000000000003}]
[3,"ALLEGHANY",{"$f":"VLOOKUP($A7,'2020-2022 Composite Index'!$A$6:$K$140,3,FALSE)","v":1375295243.7933462},{"$f":"VLOOKUP($A7,'2020-2022 Composite Index'!$A$6:$K$140,4,FALSE)","v":314799601.042},{"$f":"VLOOKUP($A7,'2020-2022 Composite Index'!$A$6:$K$140,6,FALSE)","v":70845093.010000005},{"$f":"VLOOKUP($A7,'2020-2022 Composite Index'!$A$6:$K$140,7,FALSE)","v":2069.58},{"$f":"VLOOKUP($A7,'2020-2022 Composite Index'!$A$6:$K$140,8,FALSE)","v":15405},{"$f":"VLOOKUP($A7,'2020-2022 Composite Index'!$A$6:$K$140,11,FALSE)","v":0.28189999999999998}]
[4,"AMELIA",{"$f":"VLOOKUP($A8,'2020-2022 Composite Index'!$A$6:$K$140,3,FALSE)","v":1539511713.3606598},{"$f":"VLOOKUP($A8,'2020-2022 Composite Index'!$A$6:$K$140,4,FALSE)","v":301430326.46880001},{"$f":"VLOOKUP($A8,'2020-2022 Composite Index'!$A$6:$K$140,6,FALSE)","v":64025091.090000004},{"$f":"VLOOKUP($A8,'2020-2022 Composite Index'!$A$6:$K$140,7,FALSE)","v":1737.54},{"$f":"VLOOKUP($A8,'2020-2022 Composite Index'!$A$6:$K$140,8,FALSE)","v":12948},{"$f":"VLOOKUP($A8,'2020-2022 Composite Index'!$A$6:$K$140,9,FALSE)","v":0.34789999999999999}]
[5,"AMHERST",{"$f":"VLOOKUP($A9,'2020-2022 Composite Index'!$A$6:$K$140,3,FALSE)","v":2927837117.5589175},{"$f":"VLOOKUP($A9,'2020-2022 Composite Index'!$A$6:$K$140,4,FALSE)","v":620940701.74199998},{"$f":"VLOOKUP($A9,'2020-2022 Composite Index'!$A$6:$K$140,6,FALSE)","v":247735438.91999999},{"$f":"VLOOKUP($A9,'2020-2022 Composite Index'!$A$6:$K$140,7,FALSE)","v":3867.25},{"$f":"VLOOKUP($A9,'2020-2022 Composite Index'!$A$6:$K$140,8,FALSE)","v":31982},{"$f":"VLOOKUP($A9,'2020-2022 Composite Index'!$A$6:$K$140,9,FALSE)","v":0.31409999999999999}]
[6,"APPOMATTOX",{"$f":"VLOOKUP($A10,'2020-2022 Composite Index'!$A$6:$K$140,3,FALSE)","v":1518108117.1138613},{"$f":"VLOOKUP($A10,'2020-2022 Composite Index'!$A$6:$K$140,4,FALSE)","v":316652150.22399998},{"$f":"VLOOKUP($A10,'2020-2022 Composite Index'!$A$6:$K$140,6,FALSE)","v":117292203.81999999},{"$f":"VLOOKUP($A10,'2020-2022 Composite Index'!$A$6:$K$140,7,FALSE)","v":2179.2199999999998},{"$f":"VLOOKUP($A10,'2020-2022 Composite Index'!$A$6:$K$140,8,FALSE)","v":15536},{"$f":"VLOOKUP($A10,'2020-2022 Composite Index'!$A$6:$K$140,9,FALSE)","v":0.29780000000000001}]
[7,"ARLINGTON",{"$f":"VLOOKUP($A11,'2020-2022 Composite Index'!$A$6:$K$140,3,FALSE)","v":79645130693.357285},{"$f":"VLOOKUP($A11,'2020-2022 Composite Index'!$A$6:$K$140,4,FALSE)","v":14433695257.162001},{"$f":"VLOOKUP($A11,'2020-2022 Composite Index'!$A$6:$K$140,6,FALSE)","v":3258772638.29},{"$f":"VLOOKUP($A11,'2020-2022 Composite Index'!$A$6:$K$140,7,FALSE)","v":25750.7},{"$f":"VLOOKUP($A11,'2020-2022 Composite Index'!$A$6:$K$140,8,FALSE)","v":239074},{"$f":"VLOOKUP($A11,'2020-2022 Composite Index'!$A$6:$K$140,9,FALSE)","v":0.8}]
[8,"AUGUSTA",{"$f":"VLOOKUP($A12,'2020-2022 Composite Index'!$A$6:$K$140,3,FALSE)","v":9526531504.9195671},{"$f":"VLOOKUP($A12,'2020-2022 Composite Index'!$A$6:$K$140,4,FALSE)","v":1840044888.3870001},{"$f":"VLOOKUP($A12,'2020-2022 Composite Index'!$A$6:$K$140,6,FALSE)","v":471863459.75},{"$f":"VLOOKUP($A12,'2020-2022 Composite Index'!$A$6:$K$140,7,FALSE)","v":9939.5499999999993},{"$f":"VLOOKUP($A12,'2020-2022 Composite Index'!$A$6:$K$140,8,FALSE)","v":75013},{"$f":"VLOOKUP($A12,'2020-2022 Composite Index'!$A$6:$K$140,9,FALSE)","v":0.37690000000000001}]
[9,"BATH",{"$f":"VLOOKUP($A13,'2020-2022 Composite Index'!$A$6:$K$140,3,FALSE)","v":2210598733.034523},{"$f":"VLOOKUP($A13,'2020-2022 Composite Index'!$A$6:$K$140,4,FALSE)","v":105911017.4508},{"$f":"VLOOKUP($A13,'2020-2022 Composite Index'!$A$6:$K$140,6,FALSE)","v":74264255.150000006},{"$f":"VLOOKUP($A13,'2020-2022 Composite Index'!$A$6:$K$140,7,FALSE)","v":516.70000000000005},{"$f":"VLOOKUP($A13,'2020-2022 Composite Index'!$A$6:$K$140,8,FALSE)","v":4556},{"$f":"VLOOKUP($A13,'2020-2022 Composite Index'!$A$6:$K$140,9,FALSE)","v":0.8}]
[10,"BEDFORD",{"$f":"VLOOKUP($A14,'2020-2022 Composite Index'!$A$6:$K$140,3,FALSE)","v":10557134172.444504},{"$f":"VLOOKUP($A14,'2020-2022 Composite Index'!$A$6:$K$140,4,FALSE)","v":2154075391.4400001},{"$f":"VLOOKUP($A14,'2020-2022 Composite Index'!$A$6:$K$140,6,FALSE)","v":504850970.55000001},{"$f":"VLOOKUP($A14,'2020-2022 Composite Index'!$A$6:$K$140,7,FALSE)","v":9460.6},{"$f":"VLOOKUP($A14,'2020-2022 Composite Index'!$A$6:$K$140,8,FALSE)","v":77807},{"$f":"VLOOKUP($A14,'2020-2022 Composite Index'!$A$6:$K$140,11,FALSE)","v":0.31319999999999998}]
[11,"BLAND",{"$f":"VLOOKUP($A15,'2020-2022 Composite Index'!$A$6:$K$140,3,FALSE)","v":721512817.16380513},{"$f":"VLOOKUP($A15,'2020-2022 Composite Index'!$A$6:$K$140,4,FALSE)","v":111626985.583},{"$f":"VLOOKUP($A15,'2020-2022 Composite Index'!$A$6:$K$140,6,FALSE)","v":30921905},{"$f":"VLOOKUP($A15,'2020-2022 Composite Index'!$A$6:$K$140,7,FALSE)","v":722.71},{"$f":"VLOOKUP($A15,'2020-2022 Composite Index'!$A$6:$K$140,8,FALSE)","v":6511},{"$f":"VLOOKUP($A15,'2020-2022 Composite Index'!$A$6:$K$140,9,FALSE)","v":0.34089999999999998}]
[12,"BOTETOURT",{"$f":"VLOOKUP($A16,'2020-2022 Composite Index'!$A$6:$K$140,3,FALSE)","v":4369317736.1863489},{"$f":"VLOOKUP($A16,'2020-2022 Composite Index'!$A$6:$K$140,4,FALSE)","v":938448526.77600002},{"$f":"VLOOKUP($A16,'2020-2022 Composite Index'!$A$6:$K$140,6,FALSE)","v":215688997.53},{"$f":"VLOOKUP($A16,'2020-2022 Composite Index'!$A$6:$K$140,7,FALSE)","v":4547.8900000000003},{"$f":"VLOOKUP($A16,'2020-2022 Composite Index'!$A$6:$K$140,8,FALSE)","v":33350},{"$f":"VLOOKUP($A16,'2020-2022 Composite Index'!$A$6:$K$140,9,FALSE)","v":0.39750000000000002}]
[13,"BRUNSWICK",{"$f":"VLOOKUP($A17,'2020-2022 Composite Index'!$A$6:$K$140,3,FALSE)","v":2340978032.9505591},{"$f":"VLOOKUP($A17,'2020-2022 Composite Index'!$A$6:$K$140,4,FALSE)","v":254869443.56200001},{"$f":"VLOOKUP($A17,'2020-2022 Composite Index'!$A$6:$K$140,6,FALSE)","v":69549513.510000005},{"$f":"VLOOKUP($A17,'2020-2022 Composite Index'!$A$6:$K$140,7,FALSE)","v":1559.33},{"$f":"VLOOKUP($A17,'2020-2022 Composite Index'!$A$6:$K$140,8,FALSE)","v":16581},{"$f":"VLOOKUP($A17,'2020-2022 Composite Index'!$A$6:$K$140,9,FALSE)","v":0.43280000000000002}]
[14,"BUCHANAN",{"$f":"VLOOKUP($A18,'2020-2022 Composite Index'!$A$6:$K$140,3,FALSE)","v":2465511602.061337},{"$f":"VLOOKUP($A18,'2020-2022 Composite Index'!$A$6:$K$140,4,FALSE)","v":283142350.56},{"$f":"VLOOKUP($A18,'2020-2022 Composite Index'!$A$6:$K$140,6,FALSE)","v":140412697.74000001},{"$f":"VLOOKUP($A18,'2020-2022 Composite Index'!$A$6:$K$140,7,FALSE)","v":2726.8},{"$f":"VLOOKUP($A18,'2020-2022 Composite Index'!$A$6:$K$140,8,FALSE)","v":22004},{"$f":"VLOOKUP($A18,'2020-2022 Composite Index'!$A$6:$K$140,9,FALSE)","v":0.29749999999999999}]
[15,"BUCKINGHAM",{"$f":"VLOOKUP($A19,'2020-2022 Composite Index'!$A$6:$K$140,3,FALSE)","v":2191369035.2052441},{"$f":"VLOOKUP($A19,'2020-2022 Composite Index'!$A$6:$K$140,4,FALSE)","v":245258412.33000001},{"$f":"VLOOKUP($A19,'2020-2022 Composite Index'!$A$6:$K$140,6,FALSE)","v":57962895.840000004},{"$f":"VLOOKUP($A19,'2020-2022 Composite Index'!$A$6:$K$140,7,FALSE)","v":1950.15},{"$f":"VLOOKUP($A19,'2020-2022 Composite Index'!$A$6:$K$140,8,FALSE)","v":16957},{"$f":"VLOOKUP($A19,'2020-2022 Composite Index'!$A$6:$K$140,9,FALSE)","v":0.3422}]
[16,"CAMPBELL",{"$f":"VLOOKUP($A20,'2020-2022 Composite Index'!$A$6:$K$140,3,FALSE)","v":4813934062.8777437},{"$f":"VLOOKUP($A20,'2020-2022 Composite Index'!$A$6:$K$140,4,FALSE)","v":1117736708.9216001},{"$f":"VLOOKUP($A20,'2020-2022 Composite Index'!$A$6:$K$140,6,FALSE)","v":485915056.01999998},{"$f":"VLOOKUP($A20,'2020-2022 Composite Index'!$A$6:$K$140,7,FALSE)","v":7625.79},{"$f":"VLOOKUP($A20,'2020-2022 Composite Index'!$A$6:$K$140,8,FALSE)","v":55503},{"$f":"VLOOKUP($A20,'2020-2022 Composite Index'!$A$6:$K$140,9,FALSE)","v":0.2878}]
[17,"CAROLINE",{"$f":"VLOOKUP($A21,'2020-2022 Composite Index'!$A$6:$K$140,3,FALSE)","v":3733516556.9680629},{"$f":"VLOOKUP($A21,'2020-2022 Composite Index'!$A$6:$K$140,4,FALSE)","v":714592168.95799994},{"$f":"VLOOKUP($A21,'2020-2022 Composite Index'!$A$6:$K$140,6,FALSE)","v":151212078.53},{"$f":"VLOOKUP($A21,'2020-2022 Composite Index'!$A$6:$K$140,7,FALSE)","v":4113.07},{"$f":"VLOOKUP($A21,'2020-2022 Composite Index'!$A$6:$K$140,8,FALSE)","v":29990},{"$f":"VLOOKUP($A21,'2020-2022 Composite Index'!$A$6:$K$140,9,FALSE)","v":0.3553}]
[18,"CARROLL",{"$f":"VLOOKUP($A22,'2020-2022 Composite Index'!$A$6:$K$140,3,FALSE)","v":2572214998.7860894},{"$f":"VLOOKUP($A22,'2020-2022 Composite Index'!$A$6:$K$140,4,FALSE)","v":472967570.352},{"$f":"VLOOKUP($A22,'2020-2022 Composite Index'!$A$6:$K$140,6,FALSE)","v":167345734.18000001},{"$f":"VLOOKUP($A22,'2020-2022 Composite Index'!$A$6:$K$140,7,FALSE)","v":3611.35},{"$f":"VLOOKUP($A22,'2020-2022 Composite Index'!$A$6:$K$140,8,FALSE)","v":29212},{"$f":"VLOOKUP($A22,'2020-2022 Composite Index'!$A$6:$K$140,9,FALSE)","v":0.27489999999999998}]
[19,"CHARLES CITY",{"$f":"VLOOKUP($A23,'2020-2022 Composite Index'!$A$6:$K$140,3,FALSE)","v":1062603294.8681012},{"$f":"VLOOKUP($A23,'2020-2022 Composite Index'!$A$6:$K$140,4,FALSE)","v":180272188.99200001},{"$f":"VLOOKUP($A23,'2020-2022 Composite Index'!$A$6:$K$140,6,FALSE)","v":58539334},{"$f":"VLOOKUP($A23,'2020-2022 Composite Index'!$A$6:$K$140,7,FALSE)","v":606.35},{"$f":"VLOOKUP($A23,'2020-2022 Composite Index'!$A$6:$K$140,8,FALSE)","v":7151},{"$f":"VLOOKUP($A23,'2020-2022 Composite Index'!$A$6:$K$140,9,FALSE)","v":0.58799999999999997}]
[20,"CHARLOTTE",{"$f":"VLOOKUP($A24,'2020-2022 Composite Index'!$A$6:$K$140,3,FALSE)","v":1093540388.0940466},{"$f":"VLOOKUP($A24,'2020-2022 Composite Index'!$A$6:$K$140,4,FALSE)","v":206130724.757},{"$f":"VLOOKUP($A24,'2020-2022 Composite Index'!$A$6:$K$140,6,FALSE)","v":54357115.82},{"$f":"VLOOKUP($A24,'2020-2022 Composite Index'!$A$6:$K$140,7,FALSE)","v":1773.63},{"$f":"VLOOKUP($A24,'2020-2022 Composite Index'!$A$6:$K$140,8,FALSE)","v":12231},{"$f":"VLOOKUP($A24,'2020-2022 Composite Index'!$A$6:$K$140,9,FALSE)","v":0.24729999999999999}]
[21,"CHESTERFIELD",{"$f":"VLOOKUP($A25,'2020-2022 Composite Index'!$A$6:$K$140,3,FALSE)","v":39470600366.594589},{"$f":"VLOOKUP($A25,'2020-2022 Composite Index'!$A$6:$K$140,4,FALSE)","v":11087680066.448},{"$f":"VLOOKUP($A25,'2020-2022 Composite Index'!$A$6:$K$140,6,FALSE)","v":4394824320.29},{"$f":"VLOOKUP($A25,'2020-2022 Composite Index'!$A$6:$K$140,7,FALSE)","v":60060.84},{"$f":"VLOOKUP($A25,'2020-2022 Composite Index'!$A$6:$K$140,8,FALSE)","v":340020},{"$f":"VLOOKUP($A25,'2020-2022 Composite Index'!$A$6:$K$140,9,FALSE)","v":0.3584}]
[22,"CLARKE",{"$f":"VLOOKUP($A26,'2020-2022 Composite Index'!$A$6:$K$140,3,FALSE)","v":2715153460.4986596},{"$f":"VLOOKUP($A26,'2020-2022 Composite Index'!$A$6:$K$140,4,FALSE)","v":598066141.08700001},{"$f":"VLOOKUP($A26,'2020-2022 Composite Index'!$A$6:$K$140,6,FALSE)","v":85971890.569999993},{"$f":"VLOOKUP($A26,'2020-2022 Composite Index'!$A$6:$K$140,7,FALSE)","v":1931.2},{"$f":"VLOOKUP($A26,'2020-2022 Composite Index'!$A$6:$K$140,8,FALSE)","v":14312},{"$f":"VLOOKUP($A26,'2020-2022 Composite Index'!$A$6:$K$140,9,FALSE)","v":0.57289999999999996}]
[23,"CRAIG",{"$f":"VLOOKUP($A27,'2020-2022 Composite Index'!$A$6:$K$140,3,FALSE)","v":543813795.63784695},{"$f":"VLOOKUP($A27,'2020-2022 Composite Index'!$A$6:$K$140,4,FALSE)","v":100292646.881},{"$f":"VLOOKUP($A27,'2020-2022 Composite Index'!$A$6:$K$140,6,FALSE)","v":12876065},{"$f":"VLOOKUP($A27,'2020-2022 Composite Index'!$A$6:$K$140,7,FALSE)","v":580.19000000000005},{"$f":"VLOOKUP($A27,'2020-2022 Composite Index'!$A$6:$K$140,8,FALSE)","v":5129},{"$f":"VLOOKUP($A27,'2020-2022 Composite Index'!$A$6:$K$140,9,FALSE)","v":0.33360000000000001}]
[24,"CULPEPER",{"$f":"VLOOKUP($A28,'2020-2022 Composite Index'!$A$6:$K$140,3,FALSE)","v":6331241639.2254486},{"$f":"VLOOKUP($A28,'2020-2022 Composite Index'!$A$6:$K$140,4,FALSE)","v":1366184410.7820001},{"$f":"VLOOKUP($A28,'2020-2022 Composite Index'!$A$6:$K$140,6,FALSE)","v":703603206.82000005},{"$f":"VLOOKUP($A28,'2020-2022 Composite Index'!$A$6:$K$140,7,FALSE)","v":7952.19},{"$f":"VLOOKUP($A28,'2020-2022 Composite Index'!$A$6:$K$140,8,FALSE)","v":50272},{"$f":"VLOOKUP($A28,'2020-2022 Composite Index'!$A$6:$K$140,9,FALSE)","v":0.37409999999999999}]
[25,"CUMBERLAND",{"$f":"VLOOKUP($A29,'2020-2022 Composite Index'!$A$6:$K$140,3,FALSE)","v":1037409991.9240725},{"$f":"VLOOKUP($A29,'2020-2022 Composite Index'!$A$6:$K$140,4,FALSE)","v":170132350.248},{"$f":"VLOOKUP($A29,'2020-2022 Composite Index'!$A$6:$K$140,6,FALSE)","v":33660951.32},{"$f":"VLOOKUP($A29,'2020-2022 Composite Index'!$A$6:$K$140,7,FALSE)","v":1239.1400000000001},{"$f":"VLOOKUP($A29,'2020-2022 Composite Index'!$A$6:$K$140,8,FALSE)","v":9861},{"$f":"VLOOKUP($A29,'2020-2022 Composite Index'!$A$6:$K$140,9,FALSE)","v":0.29780000000000001}]
[26,"DICKENSON",{"$f":"VLOOKUP($A30,'2020-2022 Composite Index'!$A$6:$K$140,3,FALSE)","v":1459712435.3101735},{"$f":"VLOOKUP($A30,'2020-2022 Composite Index'!$A$6:$K$140,4,FALSE)","v":183436909.21799999},{"$f":"VLOOKUP($A30,'2020-2022 Composite Index'!$A$6:$K$140,6,FALSE)","v":58585686.920000002},{"$f":"VLOOKUP($A30,'2020-2022 Composite Index'!$A$6:$K$140,7,FALSE)","v":1998.53},{"$f":"VLOOKUP($A30,'2020-2022 Composite Index'!$A$6:$K$140,8,FALSE)","v":14682},{"$f":"VLOOKUP($A30,'2020-2022 Composite Index'!$A$6:$K$140,9,FALSE)","v":0.24709999999999999}]
[27,"DINWIDDIE",{"$f":"VLOOKUP($A31,'2020-2022 Composite Index'!$A$6:$K$140,3,FALSE)","v":2963784007.8823018},{"$f":"VLOOKUP($A31,'2020-2022 Composite Index'!$A$6:$K$140,4,FALSE)","v":596767440.31500006},{"$f":"VLOOKUP($A31,'2020-2022 Composite Index'!$A$6:$K$140,6,FALSE)","v":136670242.28},{"$f":"VLOOKUP($A31,'2020-2022 Composite Index'!$A$6:$K$140,7,FALSE)","v":4258.46},{"$f":"VLOOKUP($A31,'2020-2022 Composite Index'!$A$6:$K$140,8,FALSE)","v":28500},{"$f":"VLOOKUP($A31,'2020-2022 Composite Index'!$A$6:$K$140,9,FALSE)","v":0.28789999999999999}]
[28,"ESSEX",{"$f":"VLOOKUP($A32,'2020-2022 Composite Index'!$A$6:$K$140,3,FALSE)","v":1593364500.3023257},{"$f":"VLOOKUP($A32,'2020-2022 Composite Index'!$A$6:$K$140,4,FALSE)","v":238178111.24599999},{"$f":"VLOOKUP($A32,'2020-2022 Composite Index'!$A$6:$K$140,6,FALSE)","v":191246470.50999999},{"$f":"VLOOKUP($A32,'2020-2022 Composite Index'!$A$6:$K$140,7,FALSE)","v":1330.47},{"$f":"VLOOKUP($A32,'2020-2022 Composite Index'!$A$6:$K$140,8,FALSE)","v":10813},{"$f":"VLOOKUP($A32,'2020-2022 Composite Index'!$A$6:$K$140,9,FALSE)","v":0.46360000000000001}]
[29,"FAIRFAX COUNTY",{"$f":"VLOOKUP($A33,'2020-2022 Composite Index'!$A$6:$K$140,3,FALSE)","v":262828932048.74387},{"$f":"VLOOKUP($A33,'2020-2022 Composite Index'!$A$6:$K$140,4,FALSE)","v":59704270833.5382},{"$f":"VLOOKUP($A33,'2020-2022 Composite Index'!$A$6:$K$140,6,FALSE)","v":14939828530.33},{"$f":"VLOOKUP($A33,'2020-2022 Composite Index'!$A$6:$K$140,7,FALSE)","v":180294.61},{"$f":"VLOOKUP($A33,'2020-2022 Composite Index'!$A$6:$K$140,8,FALSE)","v":1143429},{"$f":"VLOOKUP($A33,'2020-2022 Composite Index'!$A$6:$K$140,9,FALSE)","v":0.65410000000000001}]
[30,"FAUQUIER",{"$f":"VLOOKUP($A34,'2020-2022 Composite Index'!$A$6:$K$140,3,FALSE)","v":15265896813.45751},{"$f":"VLOOKUP($A34,'2020-2022 Composite Index'!$A$6:$K$140,4,FALSE)","v":2964279243.2820001},{"$f":"VLOOKUP($A34,'2020-2022 Composite Index'!$A$6:$K$140,6,FALSE)","v":861595287.27999997},{"$f":"VLOOKUP($A34,'2020-2022 Composite Index'!$A$6:$K$140,7,FALSE)","v":10955.27},{"$f":"VLOOKUP($A34,'2020-2022 Composite Index'!$A$6:$K$140,8,FALSE)","v":69098},{"$f":"VLOOKUP($A34,'2020-2022 Composite Index'!$A$6:$K$140,9,FALSE)","v":0.58789999999999998}]
[31,"FLOYD",{"$f":"VLOOKUP($A35,'2020-2022 Composite Index'!$A$6:$K$140,3,FALSE)","v":1882566202.5297158},{"$f":"VLOOKUP($A35,'2020-2022 Composite Index'!$A$6:$K$140,4,FALSE)","v":302811476.87800002},{"$f":"VLOOKUP($A35,'2020-2022 Composite Index'!$A$6:$K$140,6,FALSE)","v":74718941.379999995},{"$f":"VLOOKUP($A35,'2020-2022 Composite Index'!$A$6:$K$140,7,FALSE)","v":1971.33},{"$f":"VLOOKUP($A35,'2020-2022 Composite Index'!$A$6:$K$140,8,FALSE)","v":15550},{"$f":"VLOOKUP($A35,'2020-2022 Composite Index'!$A$6:$K$140,9,FALSE)","v":0.34179999999999999}]
[32,"FLUVANNA",{"$f":"VLOOKUP($A36,'2020-2022 Composite Index'!$A$6:$K$140,3,FALSE)","v":3522241579.3013902},{"$f":"VLOOKUP($A36,'2020-2022 Composite Index'!$A$6:$K$140,4,FALSE)","v":693123058.66919994},{"$f":"VLOOKUP($A36,'2020-2022 Composite Index'!$A$6:$K$140,6,FALSE)","v":130487206.62},{"$f":"VLOOKUP($A36,'2020-2022 Composite Index'!$A$6:$K$140,7,FALSE)","v":3471.79},{"$f":"VLOOKUP($A36,'2020-2022 Composite Index'!$A$6:$K$140,8,FALSE)","v":26467},{"$f":"VLOOKUP($A36,'2020-2022 Composite Index'!$A$6:$K$140,9,FALSE)","v":0.39400000000000002}]
[33,"FRANKLIN COUNTY",{"$f":"VLOOKUP($A37,'2020-2022 Composite Index'!$A$6:$K$140,3,FALSE)","v":7625278760.3298216},{"$f":"VLOOKUP($A37,'2020-2022 Composite Index'!$A$6:$K$140,4,FALSE)","v":1165860877.625},{"$f":"VLOOKUP($A37,'2020-2022 Composite Index'!$A$6:$K$140,6,FALSE)","v":424098901.08999997},{"$f":"VLOOKUP($A37,'2020-2022 Composite Index'!$A$6:$K$140,7,FALSE)","v":6858.45},{"$f":"VLOOKUP($A37,'2020-2022 Composite Index'!$A$6:$K$140,8,FALSE)","v":56427},{"$f":"VLOOKUP($A37,'2020-2022 Composite Index'!$A$6:$K$140,9,FALSE)","v":0.39529999999999998}]
[34,"FREDERICK",{"$f":"VLOOKUP($A38,'2020-2022 Composite Index'!$A$6:$K$140,3,FALSE)","v":11631668555.017563},{"$f":"VLOOKUP($A38,'2020-2022 Composite Index'!$A$6:$K$140,4,FALSE)","v":2617118113.3899999},{"$f":"VLOOKUP($A38,'2020-2022 Composite Index'!$A$6:$K$140,6,FALSE)","v":1249749135.8199999},{"$f":"VLOOKUP($A38,'2020-2022 Composite Index'!$A$6:$K$140,7,FALSE)","v":13343.46},{"$f":"VLOOKUP($A38,'2020-2022 Composite Index'!$A$6:$K$140,8,FALSE)","v":85820},{"$f":"VLOOKUP($A38,'2020-2022 Composite Index'!$A$6:$K$140,9,FALSE)","v":0.41199999999999998}]
[35,"GILES",{"$f":"VLOOKUP($A39,'2020-2022 Composite Index'!$A$6:$K$140,3,FALSE)","v":1422595318.8879442},{"$f":"VLOOKUP($A39,'2020-2022 Composite Index'!$A$6:$K$140,4,FALSE)","v":322847137.76999998},{"$f":"VLOOKUP($A39,'2020-2022 Composite Index'!$A$6:$K$140,6,FALSE)","v":137678547.06},{"$f":"VLOOKUP($A39,'2020-2022 Composite Index'!$A$6:$K$140,7,FALSE)","v":2386.69},{"$f":"VLOOKUP($A39,'2020-2022 Composite Index'!$A$6:$K$140,8,FALSE)","v":17053},{"$f":"VLOOKUP($A39,'2020-2022 Composite Index'!$A$6:$K$140,9,FALSE)","v":0.26950000000000002}]
[36,"GLOUCESTER",{"$f":"VLOOKUP($A40,'2020-2022 Composite Index'!$A$6:$K$140,3,FALSE)","v":4714496645.2898397},{"$f":"VLOOKUP($A40,'2020-2022 Composite Index'!$A$6:$K$140,4,FALSE)","v":987497269.903},{"$f":"VLOOKUP($A40,'2020-2022 Composite Index'!$A$6:$K$140,6,FALSE)","v":405650909.30000001},{"$f":"VLOOKUP($A40,'2020-2022 Composite Index'!$A$6:$K$140,7,FALSE)","v":5270.45},{"$f":"VLOOKUP($A40,'2020-2022 Composite Index'!$A$6:$K$140,8,FALSE)","v":37169},{"$f":"VLOOKUP($A40,'2020-2022 Composite Index'!$A$6:$K$140,9,FALSE)","v":0.38850000000000001}]
[37,"GOOCHLAND",{"$f":"VLOOKUP($A41,'2020-2022 Composite Index'!$A$6:$K$140,3,FALSE)","v":5635699923.6241608},{"$f":"VLOOKUP($A41,'2020-2022 Composite Index'!$A$6:$K$140,4,FALSE)","v":1455957065.6059999},{"$f":"VLOOKUP($A41,'2020-2022 Composite Index'!$A$6:$K$140,6,FALSE)","v":227534841.06},{"$f":"VLOOKUP($A41,'2020-2022 Composite Index'!$A$6:$K$140,7,FALSE)","v":2550.6},{"$f":"VLOOKUP($A41,'2020-2022 Composite Index'!$A$6:$K$140,8,FALSE)","v":22705},{"$f":"VLOOKUP($A41,'2020-2022 Composite Index'!$A$6:$K$140,9,FALSE)","v":0.8}]
[38,"GRAYSON",{"$f":"VLOOKUP($A42,'2020-2022 Composite Index'!$A$6:$K$140,3,FALSE)","v":1827586769.031553},{"$f":"VLOOKUP($A42,'2020-2022 Composite Index'!$A$6:$K$140,4,FALSE)","v":243209841.78119999},{"$f":"VLOOKUP($A42,'2020-2022 Composite Index'!$A$6:$K$140,6,FALSE)","v":34104091},{"$f":"VLOOKUP($A42,'2020-2022 Composite Index'!$A$6:$K$140,7,FALSE)","v":1510.86},{"$f":"VLOOKUP($A42,'2020-2022 Composite Index'!$A$6:$K$140,8,FALSE)","v":15669},{"$f":"VLOOKUP($A42,'2020-2022 Composite Index'!$A$6:$K$140,9,FALSE)","v":0.3654}]
[39,"GREENE",{"$f":"VLOOKUP($A43,'2020-2022 Composite Index'!$A$6:$K$140,3,FALSE)","v":2392404008.0104222},{"$f":"VLOOKUP($A43,'2020-2022 Composite Index'!$A$6:$K$140,4,FALSE)","v":485417962.46399999},{"$f":"VLOOKUP($A43,'2020-2022 Composite Index'!$A$6:$K$140,6,FALSE)","v":175413564.53999999},{"$f":"VLOOKUP($A43,'2020-2022 Composite Index'!$A$6:$K$140,7,FALSE)","v":2982.62},{"$f":"VLOOKUP($A43,'2020-2022 Composite Index'!$A$6:$K$140,8,FALSE)","v":19985},{"$f":"VLOOKUP($A43,'2020-2022 Composite Index'!$A$6:$K$140,9,FALSE)","v":0.34460000000000002}]
[40,"GREENSVILLE",{"$f":"VLOOKUP($A44,'2020-2022 Composite Index'!$A$6:$K$140,3,FALSE)","v":949033753.81977665},{"$f":"VLOOKUP($A44,'2020-2022 Composite Index'!$A$6:$K$140,4,FALSE)","v":206649112.28549999},{"$f":"VLOOKUP($A44,'2020-2022 Composite Index'!$A$6:$K$140,6,FALSE)","v":47788891},{"$f":"VLOOKUP($A44,'2020-2022 Composite Index'!$A$6:$K$140,7,FALSE)","v":1218.05},{"$f":"VLOOKUP($A44,'2020-2022 Composite Index'!$A$6:$K$140,8,FALSE)","v":11563},{"$f":"VLOOKUP($A44,'2020-2022 Composite Index'!$A$6:$K$140,9,FALSE)","v":0.30130000000000001}]
[41,"HALIFAX",{"$f":"VLOOKUP($A45,'2020-2022 Composite Index'!$A$6:$K$140,3,FALSE)","v":3781125840.4999008},{"$f":"VLOOKUP($A45,'2020-2022 Composite Index'!$A$6:$K$140,4,FALSE)","v":617703634.33973002},{"$f":"VLOOKUP($A45,'2020-2022 Composite Index'!$A$6:$K$140,6,FALSE)","v":294706517.64999998},{"$f":"VLOOKUP($A45,'2020-2022 Composite Index'!$A$6:$K$140,7,FALSE)","v":4722.6499999999996},{"$f":"VLOOKUP($A45,'2020-2022 Composite Index'!$A$6:$K$140,8,FALSE)","v":35215},{"$f":"VLOOKUP($A45,'2020-2022 Composite Index'!$A$6:$K$140,9,FALSE)","v":0.30919999999999997}]
[42,"HANOVER",{"$f":"VLOOKUP($A46,'2020-2022 Composite Index'!$A$6:$K$140,3,FALSE)","v":16419664887.229683},{"$f":"VLOOKUP($A46,'2020-2022 Composite Index'!$A$6:$K$140,4,FALSE)","v":3845688564.0693998},{"$f":"VLOOKUP($A46,'2020-2022 Composite Index'!$A$6:$K$140,6,FALSE)","v":1915809188.3199999},{"$f":"VLOOKUP($A46,'2020-2022 Composite Index'!$A$6:$K$140,7,FALSE)","v":17613.38},{"$f":"VLOOKUP($A46,'2020-2022 Composite Index'!$A$6:$K$140,8,FALSE)","v":106375},{"$f":"VLOOKUP($A46,'2020-2022 Composite Index'!$A$6:$K$140,9,FALSE)","v":0.46260000000000001}]
[43,"HENRICO",{"$f":"VLOOKUP($A47,'2020-2022 Composite Index'!$A$6:$K$140,3,FALSE)","v":40926624138.156441},{"$f":"VLOOKUP($A47,'2020-2022 Composite Index'!$A$6:$K$140,4,FALSE)","v":11025542633.787701},{"$f":"VLOOKUP($A47,'2020-2022 Composite Index'!$A$6:$K$140,6,FALSE)","v":5656612709.1000004},{"$f":"VLOOKUP($A47,'2020-2022 Composite Index'!$A$6:$K$140,7,FALSE)","v":50283.77},{"$f":"VLOOKUP($A47,'2020-2022 Composite Index'!$A$6:$K$140,8,FALSE)","v":324395},{"$f":"VLOOKUP($A47,'2020-2022 Composite Index'!$A$6:$K$140,9,FALSE)","v":0.4279}]
[44,"HENRY",{"$f":"VLOOKUP($A48,'2020-2022 Composite Index'!$A$6:$K$140,3,FALSE)","v":3232443251.3304853},{"$f":"VLOOKUP($A48,'2020-2022 Composite Index'!$A$6:$K$140,4,FALSE)","v":897040682.45770001},{"$f":"VLOOKUP($A48,'2020-2022 Composite Index'!$A$6:$K$140,6,FALSE)","v":371100551.52999997},{"$f":"VLOOKUP($A48,'2020-2022 Composite Index'!$A$6:$K$140,7,FALSE)","v":7045.22},{"$f":"VLOOKUP($A48,'2020-2022 Composite Index'!$A$6:$K$140,8,FALSE)","v":51975},{"$f":"VLOOKUP($A48,'2020-2022 Composite Index'!$A$6:$K$140,9,FALSE)","v":0.2281}]
[45,"HIGHLAND",{"$f":"VLOOKUP($A49,'2020-2022 Composite Index'!$A$6:$K$140,3,FALSE)","v":637887453.24902165},{"$f":"VLOOKUP($A49,'2020-2022 Composite Index'!$A$6:$K$140,4,FALSE)","v":48628507.691},{"$f":"VLOOKUP($A49,'2020-2022 Composite Index'!$A$6:$K$140,6,FALSE)","v":10023126.42},{"$f":"VLOOKUP($A49,'2020-2022 Composite Index'!$A$6:$K$140,7,FALSE)","v":193.03},{"$f":"VLOOKUP($A49,'2020-2022 Composite Index'!$A$6:$K$140,8,FALSE)","v":2284},{"$f":"VLOOKUP($A49,'2020-2022 Composite Index'!$A$6:$K$140,9,FALSE)","v":0.8}]
[46,"ISLE OF WIGHT",{"$f":"VLOOKUP($A50,'2020-2022 Composite Index'!$A$6:$K$140,3,FALSE)","v":5005182812.2924986},{"$f":"VLOOKUP($A50,'2020-2022 Composite Index'!$A$6:$K$140,4,FALSE)","v":1097860213.734},{"$f":"VLOOKUP($A50,'2020-2022 Composite Index'!$A$6:$K$140,6,FALSE)","v":236926649.00999999},{"$f":"VLOOKUP($A50,'2020-2022 Composite Index'!$A$6:$K$140,7,FALSE)","v":5338.11},{"$f":"VLOOKUP($A50,'2020-2022 Composite Index'!$A$6:$K$140,8,FALSE)","v":37333},{"$f":"VLOOKUP($A50,'2020-2022 Composite Index'!$A$6:$K$140,9,FALSE)","v":0.39639999999999997}]
[47,"JAMES CITY",{"$f":"VLOOKUP($A51,'2020-2022 Composite Index'!$A$6:$K$140,3,FALSE)","v":13050045023.309473},{"$f":"VLOOKUP($A51,'2020-2022 Composite Index'!$A$6:$K$140,4,FALSE)","v":3014334841.9920001},{"$f":"VLOOKUP($A51,'2020-2022 Composite Index'!$A$6:$K$140,6,FALSE)","v":982030979.61000001},{"$f":"VLOOKUP($A51,'2020-2022 Composite Index'!$A$6:$K$140,7,FALSE)","v":10422.450000000001},{"$f":"VLOOKUP($A51,'2020-2022 Composite Index'!$A$6:$K$140,8,FALSE)","v":74722},{"$f":"VLOOKUP($A51,'2020-2022 Composite Index'!$A$6:$K$140,9,FALSE)","v":0.55530000000000002}]
[48,"KING GEORGE",{"$f":"VLOOKUP($A52,'2020-2022 Composite Index'!$A$6:$K$140,3,FALSE)","v":3480141112.3470144},{"$f":"VLOOKUP($A52,'2020-2022 Composite Index'!$A$6:$K$140,4,FALSE)","v":803004289.56400001},{"$f":"VLOOKUP($A52,'2020-2022 Composite Index'!$A$6:$K$140,6,FALSE)","v":187620362.83000001},{"$f":"VLOOKUP($A52,'2020-2022 Composite Index'!$A$6:$K$140,7,FALSE)","v":4362.9399999999996},{"$f":"VLOOKUP($A52,'2020-2022 Composite Index'!$A$6:$K$140,8,FALSE)","v":25381},{"$f":"VLOOKUP($A52,'2020-2022 Composite Index'!$A$6:$K$140,9,FALSE)","v":0.37030000000000002}]
[49,"KING AND QUEEN",{"$f":"VLOOKUP($A53,'2020-2022 Composite Index'!$A$6:$K$140,3,FALSE)","v":981207271.51116312},{"$f":"VLOOKUP($A53,'2020-2022 Composite Index'!$A$6:$K$140,4,FALSE)","v":150793913.54699999},{"$f":"VLOOKUP($A53,'2020-2022 Composite Index'!$A$6:$K$140,6,FALSE)","v":12379939},{"$f":"VLOOKUP($A53,'2020-2022 Composite Index'!$A$6:$K$140,7,FALSE)","v":773.2},{"$f":"VLOOKUP($A53,'2020-2022 Composite Index'!$A$6:$K$140,8,FALSE)","v":6935},{"$f":"VLOOKUP($A53,'2020-2022 Composite Index'!$A$6:$K$140,9,FALSE)","v":0.41389999999999999}]
[50,"KING WILLIAM",{"$f":"VLOOKUP($A54,'2020-2022 Composite Index'!$A$6:$K$140,3,FALSE)","v":1697241572.8793774},{"$f":"VLOOKUP($A54,'2020-2022 Composite Index'!$A$6:$K$140,4,FALSE)","v":357876540},{"$f":"VLOOKUP($A54,'2020-2022 Composite Index'!$A$6:$K$140,6,FALSE)","v":83516987.5},{"$f":"VLOOKUP($A54,'2020-2022 Composite Index'!$A$6:$K$140,7,FALSE)","v":2172.5300000000002},{"$f":"VLOOKUP($A54,'2020-2022 Composite Index'!$A$6:$K$140,8,FALSE)","v":13314},{"$f":"VLOOKUP($A54,'2020-2022 Composite Index'!$A$6:$K$140,9,FALSE)","v":0.3407}]
[51,"LANCASTER",{"$f":"VLOOKUP($A55,'2020-2022 Composite Index'!$A$6:$K$140,3,FALSE)","v":2617889478.9597521},{"$f":"VLOOKUP($A55,'2020-2022 Composite Index'!$A$6:$K$140,4,FALSE)","v":331501028.87300003},{"$f":"VLOOKUP($A55,'2020-2022 Composite Index'!$A$6:$K$140,6,FALSE)","v":166354409.81999999},{"$f":"VLOOKUP($A55,'2020-2022 Composite Index'!$A$6:$K$140,7,FALSE)","v":1062.3},{"$f":"VLOOKUP($A55,'2020-2022 Composite Index'!$A$6:$K$140,8,FALSE)","v":11171},{"$f":"VLOOKUP($A55,'2020-2022 Composite Index'!$A$6:$K$140,9,FALSE)","v":0.78349999999999997}]
[52,"LEE",{"$f":"VLOOKUP($A56,'2020-2022 Composite Index'!$A$6:$K$140,3,FALSE)","v":1138485056.0939226},{"$f":"VLOOKUP($A56,'2020-2022 Composite Index'!$A$6:$K$140,4,FALSE)","v":280523036.58499998},{"$f":"VLOOKUP($A56,'2020-2022 Composite Index'!$A$6:$K$140,6,FALSE)","v":114151983},{"$f":"VLOOKUP($A56,'2020-2022 Composite Index'!$A$6:$K$140,7,FALSE)","v":3053.46},{"$f":"VLOOKUP($A56,'2020-2022 Composite Index'!$A$6:$K$140,8,FALSE)","v":24363},{"$f":"VLOOKUP($A56,'2020-2022 Composite Index'!$A$6:$K$140,9,FALSE)","v":0.16919999999999999}]
[53,"LOUDOUN",{"$f":"VLOOKUP($A57,'2020-2022 Composite Index'!$A$6:$K$140,3,FALSE)","v":84918073098.409882},{"$f":"VLOOKUP($A57,'2020-2022 Composite Index'!$A$6:$K$140,4,FALSE)","v":20877016004.071701},{"$f":"VLOOKUP($A57,'2020-2022 Composite Index'!$A$6:$K$140,6,FALSE)","v":5697354606.2299995},{"$f":"VLOOKUP($A57,'2020-2022 Composite Index'!$A$6:$K$140,7,FALSE)","v":80270.95},{"$f":"VLOOKUP($A57,'2020-2022 Composite Index'!$A$6:$K$140,8,FALSE)","v":396068},{"$f":"VLOOKUP($A57,'2020-2022 Composite Index'!$A$6:$K$140,9,FALSE)","v":0.54659999999999997}]
[54,"LOUISA",{"$f":"VLOOKUP($A58,'2020-2022 Composite Index'!$A$6:$K$140,3,FALSE)","v":7695422724.5881872},{"$f":"VLOOKUP($A58,'2020-2022 Composite Index'!$A$6:$K$140,4,FALSE)","v":909729092.25969994},{"$f":"VLOOKUP($A58,'2020-2022 Composite Index'!$A$6:$K$140,6,FALSE)","v":300831730.06},{"$f":"VLOOKUP($A58,'2020-2022 Composite Index'!$A$6:$K$140,7,FALSE)","v":4704.2},{"$f":"VLOOKUP($A58,'2020-2022 Composite Index'!$A$6:$K$140,8,FALSE)","v":35035},{"$f":"VLOOKUP($A58,'2020-2022 Composite Index'!$A$6:$K$140,9,FALSE)","v":0.54059999999999997}]
[55,"LUNENBURG",{"$f":"VLOOKUP($A59,'2020-2022 Composite Index'!$A$6:$K$140,3,FALSE)","v":994576205.92197824},{"$f":"VLOOKUP($A59,'2020-2022 Composite Index'!$A$6:$K$140,4,FALSE)","v":189048883.23199999},{"$f":"VLOOKUP($A59,'2020-2022 Composite Index'!$A$6:$K$140,6,FALSE)","v":39312051.57},{"$f":"VLOOKUP($A59,'2020-2022 Composite Index'!$A$6:$K$140,7,FALSE)","v":1441.57},{"$f":"VLOOKUP($A59,'2020-2022 Composite Index'!$A$6:$K$140,8,FALSE)","v":12386},{"$f":"VLOOKUP($A59,'2020-2022 Composite Index'!$A$6:$K$140,9,FALSE)","v":0.25609999999999999}]
[56,"MADISON",{"$f":"VLOOKUP($A60,'2020-2022 Composite Index'!$A$6:$K$140,3,FALSE)","v":2319775163.1593547},{"$f":"VLOOKUP($A60,'2020-2022 Composite Index'!$A$6:$K$140,4,FALSE)","v":327282712.824},{"$f":"VLOOKUP($A60,'2020-2022 Composite Index'!$A$6:$K$140,6,FALSE)","v":87685702.239999995},{"$f":"VLOOKUP($A60,'2020-2022 Composite Index'!$A$6:$K$140,7,FALSE)","v":1673.19},{"$f":"VLOOKUP($A60,'2020-2022 Composite Index'!$A$6:$K$140,8,FALSE)","v":13190},{"$f":"VLOOKUP($A60,'2020-2022 Composite Index'!$A$6:$K$140,9,FALSE)","v":0.4738}]
[57,"MATHEWS",{"$f":"VLOOKUP($A61,'2020-2022 Composite Index'!$A$6:$K$140,3,FALSE)","v":1681978635.7777324},{"$f":"VLOOKUP($A61,'2020-2022 Composite Index'!$A$6:$K$140,4,FALSE)","v":232145137.06900001},{"$f":"VLOOKUP($A61,'2020-2022 Composite Index'!$A$6:$K$140,6,FALSE)","v":40043459.710000001},{"$f":"VLOOKUP($A61,'2020-2022 Composite Index'!$A$6:$K$140,7,FALSE)","v":1075.74},{"$f":"VLOOKUP($A61,'2020-2022 Composite Index'!$A$6:$K$140,8,FALSE)","v":8651},{"$f":"VLOOKUP($A61,'2020-2022 Composite Index'!$A$6:$K$140,9,FALSE)","v":0.51619999999999999}]
[58,"MECKLENBURG",{"$f":"VLOOKUP($A62,'2020-2022 Composite Index'!$A$6:$K$140,3,FALSE)","v":4379236370.896122},{"$f":"VLOOKUP($A62,'2020-2022 Composite Index'!$A$6:$K$140,4,FALSE)","v":586690948.949},{"$f":"VLOOKUP($A62,'2020-2022 Composite Index'!$A$6:$K$140,6,FALSE)","v":499432508.49000001},{"$f":"VLOOKUP($A62,'2020-2022 Composite Index'!$A$6:$K$140,7,FALSE)","v":4103.1400000000003},{"$f":"VLOOKUP($A62,'2020-2022 Composite Index'!$A$6:$K$140,8,FALSE)","v":31264},{"$f":"VLOOKUP($A62,'2020-2022 Composite Index'!$A$6:$K$140,9,FALSE)","v":0.40500000000000003}]
[59,"MIDDLESEX",{"$f":"VLOOKUP($A63,'2020-2022 Composite Index'!$A$6:$K$140,3,FALSE)","v":2304976582.7809606},{"$f":"VLOOKUP($A63,'2020-2022 Composite Index'!$A$6:$K$140,4,FALSE)","v":269874645.58099997},{"$f":"VLOOKUP($A63,'2020-2022 Composite Index'!$A$6:$K$140,6,FALSE)","v":97303967.329999998},{"$f":"VLOOKUP($A63,'2020-2022 Composite Index'!$A$6:$K$140,7,FALSE)","v":1194.26},{"$f":"VLOOKUP($A63,'2020-2022 Composite Index'!$A$6:$K$140,8,FALSE)","v":11004},{"$f":"VLOOKUP($A63,'2020-2022 Composite Index'!$A$6:$K$140,9,FALSE)","v":0.6008}]
[60,"MONTGOMERY",{"$f":"VLOOKUP($A64,'2020-2022 Composite Index'!$A$6:$K$140,3,FALSE)","v":9010770466.2197704},{"$f":"VLOOKUP($A64,'2020-2022 Composite Index'!$A$6:$K$140,4,FALSE)","v":2153801351.6343999},{"$f":"VLOOKUP($A64,'2020-2022 Composite Index'!$A$6:$K$140,6,FALSE)","v":1089716202.6300001},{"$f":"VLOOKUP($A64,'2020-2022 Composite Index'!$A$6:$K$140,7,FALSE)","v":9636.9500000000007},{"$f":"VLOOKUP($A64,'2020-2022 Composite Index'!$A$6:$K$140,8,FALSE)","v":98776},{"$f":"VLOOKUP($A64,'2020-2022 Composite Index'!$A$6:$K$140,9,FALSE)","v":0.40050000000000002}]
[62,"NELSON",{"$f":"VLOOKUP($A65,'2020-2022 Composite Index'!$A$6:$K$140,3,FALSE)","v":3094695787.1193795},{"$f":"VLOOKUP($A65,'2020-2022 Composite Index'!$A$6:$K$140,4,FALSE)","v":398056053.47799999},{"$f":"VLOOKUP($A65,'2020-2022 Composite Index'!$A$6:$K$140,6,FALSE)","v":102746557.27},{"$f":"VLOOKUP($A65,'2020-2022 Composite Index'!$A$6:$K$140,7,FALSE)","v":1794.43},{"$f":"VLOOKUP($A65,'2020-2022 Composite Index'!$A$6:$K$140,8,FALSE)","v":14858},{"$f":"VLOOKUP($A65,'2020-2022 Composite Index'!$A$6:$K$140,9,FALSE)","v":0.56040000000000001}]
[63,"NEW KENT",{"$f":"VLOOKUP($A66,'2020-2022 Composite Index'!$A$6:$K$140,3,FALSE)","v":3068018934.0543213},{"$f":"VLOOKUP($A66,'2020-2022 Composite Index'!$A$6:$K$140,4,FALSE)","v":697158538.37800002},{"$f":"VLOOKUP($A66,'2020-2022 Composite Index'!$A$6:$K$140,6,FALSE)","v":129697269.95999999},{"$f":"VLOOKUP($A66,'2020-2022 Composite Index'!$A$6:$K$140,7,FALSE)","v":3158.26},{"$f":"VLOOKUP($A66,'2020-2022 Composite Index'!$A$6:$K$140,8,FALSE)","v":21709},{"$f":"VLOOKUP($A66,'2020-2022 Composite Index'!$A$6:$K$140,9,FALSE)","v":0.41660000000000003}]
[65,"NORTHAMPTON",{"$f":"VLOOKUP($A67,'2020-2022 Composite Index'!$A$6:$K$140,3,FALSE)","v":2081349222.5888631},{"$f":"VLOOKUP($A67,'2020-2022 Composite Index'!$A$6:$K$140,4,FALSE)","v":269219459.759},{"$f":"VLOOKUP($A67,'2020-2022 Composite Index'!$A$6:$K$140,6,FALSE)","v":125938193.58},{"$f":"VLOOKUP($A67,'2020-2022 Composite Index'!$A$6:$K$140,7,FALSE)","v":1528.2},{"$f":"VLOOKUP($A67,'2020-2022 Composite Index'!$A$6:$K$140,8,FALSE)","v":12000},{"$f":"VLOOKUP($A67,'2020-2022 Composite Index'!$A$6:$K$140,9,FALSE)","v":0.46960000000000002}]
[66,"NORTHUMBERLAND",{"$f":"VLOOKUP($A68,'2020-2022 Composite Index'!$A$6:$K$140,3,FALSE)","v":3006211990.3277965},{"$f":"VLOOKUP($A68,'2020-2022 Composite Index'!$A$6:$K$140,4,FALSE)","v":325582101.44099998},{"$f":"VLOOKUP($A68,'2020-2022 Composite Index'!$A$6:$K$140,6,FALSE)","v":59190236.479999997},{"$f":"VLOOKUP($A68,'2020-2022 Composite Index'!$A$6:$K$140,7,FALSE)","v":1217.5899999999999},{"$f":"VLOOKUP($A68,'2020-2022 Composite Index'!$A$6:$K$140,8,FALSE)","v":12053},{"$f":"VLOOKUP($A68,'2020-2022 Composite Index'!$A$6:$K$140,9,FALSE)","v":0.71160000000000001}]
[67,"NOTTOWAY",{"$f":"VLOOKUP($A69,'2020-2022 Composite Index'!$A$6:$K$140,3,FALSE)","v":1206276137.4249439},{"$f":"VLOOKUP($A69,'2020-2022 Composite Index'!$A$6:$K$140,4,FALSE)","v":244985533.06999999},{"$f":"VLOOKUP($A69,'2020-2022 Composite Index'!$A$6:$K$140,6,FALSE)","v":138347448.74000001},{"$f":"VLOOKUP($A69,'2020-2022 Composite Index'!$A$6:$K$140,7,FALSE)","v":1958.02},{"$f":"VLOOKUP($A69,'2020-2022 Composite Index'!$A$6:$K$140,8,FALSE)","v":15845},{"$f":"VLOOKUP($A69,'2020-2022 Composite Index'!$A$6:$K$140,9,FALSE)","v":0.26240000000000002}]
[68,"ORANGE",{"$f":"VLOOKUP($A70,'2020-2022 Composite Index'!$A$6:$K$140,3,FALSE)","v":4660934258.5186081},{"$f":"VLOOKUP($A70,'2020-2022 Composite Index'!$A$6:$K$140,4,FALSE)","v":974630915.96700001},{"$f":"VLOOKUP($A70,'2020-2022 Composite Index'!$A$6:$K$140,6,FALSE)","v":296990638.50999999},{"$f":"VLOOKUP($A70,'2020-2022 Composite Index'!$A$6:$K$140,7,FALSE)","v":4745.57},{"$f":"VLOOKUP($A70,'2020-2022 Composite Index'!$A$6:$K$140,8,FALSE)","v":34521},{"$f":"VLOOKUP($A70,'2020-2022 Composite Index'!$A$6:$K$140,9,FALSE)","v":0.41049999999999998}]
[69,"PAGE",{"$f":"VLOOKUP($A71,'2020-2022 Composite Index'!$A$6:$K$140,3,FALSE)","v":2626726549.2020202},{"$f":"VLOOKUP($A71,'2020-2022 Composite Index'!$A$6:$K$140,4,FALSE)","v":462573017.64999998},{"$f":"VLOOKUP($A71,'2020-2022 Composite Index'!$A$6:$K$140,6,FALSE)","v":179912536.83000001},{"$f":"VLOOKUP($A71,'2020-2022 Composite Index'!$A$6:$K$140,7,FALSE)","v":3233.29},{"$f":"VLOOKUP($A71,'2020-2022 Composite Index'!$A$6:$K$140,8,FALSE)","v":23665},{"$f":"VLOOKUP($A71,'2020-2022 Composite Index'!$A$6:$K$140,9,FALSE)","v":0.31979999999999997}]
[70,"PATRICK",{"$f":"VLOOKUP($A72,'2020-2022 Composite Index'!$A$6:$K$140,3,FALSE)","v":1637838595.3285484},{"$f":"VLOOKUP($A72,'2020-2022 Composite Index'!$A$6:$K$140,4,FALSE)","v":281220852.72299999},{"$f":"VLOOKUP($A72,'2020-2022 Composite Index'!$A$6:$K$140,6,FALSE)","v":97099828.709999993},{"$f":"VLOOKUP($A72,'2020-2022 Composite Index'!$A$6:$K$140,7,FALSE)","v":2588.38},{"$f":"VLOOKUP($A72,'2020-2022 Composite Index'!$A$6:$K$140,8,FALSE)","v":17930},{"$f":"VLOOKUP($A72,'2020-2022 Composite Index'!$A$6:$K$140,9,FALSE)","v":0.24809999999999999}]
[71,"PITTSYLVANIA",{"$f":"VLOOKUP($A73,'2020-2022 Composite Index'!$A$6:$K$140,3,FALSE)","v":4917968784.6168776},{"$f":"VLOOKUP($A73,'2020-2022 Composite Index'!$A$6:$K$140,4,FALSE)","v":1180967797.221},{"$f":"VLOOKUP($A73,'2020-2022 Composite Index'!$A$6:$K$140,6,FALSE)","v":173524846.33000001},{"$f":"VLOOKUP($A73,'2020-2022 Composite Index'!$A$6:$K$140,7,FALSE)","v":8619.9699999999993},{"$f":"VLOOKUP($A73,'2020-2022 Composite Index'!$A$6:$K$140,8,FALSE)","v":62166},{"$f":"VLOOKUP($A73,'2020-2022 Composite Index'!$A$6:$K$140,9,FALSE)","v":0.24460000000000001}]
[72,"POWHATAN",{"$f":"VLOOKUP($A74,'2020-2022 Composite Index'!$A$6:$K$140,3,FALSE)","v":4252961337.0146441},{"$f":"VLOOKUP($A74,'2020-2022 Composite Index'!$A$6:$K$140,4,FALSE)","v":1018341052.087},{"$f":"VLOOKUP($A74,'2020-2022 Composite Index'!$A$6:$K$140,6,FALSE)","v":253911712.52000001},{"$f":"VLOOKUP($A74,'2020-2022 Composite Index'!$A$6:$K$140,7,FALSE)","v":4220.03},{"$f":"VLOOKUP($A74,'2020-2022 Composite Index'!$A$6:$K$140,8,FALSE)","v":29166},{"$f":"VLOOKUP($A74,'2020-2022 Composite Index'!$A$6:$K$140,9,FALSE)","v":0.45069999999999999}]
[73,"PRINCE EDWARD",{"$f":"VLOOKUP($A75,'2020-2022 Composite Index'!$A$6:$K$140,3,FALSE)","v":1735744005.9118435},{"$f":"VLOOKUP($A75,'2020-2022 Composite Index'!$A$6:$K$140,4,FALSE)","v":331400119.31699997},{"$f":"VLOOKUP($A75,'2020-2022 Composite Index'!$A$6:$K$140,6,FALSE)","v":292525761.44999999},{"$f":"VLOOKUP($A75,'2020-2022 Composite Index'!$A$6:$K$140,7,FALSE)","v":1968.27},{"$f":"VLOOKUP($A75,'2020-2022 Composite Index'!$A$6:$K$140,8,FALSE)","v":23223},{"$f":"VLOOKUP($A75,'2020-2022 Composite Index'!$A$6:$K$140,9,FALSE)","v":0.35539999999999999}]
[74,"PRINCE GEORGE",{"$f":"VLOOKUP($A76,'2020-2022 Composite Index'!$A$6:$K$140,3,FALSE)","v":3250105232.5275345},{"$f":"VLOOKUP($A76,'2020-2022 Composite Index'!$A$6:$K$140,4,FALSE)","v":770840674.70550001},{"$f":"VLOOKUP($A76,'2020-2022 Composite Index'!$A$6:$K$140,6,FALSE)","v":203313121.75999999},{"$f":"VLOOKUP($A76,'2020-2022 Composite Index'!$A$6:$K$140,7,FALSE)","v":6189.27},{"$f":"VLOOKUP($A76,'2020-2022 Composite Index'!$A$6:$K$140,8,FALSE)","v":37025},{"$f":"VLOOKUP($A76,'2020-2022 Composite Index'!$A$6:$K$140,9,FALSE)","v":0.2467}]
[75,"PRINCE WILLIAM",{"$f":"VLOOKUP($A77,'2020-2022 Composite Index'!$A$6:$K$140,3,FALSE)","v":64496713588.881714},{"$f":"VLOOKUP($A77,'2020-2022 Composite Index'!$A$6:$K$140,4,FALSE)","v":15712284717.323799},{"$f":"VLOOKUP($A77,'2020-2022 Composite Index'!$A$6:$K$140,6,FALSE)","v":5540880713.7700005},{"$f":"VLOOKUP($A77,'2020-2022 Composite Index'!$A$6:$K$140,7,FALSE)","v":87313.29},{"$f":"VLOOKUP($A77,'2020-2022 Composite Index'!$A$6:$K$140,8,FALSE)","v":455990},{"$f":"VLOOKUP($A77,'2020-2022 Composite Index'!$A$6:$K$140,9,FALSE)","v":0.37990000000000002}]
[77,"PULASKI",{"$f":"VLOOKUP($A78,'2020-2022 Composite Index'!$A$6:$K$140,3,FALSE)","v":3030751356.2835822},{"$f":"VLOOKUP($A78,'2020-2022 Composite Index'!$A$6:$K$140,4,FALSE)","v":635361543.97599995},{"$f":"VLOOKUP($A78,'2020-2022 Composite Index'!$A$6:$K$140,6,FALSE)","v":376119737.45999998},{"$f":"VLOOKUP($A78,'2020-2022 Composite Index'!$A$6:$K$140,7,FALSE)","v":4013.88},{"$f":"VLOOKUP($A78,'2020-2022 Composite Index'!$A$6:$K$140,8,FALSE)","v":34467},{"$f":"VLOOKUP($A78,'2020-2022 Composite Index'!$A$6:$K$140,9,FALSE)","v":0.32350000000000001}]
[78,"RAPPAHANNOCK",{"$f":"VLOOKUP($A79,'2020-2022 Composite Index'!$A$6:$K$140,3,FALSE)","v":2116665131.3772788},{"$f":"VLOOKUP($A79,'2020-2022 Composite Index'!$A$6:$K$140,4,FALSE)","v":265100919.95300001},{"$f":"VLOOKUP($A79,'2020-2022 Composite Index'!$A$6:$K$140,6,FALSE)","v":40244653},{"$f":"VLOOKUP($A79,'2020-2022 Composite Index'!$A$6:$K$140,7,FALSE)","v":817.68},{"$f":"VLOOKUP($A79,'2020-2022 Composite Index'!$A$6:$K$140,8,FALSE)","v":7288},{"$f":"VLOOKUP($A79,'2020-2022 Composite Index'!$A$6:$K$140,9,FALSE)","v":0.79900000000000004}]
[79,"RICHMOND COUNTY",{"$f":"VLOOKUP($A80,'2020-2022 Composite Index'!$A$6:$K$140,3,FALSE)","v":1002618539.3058923},{"$f":"VLOOKUP($A80,'2020-2022 Composite Index'!$A$6:$K$140,4,FALSE)","v":230917391.639},{"$f":"VLOOKUP($A80,'2020-2022 Composite Index'!$A$6:$K$140,6,FALSE)","v":70063437.129999995},{"$f":"VLOOKUP($A80,'2020-2022 Composite Index'!$A$6:$K$140,7,FALSE)","v":1275.55},{"$f":"VLOOKUP($A80,'2020-2022 Composite Index'!$A$6:$K$140,8,FALSE)","v":9094},{"$f":"VLOOKUP($A80,'2020-2022 Composite Index'!$A$6:$K$140,9,FALSE)","v":0.34649999999999997}]
[80,"ROANOKE COUNTY",{"$f":"VLOOKUP($A81,'2020-2022 Composite Index'!$A$6:$K$140,3,FALSE)","v":9484304507.0225658},{"$f":"VLOOKUP($A81,'2020-2022 Composite Index'!$A$6:$K$140,4,FALSE)","v":2902580475.349},{"$f":"VLOOKUP($A81,'2020-2022 Composite Index'!$A$6:$K$140,6,FALSE)","v":1060806738.78},{"$f":"VLOOKUP($A81,'2020-2022 Composite Index'!$A$6:$K$140,7,FALSE)","v":13778.96},{"$f":"VLOOKUP($A81,'2020-2022 Composite Index'!$A$6:$K$140,8,FALSE)","v":93735},{"$f":"VLOOKUP($A81,'2020-2022 Composite Index'!$A$6:$K$140,9,FALSE)","v":0.36599999999999999}]
[81,"ROCKBRIDGE",{"$f":"VLOOKUP($A82,'2020-2022 Composite Index'!$A$6:$K$140,3,FALSE)","v":3237676337.9390926},{"$f":"VLOOKUP($A82,'2020-2022 Composite Index'!$A$6:$K$140,4,FALSE)","v":486605731.67699999},{"$f":"VLOOKUP($A82,'2020-2022 Composite Index'!$A$6:$K$140,6,FALSE)","v":253206596},{"$f":"VLOOKUP($A82,'2020-2022 Composite Index'!$A$6:$K$140,7,FALSE)","v":2574.59},{"$f":"VLOOKUP($A82,'2020-2022 Composite Index'!$A$6:$K$140,8,FALSE)","v":22596},{"$f":"VLOOKUP($A82,'2020-2022 Composite Index'!$A$6:$K$140,9,FALSE)","v":0.4506}]
[82,"ROCKINGHAM",{"$f":"VLOOKUP($A83,'2020-2022 Composite Index'!$A$6:$K$140,3,FALSE)","v":10539136675.836027},{"$f":"VLOOKUP($A83,'2020-2022 Composite Index'!$A$6:$K$140,4,FALSE)","v":2049709198.9454999},{"$f":"VLOOKUP($A83,'2020-2022 Composite Index'!$A$6:$K$140,6,FALSE)","v":618300799.61000001},{"$f":"VLOOKUP($A83,'2020-2022 Composite Index'!$A$6:$K$140,7,FALSE)","v":11252.58},{"$f":"VLOOKUP($A83,'2020-2022 Composite Index'!$A$6:$K$140,8,FALSE)","v":80666},{"$f":"VLOOKUP($A83,'2020-2022 Composite Index'!$A$6:$K$140,9,FALSE)","v":0.37990000000000002}]
[83,"RUSSELL",{"$f":"VLOOKUP($A84,'2020-2022 Composite Index'!$A$6:$K$140,3,FALSE)","v":2142651703.8957539},{"$f":"VLOOKUP($A84,'2020-2022 Composite Index'!$A$6:$K$140,4,FALSE)","v":403533182.41000003},{"$f":"VLOOKUP($A84,'2020-2022 Composite Index'!$A$6:$K$140,6,FALSE)","v":155743996},{"$f":"VLOOKUP($A84,'2020-2022 Composite Index'!$A$6:$K$140,7,FALSE)","v":3629.3},{"$f":"VLOOKUP($A84,'2020-2022 Composite Index'!$A$6:$K$140,8,FALSE)","v":27309},{"$f":"VLOOKUP($A84,'2020-2022 Composite Index'!$A$6:$K$140,9,FALSE)","v":0.23730000000000001}]
[84,"SCOTT",{"$f":"VLOOKUP($A85,'2020-2022 Composite Index'!$A$6:$K$140,3,FALSE)","v":1449588768.8548353},{"$f":"VLOOKUP($A85,'2020-2022 Composite Index'!$A$6:$K$140,4,FALSE)","v":340480335.34399998},{"$f":"VLOOKUP($A85,'2020-2022 Composite Index'!$A$6:$K$140,6,FALSE)","v":125014352.54000001},{"$f":"VLOOKUP($A85,'2020-2022 Composite Index'!$A$6:$K$140,7,FALSE)","v":3431.49},{"$f":"VLOOKUP($A85,'2020-2022 Composite Index'!$A$6:$K$140,8,FALSE)","v":22377},{"$f":"VLOOKUP($A85,'2020-2022 Composite Index'!$A$6:$K$140,9,FALSE)","v":0.19719999999999999}]
[85,"SHENANDOAH",{"$f":"VLOOKUP($A86,'2020-2022 Composite Index'!$A$6:$K$140,3,FALSE)","v":5560973201.7541246},{"$f":"VLOOKUP($A86,'2020-2022 Composite Index'!$A$6:$K$140,4,FALSE)","v":1029338148.4906},{"$f":"VLOOKUP($A86,'2020-2022 Composite Index'!$A$6:$K$140,6,FALSE)","v":378819979.47000003},{"$f":"VLOOKUP($A86,'2020-2022 Composite Index'!$A$6:$K$140,7,FALSE)","v":5813},{"$f":"VLOOKUP($A86,'2020-2022 Composite Index'!$A$6:$K$140,8,FALSE)","v":42525},{"$f":"VLOOKUP($A86,'2020-2022 Composite Index'!$A$6:$K$140,9,FALSE)","v":0.38319999999999999}]
[86,"SMYTH",{"$f":"VLOOKUP($A87,'2020-2022 Composite Index'!$A$6:$K$140,3,FALSE)","v":2050943352.2474034},{"$f":"VLOOKUP($A87,'2020-2022 Composite Index'!$A$6:$K$140,4,FALSE)","v":499490842.44800001},{"$f":"VLOOKUP($A87,'2020-2022 Composite Index'!$A$6:$K$140,6,FALSE)","v":205033051.61000001},{"$f":"VLOOKUP($A87,'2020-2022 Composite Index'!$A$6:$K$140,7,FALSE)","v":4217.82},{"$f":"VLOOKUP($A87,'2020-2022 Composite Index'!$A$6:$K$140,8,FALSE)","v":30686},{"$f":"VLOOKUP($A87,'2020-2022 Composite Index'!$A$6:$K$140,9,FALSE)","v":0.22589999999999999}]
[87,"SOUTHAMPTON",{"$f":"VLOOKUP($A88,'2020-2022 Composite Index'!$A$6:$K$140,3,FALSE)","v":2105916475.5673299},{"$f":"VLOOKUP($A88,'2020-2022 Composite Index'!$A$6:$K$140,4,FALSE)","v":385172536.44199997},{"$f":"VLOOKUP($A88,'2020-2022 Composite Index'!$A$6:$K$140,6,FALSE)","v":43903421.399999999},{"$f":"VLOOKUP($A88,'2020-2022 Composite Index'!$A$6:$K$140,7,FALSE)","v":2637.85},{"$f":"VLOOKUP($A88,'2020-2022 Composite Index'!$A$6:$K$140,8,FALSE)","v":18119},{"$f":"VLOOKUP($A88,'2020-2022 Composite Index'!$A$6:$K$140,9,FALSE)","v":0.30459999999999998}]
[88,"SPOTSYLVANIA",{"$f":"VLOOKUP($A89,'2020-2022 Composite Index'!$A$6:$K$140,3,FALSE)","v":17549263472.548038},{"$f":"VLOOKUP($A89,'2020-2022 Composite Index'!$A$6:$K$140,4,FALSE)","v":4057966913.7841001},{"$f":"VLOOKUP($A89,'2020-2022 Composite Index'!$A$6:$K$140,6,FALSE)","v":1634908083.1900001},{"$f":"VLOOKUP($A89,'2020-2022 Composite Index'!$A$6:$K$140,7,FALSE)","v":23183.64},{"$f":"VLOOKUP($A89,'2020-2022 Composite Index'!$A$6:$K$140,8,FALSE)","v":131549},{"$f":"VLOOKUP($A89,'2020-2022 Composite Index'!$A$6:$K$140,9,FALSE)","v":0.37219999999999998}]
[89,"STAFFORD",{"$f":"VLOOKUP($A90,'2020-2022 Composite Index'!$A$6:$K$140,3,FALSE)","v":19587826223.531853},{"$f":"VLOOKUP($A90,'2020-2022 Composite Index'!$A$6:$K$140,4,FALSE)","v":4814474903.125},{"$f":"VLOOKUP($A90,'2020-2022 Composite Index'!$A$6:$K$140,6,FALSE)","v":1165726180.8699999},{"$f":"VLOOKUP($A90,'2020-2022 Composite Index'!$A$6:$K$140,7,FALSE)","v":28486.89},{"$f":"VLOOKUP($A90,'2020-2022 Composite Index'!$A$6:$K$140,8,FALSE)","v":145699},{"$f":"VLOOKUP($A90,'2020-2022 Composite Index'!$A$6:$K$140,9,FALSE)","v":0.34699999999999998}]
[90,"SURRY",{"$f":"VLOOKUP($A91,'2020-2022 Composite Index'!$A$6:$K$140,3,FALSE)","v":2840333103.9658718},{"$f":"VLOOKUP($A91,'2020-2022 Composite Index'!$A$6:$K$140,4,FALSE)","v":143066509.829},{"$f":"VLOOKUP($A91,'2020-2022 Composite Index'!$A$6:$K$140,6,FALSE)","v":20421222},{"$f":"VLOOKUP($A91,'2020-2022 Composite Index'!$A$6:$K$140,7,FALSE)","v":731.15},{"$f":"VLOOKUP($A91,'2020-2022 Composite Index'!$A$6:$K$140,8,FALSE)","v":6674},{"$f":"VLOOKUP($A91,'2020-2022 Composite Index'!$A$6:$K$140,9,FALSE)","v":0.8}]
[91,"SUSSEX",{"$f":"VLOOKUP($A92,'2020-2022 Composite Index'!$A$6:$K$140,3,FALSE)","v":1028597204.1583422},{"$f":"VLOOKUP($A92,'2020-2022 Composite Index'!$A$6:$K$140,4,FALSE)","v":163877638.54820001},{"$f":"VLOOKUP($A92,'2020-2022 Composite Index'!$A$6:$K$140,6,FALSE)","v":90499076.510000005},{"$f":"VLOOKUP($A92,'2020-2022 Composite Index'!$A$6:$K$140,7,FALSE)","v":1019.46},{"$f":"VLOOKUP($A92,'2020-2022 Composite Index'!$A$6:$K$140,8,FALSE)","v":11655},{"$f":"VLOOKUP($A92,'2020-2022 Composite Index'!$A$6:$K$140,9,FALSE)","v":0.34920000000000001}]
[92,"TAZEWELL",{"$f":"VLOOKUP($A93,'2020-2022 Composite Index'!$A$6:$K$140,3,FALSE)","v":2929410024.421875},{"$f":"VLOOKUP($A93,'2020-2022 Composite Index'!$A$6:$K$140,4,FALSE)","v":701695888.95200002},{"$f":"VLOOKUP($A93,'2020-2022 Composite Index'!$A$6:$K$140,6,FALSE)","v":511172039.33999997},{"$f":"VLOOKUP($A93,'2020-2022 Composite Index'!$A$6:$K$140,7,FALSE)","v":5625.69},{"$f":"VLOOKUP($A93,'2020-2022 Composite Index'!$A$6:$K$140,8,FALSE)","v":42574},{"$f":"VLOOKUP($A93,'2020-2022 Composite Index'!$A$6:$K$140,9,FALSE)","v":0.25750000000000001}]
[93,"WARREN",{"$f":"VLOOKUP($A94,'2020-2022 Composite Index'!$A$6:$K$140,3,FALSE)","v":6023427519.9794588},{"$f":"VLOOKUP($A94,'2020-2022 Composite Index'!$A$6:$K$140,4,FALSE)","v":1041222853.2539999},{"$f":"VLOOKUP($A94,'2020-2022 Composite Index'!$A$6:$K$140,6,FALSE)","v":404670592.17000002},{"$f":"VLOOKUP($A94,'2020-2022 Composite Index'!$A$6:$K$140,7,FALSE)","v":5279.87},{"$f":"VLOOKUP($A94,'2020-2022 Composite Index'!$A$6:$K$140,8,FALSE)","v":39239},{"$f":"VLOOKUP($A94,'2020-2022 Composite Index'!$A$6:$K$140,9,FALSE)","v":0.44319999999999998}]
[94,"WASHINGTON",{"$f":"VLOOKUP($A95,'2020-2022 Composite Index'!$A$6:$K$140,3,FALSE)","v":5482514964.2722025},{"$f":"VLOOKUP($A95,'2020-2022 Composite Index'!$A$6:$K$140,4,FALSE)","v":1205337906.4484},{"$f":"VLOOKUP($A95,'2020-2022 Composite Index'!$A$6:$K$140,6,FALSE)","v":659752986.01999998},{"$f":"VLOOKUP($A95,'2020-2022 Composite Index'!$A$6:$K$140,7,FALSE)","v":6979.59},{"$f":"VLOOKUP($A95,'2020-2022 Composite Index'!$A$6:$K$140,8,FALSE)","v":53789},{"$f":"VLOOKUP($A95,'2020-2022 Composite Index'!$A$6:$K$140,9,FALSE)","v":0.35220000000000001}]
[95,"WESTMORELAND",{"$f":"VLOOKUP($A96,'2020-2022 Composite Index'!$A$6:$K$140,3,FALSE)","v":2132048750.1497116},{"$f":"VLOOKUP($A96,'2020-2022 Composite Index'!$A$6:$K$140,4,FALSE)","v":319318646},{"$f":"VLOOKUP($A96,'2020-2022 Composite Index'!$A$6:$K$140,6,FALSE)","v":67126856.730000004},{"$f":"VLOOKUP($A96,'2020-2022 Composite Index'!$A$6:$K$140,7,FALSE)","v":1518.62},{"$f":"VLOOKUP($A96,'2020-2022 Composite Index'!$A$6:$K$140,8,FALSE)","v":14191},{"$f":"VLOOKUP($A96,'2020-2022 Composite Index'!$A$6:$K$140,9,FALSE)","v":0.46179999999999999}]
[96,"WISE",{"$f":"VLOOKUP($A97,'2020-2022 Composite Index'!$A$6:$K$140,3,FALSE)","v":3462392703.2608471},{"$f":"VLOOKUP($A97,'2020-2022 Composite Index'!$A$6:$K$140,4,FALSE)","v":528747188.78500003},{"$f":"VLOOKUP($A97,'2020-2022 Composite Index'!$A$6:$K$140,6,FALSE)","v":269251707.95999998},{"$f":"VLOOKUP($A97,'2020-2022 Composite Index'!$A$6:$K$140,7,FALSE)","v":5575},{"$f":"VLOOKUP($A97,'2020-2022 Composite Index'!$A$6:$K$140,8,FALSE)","v":39133},{"$f":"VLOOKUP($A97,'2020-2022 Composite Index'!$A$6:$K$140,9,FALSE)","v":0.2392}]
[97,"WYTHE",{"$f":"VLOOKUP($A98,'2020-2022 Composite Index'!$A$6:$K$140,3,FALSE)","v":2999424650.148581},{"$f":"VLOOKUP($A98,'2020-2022 Composite Index'!$A$6:$K$140,4,FALSE)","v":522972560.72899997},{"$f":"VLOOKUP($A98,'2020-2022 Composite Index'!$A$6:$K$140,6,FALSE)","v":389415463.48000002},{"$f":"VLOOKUP($A98,'2020-2022 Composite Index'!$A$6:$K$140,7,FALSE)","v":3999.31},{"$f":"VLOOKUP($A98,'2020-2022 Composite Index'!$A$6:$K$140,8,FALSE)","v":28723},{"$f":"VLOOKUP($A98,'2020-2022 Composite Index'!$A$6:$K$140,9,FALSE)","v":0.32040000000000002}]
[98,"YORK",{"$f":"VLOOKUP($A99,'2020-2022 Composite Index'!$A$6:$K$140,3,FALSE)","v":9947911300.6336079},{"$f":"VLOOKUP($A99,'2020-2022 Composite Index'!$A$6:$K$140,4,FALSE)","v":2110103154.039},{"$f":"VLOOKUP($A99,'2020-2022 Composite Index'!$A$6:$K$140,6,FALSE)","v":949567169.16999996},{"$f":"VLOOKUP($A99,'2020-2022 Composite Index'!$A$6:$K$140,7,FALSE)","v":12609.72},{"$f":"VLOOKUP($A99,'2020-2022 Composite Index'!$A$6:$K$140,8,FALSE)","v":68890},{"$f":"VLOOKUP($A99,'2020-2022 Composite Index'!$A$6:$K$140,9,FALSE)","v":0.38119999999999998}]
[101,"ALEXANDRIA",{"$f":"VLOOKUP($A100,'2020-2022 Composite Index'!$A$6:$K$140,3,FALSE)","v":40241761138.620949},{"$f":"VLOOKUP($A100,'2020-2022 Composite Index'!$A$6:$K$140,4,FALSE)","v":8517147154.3915997},{"$f":"VLOOKUP($A100,'2020-2022 Composite Index'!$A$6:$K$140,6,FALSE)","v":2166848199.3800001},{"$f":"VLOOKUP($A100,'2020-2022 Composite Index'!$A$6:$K$140,7,FALSE)","v":14987.82},{"$f":"VLOOKUP($A100,'2020-2022 Composite Index'!$A$6:$K$140,8,FALSE)","v":160719},{"$f":"VLOOKUP($A100,'2020-2022 Composite Index'!$A$6:$K$140,9,FALSE)","v":0.8}]
[102,"BRISTOL",{"$f":"VLOOKUP($A101,'2020-2022 Composite Index'!$A$6:$K$140,3,FALSE)","v":1301914172.7526095},{"$f":"VLOOKUP($A101,'2020-2022 Composite Index'!$A$6:$K$140,4,FALSE)","v":362364999.051},{"$f":"VLOOKUP($A101,'2020-2022 Composite Index'!$A$6:$K$140,6,FALSE)","v":357990921.17000002},{"$f":"VLOOKUP($A101,'2020-2022 Composite Index'!$A$6:$K$140,7,FALSE)","v":2157.2199999999998},{"$f":"VLOOKUP($A101,'2020-2022 Composite Index'!$A$6:$K$140,8,FALSE)","v":17160},{"$f":"VLOOKUP($A101,'2020-2022 Composite Index'!$A$6:$K$140,9,FALSE)","v":0.34329999999999999}]
[103,"BUENA VISTA",{"$f":"VLOOKUP($A102,'2020-2022 Composite Index'!$A$6:$K$140,3,FALSE)","v":340422447.9868319},{"$f":"VLOOKUP($A102,'2020-2022 Composite Index'!$A$6:$K$140,4,FALSE)","v":97911477.337799996},{"$f":"VLOOKUP($A102,'2020-2022 Composite Index'!$A$6:$K$140,6,FALSE)","v":30887490},{"$f":"VLOOKUP($A102,'2020-2022 Composite Index'!$A$6:$K$140,7,FALSE)","v":892.59},{"$f":"VLOOKUP($A102,'2020-2022 Composite Index'!$A$6:$K$140,8,FALSE)","v":6424},{"$f":"VLOOKUP($A102,'2020-2022 Composite Index'!$A$6:$K$140,9,FALSE)","v":0.1893}]
[104,"CHARLOTTESVILLE",{"$f":"VLOOKUP($A103,'2020-2022 Composite Index'!$A$6:$K$140,3,FALSE)","v":7637638791.5555553},{"$f":"VLOOKUP($A103,'2020-2022 Composite Index'!$A$6:$K$140,4,FALSE)","v":1423575334.1912},{"$f":"VLOOKUP($A103,'2020-2022 Composite Index'!$A$6:$K$140,6,FALSE)","v":971359089.53999996},{"$f":"VLOOKUP($A103,'2020-2022 Composite Index'!$A$6:$K$140,7,FALSE)","v":4189.74},{"$f":"VLOOKUP($A103,'2020-2022 Composite Index'!$A$6:$K$140,8,FALSE)","v":49132},{"$f":"VLOOKUP($A103,'2020-2022 Composite Index'!$A$6:$K$140,9,FALSE)","v":0.69479999999999997}]
[106,"COLONIAL HEIGHTS",{"$f":"VLOOKUP($A104,'2020-2022 Composite Index'!$A$6:$K$140,3,FALSE)","v":1812640040.8409362},{"$f":"VLOOKUP($A104,'2020-2022 Composite Index'!$A$6:$K$140,4,FALSE)","v":398659176.16900003},{"$f":"VLOOKUP($A104,'2020-2022 Composite Index'!$A$6:$K$140,6,FALSE)","v":717236556.60000002},{"$f":"VLOOKUP($A104,'2020-2022 Composite Index'!$A$6:$K$140,7,FALSE)","v":2759.15},{"$f":"VLOOKUP($A104,'2020-2022 Composite Index'!$A$6:$K$140,8,FALSE)","v":17320},{"$f":"VLOOKUP($A104,'2020-2022 Composite Index'!$A$6:$K$140,9,FALSE)","v":0.41560000000000002}]
[107,"COVINGTON",{"$f":"VLOOKUP($A105,'2020-2022 Composite Index'!$A$6:$K$140,3,FALSE)","v":580167623.31773269},{"$f":"VLOOKUP($A105,'2020-2022 Composite Index'!$A$6:$K$140,4,FALSE)","v":98817773.386000007},{"$f":"VLOOKUP($A105,'2020-2022 Composite Index'!$A$6:$K$140,6,FALSE)","v":110735625.84999999},{"$f":"VLOOKUP($A105,'2020-2022 Composite Index'!$A$6:$K$140,7,FALSE)","v":961.48},{"$f":"VLOOKUP($A105,'2020-2022 Composite Index'!$A$6:$K$140,8,FALSE)","v":5850},{"$f":"VLOOKUP($A105,'2020-2022 Composite Index'!$A$6:$K$140,9,FALSE)","v":0.2913}]
[108,"DANVILLE",{"$f":"VLOOKUP($A106,'2020-2022 Composite Index'!$A$6:$K$140,3,FALSE)","v":2314741875.1414142},{"$f":"VLOOKUP($A106,'2020-2022 Composite Index'!$A$6:$K$140,4,FALSE)","v":770968255.63859999},{"$f":"VLOOKUP($A106,'2020-2022 Composite Index'!$A$6:$K$140,6,FALSE)","v":793761923.86000001},{"$f":"VLOOKUP($A106,'2020-2022 Composite Index'!$A$6:$K$140,7,FALSE)","v":5519.2},{"$f":"VLOOKUP($A106,'2020-2022 Composite Index'!$A$6:$K$140,8,FALSE)","v":41358},{"$f":"VLOOKUP($A106,'2020-2022 Composite Index'!$A$6:$K$140,9,FALSE)","v":0.27589999999999998}]
[109,"FALLS CHURCH",{"$f":"VLOOKUP($A107,'2020-2022 Composite Index'!$A$6:$K$140,3,FALSE)","v":4429390875.1606121},{"$f":"VLOOKUP($A107,'2020-2022 Composite Index'!$A$6:$K$140,4,FALSE)","v":1030319973.8788},{"$f":"VLOOKUP($A107,'2020-2022 Composite Index'!$A$6:$K$140,6,FALSE)","v":362455075.37},{"$f":"VLOOKUP($A107,'2020-2022 Composite Index'!$A$6:$K$140,7,FALSE)","v":2607.3000000000002},{"$f":"VLOOKUP($A107,'2020-2022 Composite Index'!$A$6:$K$140,8,FALSE)","v":14269},{"$f":"VLOOKUP($A107,'2020-2022 Composite Index'!$A$6:$K$140,9,FALSE)","v":0.8}]
[110,"FREDERICKSBURG",{"$f":"VLOOKUP($A108,'2020-2022 Composite Index'!$A$6:$K$140,3,FALSE)","v":4256115976.0956955},{"$f":"VLOOKUP($A108,'2020-2022 Composite Index'!$A$6:$K$140,4,FALSE)","v":819317316.75699997},{"$f":"VLOOKUP($A108,'2020-2022 Composite Index'!$A$6:$K$140,6,FALSE)","v":945058833.03999996},{"$f":"VLOOKUP($A108,'2020-2022 Composite Index'!$A$6:$K$140,7,FALSE)","v":3400.21},{"$f":"VLOOKUP($A108,'2020-2022 Composite Index'!$A$6:$K$140,8,FALSE)","v":27645},{"$f":"VLOOKUP($A108,'2020-2022 Composite Index'!$A$6:$K$140,9,FALSE)","v":0.59099999999999997}]
[111,"GALAX",{"$f":"VLOOKUP($A109,'2020-2022 Composite Index'!$A$6:$K$140,3,FALSE)","v":517853296.76590931},{"$f":"VLOOKUP($A109,'2020-2022 Composite Index'!$A$6:$K$140,4,FALSE)","v":114691226.73999999},{"$f":"VLOOKUP($A109,'2020-2022 Composite Index'!$A$6:$K$140,6,FALSE)","v":208254312.55000001},{"$f":"VLOOKUP($A109,'2020-2022 Composite Index'!$A$6:$K$140,7,FALSE)","v":1229.6600000000001},{"$f":"VLOOKUP($A109,'2020-2022 Composite Index'!$A$6:$K$140,8,FALSE)","v":6748},{"$f":"VLOOKUP($A109,'2020-2022 Composite Index'!$A$6:$K$140,9,FALSE)","v":0.28210000000000002}]
[112,"HAMPTON",{"$f":"VLOOKUP($A110,'2020-2022 Composite Index'!$A$6:$K$140,3,FALSE)","v":11298695163.44898},{"$f":"VLOOKUP($A110,'2020-2022 Composite Index'!$A$6:$K$140,4,FALSE)","v":2535376962.2313399},{"$f":"VLOOKUP($A110,'2020-2022 Composite Index'!$A$6:$K$140,6,FALSE)","v":1354676659.3900001},{"$f":"VLOOKUP($A110,'2020-2022 Composite Index'!$A$6:$K$140,7,FALSE)","v":19013.27},{"$f":"VLOOKUP($A110,'2020-2022 Composite Index'!$A$6:$K$140,8,FALSE)","v":136743},{"$f":"VLOOKUP($A110,'2020-2022 Composite Index'!$A$6:$K$140,9,FALSE)","v":0.27429999999999999}]
[113,"HARRISONBURG",{"$f":"VLOOKUP($A111,'2020-2022 Composite Index'!$A$6:$K$140,3,FALSE)","v":4478527081.7577124},{"$f":"VLOOKUP($A111,'2020-2022 Composite Index'!$A$6:$K$140,4,FALSE)","v":760802893.347},{"$f":"VLOOKUP($A111,'2020-2022 Composite Index'!$A$6:$K$140,6,FALSE)","v":1238467780.28},{"$f":"VLOOKUP($A111,'2020-2022 Composite Index'!$A$6:$K$140,7,FALSE)","v":5886.9},{"$f":"VLOOKUP($A111,'2020-2022 Composite Index'!$A$6:$K$140,8,FALSE)","v":54689},{"$f":"VLOOKUP($A111,'2020-2022 Composite Index'!$A$6:$K$140,9,FALSE)","v":0.35370000000000001}]
[114,"HOPEWELL",{"$f":"VLOOKUP($A112,'2020-2022 Composite Index'!$A$6:$K$140,3,FALSE)","v":1743092657.5218105},{"$f":"VLOOKUP($A112,'2020-2022 Composite Index'!$A$6:$K$140,4,FALSE)","v":355172499.74110001},{"$f":"VLOOKUP($A112,'2020-2022 Composite Index'!$A$6:$K$140,6,FALSE)","v":169710176.56},{"$f":"VLOOKUP($A112,'2020-2022 Composite Index'!$A$6:$K$140,7,FALSE)","v":3976.77},{"$f":"VLOOKUP($A112,'2020-2022 Composite Index'!$A$6:$K$140,8,FALSE)","v":22817},{"$f":"VLOOKUP($A112,'2020-2022 Composite Index'!$A$6:$K$140,9,FALSE)","v":0.20530000000000001}]
[115,"LYNCHBURG",{"$f":"VLOOKUP($A113,'2020-2022 Composite Index'!$A$6:$K$140,3,FALSE)","v":5751276306.7575245},{"$f":"VLOOKUP($A113,'2020-2022 Composite Index'!$A$6:$K$140,4,FALSE)","v":1548042261.8278},{"$f":"VLOOKUP($A113,'2020-2022 Composite Index'!$A$6:$K$140,6,FALSE)","v":1373101288.8099999},{"$f":"VLOOKUP($A113,'2020-2022 Composite Index'!$A$6:$K$140,7,FALSE)","v":7978.94},{"$f":"VLOOKUP($A113,'2020-2022 Composite Index'!$A$6:$K$140,8,FALSE)","v":80380},{"$f":"VLOOKUP($A113,'2020-2022 Composite Index'!$A$6:$K$140,9,FALSE)","v":0.36680000000000001}]
[116,"MARTINSVILLE",{"$f":"VLOOKUP($A114,'2020-2022 Composite Index'!$A$6:$K$140,3,FALSE)","v":679090524.71235728},{"$f":"VLOOKUP($A114,'2020-2022 Composite Index'!$A$6:$K$140,4,FALSE)","v":241750968.579},{"$f":"VLOOKUP($A114,'2020-2022 Composite Index'!$A$6:$K$140,6,FALSE)","v":156627539},{"$f":"VLOOKUP($A114,'2020-2022 Composite Index'!$A$6:$K$140,7,FALSE)","v":1893.97},{"$f":"VLOOKUP($A114,'2020-2022 Composite Index'!$A$6:$K$140,8,FALSE)","v":13382},{"$f":"VLOOKUP($A114,'2020-2022 Composite Index'!$A$6:$K$140,9,FALSE)","v":0.22539999999999999}]
[117,"NEWPORT NEWS",{"$f":"VLOOKUP($A115,'2020-2022 Composite Index'!$A$6:$K$140,3,FALSE)","v":15940670477.786209},{"$f":"VLOOKUP($A115,'2020-2022 Composite Index'!$A$6:$K$140,4,FALSE)","v":3558760525.165},{"$f":"VLOOKUP($A115,'2020-2022 Composite Index'!$A$6:$K$140,6,FALSE)","v":2188701990.54},{"$f":"VLOOKUP($A115,'2020-2022 Composite Index'!$A$6:$K$140,7,FALSE)","v":26872.560000000001},{"$f":"VLOOKUP($A115,'2020-2022 Composite Index'!$A$6:$K$140,8,FALSE)","v":182155},{"$f":"VLOOKUP($A115,'2020-2022 Composite Index'!$A$6:$K$140,9,FALSE)","v":0.28420000000000001}]
[118,"NORFOLK",{"$f":"VLOOKUP($A116,'2020-2022 Composite Index'!$A$6:$K$140,3,FALSE)","v":20271901551.44326},{"$f":"VLOOKUP($A116,'2020-2022 Composite Index'!$A$6:$K$140,4,FALSE)","v":4330645703.1117802},{"$f":"VLOOKUP($A116,'2020-2022 Composite Index'!$A$6:$K$140,6,FALSE)","v":2800002003.8600001},{"$f":"VLOOKUP($A116,'2020-2022 Composite Index'!$A$6:$K$140,7,FALSE)","v":28431.57},{"$f":"VLOOKUP($A116,'2020-2022 Composite Index'!$A$6:$K$140,8,FALSE)","v":246256},{"$f":"VLOOKUP($A116,'2020-2022 Composite Index'!$A$6:$K$140,9,FALSE)","v":0.31190000000000001}]
[119,"NORTON",{"$f":"VLOOKUP($A117,'2020-2022 Composite Index'!$A$6:$K$140,3,FALSE)","v":268221468.51461154},{"$f":"VLOOKUP($A117,'2020-2022 Composite Index'!$A$6:$K$140,4,FALSE)","v":66254098.452},{"$f":"VLOOKUP($A117,'2020-2022 Composite Index'!$A$6:$K$140,6,FALSE)","v":140897761.55000001},{"$f":"VLOOKUP($A117,'2020-2022 Composite Index'!$A$6:$K$140,7,FALSE)","v":766.24},{"$f":"VLOOKUP($A117,'2020-2022 Composite Index'!$A$6:$K$140,8,FALSE)","v":3882},{"$f":"VLOOKUP($A117,'2020-2022 Composite Index'!$A$6:$K$140,9,FALSE)","v":0.27589999999999998}]
[120,"PETERSBURG",{"$f":"VLOOKUP($A118,'2020-2022 Composite Index'!$A$6:$K$140,3,FALSE)","v":2049675300.2709107},{"$f":"VLOOKUP($A118,'2020-2022 Composite Index'!$A$6:$K$140,4,FALSE)","v":445740064.6358},{"$f":"VLOOKUP($A118,'2020-2022 Composite Index'!$A$6:$K$140,6,FALSE)","v":293004412.83999997},{"$f":"VLOOKUP($A118,'2020-2022 Composite Index'!$A$6:$K$140,7,FALSE)","v":3738.9},{"$f":"VLOOKUP($A118,'2020-2022 Composite Index'!$A$6:$K$140,8,FALSE)","v":31705},{"$f":"VLOOKUP($A118,'2020-2022 Composite Index'!$A$6:$K$140,9,FALSE)","v":0.2442}]
[121,"PORTSMOUTH",{"$f":"VLOOKUP($A119,'2020-2022 Composite Index'!$A$6:$K$140,3,FALSE)","v":7493264463.627615},{"$f":"VLOOKUP($A119,'2020-2022 Composite Index'!$A$6:$K$140,4,FALSE)","v":1673148239.0539999},{"$f":"VLOOKUP($A119,'2020-2022 Composite Index'!$A$6:$K$140,6,FALSE)","v":609799751.41999996},{"$f":"VLOOKUP($A119,'2020-2022 Composite Index'!$A$6:$K$140,7,FALSE)","v":13476.08},{"$f":"VLOOKUP($A119,'2020-2022 Composite Index'!$A$6:$K$140,8,FALSE)","v":95440},{"$f":"VLOOKUP($A119,'2020-2022 Composite Index'!$A$6:$K$140,9,FALSE)","v":0.24590000000000001}]
[122,"RADFORD",{"$f":"VLOOKUP($A120,'2020-2022 Composite Index'!$A$6:$K$140,3,FALSE)","v":925257385.2163589},{"$f":"VLOOKUP($A120,'2020-2022 Composite Index'!$A$6:$K$140,4,FALSE)","v":242744308.98500001},{"$f":"VLOOKUP($A120,'2020-2022 Composite Index'!$A$6:$K$140,6,FALSE)","v":69825230.849999994},{"$f":"VLOOKUP($A120,'2020-2022 Composite Index'!$A$6:$K$140,7,FALSE)","v":1572.47},{"$f":"VLOOKUP($A120,'2020-2022 Composite Index'!$A$6:$K$140,8,FALSE)","v":17208},{"$f":"VLOOKUP($A120,'2020-2022 Composite Index'!$A$6:$K$140,9,FALSE)","v":0.2452}]
[123,"RICHMOND CITY",{"$f":"VLOOKUP($A121,'2020-2022 Composite Index'!$A$6:$K$140,3,FALSE)","v":25285469456.353184},{"$f":"VLOOKUP($A121,'2020-2022 Composite Index'!$A$6:$K$140,4,FALSE)","v":6169580882.2012596},{"$f":"VLOOKUP($A121,'2020-2022 Composite Index'!$A$6:$K$140,6,FALSE)","v":2699889889.6100001},{"$f":"VLOOKUP($A121,'2020-2022 Composite Index'!$A$6:$K$140,7,FALSE)","v":22952.560000000001},{"$f":"VLOOKUP($A121,'2020-2022 Composite Index'!$A$6:$K$140,8,FALSE)","v":222853},{"$f":"VLOOKUP($A121,'2020-2022 Composite Index'!$A$6:$K$140,9,FALSE)","v":0.4748}]
[124,"ROANOKE CITY",{"$f":"VLOOKUP($A122,'2020-2022 Composite Index'!$A$6:$K$140,3,FALSE)","v":8006183886.744957},{"$f":"VLOOKUP($A122,'2020-2022 Composite Index'!$A$6:$K$140,4,FALSE)","v":1993403216.1700399},{"$f":"VLOOKUP($A122,'2020-2022 Composite Index'!$A$6:$K$140,6,FALSE)","v":1837473382.29},{"$f":"VLOOKUP($A122,'2020-2022 Composite Index'!$A$6:$K$140,7,FALSE)","v":12822.83},{"$f":"VLOOKUP($A122,'2020-2022 Composite Index'!$A$6:$K$140,8,FALSE)","v":99908},{"$f":"VLOOKUP($A122,'2020-2022 Composite Index'!$A$6:$K$140,9,FALSE)","v":0.32840000000000003}]
[126,"STAUNTON",{"$f":"VLOOKUP($A123,'2020-2022 Composite Index'!$A$6:$K$140,3,FALSE)","v":2061468017.9821334},{"$f":"VLOOKUP($A123,'2020-2022 Composite Index'!$A$6:$K$140,4,FALSE)","v":551053906.50100005},{"$f":"VLOOKUP($A123,'2020-2022 Composite Index'!$A$6:$K$140,6,FALSE)","v":361530282.13999999},{"$f":"VLOOKUP($A123,'2020-2022 Composite Index'!$A$6:$K$140,7,FALSE)","v":2563.29},{"$f":"VLOOKUP($A123,'2020-2022 Composite Index'!$A$6:$K$140,8,FALSE)","v":24761},{"$f":"VLOOKUP($A123,'2020-2022 Composite Index'!$A$6:$K$140,9,FALSE)","v":0.38769999999999999}]
[127,"SUFFOLK",{"$f":"VLOOKUP($A124,'2020-2022 Composite Index'!$A$6:$K$140,3,FALSE)","v":10800133373.296234},{"$f":"VLOOKUP($A124,'2020-2022 Composite Index'!$A$6:$K$140,4,FALSE)","v":2330568682.6696},{"$f":"VLOOKUP($A124,'2020-2022 Composite Index'!$A$6:$K$140,6,FALSE)","v":895475059.50999999},{"$f":"VLOOKUP($A124,'2020-2022 Composite Index'!$A$6:$K$140,7,FALSE)","v":13783.08},{"$f":"VLOOKUP($A124,'2020-2022 Composite Index'!$A$6:$K$140,8,FALSE)","v":92533},{"$f":"VLOOKUP($A124,'2020-2022 Composite Index'!$A$6:$K$140,9,FALSE)","v":0.34870000000000001}]
[128,"VIRGINIA BEACH",{"$f":"VLOOKUP($A125,'2020-2022 Composite Index'!$A$6:$K$140,3,FALSE)","v":61362089466.21727},{"$f":"VLOOKUP($A125,'2020-2022 Composite Index'!$A$6:$K$140,4,FALSE)","v":13104904539.4165},{"$f":"VLOOKUP($A125,'2020-2022 Composite Index'!$A$6:$K$140,6,FALSE)","v":5597203814.4899998},{"$f":"VLOOKUP($A125,'2020-2022 Composite Index'!$A$6:$K$140,7,FALSE)","v":67090.94},{"$f":"VLOOKUP($A125,'2020-2022 Composite Index'!$A$6:$K$140,8,FALSE)","v":454448},{"$f":"VLOOKUP($A125,'2020-2022 Composite Index'!$A$6:$K$140,9,FALSE)","v":0.40820000000000001}]
[130,"WAYNESBORO",{"$f":"VLOOKUP($A126,'2020-2022 Composite Index'!$A$6:$K$140,3,FALSE)","v":2102741411.6239665},{"$f":"VLOOKUP($A126,'2020-2022 Composite Index'!$A$6:$K$140,4,FALSE)","v":456798300.37800002},{"$f":"VLOOKUP($A126,'2020-2022 Composite Index'!$A$6:$K$140,6,FALSE)","v":490439867.54000002},{"$f":"VLOOKUP($A126,'2020-2022 Composite Index'!$A$6:$K$140,7,FALSE)","v":2934.02},{"$f":"VLOOKUP($A126,'2020-2022 Composite Index'!$A$6:$K$140,8,FALSE)","v":21955},{"$f":"VLOOKUP($A126,'2020-2022 Composite Index'!$A$6:$K$140,9,FALSE)","v":0.36520000000000002}]
[131,"WILLIAMSBURG",{"$f":"VLOOKUP($A127,'2020-2022 Composite Index'!$A$6:$K$140,3,FALSE)","v":1966889776.7903092},{"$f":"VLOOKUP($A127,'2020-2022 Composite Index'!$A$6:$K$140,4,FALSE)","v":332999798.2784},{"$f":"VLOOKUP($A127,'2020-2022 Composite Index'!$A$6:$K$140,6,FALSE)","v":400643946.56999999},{"$f":"VLOOKUP($A127,'2020-2022 Composite Index'!$A$6:$K$140,7,FALSE)","v":998.36},{"$f":"VLOOKUP($A127,'2020-2022 Composite Index'!$A$6:$K$140,8,FALSE)","v":15404},{"$f":"VLOOKUP($A127,'2020-2022 Composite Index'!$A$6:$K$140,9,FALSE)","v":0.75460000000000005}]
[132,"WINCHESTER",{"$f":"VLOOKUP($A128,'2020-2022 Composite Index'!$A$6:$K$140,3,FALSE)","v":3368957279.7845116},{"$f":"VLOOKUP($A128,'2020-2022 Composite Index'!$A$6:$K$140,4,FALSE)","v":728288876.90799999},{"$f":"VLOOKUP($A128,'2020-2022 Composite Index'!$A$6:$K$140,6,FALSE)","v":833496389.77999997},{"$f":"VLOOKUP($A128,'2020-2022 Composite Index'!$A$6:$K$140,7,FALSE)","v":4169.8599999999997},{"$f":"VLOOKUP($A128,'2020-2022 Composite Index'!$A$6:$K$140,8,FALSE)","v":28005},{"$f":"VLOOKUP($A128,'2020-2022 Composite Index'!$A$6:$K$140,9,FALSE)","v":0.43190000000000001}]
[134,"FAIRFAX CITY",{"$f":"VLOOKUP($A129,'2020-2022 Composite Index'!$A$6:$K$140,3,FALSE)","v":6355389025.1897068},{"$f":"VLOOKUP($A129,'2020-2022 Composite Index'!$A$6:$K$140,4,FALSE)","v":1250452741.2030001},{"$f":"VLOOKUP($A129,'2020-2022 Composite Index'!$A$6:$K$140,6,FALSE)","v":814715859.09000003},{"$f":"VLOOKUP($A129,'2020-2022 Composite Index'!$A$6:$K$140,7,FALSE)","v":3079.33},{"$f":"VLOOKUP($A129,'2020-2022 Composite Index'!$A$6:$K$140,8,FALSE)","v":23825},{"$f":"VLOOKUP($A129,'2020-2022 Composite Index'!$A$6:$K$140,9,FALSE)","v":0.8}]
[135,"FRANKLIN CITY",{"$f":"VLOOKUP($A130,'2020-2022 Composite Index'!$A$6:$K$140,3,FALSE)","v":559805775.87078476},{"$f":"VLOOKUP($A130,'2020-2022 Composite Index'!$A$6:$K$140,4,FALSE)","v":140661177.7994},{"$f":"VLOOKUP($A130,'2020-2022 Composite Index'!$A$6:$K$140,6,FALSE)","v":164268774.81},{"$f":"VLOOKUP($A130,'2020-2022 Composite Index'!$A$6:$K$140,7,FALSE)","v":1032.56},{"$f":"VLOOKUP($A130,'2020-2022 Composite Index'!$A$6:$K$140,8,FALSE)","v":8474},{"$f":"VLOOKUP($A130,'2020-2022 Composite Index'!$A$6:$K$140,9,FALSE)","v":0.2994}]
[136,"CHESAPEAKE",{"$f":"VLOOKUP($A131,'2020-2022 Composite Index'!$A$6:$K$140,3,FALSE)","v":28351072450.137012},{"$f":"VLOOKUP($A131,'2020-2022 Composite Index'!$A$6:$K$140,4,FALSE)","v":6280153505.5107002},{"$f":"VLOOKUP($A131,'2020-2022 Composite Index'!$A$6:$K$140,6,FALSE)","v":3514278566.1500001},{"$f":"VLOOKUP($A131,'2020-2022 Composite Index'!$A$6:$K$140,7,FALSE)","v":39613.21},{"$f":"VLOOKUP($A131,'2020-2022 Composite Index'!$A$6:$K$140,8,FALSE)","v":242655},{"$f":"VLOOKUP($A131,'2020-2022 Composite Index'!$A$6:$K$140,9,FALSE)","v":0.34860000000000002}]
[137,"LEXINGTON",{"$f":"VLOOKUP($A132,'2020-2022 Composite Index'!$A$6:$K$140,3,FALSE)","v":552281823.07528639},{"$f":"VLOOKUP($A132,'2020-2022 Composite Index'!$A$6:$K$140,4,FALSE)","v":156027399.537},{"$f":"VLOOKUP($A132,'2020-2022 Composite Index'!$A$6:$K$140,6,FALSE)","v":86631192.849999994},{"$f":"VLOOKUP($A132,'2020-2022 Composite Index'!$A$6:$K$140,7,FALSE)","v":659.79},{"$f":"VLOOKUP($A132,'2020-2022 Composite Index'!$A$6:$K$140,8,FALSE)","v":7284},{"$f":"VLOOKUP($A132,'2020-2022 Composite Index'!$A$6:$K$140,9,FALSE)","v":0.39200000000000002}]
[138,"EMPORIA",{"$f":"VLOOKUP($A133,'2020-2022 Composite Index'!$A$6:$K$140,3,FALSE)","v":365347587.28288037},{"$f":"VLOOKUP($A133,'2020-2022 Composite Index'!$A$6:$K$140,4,FALSE)","v":83991080.240199998},{"$f":"VLOOKUP($A133,'2020-2022 Composite Index'!$A$6:$K$140,6,FALSE)","v":143228126.77000001},{"$f":"VLOOKUP($A133,'2020-2022 Composite Index'!$A$6:$K$140,7,FALSE)","v":1021.87},{"$f":"VLOOKUP($A133,'2020-2022 Composite Index'!$A$6:$K$140,8,FALSE)","v":5797},{"$f":"VLOOKUP($A133,'2020-2022 Composite Index'!$A$6:$K$140,9,FALSE)","v":0.2369}]
[139,"SALEM",{"$f":"VLOOKUP($A134,'2020-2022 Composite Index'!$A$6:$K$140,3,FALSE)","v":2426210430.4134278},{"$f":"VLOOKUP($A134,'2020-2022 Composite Index'!$A$6:$K$140,4,FALSE)","v":662425518.83099997},{"$f":"VLOOKUP($A134,'2020-2022 Composite Index'!$A$6:$K$140,6,FALSE)","v":590842044.02999997},{"$f":"VLOOKUP($A134,'2020-2022 Composite Index'!$A$6:$K$140,7,FALSE)","v":3872.18},{"$f":"VLOOKUP($A134,'2020-2022 Composite Index'!$A$6:$K$140,8,FALSE)","v":25679},{"$f":"VLOOKUP($A134,'2020-2022 Composite Index'!$A$6:$K$140,9,FALSE)","v":0.36409999999999998}]
[142,"POQUOSON",{"$f":"VLOOKUP($A135,'2020-2022 Composite Index'!$A$6:$K$140,3,FALSE)","v":1591617690.1021671},{"$f":"VLOOKUP($A135,'2020-2022 Composite Index'!$A$6:$K$140,4,FALSE)","v":435860588.70499998},{"$f":"VLOOKUP($A135,'2020-2022 Composite Index'!$A$6:$K$140,6,FALSE)","v":52879880.060000002},{"$f":"VLOOKUP($A135,'2020-2022 Composite Index'!$A$6:$K$140,7,FALSE)","v":2095.1999999999998},{"$f":"VLOOKUP($A135,'2020-2022 Composite Index'!$A$6:$K$140,8,FALSE)","v":12311},{"$f":"VLOOKUP($A135,'2020-2022 Composite Index'!$A$6:$K$140,9,FALSE)","v":0.37030000000000002}]
[143,"MANASSAS",{"$f":"VLOOKUP($A136,'2020-2022 Composite Index'!$A$6:$K$140,3,FALSE)","v":5514335180.9101801},{"$f":"VLOOKUP($A136,'2020-2022 Composite Index'!$A$6:$K$140,4,FALSE)","v":1168033339.74},{"$f":"VLOOKUP($A136,'2020-2022 Composite Index'!$A$6:$K$140,6,FALSE)","v":607443814.72000003},{"$f":"VLOOKUP($A136,'2020-2022 Composite Index'!$A$6:$K$140,7,FALSE)","v":7420.46},{"$f":"VLOOKUP($A136,'2020-2022 Composite Index'!$A$6:$K$140,8,FALSE)","v":41783},{"$f":"VLOOKUP($A136,'2020-2022 Composite Index'!$A$6:$K$140,9,FALSE)","v":0.36109999999999998}]
[144,"MANASSAS PARK",{"$f":"VLOOKUP($A137,'2020-2022 Composite Index'!$A$6:$K$140,3,FALSE)","v":1675033514.0426958},{"$f":"VLOOKUP($A137,'2020-2022 Composite Index'!$A$6:$K$140,4,FALSE)","v":451328424.671},{"$f":"VLOOKUP($A137,'2020-2022 Composite Index'!$A$6:$K$140,6,FALSE)","v":181950241},{"$f":"VLOOKUP($A137,'2020-2022 Composite Index'!$A$6:$K$140,7,FALSE)","v":3541.06},{"$f":"VLOOKUP($A137,'2020-2022 Composite Index'!$A$6:$K$140,8,FALSE)","v":16142},{"$f":"VLOOKUP($A137,'2020-2022 Composite Index'!$A$6:$K$140,9,FALSE)","v":0.27550000000000002}]
[202,"COLONIAL BEACH",{"$f":"VLOOKUP($A138,'2020-2022 Composite Index'!$A$6:$K$140,3,FALSE)","v":516947893.90109891},{"$f":"VLOOKUP($A138,'2020-2022 Composite Index'!$A$6:$K$140,4,FALSE)","v":80307818},{"$f":"VLOOKUP($A138,'2020-2022 Composite Index'!$A$6:$K$140,6,FALSE)","v":16882231.809999999},{"$f":"VLOOKUP($A138,'2020-2022 Composite Index'!$A$6:$K$140,7,FALSE)","v":598.48},{"$f":"VLOOKUP($A138,'2020-2022 Composite Index'!$A$6:$K$140,8,FALSE)","v":3569},{"$f":"VLOOKUP($A138,'2020-2022 Composite Index'!$A$6:$K$140,9,FALSE)","v":0.33169999999999999}]
[207,"WEST POINT",{"$f":"VLOOKUP($A139,'2020-2022 Composite Index'!$A$6:$K$140,3,FALSE)","v":391995669.25919694},{"$f":"VLOOKUP($A139,'2020-2022 Composite Index'!$A$6:$K$140,4,FALSE)","v":89052499},{"$f":"VLOOKUP($A139,'2020-2022 Composite Index'!$A$6:$K$140,6,FALSE)","v":20782017.399999999},{"$f":"VLOOKUP($A139,'2020-2022 Composite Index'!$A$6:$K$140,7,FALSE)","v":789.13},{"$f":"VLOOKUP($A139,'2020-2022 Composite Index'!$A$6:$K$140,8,FALSE)","v":3313},{"$f":"VLOOKUP($A139,'2020-2022 Composite Index'!$A$6:$K$140,9,FALSE)","v":0.26140000000000002}]
["NO DATA"," STATE TOTALS",{"$f":"SUM(C5:C139)","v":1255682912828.5125},{"$f":"SUM(D5:D139)","v":276897521668.16241},{"$f":"SUM(E5:E139)","v":103736609467.58997},{"$f":"SUM(F5:F139)","v":1246930.6500000001},{"$f":"SUM(G5:G139)","v":8470020},"NO DATA"]
["Data Sources:"]
["True Value of Property, Adjusted Gross Income, and Taxable Retail Sales - Virginia Department of Taxation"]
["March 31, 2018 Average Daily Membership (ADM) - Virginia Department of Education"]
["Total Population - Weldon Cooper Center for Public Service at the University of Virginia; US Census"]
["End of worksheet"]

{"sheet":"2020-22 Comp Index Non-Res. AGI","index":8,"n_rows":157,"n_cols":36,"rows_kept":157,"cut":false,"hidden":false,"merged":[[141,0,141,7],[142,0,142,7],[0,0,0,7],[1,0,1,7],[2,0,2,7],[140,0,140,7]]}
["2020-2022 COMPOSITE INDEX OF LOCAL ABILITY-TO-PAY"]
["Excluding Non-resident Adjusted Gross Income (AGI) for Divisions with 3% or Greater Non-resident AGI"]
["2017 IS THE BASE YEAR OF Indicators of Ability-to-Pay in the table below.",null,null,null,null,null,null,null,null,null,null,null,null,null,null,null,null,null,null,null,null,null,null,null,null,null,null,null,null,null,null,null,null,null,null,"Count of Nos:"]
["Div Num","DIVISION","TRUE VALUE OF PROPERTY INDICATOR","ADJUSTED GROSS INCOME (excluding nonresident AGI) INDICATOR","TAXABLE RETAIL SALES INDICATOR",{"$f":"+'2020-2022 Composite Index'!G5","v":"MARCH 31, 2018 ADM INDICATOR"},"TOTAL POPULATION INDICATOR","2020-2022 Composite Index Calculated Excluding Nonresident AGI",null,null,null,null,null,null,null,null,null,null,null,null,null,null,null,null,null,null,null,null,null,null,null,null,null,null,null,"Non-resident calculation"]
[1,"ACCOMACK",{"$f":"VLOOKUP(A5,'2020-2022 Composite Index Data'!A5:G139,3,FALSE)","v":4275437691.2961879},656240883.13,{"$f":"VLOOKUP(A5,'2020-2022 Composite Index Data'!A5:G139,5,FALSE)","v":342140946.14999998},{"$f":"+'2020-2022 Composite Index Data'!F5","v":5017.54},{"$f":"+'2020-2022 Composite Index Data'!G5","v":33041},0.33739999999999998,null,{"$f":"IF(ISNUMBER(VLOOKUP(A5,'2020-2022 Composite Index'!$A$6:$E$140,5,FALSE)),\"YES\",\"NO\")","v":"YES"},null,null,null,null,null,null,null,null,null,null,null,null,null,null,null,null,null,null,null,null,null,null,null,null,null,{"$f":"IF((1-D5/'2020-2022 Composite Index Data'!D5)>=0.03,\"YES\",\"NO\")","v":"YES"}]
[2,"ALBEMARLE",{"$f":"VLOOKUP(A6,'2020-2022 Composite Index Data'!A6:G140,3,FALSE)","v":20330392876.497055},4670412383.7799997,{"$f":"VLOOKUP(A6,'2020-2022 Composite Index Data'!A6:G140,5,FALSE)","v":1490607721.02},{"$f":"+'2020-2022 Composite Index Data'!F6","v":13510.2},{"$f":"+'2020-2022 Composite Index Data'!G6","v":107697},0.64490000000000003,null,{"$f":"IF(ISNUMBER(VLOOKUP(A6,'2020-2022 Composite Index'!$A$6:$E$140,5,FALSE)),\"YES\",\"NO\")","v":"NO"},null,null,null,null,null,null,null,null,null,null,null,null,null,null,null,null,null,null,null,null,null,null,null,null,null,{"$f":"IF((1-D6/'2020-2022 Composite Index Data'!D6)>=0.03,\"YES\",\"NO\")","v":"NO"}]
[3,"ALLEGHANY",{"$f":"VLOOKUP(A7,'2020-2022 Composite Index Data'!A7:G140,3,FALSE)","v":1375295243.7933462},308131017.07999998,{"$f":"VLOOKUP(A7,'2020-2022 Composite Index Data'!A7:G140,5,FALSE)","v":70845093.010000005},{"$f":"+'2020-2022 Composite Index Data'!F7","v":2069.58},{"$f":"+'2020-2022 Composite Index Data'!G7","v":15405},0.28189999999999998,null,{"$f":"IF(ISNUMBER(VLOOKUP(A7,'2020-2022 Composite Index'!$A$6:$E$140,5,FALSE)),\"YES\",\"NO\")","v":"NO"},null,null,null,null,null,null,null,null,null,null,null,null,null,null,null,null,null,null,null,null,null,null,null,null,null,{"$f":"IF((1-D7/'2020-2022 Composite Index Data'!D7)>=0.03,\"YES\",\"NO\")","v":"NO"}]
[4,"AMELIA",{"$f":"VLOOKUP(A8,'2020-2022 Composite Index Data'!A8:G141,3,FALSE)","v":1539511713.3606598},298627477.08999997,{"$f":"VLOOKUP(A8,'2020-2022 Composite Index Data'!A8:G141,5,FALSE)","v":64025091.090000004},{"$f":"+'2020-2022 Composite Index Data'!F8","v":1737.54},{"$f":"+'2020-2022 Composite Index Data'!G8","v":12948},0.34789999999999999,null,{"$f":"IF(ISNUMBER(VLOOKUP(A8,'2020-2022 Composite Index'!$A$6:$E$140,5,FALSE)),\"YES\",\"NO\")","v":"NO"},null,null,null,null,null,null,null,null,null,null,null,null,null,null,null,null,null,null,null,null,null,null,null,null,null,{"$f":"IF((1-D8/'2020-2022 Composite Index Data'!D8)>=0.03,\"YES\",\"NO\")","v":"NO"}]
[5,"AMHERST",{"$f":"VLOOKUP(A9,'2020-2022 Composite Index Data'!A9:G142,3,FALSE)","v":2927837117.5589175},618335922.61000001,{"$f":"VLOOKUP(A9,'2020-2022 Composite Index Data'!A9:G142,5,FALSE)","v":247735438.91999999},{"$f":"+'2020-2022 Composite Index Data'!F9","v":3867.25},{"$f":"+'2020-2022 Composite Index Data'!G9","v":31982},0.31409999999999999,null,{"$f":"IF(ISNUMBER(VLOOKUP(A9,'2020-2022 Composite Index'!$A$6:$E$140,5,FALSE)),\"YES\",\"NO\")","v":"NO"},null,null,null,null,null,null,null,null,null,null,null,null,null,null,null,null,null,null,null,null,null,null,null,null,null,{"$f":"IF((1-D9/'2020-2022 Composite Index Data'!D9)>=0.03,\"YES\",\"NO\")","v":"NO"}]
[6,"APPOMATTOX",{"$f":"VLOOKUP(A10,'2020-2022 Composite Index Data'!A10:G143,3,FALSE)","v":1518108117.1138613},313928915.69999999,{"$f":"VLOOKUP(A10,'2020-2022 Composite Index Data'!A10:G143,5,FALSE)","v":117292203.81999999},{"$f":"+'2020-2022 Composite Index Data'!F10","v":2179.2199999999998},{"$f":"+'2020-2022 Composite Index Data'!G10","v":15536},0.29780000000000001,null,{"$f":"IF(ISNUMBER(VLOOKUP(A10,'2020-2022 Composite Index'!$A$6:$E$140,5,FALSE)),\"YES\",\"NO\")","v":"NO"},null,null,null,null,null,null,null,null,null,null,null,null,null,null,null,null,null,null,null,null,null,null,null,null,null,{"$f":"IF((1-D10/'2020-2022 Composite Index Data'!D10)>=0.03,\"YES\",\"NO\")","v":"NO"}]
[7,"ARLINGTON",{"$f":"VLOOKUP(A11,'2020-2022 Composite Index Data'!A11:G144,3,FALSE)","v":79645130693.357285},14069305007.889999,{"$f":"VLOOKUP(A11,'2020-2022 Composite Index Data'!A11:G144,5,FALSE)","v":3258772638.29},{"$f":"+'2020-2022 Composite Index Data'!F11","v":25750.7},{"$f":"+'2020-2022 Composite Index Data'!G11","v":239074},0.8,null,{"$f":"IF(ISNUMBER(VLOOKUP(A11,'2020-2022 Composite Index'!$A$6:$E$140,5,FALSE)),\"YES\",\"NO\")","v":"NO"},null,null,null,null,null,null,null,null,null,null,null,null,null,null,null,null,null,null,null,null,null,null,null,null,null,{"$f":"IF((1-D11/'2020-2022 Composite Index Data'!D11)>=0.03,\"YES\",\"NO\")","v":"NO"}]
[8,"AUGUSTA",{"$f":"VLOOKUP(A12,'2020-2022 Composite Index Data'!A12:G146,3,FALSE)","v":9526531504.9195671},1817508006.7,{"$f":"VLOOKUP(A12,'2020-2022 Composite Index Data'!A12:G146,5,FALSE)","v":471863459.75},{"$f":"+'2020-2022 Composite Index Data'!F12","v":9939.5499999999993},{"$f":"+'2020-2022 Composite Index Data'!G12","v":75013},0.37690000000000001,null,{"$f":"IF(ISNUMBER(VLOOKUP(A12,'2020-2022 Composite Index'!$A$6:$E$140,5,FALSE)),\"YES\",\"NO\")","v":"NO"},null,null,null,null,null,null,null,null,null,null,null,null,null,null,null,null,null,null,null,null,null,null,null,null,null,{"$f":"IF((1-D12/'2020-2022 Composite Index Data'!D12)>=0.03,\"YES\",\"NO\")","v":"NO"}]
[9,"BATH",{"$f":"VLOOKUP(A13,'2020-2022 Composite Index Data'!A13:G147,3,FALSE)","v":2210598733.034523},102700891,{"$f":"VLOOKUP(A13,'2020-2022 Composite Index Data'!A13:G147,5,FALSE)","v":74264255.150000006},{"$f":"+'2020-2022 Composite Index Data'!F13","v":516.70000000000005},{"$f":"+'2020-2022 Composite Index Data'!G13","v":4556},0.8,null,{"$f":"IF(ISNUMBER(VLOOKUP(A13,'2020-2022 Composite Index'!$A$6:$E$140,5,FALSE)),\"YES\",\"NO\")","v":"YES"},null,null,null,null,null,null,null,null,null,null,null,null,null,null,null,null,null,null,null,null,null,null,null,null,null,{"$f":"IF((1-D13/'2020-2022 Composite Index Data'!D13)>=0.03,\"YES\",\"NO\")","v":"YES"}]
[10,"BEDFORD COUNTY",{"$f":"VLOOKUP(A14,'2020-2022 Composite Index Data'!A14:G148,3,FALSE)","v":10557134172.444504},2141439232.8399999,{"$f":"VLOOKUP(A14,'2020-2022 Composite Index Data'!A14:G148,5,FALSE)","v":504850970.55000001},{"$f":"+'2020-2022 Composite Index Data'!F14","v":9460.6},{"$f":"+'2020-2022 Composite Index Data'!G14","v":77807},0.43590000000000001,null,{"$f":"IF(ISNUMBER(VLOOKUP(A14,'2020-2022 Composite Index'!$A$6:$E$140,5,FALSE)),\"YES\",\"NO\")","v":"NO"},null,null,null,null,null,null,null,null,null,null,null,null,null,null,null,null,null,null,null,null,null,null,null,null,null,{"$f":"IF((1-D14/'2020-2022 Composite Index Data'!D14)>=0.03,\"YES\",\"NO\")","v":"NO"}]
[11,"BLAND",{"$f":"VLOOKUP(A15,'2020-2022 Composite Index Data'!A15:G149,3,FALSE)","v":721512817.16380513},108128589,{"$f":"VLOOKUP(A15,'2020-2022 Composite Index Data'!A15:G149,5,FALSE)","v":30921905},{"$f":"+'2020-2022 Composite Index Data'!F15","v":722.71},{"$f":"+'2020-2022 Composite Index Data'!G15","v":6511},0.33800000000000002,null,{"$f":"IF(ISNUMBER(VLOOKUP(A15,'2020-2022 Composite Index'!$A$6:$E$140,5,FALSE)),\"YES\",\"NO\")","v":"YES"},null,null,null,null,null,null,null,null,null,null,null,null,null,null,null,null,null,null,null,null,null,null,null,null,null,{"$f":"IF((1-D15/'2020-2022 Composite Index Data'!D15)>=0.03,\"YES\",\"NO\")","v":"YES"}]
[12,"BOTETOURT",{"$f":"VLOOKUP(A16,'2020-2022 Composite Index Data'!A16:G150,3,FALSE)","v":4369317736.1863489},935155499.39999998,{"$f":"VLOOKUP(A16,'2020-2022 Composite Index Data'!A16:G150,5,FALSE)","v":215688997.53},{"$f":"+'2020-2022 Composite Index Data'!F16","v":4547.8900000000003},{"$f":"+'2020-2022 Composite Index Data'!G16","v":33350},0.39750000000000002,null,{"$f":"IF(ISNUMBER(VLOOKUP(A16,'2020-2022 Composite Index'!$A$6:$E$140,5,FALSE)),\"YES\",\"NO\")","v":"NO"},null,null,null,null,null,null,null,null,null,null,null,null,null,null,null,null,null,null,null,null,null,null,null,null,null,{"$f":"IF((1-D16/'2020-2022 Composite Index Data'!D16)>=0.03,\"YES\",\"NO\")","v":"NO"}]
[13,"BRUNSWICK",{"$f":"VLOOKUP(A17,'2020-2022 Composite Index Data'!A17:G151,3,FALSE)","v":2340978032.9505591},245275103,{"$f":"VLOOKUP(A17,'2020-2022 Composite Index Data'!A17:G151,5,FALSE)","v":69549513.510000005},{"$f":"+'2020-2022 Composite Index Data'!F17","v":1559.33},{"$f":"+'2020-2022 Composite Index Data'!G17","v":16581},0.42899999999999999,null,{"$f":"IF(ISNUMBER(VLOOKUP(A17,'2020-2022 Composite Index'!$A$6:$E$140,5,FALSE)),\"YES\",\"NO\")","v":"YES"},null,null,null,null,null,null,null,null,null,null,null,null,null,null,null,null,null,null,null,null,null,null,null,null,null,{"$f":"IF((1-D17/'2020-2022 Composite Index Data'!D17)>=0.03,\"YES\",\"NO\")","v":"YES"}]
[14,"BUCHANAN",{"$f":"VLOOKUP(A18,'2020-2022 Composite Index Data'!A18:G152,3,FALSE)","v":2465511602.061337},277406695,{"$f":"VLOOKUP(A18,'2020-2022 Composite Index Data'!A18:G152,5,FALSE)","v":140412697.74000001},{"$f":"+'2020-2022 Composite Index Data'!F18","v":2726.8},{"$f":"+'2020-2022 Composite Index Data'!G18","v":22004},0.29749999999999999,null,{"$f":"IF(ISNUMBER(VLOOKUP(A18,'2020-2022 Composite Index'!$A$6:$E$140,5,FALSE)),\"YES\",\"NO\")","v":"NO"},null,null,null,null,null,null,null,null,null,null,null,null,null,null,null,null,null,null,null,null,null,null,null,null,null,{"$f":"IF((1-D18/'2020-2022 Composite Index Data'!D18)>=0.03,\"YES\",\"NO\")","v":"NO"}]
[15,"BUCKINGHAM",{"$f":"VLOOKUP(A19,'2020-2022 Composite Index Data'!A19:G153,3,FALSE)","v":2191369035.2052441},242894802,{"$f":"VLOOKUP(A19,'2020-2022 Composite Index Data'!A19:G153,5,FALSE)","v":57962895.840000004},{"$f":"+'2020-2022 Composite Index Data'!F19","v":1950.15},{"$f":"+'2020-2022 Composite Index Data'!G19","v":16957},0.3422,null,{"$f":"IF(ISNUMBER(VLOOKUP(A19,'2020-2022 Composite Index'!$A$6:$E$140,5,FALSE)),\"YES\",\"NO\")","v":"NO"},null,null,null,null,null,null,null,null,null,null,null,null,null,null,null,null,null,null,null,null,null,null,null,null,null,{"$f":"IF((1-D19/'2020-2022 Composite Index Data'!D19)>=0.03,\"YES\",\"NO\")","v":"NO"}]
[16,"CAMPBELL",{"$f":"VLOOKUP(A20,'2020-2022 Composite Index Data'!A20:G154,3,FALSE)","v":4813934062.8777437},1109541141.48,{"$f":"VLOOKUP(A20,'2020-2022 Composite Index Data'!A20:G154,5,FALSE)","v":485915056.01999998},{"$f":"+'2020-2022 Composite Index Data'!F20","v":7625.79},{"$f":"+'2020-2022 Composite Index Data'!G20","v":55503},0.2878,null,{"$f":"IF(ISNUMBER(VLOOKUP(A20,'2020-2022 Composite Index'!$A$6:$E$140,5,FALSE)),\"YES\",\"NO\")","v":"NO"},null,null,null,null,null,null,null,null,null,null,null,null,null,null,null,null,null,null,null,null,null,null,null,null,null,{"$f":"IF((1-D20/'2020-2022 Composite Index Data'!D20)>=0.03,\"YES\",\"NO\")","v":"NO"}]
[17,"CAROLINE",{"$f":"VLOOKUP(A21,'2020-2022 Composite Index Data'!A21:G155,3,FALSE)","v":3733516556.9680629},711325536.53999996,{"$f":"VLOOKUP(A21,'2020-2022 Composite Index Data'!A21:G155,5,FALSE)","v":151212078.53},{"$f":"+'2020-2022 Composite Index Data'!F21","v":4113.07},{"$f":"+'2020-2022 Composite Index Data'!G21","v":29990},0.3553,null,{"$f":"IF(ISNUMBER(VLOOKUP(A21,'2020-2022 Composite Index'!$A$6:$E$140,5,FALSE)),\"YES\",\"NO\")","v":"NO"},null,null,null,null,null,null,null,null,null,null,null,null,null,null,null,null,null,null,null,null,null,null,null,null,null,{"$f":"IF((1-D21/'2020-2022 Composite Index Data'!D21)>=0.03,\"YES\",\"NO\")","v":"NO"}]
[18,"CARROLL",{"$f":"VLOOKUP(A22,'2020-2022 Composite Index Data'!A22:G156,3,FALSE)","v":2572214998.7860894},460685439.75999999,{"$f":"VLOOKUP(A22,'2020-2022 Composite Index Data'!A22:G156,5,FALSE)","v":167345734.18000001},{"$f":"+'2020-2022 Composite Index Data'!F22","v":3611.35},{"$f":"+'2020-2022 Composite Index Data'!G22","v":29212},0.27489999999999998,null,{"$f":"IF(ISNUMBER(VLOOKUP(A22,'2020-2022 Composite Index'!$A$6:$E$140,5,FALSE)),\"YES\",\"NO\")","v":"NO"},null,null,null,null,null,null,null,null,null,null,null,null,null,null,null,null,null,null,null,null,null,null,null,null,null,{"$f":"IF((1-D22/'2020-2022 Composite Index Data'!D22)>=0.03,\"YES\",\"NO\")","v":"NO"}]
[19,"CHARLES CITY",{"$f":"VLOOKUP(A23,'2020-2022 Composite Index Data'!A23:G157,3,FALSE)","v":1062603294.8681012},177935420,{"$f":"VLOOKUP(A23,'2020-2022 Composite Index Data'!A23:G157,5,FALSE)","v":58539334},{"$f":"+'2020-2022 Composite Index Data'!F23","v":606.35},{"$f":"+'2020-2022 Composite Index Data'!G23","v":7151},0.58799999999999997,null,{"$f":"IF(ISNUMBER(VLOOKUP(A23,'2020-2022 Composite Index'!$A$6:$E$140,5,FALSE)),\"YES\",\"NO\")","v":"NO"},null,null,null,null,null,null,null,null,null,null,null,null,null,null,null,null,null,null,null,null,null,null,null,null,null,{"$f":"IF((1-D23/'2020-2022 Composite Index Data'!D23)>=0.03,\"YES\",\"NO\")","v":"NO"}]
[20,"CHARLOTTE",{"$f":"VLOOKUP(A24,'2020-2022 Composite Index Data'!A24:G158,3,FALSE)","v":1093540388.0940466},198700401,{"$f":"VLOOKUP(A24,'2020-2022 Composite Index Data'!A24:G158,5,FALSE)","v":54357115.82},{"$f":"+'2020-2022 Composite Index Data'!F24","v":1773.63},{"$f":"+'2020-2022 Composite Index Data'!G24","v":12231},0.24440000000000001,null,{"$f":"IF(ISNUMBER(VLOOKUP(A24,'2020-2022 Composite Index'!$A$6:$E$140,5,FALSE)),\"YES\",\"NO\")","v":"YES"},null,null,null,null,null,null,null,null,null,null,null,null,null,null,null,null,null,null,null,null,null,null,null,null,null,{"$f":"IF((1-D24/'2020-2022 Composite Index Data'!D24)>=0.03,\"YES\",\"NO\")","v":"YES"}]
[21,"CHESTERFIELD",{"$f":"VLOOKUP(A25,'2020-2022 Composite Index Data'!A25:G159,3,FALSE)","v":39470600366.594589},11035879301.370001,{"$f":"VLOOKUP(A25,'2020-2022 Composite Index Data'!A25:G159,5,FALSE)","v":4394824320.29},{"$f":"+'2020-2022 Composite Index Data'!F25","v":60060.84},{"$f":"+'2020-2022 Composite Index Data'!G25","v":340020},0.3584,null,{"$f":"IF(ISNUMBER(VLOOKUP(A25,'2020-2022 Composite Index'!$A$6:$E$140,5,FALSE)),\"YES\",\"NO\")","v":"NO"},null,null,null,null,null,null,null,null,null,null,null,null,null,null,null,null,null,null,null,null,null,null,null,null,null,{"$f":"IF((1-D25/'2020-2022 Composite Index Data'!D25)>=0.03,\"YES\",\"NO\")","v":"NO"}]
[22,"CLARKE",{"$f":"VLOOKUP(A26,'2020-2022 Composite Index Data'!A26:G160,3,FALSE)","v":2715153460.4986596},592869492.89999998,{"$f":"VLOOKUP(A26,'2020-2022 Composite Index Data'!A26:G160,5,FALSE)","v":85971890.569999993},{"$f":"+'2020-2022 Composite Index Data'!F26","v":1931.2},{"$f":"+'2020-2022 Composite Index Data'!G26","v":14312},0.57289999999999996,null,{"$f":"IF(ISNUMBER(VLOOKUP(A26,'2020-2022 Composite Index'!$A$6:$E$140,5,FALSE)),\"YES\",\"NO\")","v":"NO"},null,null,null,null,null,null,null,null,null,null,null,null,null,null,null,null,null,null,null,null,null,null,null,null,null,{"$f":"IF((1-D26/'2020-2022 Composite Index Data'!D26)>=0.03,\"YES\",\"NO\")","v":"NO"}]
[23,"CRAIG",{"$f":"VLOOKUP(A27,'2020-2022 Composite Index Data'!A27:G161,3,FALSE)","v":543813795.63784695},99589295,{"$f":"VLOOKUP(A27,'2020-2022 Composite Index Data'!A27:G161,5,FALSE)","v":12876065},{"$f":"+'2020-2022 Composite Index Data'!F27","v":580.19000000000005},{"$f":"+'2020-2022 Composite Index Data'!G27","v":5129},0.33360000000000001,null,{"$f":"IF(ISNUMBER(VLOOKUP(A27,'2020-2022 Composite Index'!$A$6:$E$140,5,FALSE)),\"YES\",\"NO\")","v":"NO"},null,null,null,null,null,null,null,null,null,null,null,null,null,null,null,null,null,null,null,null,null,null,null,null,null,{"$f":"IF((1-D27/'2020-2022 Composite Index Data'!D27)>=0.03,\"YES\",\"NO\")","v":"NO"}]
[24,"CULPEPER",{"$f":"VLOOKUP(A28,'2020-2022 Composite Index Data'!A28:G162,3,FALSE)","v":6331241639.2254486},1358162618.1800001,{"$f":"VLOOKUP(A28,'2020-2022 Composite Index Data'!A28:G162,5,FALSE)","v":703603206.82000005},{"$f":"+'2020-2022 Composite Index Data'!F28","v":7952.19},{"$f":"+'2020-2022 Composite Index Data'!G28","v":50272},0.37409999999999999,null,{"$f":"IF(ISNUMBER(VLOOKUP(A28,'2020-2022 Composite Index'!$A$6:$E$140,5,FALSE)),\"YES\",\"NO\")","v":"NO"},null,null,null,null,null,null,null,null,null,null,null,null,null,null,null,null,null,null,null,null,null,null,null,null,null,{"$f":"IF((1-D28/'2020-2022 Composite Index Data'!D28)>=0.03,\"YES\",\"NO\")","v":"NO"}]
[25,"CUMBERLAND",{"$f":"VLOOKUP(A29,'2020-2022 Composite Index Data'!A29:G163,3,FALSE)","v":1037409991.9240725},168025979.19999999,{"$f":"VLOOKUP(A29,'2020-2022 Composite Index Data'!A29:G163,5,FALSE)","v":33660951.32},{"$f":"+'2020-2022 Composite Index Data'!F29","v":1239.1400000000001},{"$f":"+'2020-2022 Composite Index Data'!G29","v":9861},0.29780000000000001,null,{"$f":"IF(ISNUMBER(VLOOKUP(A29,'2020-2022 Composite Index'!$A$6:$E$140,5,FALSE)),\"YES\",\"NO\")","v":"NO"},null,null,null,null,null,null,null,null,null,null,null,null,null,null,null,null,null,null,null,null,null,null,null,null,null,{"$f":"IF((1-D29/'2020-2022 Composite Index Data'!D29)>=0.03,\"YES\",\"NO\")","v":"NO"}]
[26,"DICKENSON",{"$f":"VLOOKUP(A30,'2020-2022 Composite Index Data'!A30:G164,3,FALSE)","v":1459712435.3101735},181037191.75999999,{"$f":"VLOOKUP(A30,'2020-2022 Composite Index Data'!A30:G164,5,FALSE)","v":58585686.920000002},{"$f":"+'2020-2022 Composite Index Data'!F30","v":1998.53},{"$f":"+'2020-2022 Composite Index Data'!G30","v":14682},0.24709999999999999,null,{"$f":"IF(ISNUMBER(VLOOKUP(A30,'2020-2022 Composite Index'!$A$6:$E$140,5,FALSE)),\"YES\",\"NO\")","v":"NO"},null,null,null,null,null,null,null,null,null,null,null,null,null,null,null,null,null,null,null,null,null,null,null,null,null,{"$f":"IF((1-D30/'2020-2022 Composite Index Data'!D30)>=0.03,\"YES\",\"NO\")","v":"NO"}]
[27,"DINWIDDIE",{"$f":"VLOOKUP(A31,'2020-2022 Composite Index Data'!A31:G165,3,FALSE)","v":2963784007.8823018},593635078,{"$f":"VLOOKUP(A31,'2020-2022 Composite Index Data'!A31:G165,5,FALSE)","v":136670242.28},{"$f":"+'2020-2022 Composite Index Data'!F31","v":4258.46},{"$f":"+'2020-2022 Composite Index Data'!G31","v":28500},0.28789999999999999,null,{"$f":"IF(ISNUMBER(VLOOKUP(A31,'2020-2022 Composite Index'!$A$6:$E$140,5,FALSE)),\"YES\",\"NO\")","v":"NO"},null,null,null,null,null,null,null,null,null,null,null,null,null,null,null,null,null,null,null,null,null,null,null,null,null,{"$f":"IF((1-D31/'2020-2022 Composite Index Data'!D31)>=0.03,\"YES\",\"NO\")","v":"NO"}]
[28,"ESSEX",{"$f":"VLOOKUP(A32,'2020-2022 Composite Index Data'!A32:G166,3,FALSE)","v":1593364500.3023257},234704682,{"$f":"VLOOKUP(A32,'2020-2022 Composite Index Data'!A32:G166,5,FALSE)","v":191246470.50999999},{"$f":"+'2020-2022 Composite Index Data'!F32","v":1330.47},{"$f":"+'2020-2022 Composite Index Data'!G32","v":10813},0.46360000000000001,null,{"$f":"IF(ISNUMBER(VLOOKUP(A32,'2020-2022 Composite Index'!$A$6:$E$140,5,FALSE)),\"YES\",\"NO\")","v":"NO"},null,null,null,null,null,null,null,null,null,null,null,null,null,null,null,null,null,null,null,null,null,null,null,null,null,{"$f":"IF((1-D32/'2020-2022 Composite Index Data'!D32)>=0.03,\"YES\",\"NO\")","v":"NO"}]
[29,"FAIRFAX COUNTY",{"$f":"VLOOKUP(A33,'2020-2022 Composite Index Data'!A33:G167,3,FALSE)","v":262828932048.74387},58792230464.709999,{"$f":"VLOOKUP(A33,'2020-2022 Composite Index Data'!A33:G167,5,FALSE)","v":14939828530.33},{"$f":"+'2020-2022 Composite Index Data'!F33","v":180294.61},{"$f":"+'2020-2022 Composite Index Data'!G33","v":1143429},0.65410000000000001,null,{"$f":"IF(ISNUMBER(VLOOKUP(A33,'2020-2022 Composite Index'!$A$6:$E$140,5,FALSE)),\"YES\",\"NO\")","v":"NO"},null,null,null,null,null,null,null,null,null,null,null,null,null,null,null,null,null,null,null,null,null,null,null,null,null,{"$f":"IF((1-D33/'2020-2022 Composite Index Data'!D33)>=0.03,\"YES\",\"NO\")","v":"NO"}]
[30,"FAUQUIER",{"$f":"VLOOKUP(A34,'2020-2022 Composite Index Data'!A34:G168,3,FALSE)","v":15265896813.45751},2939488562.6199999,{"$f":"VLOOKUP(A34,'2020-2022 Composite Index Data'!A34:G168,5,FALSE)","v":861595287.27999997},{"$f":"+'2020-2022 Composite Index Data'!F34","v":10955.27},{"$f":"+'2020-2022 Composite Index Data'!G34","v":69098},0.58789999999999998,null,{"$f":"IF(ISNUMBER(VLOOKUP(A34,'2020-2022 Composite Index'!$A$6:$E$140,5,FALSE)),\"YES\",\"NO\")","v":"NO"},null,null,null,null,null,null,null,null,null,null,null,null,null,null,null,null,null,null,null,null,null,null,null,null,null,{"$f":"IF((1-D34/'2020-2022 Composite Index Data'!D34)>=0.03,\"YES\",\"NO\")","v":"NO"}]
[31,"FLOYD",{"$f":"VLOOKUP(A35,'2020-2022 Composite Index Data'!A35:G169,3,FALSE)","v":1882566202.5297158},299915846.5,{"$f":"VLOOKUP(A35,'2020-2022 Composite Index Data'!A35:G169,5,FALSE)","v":74718941.379999995},{"$f":"+'2020-2022 Composite Index Data'!F35","v":1971.33},{"$f":"+'2020-2022 Composite Index Data'!G35","v":15550},0.34179999999999999,null,{"$f":"IF(ISNUMBER(VLOOKUP(A35,'2020-2022 Composite Index'!$A$6:$E$140,5,FALSE)),\"YES\",\"NO\")","v":"NO"},null,null,null,null,null,null,null,null,null,null,null,null,null,null,null,null,null,null,null,null,null,null,null,null,null,{"$f":"IF((1-D35/'2020-2022 Composite Index Data'!D35)>=0.03,\"YES\",\"NO\")","v":"NO"}]
[32,"FLUVANNA",{"$f":"VLOOKUP(A36,'2020-2022 Composite Index Data'!A36:G170,3,FALSE)","v":3522241579.3013902},689527617.40999997,{"$f":"VLOOKUP(A36,'2020-2022 Composite Index Data'!A36:G170,5,FALSE)","v":130487206.62},{"$f":"+'2020-2022 Composite Index Data'!F36","v":3471.79},{"$f":"+'2020-2022 Composite Index Data'!G36","v":26467},0.39400000000000002,null,{"$f":"IF(ISNUMBER(VLOOKUP(A36,'2020-2022 Composite Index'!$A$6:$E$140,5,FALSE)),\"YES\",\"NO\")","v":"NO"},null,null,null,null,null,null,null,null,null,null,null,null,null,null,null,null,null,null,null,null,null,null,null,null,null,{"$f":"IF((1-D36/'2020-2022 Composite Index Data'!D36)>=0.03,\"YES\",\"NO\")","v":"NO"}]
[33,"FRANKLIN COUNTY",{"$f":"VLOOKUP(A37,'2020-2022 Composite Index Data'!A37:G171,3,FALSE)","v":7625278760.3298216},1157170111.27,{"$f":"VLOOKUP(A37,'2020-2022 Composite Index Data'!A37:G171,5,FALSE)","v":424098901.08999997},{"$f":"+'2020-2022 Composite Index Data'!F37","v":6858.45},{"$f":"+'2020-2022 Composite Index Data'!G37","v":56427},0.39529999999999998,null,{"$f":"IF(ISNUMBER(VLOOKUP(A37,'2020-2022 Composite Index'!$A$6:$E$140,5,FALSE)),\"YES\",\"NO\")","v":"NO"},null,null,null,null,null,null,null,null,null,null,null,null,null,null,null,null,null,null,null,null,null,null,null,null,null,{"$f":"IF((1-D37/'2020-2022 Composite Index Data'!D37)>=0.03,\"YES\",\"NO\")","v":"NO"}]
[34,"FREDERICK",{"$f":"VLOOKUP(A38,'2020-2022 Composite Index Data'!A38:G172,3,FALSE)","v":11631668555.017563},2590113772.9200001,{"$f":"VLOOKUP(A38,'2020-2022 Composite Index Data'!A38:G172,5,FALSE)","v":1249749135.8199999},{"$f":"+'2020-2022 Composite Index Data'!F38","v":13343.46},{"$f":"+'2020-2022 Composite Index Data'!G38","v":85820},0.41199999999999998,null,{"$f":"IF(ISNUMBER(VLOOKUP(A38,'2020-2022 Composite Index'!$A$6:$E$140,5,FALSE)),\"YES\",\"NO\")","v":"NO"},null,null,null,null,null,null,null,null,null,null,null,null,null,null,null,null,null,null,null,null,null,null,null,null,null,{"$f":"IF((1-D38/'2020-2022 Composite Index Data'!D38)>=0.03,\"YES\",\"NO\")","v":"NO"}]
[35,"GILES",{"$f":"VLOOKUP(A39,'2020-2022 Composite Index Data'!A39:G173,3,FALSE)","v":1422595318.8879442},320950861.00999999,{"$f":"VLOOKUP(A39,'2020-2022 Composite Index Data'!A39:G173,5,FALSE)","v":137678547.06},{"$f":"+'2020-2022 Composite Index Data'!F39","v":2386.69},{"$f":"+'2020-2022 Composite Index Data'!G39","v":17053},0.26950000000000002,null,{"$f":"IF(ISNUMBER(VLOOKUP(A39,'2020-2022 Composite Index'!$A$6:$E$140,5,FALSE)),\"YES\",\"NO\")","v":"NO"},null,null,null,null,null,null,null,null,null,null,null,null,null,null,null,null,null,null,null,null,null,null,null,null,null,{"$f":"IF((1-D39/'2020-2022 Composite Index Data'!D39)>=0.03,\"YES\",\"NO\")","v":"NO"}]
[36,"GLOUCESTER",{"$f":"VLOOKUP(A40,'2020-2022 Composite Index Data'!A40:G174,3,FALSE)","v":4714496645.2898397},983708824.05999994,{"$f":"VLOOKUP(A40,'2020-2022 Composite Index Data'!A40:G174,5,FALSE)","v":405650909.30000001},{"$f":"+'2020-2022 Composite Index Data'!F40","v":5270.45},{"$f":"+'2020-2022 Composite Index Data'!G40","v":37169},0.38850000000000001,null,{"$f":"IF(ISNUMBER(VLOOKUP(A40,'2020-2022 Composite Index'!$A$6:$E$140,5,FALSE)),\"YES\",\"NO\")","v":"NO"},null,null,null,null,null,null,null,null,null,null,null,null,null,null,null,null,null,null,null,null,null,null,null,null,null,{"$f":"IF((1-D40/'2020-2022 Composite Index Data'!D40)>=0.03,\"YES\",\"NO\")","v":"NO"}]
[37,"GOOCHLAND",{"$f":"VLOOKUP(A41,'2020-2022 Composite Index Data'!A41:G175,3,FALSE)","v":5635699923.6241608},1443612842.0599999,{"$f":"VLOOKUP(A41,'2020-2022 Composite Index Data'!A41:G175,5,FALSE)","v":227534841.06},{"$f":"+'2020-2022 Composite Index Data'!F41","v":2550.6},{"$f":"+'2020-2022 Composite Index Data'!G41","v":22705},0.8,null,{"$f":"IF(ISNUMBER(VLOOKUP(A41,'2020-2022 Composite Index'!$A$6:$E$140,5,FALSE)),\"YES\",\"NO\")","v":"NO"},null,null,null,null,null,null,null,null,null,null,null,null,null,null,null,null,null,null,null,null,null,null,null,null,null,{"$f":"IF((1-D41/'2020-2022 Composite Index Data'!D41)>=0.03,\"YES\",\"NO\")","v":"NO"}]
[38,"GRAYSON",{"$f":"VLOOKUP(A42,'2020-2022 Composite Index Data'!A42:G176,3,FALSE)","v":1827586769.031553},233663262,{"$f":"VLOOKUP(A42,'2020-2022 Composite Index Data'!A42:G176,5,FALSE)","v":34104091},{"$f":"+'2020-2022 Composite Index Data'!F42","v":1510.86},{"$f":"+'2020-2022 Composite Index Data'!G42","v":15669},0.36149999999999999,null,{"$f":"IF(ISNUMBER(VLOOKUP(A42,'2020-2022 Composite Index'!$A$6:$E$140,5,FALSE)),\"YES\",\"NO\")","v":"YES"},null,null,null,null,null,null,null,null,null,null,null,null,null,null,null,null,null,null,null,null,null,null,null,null,null,{"$f":"IF((1-D42/'2020-2022 Composite Index Data'!D42)>=0.03,\"YES\",\"NO\")","v":"YES"}]
[39,"GREENE",{"$f":"VLOOKUP(A43,'2020-2022 Composite Index Data'!A43:G177,3,FALSE)","v":2392404008.0104222},481791591.29000002,{"$f":"VLOOKUP(A43,'2020-2022 Composite Index Data'!A43:G177,5,FALSE)","v":175413564.53999999},{"$f":"+'2020-2022 Composite Index Data'!F43","v":2982.62},{"$f":"+'2020-2022 Composite Index Data'!G43","v":19985},0.34460000000000002,null,{"$f":"IF(ISNUMBER(VLOOKUP(A43,'2020-2022 Composite Index'!$A$6:$E$140,5,FALSE)),\"YES\",\"NO\")","v":"NO"},null,null,null,null,null,null,null,null,null,null,null,null,null,null,null,null,null,null,null,null,null,null,null,null,null,{"$f":"IF((1-D43/'2020-2022 Composite Index Data'!D43)>=0.03,\"YES\",\"NO\")","v":"NO"}]
[40,"GREENSVILLE",{"$f":"VLOOKUP(A44,'2020-2022 Composite Index Data'!A44:G178,3,FALSE)","v":949033753.81977665},170257347.13999999,{"$f":"VLOOKUP(A44,'2020-2022 Composite Index Data'!A44:G178,5,FALSE)","v":47788891},{"$f":"+'2020-2022 Composite Index Data'!F44","v":1218.05},{"$f":"+'2020-2022 Composite Index Data'!G44","v":11563},0.27989999999999998,null,{"$f":"IF(ISNUMBER(VLOOKUP(A44,'2020-2022 Composite Index'!$A$6:$E$140,5,FALSE)),\"YES\",\"NO\")","v":"YES"},null,null,null,null,null,null,null,null,null,null,null,null,null,null,null,null,null,null,null,null,null,null,null,null,null,{"$f":"IF((1-D44/'2020-2022 Composite Index Data'!D44)>=0.03,\"YES\",\"NO\")","v":"YES"}]
[41,"HALIFAX",{"$f":"VLOOKUP(A45,'2020-2022 Composite Index Data'!A45:G179,3,FALSE)","v":3781125840.4999008},594051750.71000004,{"$f":"VLOOKUP(A45,'2020-2022 Composite Index Data'!A45:G179,5,FALSE)","v":294706517.64999998},{"$f":"+'2020-2022 Composite Index Data'!F45","v":4722.6499999999996},{"$f":"+'2020-2022 Composite Index Data'!G45","v":35215},0.30580000000000002,null,{"$f":"IF(ISNUMBER(VLOOKUP(A45,'2020-2022 Composite Index'!$A$6:$E$140,5,FALSE)),\"YES\",\"NO\")","v":"YES"},null,null,null,null,null,null,null,null,null,null,null,null,null,null,null,null,null,null,null,null,null,null,null,null,null,{"$f":"IF((1-D45/'2020-2022 Composite Index Data'!D45)>=0.03,\"YES\",\"NO\")","v":"YES"}]
[42,"HANOVER",{"$f":"VLOOKUP(A46,'2020-2022 Composite Index Data'!A46:G180,3,FALSE)","v":16419664887.229683},3828772644.6100001,{"$f":"VLOOKUP(A46,'2020-2022 Composite Index Data'!A46:G180,5,FALSE)","v":1915809188.3199999},{"$f":"+'2020-2022 Composite Index Data'!F46","v":17613.38},{"$f":"+'2020-2022 Composite Index Data'!G46","v":106375},0.46260000000000001,null,{"$f":"IF(ISNUMBER(VLOOKUP(A46,'2020-2022 Composite Index'!$A$6:$E$140,5,FALSE)),\"YES\",\"NO\")","v":"NO"},null,null,null,null,null,null,null,null,null,null,null,null,null,null,null,null,null,null,null,null,null,null,null,null,null,{"$f":"IF((1-D46/'2020-2022 Composite Index Data'!D46)>=0.03,\"YES\",\"NO\")","v":"NO"}]
[43,"HENRICO",{"$f":"VLOOKUP(A47,'2020-2022 Composite Index Data'!A47:G181,3,FALSE)","v":40926624138.156441},10940413190.67,{"$f":"VLOOKUP(A47,'2020-2022 Composite Index Data'!A47:G181,5,FALSE)","v":5656612709.1000004},{"$f":"+'2020-2022 Composite Index Data'!F47","v":50283.77},{"$f":"+'2020-2022 Composite Index Data'!G47","v":324395},0.4279,null,{"$f":"IF(ISNUMBER(VLOOKUP(A47,'2020-2022 Composite Index'!$A$6:$E$140,5,FALSE)),\"YES\",\"NO\")","v":"NO"},null,null,null,null,null,null,null,null,null,null,null,null,null,null,null,null,null,null,null,null,null,null,null,null,null,{"$f":"IF((1-D47/'2020-2022 Composite Index Data'!D47)>=0.03,\"YES\",\"NO\")","v":"NO"}]
[44,"HENRY",{"$f":"VLOOKUP(A48,'2020-2022 Composite Index Data'!A48:G182,3,FALSE)","v":3232443251.3304853},868084368.65999997,{"$f":"VLOOKUP(A48,'2020-2022 Composite Index Data'!A48:G182,5,FALSE)","v":371100551.52999997},{"$f":"+'2020-2022 Composite Index Data'!F48","v":7045.22},{"$f":"+'2020-2022 Composite Index Data'!G48","v":51975},0.2253,null,{"$f":"IF(ISNUMBER(VLOOKUP(A48,'2020-2022 Composite Index'!$A$6:$E$140,5,FALSE)),\"YES\",\"NO\")","v":"YES"},null,null,null,null,null,null,null,null,null,null,null,null,null,null,null,null,null,null,null,null,null,null,null,null,null,{"$f":"IF((1-D48/'2020-2022 Composite Index Data'!D48)>=0.03,\"YES\",\"NO\")","v":"YES"}]
[45,"HIGHLAND",{"$f":"VLOOKUP(A49,'2020-2022 Composite Index Data'!A49:G183,3,FALSE)","v":637887453.24902165},47819370,{"$f":"VLOOKUP(A49,'2020-2022 Composite Index Data'!A49:G183,5,FALSE)","v":10023126.42},{"$f":"+'2020-2022 Composite Index Data'!F49","v":193.03},{"$f":"+'2020-2022 Composite Index Data'!G49","v":2284},0.8,null,{"$f":"IF(ISNUMBER(VLOOKUP(A49,'2020-2022 Composite Index'!$A$6:$E$140,5,FALSE)),\"YES\",\"NO\")","v":"NO"},null,null,null,null,null,null,null,null,null,null,null,null,null,null,null,null,null,null,null,null,null,null,null,null,null,{"$f":"IF((1-D49/'2020-2022 Composite Index Data'!D49)>=0.03,\"YES\",\"NO\")","v":"NO"}]
[46,"ISLE OF WIGHT",{"$f":"VLOOKUP(A50,'2020-2022 Composite Index Data'!A50:G184,3,FALSE)","v":5005182812.2924986},1083502669.23,{"$f":"VLOOKUP(A50,'2020-2022 Composite Index Data'!A50:G184,5,FALSE)","v":236926649.00999999},{"$f":"+'2020-2022 Composite Index Data'!F50","v":5338.11},{"$f":"+'2020-2022 Composite Index Data'!G50","v":37333},0.39639999999999997,null,{"$f":"IF(ISNUMBER(VLOOKUP(A50,'2020-2022 Composite Index'!$A$6:$E$140,5,FALSE)),\"YES\",\"NO\")","v":"NO"},null,null,null,null,null,null,null,null,null,null,null,null,null,null,null,null,null,null,null,null,null,null,null,null,null,{"$f":"IF((1-D50/'2020-2022 Composite Index Data'!D50)>=0.03,\"YES\",\"NO\")","v":"NO"}]
[47,"JAMES CITY",{"$f":"VLOOKUP(A51,'2020-2022 Composite Index Data'!A51:G185,3,FALSE)","v":13050045023.309473},2998900297.8000002,{"$f":"VLOOKUP(A51,'2020-2022 Composite Index Data'!A51:G185,5,FALSE)","v":982030979.61000001},{"$f":"+'2020-2022 Composite Index Data'!F51","v":10422.450000000001},{"$f":"+'2020-2022 Composite Index Data'!G51","v":74722},0.55530000000000002,null,{"$f":"IF(ISNUMBER(VLOOKUP(A51,'2020-2022 Composite Index'!$A$6:$E$140,5,FALSE)),\"YES\",\"NO\")","v":"NO"},null,null,null,null,null,null,null,null,null,null,null,null,null,null,null,null,null,null,null,null,null,null,null,null,null,{"$f":"IF((1-D51/'2020-2022 Composite Index Data'!D51)>=0.03,\"YES\",\"NO\")","v":"NO"}]
[48,"KING GEORGE",{"$f":"VLOOKUP(A52,'2020-2022 Composite Index Data'!A52:G186,3,FALSE)","v":3480141112.3470144},787295581.09000003,{"$f":"VLOOKUP(A52,'2020-2022 Composite Index Data'!A52:G186,5,FALSE)","v":187620362.83000001},{"$f":"+'2020-2022 Composite Index Data'!F52","v":4362.9399999999996},{"$f":"+'2020-2022 Composite Index Data'!G52","v":25381},0.37030000000000002,null,{"$f":"IF(ISNUMBER(VLOOKUP(A52,'2020-2022 Composite Index'!$A$6:$E$140,5,FALSE)),\"YES\",\"NO\")","v":"NO"},null,null,null,null,null,null,null,null,null,null,null,null,null,null,null,null,null,null,null,null,null,null,null,null,null,{"$f":"IF((1-D52/'2020-2022 Composite Index Data'!D52)>=0.03,\"YES\",\"NO\")","v":"NO"}]
[49,"KING AND QUEEN",{"$f":"VLOOKUP(A53,'2020-2022 Composite Index Data'!A53:G187,3,FALSE)","v":981207271.51116312},149923829.11000001,{"$f":"VLOOKUP(A53,'2020-2022 Composite Index Data'!A53:G187,5,FALSE)","v":12379939},{"$f":"+'2020-2022 Composite Index Data'!F53","v":773.2},{"$f":"+'2020-2022 Composite Index Data'!G53","v":6935},0.41389999999999999,null,{"$f":"IF(ISNUMBER(VLOOKUP(A53,'2020-2022 Composite Index'!$A$6:$E$140,5,FALSE)),\"YES\",\"NO\")","v":"NO"},null,null,null,null,null,null,null,null,null,null,null,null,null,null,null,null,null,null,null,null,null,null,null,null,null,{"$f":"IF((1-D53/'2020-2022 Composite Index Data'!D53)>=0.03,\"YES\",\"NO\")","v":"NO"}]
[50,"KING WILLIAM",{"$f":"VLOOKUP(A54,'2020-2022 Composite Index Data'!A54:G188,3,FALSE)","v":1697241572.8793774},355049136,{"$f":"VLOOKUP(A54,'2020-2022 Composite Index Data'!A54:G188,5,FALSE)","v":83516987.5},{"$f":"+'2020-2022 Composite Index Data'!F54","v":2172.5300000000002},{"$f":"+'2020-2022 Composite Index Data'!G54","v":13314},0.3407,null,{"$f":"IF(ISNUMBER(VLOOKUP(A54,'2020-2022 Composite Index'!$A$6:$E$140,5,FALSE)),\"YES\",\"NO\")","v":"NO"},null,null,null,null,null,null,null,null,null,null,null,null,null,null,null,null,null,null,null,null,null,null,null,null,null,{"$f":"IF((1-D54/'2020-2022 Composite Index Data'!D54)>=0.03,\"YES\",\"NO\")","v":"NO"}]
[51,"LANCASTER",{"$f":"VLOOKUP(A55,'2020-2022 Composite Index Data'!A55:G189,3,FALSE)","v":2617889478.9597521},328746194.77999997,{"$f":"VLOOKUP(A55,'2020-2022 Composite Index Data'!A55:G189,5,FALSE)","v":166354409.81999999},{"$f":"+'2020-2022 Composite Index Data'!F55","v":1062.3},{"$f":"+'2020-2022 Composite Index Data'!G55","v":11171},0.78349999999999997,null,{"$f":"IF(ISNUMBER(VLOOKUP(A55,'2020-2022 Composite Index'!$A$6:$E$140,5,FALSE)),\"YES\",\"NO\")","v":"NO"},null,null,null,null,null,null,null,null,null,null,null,null,null,null,null,null,null,null,null,null,null,null,null,null,null,{"$f":"IF((1-D55/'2020-2022 Composite Index Data'!D55)>=0.03,\"YES\",\"NO\")","v":"NO"}]
[52,"LEE",{"$f":"VLOOKUP(A56,'2020-2022 Composite Index Data'!A56:G190,3,FALSE)","v":1138485056.0939226},272324266,{"$f":"VLOOKUP(A56,'2020-2022 Composite Index Data'!A56:G190,5,FALSE)","v":114151983},{"$f":"+'2020-2022 Composite Index Data'!F56","v":3053.46},{"$f":"+'2020-2022 Composite Index Data'!G56","v":24363},0.16919999999999999,null,{"$f":"IF(ISNUMBER(VLOOKUP(A56,'2020-2022 Composite Index'!$A$6:$E$140,5,FALSE)),\"YES\",\"NO\")","v":"NO"},null,null,null,null,null,null,null,null,null,null,null,null,null,null,null,null,null,null,null,null,null,null,null,null,null,{"$f":"IF((1-D56/'2020-2022 Composite Index Data'!D56)>=0.03,\"YES\",\"NO\")","v":"NO"}]
[53,"LOUDOUN",{"$f":"VLOOKUP(A57,'2020-2022 Composite Index Data'!A57:G191,3,FALSE)","v":84918073098.409882},20676135077.599998,{"$f":"VLOOKUP(A57,'2020-2022 Composite Index Data'!A57:G191,5,FALSE)","v":5697354606.2299995},{"$f":"+'2020-2022 Composite Index Data'!F57","v":80270.95},{"$f":"+'2020-2022 Composite Index Data'!G57","v":396068},0.54659999999999997,null,{"$f":"IF(ISNUMBER(VLOOKUP(A57,'2020-2022 Composite Index'!$A$6:$E$140,5,FALSE)),\"YES\",\"NO\")","v":"NO"},null,null,null,null,null,null,null,null,null,null,null,null,null,null,null,null,null,null,null,null,null,null,null,null,null,{"$f":"IF((1-D57/'2020-2022 Composite Index Data'!D57)>=0.03,\"YES\",\"NO\")","v":"NO"}]
[54,"LOUISA",{"$f":"VLOOKUP(A58,'2020-2022 Composite Index Data'!A58:G192,3,FALSE)","v":7695422724.5881872},903687473.88,{"$f":"VLOOKUP(A58,'2020-2022 Composite Index Data'!A58:G192,5,FALSE)","v":300831730.06},{"$f":"+'2020-2022 Composite Index Data'!F58","v":4704.2},{"$f":"+'2020-2022 Composite Index Data'!G58","v":35035},0.54059999999999997,null,{"$f":"IF(ISNUMBER(VLOOKUP(A58,'2020-2022 Composite Index'!$A$6:$E$140,5,FALSE)),\"YES\",\"NO\")","v":"NO"},null,null,null,null,null,null,null,null,null,null,null,null,null,null,null,null,null,null,null,null,null,null,null,null,null,{"$f":"IF((1-D58/'2020-2022 Composite Index Data'!D58)>=0.03,\"YES\",\"NO\")","v":"NO"}]
[55,"LUNENBURG",{"$f":"VLOOKUP(A59,'2020-2022 Composite Index Data'!A59:G193,3,FALSE)","v":994576205.92197824},187810970,{"$f":"VLOOKUP(A59,'2020-2022 Composite Index Data'!A59:G193,5,FALSE)","v":39312051.57},{"$f":"+'2020-2022 Composite Index Data'!F59","v":1441.57},{"$f":"+'2020-2022 Composite Index Data'!G59","v":12386},0.25609999999999999,null,{"$f":"IF(ISNUMBER(VLOOKUP(A59,'2020-2022 Composite Index'!$A$6:$E$140,5,FALSE)),\"YES\",\"NO\")","v":"NO"},null,null,null,null,null,null,null,null,null,null,null,null,null,null,null,null,null,null,null,null,null,null,null,null,null,{"$f":"IF((1-D59/'2020-2022 Composite Index Data'!D59)>=0.03,\"YES\",\"NO\")","v":"NO"}]
[56,"MADISON",{"$f":"VLOOKUP(A60,'2020-2022 Composite Index Data'!A60:G194,3,FALSE)","v":2319775163.1593547},323745213.67000002,{"$f":"VLOOKUP(A60,'2020-2022 Composite Index Data'!A60:G194,5,FALSE)","v":87685702.239999995},{"$f":"+'2020-2022 Composite Index Data'!F60","v":1673.19},{"$f":"+'2020-2022 Composite Index Data'!G60","v":13190},0.4738,null,{"$f":"IF(ISNUMBER(VLOOKUP(A60,'2020-2022 Composite Index'!$A$6:$E$140,5,FALSE)),\"YES\",\"NO\")","v":"NO"},null,null,null,null,null,null,null,null,null,null,null,null,null,null,null,null,null,null,null,null,null,null,null,null,null,{"$f":"IF((1-D60/'2020-2022 Composite Index Data'!D60)>=0.03,\"YES\",\"NO\")","v":"NO"}]
[57,"MATHEWS",{"$f":"VLOOKUP(A61,'2020-2022 Composite Index Data'!A61:G195,3,FALSE)","v":1681978635.7777324},230839453,{"$f":"VLOOKUP(A61,'2020-2022 Composite Index Data'!A61:G195,5,FALSE)","v":40043459.710000001},{"$f":"+'2020-2022 Composite Index Data'!F61","v":1075.74},{"$f":"+'2020-2022 Composite Index Data'!G61","v":8651},0.51619999999999999,null,{"$f":"IF(ISNUMBER(VLOOKUP(A61,'2020-2022 Composite Index'!$A$6:$E$140,5,FALSE)),\"YES\",\"NO\")","v":"NO"},null,null,null,null,null,null,null,null,null,null,null,null,null,null,null,null,null,null,null,null,null,null,null,null,null,{"$f":"IF((1-D61/'2020-2022 Composite Index Data'!D61)>=0.03,\"YES\",\"NO\")","v":"NO"}]
[58,"MECKLENBURG",{"$f":"VLOOKUP(A62,'2020-2022 Composite Index Data'!A62:G196,3,FALSE)","v":4379236370.896122},555134507.97000003,{"$f":"VLOOKUP(A62,'2020-2022 Composite Index Data'!A62:G196,5,FALSE)","v":499432508.49000001},{"$f":"+'2020-2022 Composite Index Data'!F62","v":4103.1400000000003},{"$f":"+'2020-2022 Composite Index Data'!G62","v":31264},0.39960000000000001,null,{"$f":"IF(ISNUMBER(VLOOKUP(A62,'2020-2022 Composite Index'!$A$6:$E$140,5,FALSE)),\"YES\",\"NO\")","v":"YES"},null,null,null,null,null,null,null,null,null,null,null,null,null,null,null,null,null,null,null,null,null,null,null,null,null,{"$f":"IF((1-D62/'2020-2022 Composite Index Data'!D62)>=0.03,\"YES\",\"NO\")","v":"YES"}]
[59,"MIDDLESEX",{"$f":"VLOOKUP(A63,'2020-2022 Composite Index Data'!A63:G197,3,FALSE)","v":2304976582.7809606},267669767,{"$f":"VLOOKUP(A63,'2020-2022 Composite Index Data'!A63:G197,5,FALSE)","v":97303967.329999998},{"$f":"+'2020-2022 Composite Index Data'!F63","v":1194.26},{"$f":"+'2020-2022 Composite Index Data'!G63","v":11004},0.6008,null,{"$f":"IF(ISNUMBER(VLOOKUP(A63,'2020-2022 Composite Index'!$A$6:$E$140,5,FALSE)),\"YES\",\"NO\")","v":"NO"},null,null,null,null,null,null,null,null,null,null,null,null,null,null,null,null,null,null,null,null,null,null,null,null,null,{"$f":"IF((1-D63/'2020-2022 Composite Index Data'!D63)>=0.03,\"YES\",\"NO\")","v":"NO"}]
[60,"MONTGOMERY",{"$f":"VLOOKUP(A64,'2020-2022 Composite Index Data'!A64:G198,3,FALSE)","v":9010770466.2197704},2117629750.23,{"$f":"VLOOKUP(A64,'2020-2022 Composite Index Data'!A64:G198,5,FALSE)","v":1089716202.6300001},{"$f":"+'2020-2022 Composite Index Data'!F64","v":9636.9500000000007},{"$f":"+'2020-2022 Composite Index Data'!G64","v":98776},0.40050000000000002,null,{"$f":"IF(ISNUMBER(VLOOKUP(A64,'2020-2022 Composite Index'!$A$6:$E$140,5,FALSE)),\"YES\",\"NO\")","v":"NO"},null,null,null,null,null,null,null,null,null,null,null,null,null,null,null,null,null,null,null,null,null,null,null,null,null,{"$f":"IF((1-D64/'2020-2022 Composite Index Data'!D64)>=0.03,\"YES\",\"NO\")","v":"NO"}]
[62,"NELSON",{"$f":"VLOOKUP(A65,'2020-2022 Composite Index Data'!A65:G199,3,FALSE)","v":3094695787.1193795},395053750.39999998,{"$f":"VLOOKUP(A65,'2020-2022 Composite Index Data'!A65:G199,5,FALSE)","v":102746557.27},{"$f":"+'2020-2022 Composite Index Data'!F65","v":1794.43},{"$f":"+'2020-2022 Composite Index Data'!G65","v":14858},0.56040000000000001,null,{"$f":"IF(ISNUMBER(VLOOKUP(A65,'2020-2022 Composite Index'!$A$6:$E$140,5,FALSE)),\"YES\",\"NO\")","v":"NO"},null,null,null,null,null,null,null,null,null,null,null,null,null,null,null,null,null,null,null,null,null,null,null,null,null,{"$f":"IF((1-D65/'2020-2022 Composite Index Data'!D65)>=0.03,\"YES\",\"NO\")","v":"NO"}]
[63,"NEW KENT",{"$f":"VLOOKUP(A66,'2020-2022 Composite Index Data'!A66:G200,3,FALSE)","v":3068018934.0543213},695958723,{"$f":"VLOOKUP(A66,'2020-2022 Composite Index Data'!A66:G200,5,FALSE)","v":129697269.95999999},{"$f":"+'2020-2022 Composite Index Data'!F66","v":3158.26},{"$f":"+'2020-2022 Composite Index Data'!G66","v":21709},0.41660000000000003,null,{"$f":"IF(ISNUMBER(VLOOKUP(A66,'2020-2022 Composite Index'!$A$6:$E$140,5,FALSE)),\"YES\",\"NO\")","v":"NO"},null,null,null,null,null,null,null,null,null,null,null,null,null,null,null,null,null,null,null,null,null,null,null,null,null,{"$f":"IF((1-D66/'2020-2022 Composite Index Data'!D66)>=0.03,\"YES\",\"NO\")","v":"NO"}]
[65,"NORTHAMPTON",{"$f":"VLOOKUP(A67,'2020-2022 Composite Index Data'!A67:G201,3,FALSE)","v":2081349222.5888631},262967873.34999999,{"$f":"VLOOKUP(A67,'2020-2022 Composite Index Data'!A67:G201,5,FALSE)","v":125938193.58},{"$f":"+'2020-2022 Composite Index Data'!F67","v":1528.2},{"$f":"+'2020-2022 Composite Index Data'!G67","v":12000},0.46960000000000002,null,{"$f":"IF(ISNUMBER(VLOOKUP(A67,'2020-2022 Composite Index'!$A$6:$E$140,5,FALSE)),\"YES\",\"NO\")","v":"NO"},null,null,null,null,null,null,null,null,null,null,null,null,null,null,null,null,null,null,null,null,null,null,null,null,null,{"$f":"IF((1-D67/'2020-2022 Composite Index Data'!D67)>=0.03,\"YES\",\"NO\")","v":"NO"}]
[66,"NORTHUMBERLAND",{"$f":"VLOOKUP(A68,'2020-2022 Composite Index Data'!A68:G202,3,FALSE)","v":3006211990.3277965},324179623.10000002,{"$f":"VLOOKUP(A68,'2020-2022 Composite Index Data'!A68:G202,5,FALSE)","v":59190236.479999997},{"$f":"+'2020-2022 Composite Index Data'!F68","v":1217.5899999999999},{"$f":"+'2020-2022 Composite Index Data'!G68","v":12053},0.71160000000000001,null,{"$f":"IF(ISNUMBER(VLOOKUP(A68,'2020-2022 Composite Index'!$A$6:$E$140,5,FALSE)),\"YES\",\"NO\")","v":"NO"},null,null,null,null,null,null,null,null,null,null,null,null,null,null,null,null,null,null,null,null,null,null,null,null,null,{"$f":"IF((1-D68/'2020-2022 Composite Index Data'!D68)>=0.03,\"YES\",\"NO\")","v":"NO"}]
[67,"NOTTOWAY",{"$f":"VLOOKUP(A69,'2020-2022 Composite Index Data'!A69:G203,3,FALSE)","v":1206276137.4249439},236775861.59999999,{"$f":"VLOOKUP(A69,'2020-2022 Composite Index Data'!A69:G203,5,FALSE)","v":138347448.74000001},{"$f":"+'2020-2022 Composite Index Data'!F69","v":1958.02},{"$f":"+'2020-2022 Composite Index Data'!G69","v":15845},0.25969999999999999,null,{"$f":"IF(ISNUMBER(VLOOKUP(A69,'2020-2022 Composite Index'!$A$6:$E$140,5,FALSE)),\"YES\",\"NO\")","v":"YES"},null,null,null,null,null,null,null,null,null,null,null,null,null,null,null,null,null,null,null,null,null,null,null,null,null,{"$f":"IF((1-D69/'2020-2022 Composite Index Data'!D69)>=0.03,\"YES\",\"NO\")","v":"YES"}]
[68,"ORANGE",{"$f":"VLOOKUP(A70,'2020-2022 Composite Index Data'!A70:G204,3,FALSE)","v":4660934258.5186081},968752175.66999996,{"$f":"VLOOKUP(A70,'2020-2022 Composite Index Data'!A70:G204,5,FALSE)","v":296990638.50999999},{"$f":"+'2020-2022 Composite Index Data'!F70","v":4745.57},{"$f":"+'2020-2022 Composite Index Data'!G70","v":34521},0.41049999999999998,null,{"$f":"IF(ISNUMBER(VLOOKUP(A70,'2020-2022 Composite Index'!$A$6:$E$140,5,FALSE)),\"YES\",\"NO\")","v":"NO"},null,null,null,null,null,null,null,null,null,null,null,null,null,null,null,null,null,null,null,null,null,null,null,null,null,{"$f":"IF((1-D70/'2020-2022 Composite Index Data'!D70)>=0.03,\"YES\",\"NO\")","v":"NO"}]
[69,"PAGE",{"$f":"VLOOKUP(A71,'2020-2022 Composite Index Data'!A71:G205,3,FALSE)","v":2626726549.2020202},460979981.61000001,{"$f":"VLOOKUP(A71,'2020-2022 Composite Index Data'!A71:G205,5,FALSE)","v":179912536.83000001},{"$f":"+'2020-2022 Composite Index Data'!F71","v":3233.29},{"$f":"+'2020-2022 Composite Index Data'!G71","v":23665},0.31979999999999997,null,{"$f":"IF(ISNUMBER(VLOOKUP(A71,'2020-2022 Composite Index'!$A$6:$E$140,5,FALSE)),\"YES\",\"NO\")","v":"NO"},null,null,null,null,null,null,null,null,null,null,null,null,null,null,null,null,null,null,null,null,null,null,null,null,null,{"$f":"IF((1-D71/'2020-2022 Composite Index Data'!D71)>=0.03,\"YES\",\"NO\")","v":"NO"}]
[70,"PATRICK",{"$f":"VLOOKUP(A72,'2020-2022 Composite Index Data'!A72:G206,3,FALSE)","v":1637838595.3285484},271540560,{"$f":"VLOOKUP(A72,'2020-2022 Composite Index Data'!A72:G206,5,FALSE)","v":97099828.709999993},{"$f":"+'2020-2022 Composite Index Data'!F72","v":2588.38},{"$f":"+'2020-2022 Composite Index Data'!G72","v":17930},0.24560000000000001,null,{"$f":"IF(ISNUMBER(VLOOKUP(A72,'2020-2022 Composite Index'!$A$6:$E$140,5,FALSE)),\"YES\",\"NO\")","v":"YES"},null,null,null,null,null,null,null,null,null,null,null,null,null,null,null,null,null,null,null,null,null,null,null,null,null,{"$f":"IF((1-D72/'2020-2022 Composite Index Data'!D72)>=0.03,\"YES\",\"NO\")","v":"YES"}]
[71,"PITTSYLVANIA",{"$f":"VLOOKUP(A73,'2020-2022 Composite Index Data'!A73:G207,3,FALSE)","v":4917968784.6168776},1148451836.3,{"$f":"VLOOKUP(A73,'2020-2022 Composite Index Data'!A73:G207,5,FALSE)","v":173524846.33000001},{"$f":"+'2020-2022 Composite Index Data'!F73","v":8619.9699999999993},{"$f":"+'2020-2022 Composite Index Data'!G73","v":62166},0.24460000000000001,null,{"$f":"IF(ISNUMBER(VLOOKUP(A73,'2020-2022 Composite Index'!$A$6:$E$140,5,FALSE)),\"YES\",\"NO\")","v":"NO"},null,null,null,null,null,null,null,null,null,null,null,null,null,null,null,null,null,null,null,null,null,null,null,null,null,{"$f":"IF((1-D73/'2020-2022 Composite Index Data'!D73)>=0.03,\"YES\",\"NO\")","v":"NO"}]
[72,"POWHATAN",{"$f":"VLOOKUP(A74,'2020-2022 Composite Index Data'!A74:G208,3,FALSE)","v":4252961337.0146441},1014448414.4299999,{"$f":"VLOOKUP(A74,'2020-2022 Composite Index Data'!A74:G208,5,FALSE)","v":253911712.52000001},{"$f":"+'2020-2022 Composite Index Data'!F74","v":4220.03},{"$f":"+'2020-2022 Composite Index Data'!G74","v":29166},0.45069999999999999,null,{"$f":"IF(ISNUMBER(VLOOKUP(A74,'2020-2022 Composite Index'!$A$6:$E$140,5,FALSE)),\"YES\",\"NO\")","v":"NO"},null,null,null,null,null,null,null,null,null,null,null,null,null,null,null,null,null,null,null,null,null,null,null,null,null,{"$f":"IF((1-D74/'2020-2022 Composite Index Data'!D74)>=0.03,\"YES\",\"NO\")","v":"NO"}]
[73,"PRINCE EDWARD",{"$f":"VLOOKUP(A75,'2020-2022 Composite Index Data'!A75:G209,3,FALSE)","v":1735744005.9118435},328303784,{"$f":"VLOOKUP(A75,'2020-2022 Composite Index Data'!A75:G209,5,FALSE)","v":292525761.44999999},{"$f":"+'2020-2022 Composite Index Data'!F75","v":1968.27},{"$f":"+'2020-2022 Composite Index Data'!G75","v":23223},0.35539999999999999,null,{"$f":"IF(ISNUMBER(VLOOKUP(A75,'2020-2022 Composite Index'!$A$6:$E$140,5,FALSE)),\"YES\",\"NO\")","v":"NO"},null,null,null,null,null,null,null,null,null,null,null,null,null,null,null,null,null,null,null,null,null,null,null,null,null,{"$f":"IF((1-D75/'2020-2022 Composite Index Data'!D75)>=0.03,\"YES\",\"NO\")","v":"NO"}]
[74,"PRINCE GEORGE",{"$f":"VLOOKUP(A76,'2020-2022 Composite Index Data'!A76:G210,3,FALSE)","v":3250105232.5275345},753480100.12,{"$f":"VLOOKUP(A76,'2020-2022 Composite Index Data'!A76:G210,5,FALSE)","v":203313121.75999999},{"$f":"+'2020-2022 Composite Index Data'!F76","v":6189.27},{"$f":"+'2020-2022 Composite Index Data'!G76","v":37025},0.2467,null,{"$f":"IF(ISNUMBER(VLOOKUP(A76,'2020-2022 Composite Index'!$A$6:$E$140,5,FALSE)),\"YES\",\"NO\")","v":"NO"},null,null,null,null,null,null,null,null,null,null,null,null,null,null,null,null,null,null,null,null,null,null,null,null,null,{"$f":"IF((1-D76/'2020-2022 Composite Index Data'!D76)>=0.03,\"YES\",\"NO\")","v":"NO"}]
[75,"PRINCE WILLIAM",{"$f":"VLOOKUP(A77,'2020-2022 Composite Index Data'!A77:G211,3,FALSE)","v":64496713588.881714},15612788312.610001,{"$f":"VLOOKUP(A77,'2020-2022 Composite Index Data'!A77:G211,5,FALSE)","v":5540880713.7700005},{"$f":"+'2020-2022 Composite Index Data'!F77","v":87313.29},{"$f":"+'2020-2022 Composite Index Data'!G77","v":455990},0.37990000000000002,null,{"$f":"IF(ISNUMBER(VLOOKUP(A77,'2020-2022 Composite Index'!$A$6:$E$140,5,FALSE)),\"YES\",\"NO\")","v":"NO"},null,null,null,null,null,null,null,null,null,null,null,null,null,null,null,null,null,null,null,null,null,null,null,null,null,{"$f":"IF((1-D77/'2020-2022 Composite Index Data'!D77)>=0.03,\"YES\",\"NO\")","v":"NO"}]
[77,"PULASKI",{"$f":"VLOOKUP(A78,'2020-2022 Composite Index Data'!A78:G212,3,FALSE)","v":3030751356.2835822},631007810.84000003,{"$f":"VLOOKUP(A78,'2020-2022 Composite Index Data'!A78:G212,5,FALSE)","v":376119737.45999998},{"$f":"+'2020-2022 Composite Index Data'!F78","v":4013.88},{"$f":"+'2020-2022 Composite Index Data'!G78","v":34467},0.32350000000000001,null,{"$f":"IF(ISNUMBER(VLOOKUP(A78,'2020-2022 Composite Index'!$A$6:$E$140,5,FALSE)),\"YES\",\"NO\")","v":"NO"},null,null,null,null,null,null,null,null,null,null,null,null,null,null,null,null,null,null,null,null,null,null,null,null,null,{"$f":"IF((1-D78/'2020-2022 Composite Index Data'!D78)>=0.03,\"YES\",\"NO\")","v":"NO"}]
[78,"RAPPAHANNOCK",{"$f":"VLOOKUP(A79,'2020-2022 Composite Index Data'!A79:G213,3,FALSE)","v":2116665131.3772788},263411193,{"$f":"VLOOKUP(A79,'2020-2022 Composite Index Data'!A79:G213,5,FALSE)","v":40244653},{"$f":"+'2020-2022 Composite Index Data'!F79","v":817.68},{"$f":"+'2020-2022 Composite Index Data'!G79","v":7288},0.79900000000000004,null,{"$f":"IF(ISNUMBER(VLOOKUP(A79,'2020-2022 Composite Index'!$A$6:$E$140,5,FALSE)),\"YES\",\"NO\")","v":"NO"},null,null,null,null,null,null,null,null,null,null,null,null,null,null,null,null,null,null,null,null,null,null,null,null,null,{"$f":"IF((1-D79/'2020-2022 Composite Index Data'!D79)>=0.03,\"YES\",\"NO\")","v":"NO"}]
[79,"RICHMOND COUNTY",{"$f":"VLOOKUP(A80,'2020-2022 Composite Index Data'!A80:G214,3,FALSE)","v":1002618539.3058923},174675312,{"$f":"VLOOKUP(A80,'2020-2022 Composite Index Data'!A80:G214,5,FALSE)","v":70063437.129999995},{"$f":"+'2020-2022 Composite Index Data'!F80","v":1275.55},{"$f":"+'2020-2022 Composite Index Data'!G80","v":9094},0.312,null,{"$f":"IF(ISNUMBER(VLOOKUP(A80,'2020-2022 Composite Index'!$A$6:$E$140,5,FALSE)),\"YES\",\"NO\")","v":"YES"},null,null,null,null,null,null,null,null,null,null,null,null,null,null,null,null,null,null,null,null,null,null,null,null,null,{"$f":"IF((1-D80/'2020-2022 Composite Index Data'!D80)>=0.03,\"YES\",\"NO\")","v":"YES"}]
[80,"ROANOKE COUNTY",{"$f":"VLOOKUP(A81,'2020-2022 Composite Index Data'!A81:G215,3,FALSE)","v":9484304507.0225658},2845345189.1900001,{"$f":"VLOOKUP(A81,'2020-2022 Composite Index Data'!A81:G215,5,FALSE)","v":1060806738.78},{"$f":"+'2020-2022 Composite Index Data'!F81","v":13778.96},{"$f":"+'2020-2022 Composite Index Data'!G81","v":93735},0.36599999999999999,null,{"$f":"IF(ISNUMBER(VLOOKUP(A81,'2020-2022 Composite Index'!$A$6:$E$140,5,FALSE)),\"YES\",\"NO\")","v":"NO"},null,null,null,null,null,null,null,null,null,null,null,null,null,null,null,null,null,null,null,null,null,null,null,null,null,{"$f":"IF((1-D81/'2020-2022 Composite Index Data'!D81)>=0.03,\"YES\",\"NO\")","v":"NO"}]
[81,"ROCKBRIDGE",{"$f":"VLOOKUP(A82,'2020-2022 Composite Index Data'!A82:G216,3,FALSE)","v":3237676337.9390926},483031172.17000002,{"$f":"VLOOKUP(A82,'2020-2022 Composite Index Data'!A82:G216,5,FALSE)","v":253206596},{"$f":"+'2020-2022 Composite Index Data'!F82","v":2574.59},{"$f":"+'2020-2022 Composite Index Data'!G82","v":22596},0.4506,null,{"$f":"IF(ISNUMBER(VLOOKUP(A82,'2020-2022 Composite Index'!$A$6:$E$140,5,FALSE)),\"YES\",\"NO\")","v":"NO"},null,null,null,null,null,null,null,null,null,null,null,null,null,null,null,null,null,null,null,null,null,null,null,null,null,{"$f":"IF((1-D82/'2020-2022 Composite Index Data'!D82)>=0.03,\"YES\",\"NO\")","v":"NO"}]
[82,"ROCKINGHAM",{"$f":"VLOOKUP(A83,'2020-2022 Composite Index Data'!A83:G217,3,FALSE)","v":10539136675.836027},2030964188.47,{"$f":"VLOOKUP(A83,'2020-2022 Composite Index Data'!A83:G217,5,FALSE)","v":618300799.61000001},{"$f":"+'2020-2022 Composite Index Data'!F83","v":11252.58},{"$f":"+'2020-2022 Composite Index Data'!G83","v":80666},0.37990000000000002,null,{"$f":"IF(ISNUMBER(VLOOKUP(A83,'2020-2022 Composite Index'!$A$6:$E$140,5,FALSE)),\"YES\",\"NO\")","v":"NO"},null,null,null,null,null,null,null,null,null,null,null,null,null,null,null,null,null,null,null,null,null,null,null,null,null,{"$f":"IF((1-D83/'2020-2022 Composite Index Data'!D83)>=0.03,\"YES\",\"NO\")","v":"NO"}]
[83,"RUSSELL",{"$f":"VLOOKUP(A84,'2020-2022 Composite Index Data'!A84:G218,3,FALSE)","v":2142651703.8957539},396736875.41000003,{"$f":"VLOOKUP(A84,'2020-2022 Composite Index Data'!A84:G218,5,FALSE)","v":155743996},{"$f":"+'2020-2022 Composite Index Data'!F84","v":3629.3},{"$f":"+'2020-2022 Composite Index Data'!G84","v":27309},0.23730000000000001,null,{"$f":"IF(ISNUMBER(VLOOKUP(A84,'2020-2022 Composite Index'!$A$6:$E$140,5,FALSE)),\"YES\",\"NO\")","v":"NO"},null,null,null,null,null,null,null,null,null,null,null,null,null,null,null,null,null,null,null,null,null,null,null,null,null,{"$f":"IF((1-D84/'2020-2022 Composite Index Data'!D84)>=0.03,\"YES\",\"NO\")","v":"NO"}]
[84,"SCOTT",{"$f":"VLOOKUP(A85,'2020-2022 Composite Index Data'!A85:G219,3,FALSE)","v":1449588768.8548353},308392569.00999999,{"$f":"VLOOKUP(A85,'2020-2022 Composite Index Data'!A85:G219,5,FALSE)","v":125014352.54000001},{"$f":"+'2020-2022 Composite Index Data'!F85","v":3431.49},{"$f":"+'2020-2022 Composite Index Data'!G85","v":22377},0.18990000000000001,null,{"$f":"IF(ISNUMBER(VLOOKUP(A85,'2020-2022 Composite Index'!$A$6:$E$140,5,FALSE)),\"YES\",\"NO\")","v":"YES"},null,null,null,null,null,null,null,null,null,null,null,null,null,null,null,null,null,null,null,null,null,null,null,null,null,{"$f":"IF((1-D85/'2020-2022 Composite Index Data'!D85)>=0.03,\"YES\",\"NO\")","v":"YES"}]
[85,"SHENANDOAH",{"$f":"VLOOKUP(A86,'2020-2022 Composite Index Data'!A86:G220,3,FALSE)","v":5560973201.7541246},1024286242,{"$f":"VLOOKUP(A86,'2020-2022 Composite Index Data'!A86:G220,5,FALSE)","v":378819979.47000003},{"$f":"+'2020-2022 Composite Index Data'!F86","v":5813},{"$f":"+'2020-2022 Composite Index Data'!G86","v":42525},0.38319999999999999,null,{"$f":"IF(ISNUMBER(VLOOKUP(A86,'2020-2022 Composite Index'!$A$6:$E$140,5,FALSE)),\"YES\",\"NO\")","v":"NO"},null,null,null,null,null,null,null,null,null,null,null,null,null,null,null,null,null,null,null,null,null,null,null,null,null,{"$f":"IF((1-D86/'2020-2022 Composite Index Data'!D86)>=0.03,\"YES\",\"NO\")","v":"NO"}]
[86,"SMYTH",{"$f":"VLOOKUP(A87,'2020-2022 Composite Index Data'!A87:G221,3,FALSE)","v":2050943352.2474034},480940167,{"$f":"VLOOKUP(A87,'2020-2022 Composite Index Data'!A87:G221,5,FALSE)","v":205033051.61000001},{"$f":"+'2020-2022 Composite Index Data'!F87","v":4217.82},{"$f":"+'2020-2022 Composite Index Data'!G87","v":30686},0.2228,null,{"$f":"IF(ISNUMBER(VLOOKUP(A87,'2020-2022 Composite Index'!$A$6:$E$140,5,FALSE)),\"YES\",\"NO\")","v":"YES"},null,null,null,null,null,null,null,null,null,null,null,null,null,null,null,null,null,null,null,null,null,null,null,null,null,{"$f":"IF((1-D87/'2020-2022 Composite Index Data'!D87)>=0.03,\"YES\",\"NO\")","v":"YES"}]
[87,"SOUTHAMPTON",{"$f":"VLOOKUP(A88,'2020-2022 Composite Index Data'!A88:G222,3,FALSE)","v":2105916475.5673299},373233609.39999998,{"$f":"VLOOKUP(A88,'2020-2022 Composite Index Data'!A88:G222,5,FALSE)","v":43903421.399999999},{"$f":"+'2020-2022 Composite Index Data'!F88","v":2637.85},{"$f":"+'2020-2022 Composite Index Data'!G88","v":18119},0.30149999999999999,null,{"$f":"IF(ISNUMBER(VLOOKUP(A88,'2020-2022 Composite Index'!$A$6:$E$140,5,FALSE)),\"YES\",\"NO\")","v":"YES"},null,null,null,null,null,null,null,null,null,null,null,null,null,null,null,null,null,null,null,null,null,null,null,null,null,{"$f":"IF((1-D88/'2020-2022 Composite Index Data'!D88)>=0.03,\"YES\",\"NO\")","v":"YES"}]
[88,"SPOTSYLVANIA",{"$f":"VLOOKUP(A89,'2020-2022 Composite Index Data'!A89:G223,3,FALSE)","v":17549263472.548038},4040232021.3699999,{"$f":"VLOOKUP(A89,'2020-2022 Composite Index Data'!A89:G223,5,FALSE)","v":1634908083.1900001},{"$f":"+'2020-2022 Composite Index Data'!F89","v":23183.64},{"$f":"+'2020-2022 Composite Index Data'!G89","v":131549},0.37219999999999998,null,{"$f":"IF(ISNUMBER(VLOOKUP(A89,'2020-2022 Composite Index'!$A$6:$E$140,5,FALSE)),\"YES\",\"NO\")","v":"NO"},null,null,null,null,null,null,null,null,null,null,null,null,null,null,null,null,null,null,null,null,null,null,null,null,null,{"$f":"IF((1-D89/'2020-2022 Composite Index Data'!D89)>=0.03,\"YES\",\"NO\")","v":"NO"}]
[89,"STAFFORD",{"$f":"VLOOKUP(A90,'2020-2022 Composite Index Data'!A90:G224,3,FALSE)","v":19587826223.531853},4787366131.1499996,{"$f":"VLOOKUP(A90,'2020-2022 Composite Index Data'!A90:G224,5,FALSE)","v":1165726180.8699999},{"$f":"+'2020-2022 Composite Index Data'!F90","v":28486.89},{"$f":"+'2020-2022 Composite Index Data'!G90","v":145699},0.34699999999999998,null,{"$f":"IF(ISNUMBER(VLOOKUP(A90,'2020-2022 Composite Index'!$A$6:$E$140,5,FALSE)),\"YES\",\"NO\")","v":"NO"},null,null,null,null,null,null,null,null,null,null,null,null,null,null,null,null,null,null,null,null,null,null,null,null,null,{"$f":"IF((1-D90/'2020-2022 Composite Index Data'!D90)>=0.03,\"YES\",\"NO\")","v":"NO"}]
[90,"SURRY",{"$f":"VLOOKUP(A91,'2020-2022 Composite Index Data'!A91:G225,3,FALSE)","v":2840333103.9658718},138772208,{"$f":"VLOOKUP(A91,'2020-2022 Composite Index Data'!A91:G225,5,FALSE)","v":20421222},{"$f":"+'2020-2022 Composite Index Data'!F91","v":731.15},{"$f":"+'2020-2022 Composite Index Data'!G91","v":6674},0.8,null,{"$f":"IF(ISNUMBER(VLOOKUP(A91,'2020-2022 Composite Index'!$A$6:$E$140,5,FALSE)),\"YES\",\"NO\")","v":"YES"},null,null,null,null,null,null,null,null,null,null,null,null,null,null,null,null,null,null,null,null,null,null,null,null,null,{"$f":"IF((1-D91/'2020-2022 Composite Index Data'!D91)>=0.03,\"YES\",\"NO\")","v":"YES"}]
[91,"SUSSEX",{"$f":"VLOOKUP(A92,'2020-2022 Composite Index Data'!A92:G226,3,FALSE)","v":1028597204.1583422},160339197,{"$f":"VLOOKUP(A92,'2020-2022 Composite Index Data'!A92:G226,5,FALSE)","v":90499076.510000005},{"$f":"+'2020-2022 Composite Index Data'!F92","v":1019.46},{"$f":"+'2020-2022 Composite Index Data'!G92","v":11655},0.34920000000000001,null,{"$f":"IF(ISNUMBER(VLOOKUP(A92,'2020-2022 Composite Index'!$A$6:$E$140,5,FALSE)),\"YES\",\"NO\")","v":"NO"},null,null,null,null,null,null,null,null,null,null,null,null,null,null,null,null,null,null,null,null,null,null,null,null,null,{"$f":"IF((1-D92/'2020-2022 Composite Index Data'!D92)>=0.03,\"YES\",\"NO\")","v":"NO"}]
[92,"TAZEWELL",{"$f":"VLOOKUP(A93,'2020-2022 Composite Index Data'!A93:G227,3,FALSE)","v":2929410024.421875},690958565.05999994,{"$f":"VLOOKUP(A93,'2020-2022 Composite Index Data'!A93:G227,5,FALSE)","v":511172039.33999997},{"$f":"+'2020-2022 Composite Index Data'!F93","v":5625.69},{"$f":"+'2020-2022 Composite Index Data'!G93","v":42574},0.25750000000000001,null,{"$f":"IF(ISNUMBER(VLOOKUP(A93,'2020-2022 Composite Index'!$A$6:$E$140,5,FALSE)),\"YES\",\"NO\")","v":"NO"},null,null,null,null,null,null,null,null,null,null,null,null,null,null,null,null,null,null,null,null,null,null,null,null,null,{"$f":"IF((1-D93/'2020-2022 Composite Index Data'!D93)>=0.03,\"YES\",\"NO\")","v":"NO"}]
[93,"WARREN",{"$f":"VLOOKUP(A94,'2020-2022 Composite Index Data'!A94:G228,3,FALSE)","v":6023427519.9794588},1033422970.01,{"$f":"VLOOKUP(A94,'2020-2022 Composite Index Data'!A94:G228,5,FALSE)","v":404670592.17000002},{"$f":"+'2020-2022 Composite Index Data'!F94","v":5279.87},{"$f":"+'2020-2022 Composite Index Data'!G94","v":39239},0.44319999999999998,null,{"$f":"IF(ISNUMBER(VLOOKUP(A94,'2020-2022 Composite Index'!$A$6:$E$140,5,FALSE)),\"YES\",\"NO\")","v":"NO"},null,null,null,null,null,null,null,null,null,null,null,null,null,null,null,null,null,null,null,null,null,null,null,null,null,{"$f":"IF((1-D94/'2020-2022 Composite Index Data'!D94)>=0.03,\"YES\",\"NO\")","v":"NO"}]
[94,"WASHINGTON",{"$f":"VLOOKUP(A95,'2020-2022 Composite Index Data'!A95:G229,3,FALSE)","v":5482514964.2722025},1105064375.8399999,{"$f":"VLOOKUP(A95,'2020-2022 Composite Index Data'!A95:G229,5,FALSE)","v":659752986.01999998},{"$f":"+'2020-2022 Composite Index Data'!F95","v":6979.59},{"$f":"+'2020-2022 Composite Index Data'!G95","v":53789},0.34160000000000001,null,{"$f":"IF(ISNUMBER(VLOOKUP(A95,'2020-2022 Composite Index'!$A$6:$E$140,5,FALSE)),\"YES\",\"NO\")","v":"YES"},null,null,null,null,null,null,null,null,null,null,null,null,null,null,null,null,null,null,null,null,null,null,null,null,null,{"$f":"IF((1-D95/'2020-2022 Composite Index Data'!D95)>=0.03,\"YES\",\"NO\")","v":"YES"}]
[95,"WESTMORELAND",{"$f":"VLOOKUP(A96,'2020-2022 Composite Index Data'!A96:G230,3,FALSE)","v":2132048750.1497116},317758030,{"$f":"VLOOKUP(A96,'2020-2022 Composite Index Data'!A96:G230,5,FALSE)","v":67126856.730000004},{"$f":"+'2020-2022 Composite Index Data'!F96","v":1518.62},{"$f":"+'2020-2022 Composite Index Data'!G96","v":14191},0.46179999999999999,null,{"$f":"IF(ISNUMBER(VLOOKUP(A96,'2020-2022 Composite Index'!$A$6:$E$140,5,FALSE)),\"YES\",\"NO\")","v":"NO"},null,null,null,null,null,null,null,null,null,null,null,null,null,null,null,null,null,null,null,null,null,null,null,null,null,{"$f":"IF((1-D96/'2020-2022 Composite Index Data'!D96)>=0.03,\"YES\",\"NO\")","v":"NO"}]
[96,"WISE",{"$f":"VLOOKUP(A97,'2020-2022 Composite Index Data'!A97:G231,3,FALSE)","v":3462392703.2608471},512235823.92000002,{"$f":"VLOOKUP(A97,'2020-2022 Composite Index Data'!A97:G231,5,FALSE)","v":269251707.95999998},{"$f":"+'2020-2022 Composite Index Data'!F97","v":5575},{"$f":"+'2020-2022 Composite Index Data'!G97","v":39133},0.23719999999999999,null,{"$f":"IF(ISNUMBER(VLOOKUP(A97,'2020-2022 Composite Index'!$A$6:$E$140,5,FALSE)),\"YES\",\"NO\")","v":"YES"},null,null,null,null,null,null,null,null,null,null,null,null,null,null,null,null,null,null,null,null,null,null,null,null,null,{"$f":"IF((1-D97/'2020-2022 Composite Index Data'!D97)>=0.03,\"YES\",\"NO\")","v":"YES"}]
[97,"WYTHE",{"$f":"VLOOKUP(A98,'2020-2022 Composite Index Data'!A98:G232,3,FALSE)","v":2999424650.148581},514976126.10000002,{"$f":"VLOOKUP(A98,'2020-2022 Composite Index Data'!A98:G232,5,FALSE)","v":389415463.48000002},{"$f":"+'2020-2022 Composite Index Data'!F98","v":3999.31},{"$f":"+'2020-2022 Composite Index Data'!G98","v":28723},0.32040000000000002,null,{"$f":"IF(ISNUMBER(VLOOKUP(A98,'2020-2022 Composite Index'!$A$6:$E$140,5,FALSE)),\"YES\",\"NO\")","v":"NO"},null,null,null,null,null,null,null,null,null,null,null,null,null,null,null,null,null,null,null,null,null,null,null,null,null,{"$f":"IF((1-D98/'2020-2022 Composite Index Data'!D98)>=0.03,\"YES\",\"NO\")","v":"NO"}]
[98,"YORK",{"$f":"VLOOKUP(A99,'2020-2022 Composite Index Data'!A99:G233,3,FALSE)","v":9947911300.6336079},2083506214.8399999,{"$f":"VLOOKUP(A99,'2020-2022 Composite Index Data'!A99:G233,5,FALSE)","v":949567169.16999996},{"$f":"+'2020-2022 Composite Index Data'!F99","v":12609.72},{"$f":"+'2020-2022 Composite Index Data'!G99","v":68890},0.38119999999999998,null,{"$f":"IF(ISNUMBER(VLOOKUP(A99,'2020-2022 Composite Index'!$A$6:$E$140,5,FALSE)),\"YES\",\"NO\")","v":"NO"},null,null,null,null,null,null,null,null,null,null,null,null,null,null,null,null,null,null,null,null,null,null,null,null,null,{"$f":"IF((1-D99/'2020-2022 Composite Index Data'!D99)>=0.03,\"YES\",\"NO\")","v":"NO"}]
[101,"ALEXANDRIA",{"$f":"VLOOKUP(A100,'2020-2022 Composite Index Data'!A100:G234,3,FALSE)","v":40241761138.620949},8345387865.1999998,{"$f":"VLOOKUP(A100,'2020-2022 Composite Index Data'!A100:G234,5,FALSE)","v":2166848199.3800001},{"$f":"+'2020-2022 Composite Index Data'!F100","v":14987.82},{"$f":"+'2020-2022 Composite Index Data'!G100","v":160719},0.8,null,{"$f":"IF(ISNUMBER(VLOOKUP(A100,'2020-2022 Composite Index'!$A$6:$E$140,5,FALSE)),\"YES\",\"NO\")","v":"NO"},null,null,null,null,null,null,null,null,null,null,null,null,null,null,null,null,null,null,null,null,null,null,null,null,null,{"$f":"IF((1-D100/'2020-2022 Composite Index Data'!D100)>=0.03,\"YES\",\"NO\")","v":"NO"}]
[102,"BRISTOL",{"$f":"VLOOKUP(A101,'2020-2022 Composite Index Data'!A101:G235,3,FALSE)","v":1301914172.7526095},254390884.00999999,{"$f":"VLOOKUP(A101,'2020-2022 Composite Index Data'!A101:G235,5,FALSE)","v":357990921.17000002},{"$f":"+'2020-2022 Composite Index Data'!F101","v":2157.2199999999998},{"$f":"+'2020-2022 Composite Index Data'!G101","v":17160},0.30509999999999998,null,{"$f":"IF(ISNUMBER(VLOOKUP(A101,'2020-2022 Composite Index'!$A$6:$E$140,5,FALSE)),\"YES\",\"NO\")","v":"YES"},null,null,null,null,null,null,null,null,null,null,null,null,null,null,null,null,null,null,null,null,null,null,null,null,null,{"$f":"IF((1-D101/'2020-2022 Composite Index Data'!D101)>=0.03,\"YES\",\"NO\")","v":"YES"}]
[103,"BUENA VISTA",{"$f":"VLOOKUP(A102,'2020-2022 Composite Index Data'!A102:G236,3,FALSE)","v":340422447.9868319},96586964.010000005,{"$f":"VLOOKUP(A102,'2020-2022 Composite Index Data'!A102:G236,5,FALSE)","v":30887490},{"$f":"+'2020-2022 Composite Index Data'!F102","v":892.59},{"$f":"+'2020-2022 Composite Index Data'!G102","v":6424},0.1893,null,{"$f":"IF(ISNUMBER(VLOOKUP(A102,'2020-2022 Composite Index'!$A$6:$E$140,5,FALSE)),\"YES\",\"NO\")","v":"NO"},null,null,null,null,null,null,null,null,null,null,null,null,null,null,null,null,null,null,null,null,null,null,null,null,null,{"$f":"IF((1-D102/'2020-2022 Composite Index Data'!D102)>=0.03,\"YES\",\"NO\")","v":"NO"}]
[104,"CHARLOTTESVILLE",{"$f":"VLOOKUP(A103,'2020-2022 Composite Index Data'!A103:G237,3,FALSE)","v":7637638791.5555553},1378955317.01,{"$f":"VLOOKUP(A103,'2020-2022 Composite Index Data'!A103:G237,5,FALSE)","v":971359089.53999996},{"$f":"+'2020-2022 Composite Index Data'!F103","v":4189.74},{"$f":"+'2020-2022 Composite Index Data'!G103","v":49132},0.68859999999999999,null,{"$f":"IF(ISNUMBER(VLOOKUP(A103,'2020-2022 Composite Index'!$A$6:$E$140,5,FALSE)),\"YES\",\"NO\")","v":"YES"},null,null,null,null,null,null,null,null,null,null,null,null,null,null,null,null,null,null,null,null,null,null,null,null,null,{"$f":"IF((1-D103/'2020-2022 Composite Index Data'!D103)>=0.03,\"YES\",\"NO\")","v":"YES"}]
[106,"COLONIAL HEIGHTS",{"$f":"VLOOKUP(A104,'2020-2022 Composite Index Data'!A104:G238,3,FALSE)","v":1812640040.8409362},393945070.93000001,{"$f":"VLOOKUP(A104,'2020-2022 Composite Index Data'!A104:G238,5,FALSE)","v":717236556.60000002},{"$f":"+'2020-2022 Composite Index Data'!F104","v":2759.15},{"$f":"+'2020-2022 Composite Index Data'!G104","v":17320},0.41560000000000002,null,{"$f":"IF(ISNUMBER(VLOOKUP(A104,'2020-2022 Composite Index'!$A$6:$E$140,5,FALSE)),\"YES\",\"NO\")","v":"NO"},null,null,null,null,null,null,null,null,null,null,null,null,null,null,null,null,null,null,null,null,null,null,null,null,null,{"$f":"IF((1-D104/'2020-2022 Composite Index Data'!D104)>=0.03,\"YES\",\"NO\")","v":"NO"}]
[107,"COVINGTON",{"$f":"VLOOKUP(A105,'2020-2022 Composite Index Data'!A105:G239,3,FALSE)","v":580167623.31773269},97141426,{"$f":"VLOOKUP(A105,'2020-2022 Composite Index Data'!A105:G239,5,FALSE)","v":110735625.84999999},{"$f":"+'2020-2022 Composite Index Data'!F105","v":961.48},{"$f":"+'2020-2022 Composite Index Data'!G105","v":5850},0.2913,null,{"$f":"IF(ISNUMBER(VLOOKUP(A105,'2020-2022 Composite Index'!$A$6:$E$140,5,FALSE)),\"YES\",\"NO\")","v":"NO"},null,null,null,null,null,null,null,null,null,null,null,null,null,null,null,null,null,null,null,null,null,null,null,null,null,{"$f":"IF((1-D105/'2020-2022 Composite Index Data'!D105)>=0.03,\"YES\",\"NO\")","v":"NO"}]
[108,"DANVILLE",{"$f":"VLOOKUP(A106,'2020-2022 Composite Index Data'!A106:G240,3,FALSE)","v":2314741875.1414142},671438106.35000002,{"$f":"VLOOKUP(A106,'2020-2022 Composite Index Data'!A106:G240,5,FALSE)","v":793761923.86000001},{"$f":"+'2020-2022 Composite Index Data'!F106","v":5519.2},{"$f":"+'2020-2022 Composite Index Data'!G106","v":41358},0.26219999999999999,null,{"$f":"IF(ISNUMBER(VLOOKUP(A106,'2020-2022 Composite Index'!$A$6:$E$140,5,FALSE)),\"YES\",\"NO\")","v":"YES"},null,null,null,null,null,null,null,null,null,null,null,null,null,null,null,null,null,null,null,null,null,null,null,null,null,{"$f":"IF((1-D106/'2020-2022 Composite Index Data'!D106)>=0.03,\"YES\",\"NO\")","v":"YES"}]
[109,"FALLS CHURCH",{"$f":"VLOOKUP(A107,'2020-2022 Composite Index Data'!A107:G241,3,FALSE)","v":4429390875.1606121},990897780.42999995,{"$f":"VLOOKUP(A107,'2020-2022 Composite Index Data'!A107:G241,5,FALSE)","v":362455075.37},{"$f":"+'2020-2022 Composite Index Data'!F107","v":2607.3000000000002},{"$f":"+'2020-2022 Composite Index Data'!G107","v":14269},0.8,null,{"$f":"IF(ISNUMBER(VLOOKUP(A107,'2020-2022 Composite Index'!$A$6:$E$140,5,FALSE)),\"YES\",\"NO\")","v":"YES"},null,null,null,null,null,null,null,null,null,null,null,null,null,null,null,null,null,null,null,null,null,null,null,null,null,{"$f":"IF((1-D107/'2020-2022 Composite Index Data'!D107)>=0.03,\"YES\",\"NO\")","v":"YES"}]
[110,"FREDERICKSBURG",{"$f":"VLOOKUP(A108,'2020-2022 Composite Index Data'!A108:G242,3,FALSE)","v":4256115976.0956955},783702802.79999995,{"$f":"VLOOKUP(A108,'2020-2022 Composite Index Data'!A108:G242,5,FALSE)","v":945058833.03999996},{"$f":"+'2020-2022 Composite Index Data'!F108","v":3400.21},{"$f":"+'2020-2022 Composite Index Data'!G108","v":27645},0.58399999999999996,null,{"$f":"IF(ISNUMBER(VLOOKUP(A108,'2020-2022 Composite Index'!$A$6:$E$140,5,FALSE)),\"YES\",\"NO\")","v":"YES"},null,null,null,null,null,null,null,null,null,null,null,null,null,null,null,null,null,null,null,null,null,null,null,null,null,{"$f":"IF((1-D108/'2020-2022 Composite Index Data'!D108)>=0.03,\"YES\",\"NO\")","v":"YES"}]
[111,"GALAX",{"$f":"VLOOKUP(A109,'2020-2022 Composite Index Data'!A109:G243,3,FALSE)","v":517853296.76590931},107727650,{"$f":"VLOOKUP(A109,'2020-2022 Composite Index Data'!A109:G243,5,FALSE)","v":208254312.55000001},{"$f":"+'2020-2022 Composite Index Data'!F109","v":1229.6600000000001},{"$f":"+'2020-2022 Composite Index Data'!G109","v":6748},0.27750000000000002,null,{"$f":"IF(ISNUMBER(VLOOKUP(A109,'2020-2022 Composite Index'!$A$6:$E$140,5,FALSE)),\"YES\",\"NO\")","v":"YES"},null,null,null,null,null,null,null,null,null,null,null,null,null,null,null,null,null,null,null,null,null,null,null,null,null,{"$f":"IF((1-D109/'2020-2022 Composite Index Data'!D109)>=0.03,\"YES\",\"NO\")","v":"YES"}]
[112,"HAMPTON",{"$f":"VLOOKUP(A110,'2020-2022 Composite Index Data'!A110:G244,3,FALSE)","v":11298695163.44898},2504720758.8099999,{"$f":"VLOOKUP(A110,'2020-2022 Composite Index Data'!A110:G244,5,FALSE)","v":1354676659.3900001},{"$f":"+'2020-2022 Composite Index Data'!F110","v":19013.27},{"$f":"+'2020-2022 Composite Index Data'!G110","v":136743},0.27429999999999999,null,{"$f":"IF(ISNUMBER(VLOOKUP(A110,'2020-2022 Composite Index'!$A$6:$E$140,5,FALSE)),\"YES\",\"NO\")","v":"NO"},null,null,null,null,null,null,null,null,null,null,null,null,null,null,null,null,null,null,null,null,null,null,null,null,null,{"$f":"IF((1-D110/'2020-2022 Composite Index Data'!D110)>=0.03,\"YES\",\"NO\")","v":"NO"}]
[113,"HARRISONBURG",{"$f":"VLOOKUP(A111,'2020-2022 Composite Index Data'!A111:G245,3,FALSE)","v":4478527081.7577124},751775346.80999994,{"$f":"VLOOKUP(A111,'2020-2022 Composite Index Data'!A111:G245,5,FALSE)","v":1238467780.28},{"$f":"+'2020-2022 Composite Index Data'!F111","v":5886.9},{"$f":"+'2020-2022 Composite Index Data'!G111","v":54689},0.35370000000000001,null,{"$f":"IF(ISNUMBER(VLOOKUP(A111,'2020-2022 Composite Index'!$A$6:$E$140,5,FALSE)),\"YES\",\"NO\")","v":"NO"},null,null,null,null,null,null,null,null,null,null,null,null,null,null,null,null,null,null,null,null,null,null,null,null,null,{"$f":"IF((1-D111/'2020-2022 Composite Index Data'!D111)>=0.03,\"YES\",\"NO\")","v":"NO"}]
[114,"HOPEWELL",{"$f":"VLOOKUP(A112,'2020-2022 Composite Index Data'!A112:G246,3,FALSE)","v":1743092657.5218105},349187970.74000001,{"$f":"VLOOKUP(A112,'2020-2022 Composite Index Data'!A112:G246,5,FALSE)","v":169710176.56},{"$f":"+'2020-2022 Composite Index Data'!F112","v":3976.77},{"$f":"+'2020-2022 Composite Index Data'!G112","v":22817},0.20530000000000001,null,{"$f":"IF(ISNUMBER(VLOOKUP(A112,'2020-2022 Composite Index'!$A$6:$E$140,5,FALSE)),\"YES\",\"NO\")","v":"NO"},null,null,null,null,null,null,null,null,null,null,null,null,null,null,null,null,null,null,null,null,null,null,null,null,null,{"$f":"IF((1-D112/'2020-2022 Composite Index Data'!D112)>=0.03,\"YES\",\"NO\")","v":"NO"}]
[115,"LYNCHBURG",{"$f":"VLOOKUP(A113,'2020-2022 Composite Index Data'!A113:G247,3,FALSE)","v":5751276306.7575245},1522963192.8399999,{"$f":"VLOOKUP(A113,'2020-2022 Composite Index Data'!A113:G247,5,FALSE)","v":1373101288.8099999},{"$f":"+'2020-2022 Composite Index Data'!F113","v":7978.94},{"$f":"+'2020-2022 Composite Index Data'!G113","v":80380},0.36680000000000001,null,{"$f":"IF(ISNUMBER(VLOOKUP(A113,'2020-2022 Composite Index'!$A$6:$E$140,5,FALSE)),\"YES\",\"NO\")","v":"NO"},null,null,null,null,null,null,null,null,null,null,null,null,null,null,null,null,null,null,null,null,null,null,null,null,null,{"$f":"IF((1-D113/'2020-2022 Composite Index Data'!D113)>=0.03,\"YES\",\"NO\")","v":"NO"}]
[116,"MARTINSVILLE",{"$f":"VLOOKUP(A114,'2020-2022 Composite Index Data'!A114:G248,3,FALSE)","v":679090524.71235728},224114065,{"$f":"VLOOKUP(A114,'2020-2022 Composite Index Data'!A114:G248,5,FALSE)","v":156627539},{"$f":"+'2020-2022 Composite Index Data'!F114","v":1893.97},{"$f":"+'2020-2022 Composite Index Data'!G114","v":13382},0.2185,null,{"$f":"IF(ISNUMBER(VLOOKUP(A114,'2020-2022 Composite Index'!$A$6:$E$140,5,FALSE)),\"YES\",\"NO\")","v":"YES"},null,null,null,null,null,null,null,null,null,null,null,null,null,null,null,null,null,null,null,null,null,null,null,null,null,{"$f":"IF((1-D114/'2020-2022 Composite Index Data'!D114)>=0.03,\"YES\",\"NO\")","v":"YES"}]
[117,"NEWPORT NEWS",{"$f":"VLOOKUP(A115,'2020-2022 Composite Index Data'!A115:G249,3,FALSE)","v":15940670477.786209},3476405934,{"$f":"VLOOKUP(A115,'2020-2022 Composite Index Data'!A115:G249,5,FALSE)","v":2188701990.54},{"$f":"+'2020-2022 Composite Index Data'!F115","v":26872.560000000001},{"$f":"+'2020-2022 Composite Index Data'!G115","v":182155},0.28420000000000001,null,{"$f":"IF(ISNUMBER(VLOOKUP(A115,'2020-2022 Composite Index'!$A$6:$E$140,5,FALSE)),\"YES\",\"NO\")","v":"NO"},null,null,null,null,null,null,null,null,null,null,null,null,null,null,null,null,null,null,null,null,null,null,null,null,null,{"$f":"IF((1-D115/'2020-2022 Composite Index Data'!D115)>=0.03,\"YES\",\"NO\")","v":"NO"}]
[118,"NORFOLK",{"$f":"VLOOKUP(A116,'2020-2022 Composite Index Data'!A116:G250,3,FALSE)","v":20271901551.44326},4082671515.46,{"$f":"VLOOKUP(A116,'2020-2022 Composite Index Data'!A116:G250,5,FALSE)","v":2800002003.8600001},{"$f":"+'2020-2022 Composite Index Data'!F116","v":28431.57},{"$f":"+'2020-2022 Composite Index Data'!G116","v":246256},0.30590000000000001,null,{"$f":"IF(ISNUMBER(VLOOKUP(A116,'2020-2022 Composite Index'!$A$6:$E$140,5,FALSE)),\"YES\",\"NO\")","v":"YES"},null,null,null,null,null,null,null,null,null,null,null,null,null,null,null,null,null,null,null,null,null,null,null,null,null,{"$f":"IF((1-D116/'2020-2022 Composite Index Data'!D116)>=0.03,\"YES\",\"NO\")","v":"YES"}]
[119,"NORTON",{"$f":"VLOOKUP(A117,'2020-2022 Composite Index Data'!A117:G251,3,FALSE)","v":268221468.51461154},61791085,{"$f":"VLOOKUP(A117,'2020-2022 Composite Index Data'!A117:G251,5,FALSE)","v":140897761.55000001},{"$f":"+'2020-2022 Composite Index Data'!F117","v":766.24},{"$f":"+'2020-2022 Composite Index Data'!G117","v":3882},0.27100000000000002,null,{"$f":"IF(ISNUMBER(VLOOKUP(A117,'2020-2022 Composite Index'!$A$6:$E$140,5,FALSE)),\"YES\",\"NO\")","v":"YES"},null,null,null,null,null,null,null,null,null,null,null,null,null,null,null,null,null,null,null,null,null,null,null,null,null,{"$f":"IF((1-D117/'2020-2022 Composite Index Data'!D117)>=0.03,\"YES\",\"NO\")","v":"YES"}]
[120,"PETERSBURG",{"$f":"VLOOKUP(A118,'2020-2022 Composite Index Data'!A118:G252,3,FALSE)","v":2049675300.2709107},437661788.89999998,{"$f":"VLOOKUP(A118,'2020-2022 Composite Index Data'!A118:G252,5,FALSE)","v":293004412.83999997},{"$f":"+'2020-2022 Composite Index Data'!F118","v":3738.9},{"$f":"+'2020-2022 Composite Index Data'!G118","v":31705},0.2442,null,{"$f":"IF(ISNUMBER(VLOOKUP(A118,'2020-2022 Composite Index'!$A$6:$E$140,5,FALSE)),\"YES\",\"NO\")","v":"NO"},null,null,null,null,null,null,null,null,null,null,null,null,null,null,null,null,null,null,null,null,null,null,null,null,null,{"$f":"IF((1-D118/'2020-2022 Composite Index Data'!D118)>=0.03,\"YES\",\"NO\")","v":"NO"}]
[121,"PORTSMOUTH",{"$f":"VLOOKUP(A119,'2020-2022 Composite Index Data'!A119:G253,3,FALSE)","v":7493264463.627615},1606991242.96,{"$f":"VLOOKUP(A119,'2020-2022 Composite Index Data'!A119:G253,5,FALSE)","v":609799751.41999996},{"$f":"+'2020-2022 Composite Index Data'!F119","v":13476.08},{"$f":"+'2020-2022 Composite Index Data'!G119","v":95440},0.24260000000000001,null,{"$f":"IF(ISNUMBER(VLOOKUP(A119,'2020-2022 Composite Index'!$A$6:$E$140,5,FALSE)),\"YES\",\"NO\")","v":"YES"},null,null,null,null,null,null,null,null,null,null,null,null,null,null,null,null,null,null,null,null,null,null,null,null,null,{"$f":"IF((1-D119/'2020-2022 Composite Index Data'!D119)>=0.03,\"YES\",\"NO\")","v":"YES"}]
[123,"RICHMOND CITY",{"$f":"VLOOKUP(A120,'2020-2022 Composite Index Data'!A121:G255,3,FALSE)","v":25285469456.353184},5947843102.2600002,{"$f":"VLOOKUP(A120,'2020-2022 Composite Index Data'!A121:G255,5,FALSE)","v":2699889889.6100001},{"$f":"+'2020-2022 Composite Index Data'!F121","v":22952.560000000001},{"$f":"+'2020-2022 Composite Index Data'!G121","v":222853},0.46879999999999999,null,{"$f":"IF(ISNUMBER(VLOOKUP(A120,'2020-2022 Composite Index'!$A$6:$E$140,5,FALSE)),\"YES\",\"NO\")","v":"YES"},null,null,null,null,null,null,null,null,null,null,null,null,null,null,null,null,null,null,null,null,null,null,null,null,null,{"$f":"IF((1-D120/'2020-2022 Composite Index Data'!D121)>=0.03,\"YES\",\"NO\")","v":"YES"}]
[124,"ROANOKE CITY",{"$f":"VLOOKUP(A121,'2020-2022 Composite Index Data'!A122:G256,3,FALSE)","v":8006183886.744957},1960351206.1400001,{"$f":"VLOOKUP(A121,'2020-2022 Composite Index Data'!A122:G256,5,FALSE)","v":1837473382.29},{"$f":"+'2020-2022 Composite Index Data'!F122","v":12822.83},{"$f":"+'2020-2022 Composite Index Data'!G122","v":99908},0.32840000000000003,null,{"$f":"IF(ISNUMBER(VLOOKUP(A121,'2020-2022 Composite Index'!$A$6:$E$140,5,FALSE)),\"YES\",\"NO\")","v":"NO"},null,null,null,null,null,null,null,null,null,null,null,null,null,null,null,null,null,null,null,null,null,null,null,null,null,{"$f":"IF((1-D121/'2020-2022 Composite Index Data'!D122)>=0.03,\"YES\",\"NO\")","v":"NO"}]
[126,"STAUNTON",{"$f":"VLOOKUP(A122,'2020-2022 Composite Index Data'!A123:G257,3,FALSE)","v":2061468017.9821334},548605590,{"$f":"VLOOKUP(A122,'2020-2022 Composite Index Data'!A123:G257,5,FALSE)","v":361530282.13999999},{"$f":"+'2020-2022 Composite Index Data'!F123","v":2563.29},{"$f":"+'2020-2022 Composite Index Data'!G123","v":24761},0.38769999999999999,null,{"$f":"IF(ISNUMBER(VLOOKUP(A122,'2020-2022 Composite Index'!$A$6:$E$140,5,FALSE)),\"YES\",\"NO\")","v":"NO"},null,null,null,null,null,null,null,null,null,null,null,null,null,null,null,null,null,null,null,null,null,null,null,null,null,{"$f":"IF((1-D122/'2020-2022 Composite Index Data'!D123)>=0.03,\"YES\",\"NO\")","v":"NO"}]
[127,"SUFFOLK",{"$f":"VLOOKUP(A123,'2020-2022 Composite Index Data'!A124:G258,3,FALSE)","v":10800133373.296234},2280067458.29,{"$f":"VLOOKUP(A123,'2020-2022 Composite Index Data'!A124:G258,5,FALSE)","v":895475059.50999999},{"$f":"+'2020-2022 Composite Index Data'!F124","v":13783.08},{"$f":"+'2020-2022 Composite Index Data'!G124","v":92533},0.34870000000000001,null,{"$f":"IF(ISNUMBER(VLOOKUP(A123,'2020-2022 Composite Index'!$A$6:$E$140,5,FALSE)),\"YES\",\"NO\")","v":"NO"},null,null,null,null,null,null,null,null,null,null,null,null,null,null,null,null,null,null,null,null,null,null,null,null,null,{"$f":"IF((1-D123/'2020-2022 Composite Index Data'!D124)>=0.03,\"YES\",\"NO\")","v":"NO"}]
[128,"VIRGINIA BEACH",{"$f":"VLOOKUP(A124,'2020-2022 Composite Index Data'!A125:G259,3,FALSE)","v":61362089466.21727},12902183964.02,{"$f":"VLOOKUP(A124,'2020-2022 Composite Index Data'!A125:G259,5,FALSE)","v":5597203814.4899998},{"$f":"+'2020-2022 Composite Index Data'!F125","v":67090.94},{"$f":"+'2020-2022 Composite Index Data'!G125","v":454448},0.40820000000000001,null,{"$f":"IF(ISNUMBER(VLOOKUP(A124,'2020-2022 Composite Index'!$A$6:$E$140,5,FALSE)),\"YES\",\"NO\")","v":"NO"},null,null,null,null,null,null,null,null,null,null,null,null,null,null,null,null,null,null,null,null,null,null,null,null,null,{"$f":"IF((1-D124/'2020-2022 Composite Index Data'!D125)>=0.03,\"YES\",\"NO\")","v":"NO"}]
[130,"WAYNESBORO",{"$f":"VLOOKUP(A125,'2020-2022 Composite Index Data'!A126:G260,3,FALSE)","v":2102741411.6239665},447457169.70999998,{"$f":"VLOOKUP(A125,'2020-2022 Composite Index Data'!A126:G260,5,FALSE)","v":490439867.54000002},{"$f":"+'2020-2022 Composite Index Data'!F126","v":2934.02},{"$f":"+'2020-2022 Composite Index Data'!G126","v":21955},0.36520000000000002,null,{"$f":"IF(ISNUMBER(VLOOKUP(A125,'2020-2022 Composite Index'!$A$6:$E$140,5,FALSE)),\"YES\",\"NO\")","v":"NO"},null,null,null,null,null,null,null,null,null,null,null,null,null,null,null,null,null,null,null,null,null,null,null,null,null,{"$f":"IF((1-D125/'2020-2022 Composite Index Data'!D126)>=0.03,\"YES\",\"NO\")","v":"NO"}]
[131,"WILLIAMSBURG",{"$f":"VLOOKUP(A126,'2020-2022 Composite Index Data'!A127:G261,3,FALSE)","v":1966889776.7903092},318182469.89999998,{"$f":"VLOOKUP(A126,'2020-2022 Composite Index Data'!A127:G261,5,FALSE)","v":400643946.56999999},{"$f":"+'2020-2022 Composite Index Data'!F127","v":998.36},{"$f":"+'2020-2022 Composite Index Data'!G127","v":15404},0.74590000000000001,null,{"$f":"IF(ISNUMBER(VLOOKUP(A126,'2020-2022 Composite Index'!$A$6:$E$140,5,FALSE)),\"YES\",\"NO\")","v":"YES"},null,null,null,null,null,null,null,null,null,null,null,null,null,null,null,null,null,null,null,null,null,null,null,null,null,{"$f":"IF((1-D126/'2020-2022 Composite Index Data'!D127)>=0.03,\"YES\",\"NO\")","v":"YES"}]
[132,"WINCHESTER",{"$f":"VLOOKUP(A127,'2020-2022 Composite Index Data'!A128:G262,3,FALSE)","v":3368957279.7845116},711444641,{"$f":"VLOOKUP(A127,'2020-2022 Composite Index Data'!A128:G262,5,FALSE)","v":833496389.77999997},{"$f":"+'2020-2022 Composite Index Data'!F128","v":4169.8599999999997},{"$f":"+'2020-2022 Composite Index Data'!G128","v":28005},0.43190000000000001,null,{"$f":"IF(ISNUMBER(VLOOKUP(A127,'2020-2022 Composite Index'!$A$6:$E$140,5,FALSE)),\"YES\",\"NO\")","v":"NO"},null,null,null,null,null,null,null,null,null,null,null,null,null,null,null,null,null,null,null,null,null,null,null,null,null,{"$f":"IF((1-D127/'2020-2022 Composite Index Data'!D128)>=0.03,\"YES\",\"NO\")","v":"NO"}]
[134,"FAIRFAX CITY",{"$f":"VLOOKUP(A128,'2020-2022 Composite Index Data'!A129:G263,3,FALSE)","v":6355389025.1897068},1194362525.8699999,{"$f":"VLOOKUP(A128,'2020-2022 Composite Index Data'!A129:G263,5,FALSE)","v":814715859.09000003},{"$f":"+'2020-2022 Composite Index Data'!F129","v":3079.33},{"$f":"+'2020-2022 Composite Index Data'!G129","v":23825},0.8,null,{"$f":"IF(ISNUMBER(VLOOKUP(A128,'2020-2022 Composite Index'!$A$6:$E$140,5,FALSE)),\"YES\",\"NO\")","v":"YES"},null,null,null,null,null,null,null,null,null,null,null,null,null,null,null,null,null,null,null,null,null,null,null,null,null,{"$f":"IF((1-D128/'2020-2022 Composite Index Data'!D129)>=0.03,\"YES\",\"NO\")","v":"YES"}]
[135,"FRANKLIN CITY",{"$f":"VLOOKUP(A129,'2020-2022 Composite Index Data'!A130:G264,3,FALSE)","v":559805775.87078476},131242490.97,{"$f":"VLOOKUP(A129,'2020-2022 Composite Index Data'!A130:G264,5,FALSE)","v":164268774.81},{"$f":"+'2020-2022 Composite Index Data'!F130","v":1032.56},{"$f":"+'2020-2022 Composite Index Data'!G130","v":8474},0.29289999999999999,null,{"$f":"IF(ISNUMBER(VLOOKUP(A129,'2020-2022 Composite Index'!$A$6:$E$140,5,FALSE)),\"YES\",\"NO\")","v":"YES"},null,null,null,null,null,null,null,null,null,null,null,null,null,null,null,null,null,null,null,null,null,null,null,null,null,{"$f":"IF((1-D129/'2020-2022 Composite Index Data'!D130)>=0.03,\"YES\",\"NO\")","v":"YES"}]
[136,"CHESAPEAKE",{"$f":"VLOOKUP(A130,'2020-2022 Composite Index Data'!A131:G265,3,FALSE)","v":28351072450.137012},6096507908.5600004,{"$f":"VLOOKUP(A130,'2020-2022 Composite Index Data'!A131:G265,5,FALSE)","v":3514278566.1500001},{"$f":"+'2020-2022 Composite Index Data'!F131","v":39613.21},{"$f":"+'2020-2022 Composite Index Data'!G131","v":242655},0.34860000000000002,null,{"$f":"IF(ISNUMBER(VLOOKUP(A130,'2020-2022 Composite Index'!$A$6:$E$140,5,FALSE)),\"YES\",\"NO\")","v":"NO"},null,null,null,null,null,null,null,null,null,null,null,null,null,null,null,null,null,null,null,null,null,null,null,null,null,{"$f":"IF((1-D130/'2020-2022 Composite Index Data'!D131)>=0.03,\"YES\",\"NO\")","v":"NO"}]
[137,"LEXINGTON",{"$f":"VLOOKUP(A131,'2020-2022 Composite Index Data'!A132:G266,3,FALSE)","v":552281823.07528639},153071270.34,{"$f":"VLOOKUP(A131,'2020-2022 Composite Index Data'!A132:G266,5,FALSE)","v":86631192.849999994},{"$f":"+'2020-2022 Composite Index Data'!F132","v":659.79},{"$f":"+'2020-2022 Composite Index Data'!G132","v":7284},0.39200000000000002,null,{"$f":"IF(ISNUMBER(VLOOKUP(A131,'2020-2022 Composite Index'!$A$6:$E$140,5,FALSE)),\"YES\",\"NO\")","v":"NO"},null,null,null,null,null,null,null,null,null,null,null,null,null,null,null,null,null,null,null,null,null,null,null,null,null,{"$f":"IF((1-D131/'2020-2022 Composite Index Data'!D132)>=0.03,\"YES\",\"NO\")","v":"NO"}]
[138,"EMPORIA",{"$f":"VLOOKUP(A132,'2020-2022 Composite Index Data'!A133:G267,3,FALSE)","v":365347587.28288037},66962658.159999996,{"$f":"VLOOKUP(A132,'2020-2022 Composite Index Data'!A133:G267,5,FALSE)","v":143228126.77000001},{"$f":"+'2020-2022 Composite Index Data'!F133","v":1021.87},{"$f":"+'2020-2022 Composite Index Data'!G133","v":5797},0.2228,null,{"$f":"IF(ISNUMBER(VLOOKUP(A132,'2020-2022 Composite Index'!$A$6:$E$140,5,FALSE)),\"YES\",\"NO\")","v":"YES"},null,null,null,null,null,null,null,null,null,null,null,null,null,null,null,null,null,null,null,null,null,null,null,null,null,{"$f":"IF((1-D132/'2020-2022 Composite Index Data'!D133)>=0.03,\"YES\",\"NO\")","v":"YES"}]
[139,"SALEM",{"$f":"VLOOKUP(A133,'2020-2022 Composite Index Data'!A134:G268,3,FALSE)","v":2426210430.4134278},654974440.79999995,{"$f":"VLOOKUP(A133,'2020-2022 Composite Index Data'!A134:G268,5,FALSE)","v":590842044.02999997},{"$f":"+'2020-2022 Composite Index Data'!F134","v":3872.18},{"$f":"+'2020-2022 Composite Index Data'!G134","v":25679},0.36409999999999998,null,{"$f":"IF(ISNUMBER(VLOOKUP(A133,'2020-2022 Composite Index'!$A$6:$E$140,5,FALSE)),\"YES\",\"NO\")","v":"NO"},null,null,null,null,null,null,null,null,null,null,null,null,null,null,null,null,null,null,null,null,null,null,null,null,null,{"$f":"IF((1-D133/'2020-2022 Composite Index Data'!D134)>=0.03,\"YES\",\"NO\")","v":"NO"}]
[142,"POQUOSON",{"$f":"VLOOKUP(A134,'2020-2022 Composite Index Data'!A135:G269,3,FALSE)","v":1591617690.1021671},434145225.00999999,{"$f":"VLOOKUP(A134,'2020-2022 Composite Index Data'!A135:G269,5,FALSE)","v":52879880.060000002},{"$f":"+'2020-2022 Composite Index Data'!F135","v":2095.1999999999998},{"$f":"+'2020-2022 Composite Index Data'!G135","v":12311},0.37030000000000002,null,{"$f":"IF(ISNUMBER(VLOOKUP(A134,'2020-2022 Composite Index'!$A$6:$E$140,5,FALSE)),\"YES\",\"NO\")","v":"NO"},null,null,null,null,null,null,null,null,null,null,null,null,null,null,null,null,null,null,null,null,null,null,null,null,null,{"$f":"IF((1-D134/'2020-2022 Composite Index Data'!D135)>=0.03,\"YES\",\"NO\")","v":"NO"}]
[143,"MANASSAS",{"$f":"VLOOKUP(A135,'2020-2022 Composite Index Data'!A136:G270,3,FALSE)","v":5514335180.9101801},1144300433.0999999,{"$f":"VLOOKUP(A135,'2020-2022 Composite Index Data'!A136:G270,5,FALSE)","v":607443814.72000003},{"$f":"+'2020-2022 Composite Index Data'!F136","v":7420.46},{"$f":"+'2020-2022 Composite Index Data'!G136","v":41783},0.36109999999999998,null,{"$f":"IF(ISNUMBER(VLOOKUP(A135,'2020-2022 Composite Index'!$A$6:$E$140,5,FALSE)),\"YES\",\"NO\")","v":"NO"},null,null,null,null,null,null,null,null,null,null,null,null,null,null,null,null,null,null,null,null,null,null,null,null,null,{"$f":"IF((1-D135/'2020-2022 Composite Index Data'!D136)>=0.03,\"YES\",\"NO\")","v":"NO"}]
[144,"MANASSAS PARK",{"$f":"VLOOKUP(A136,'2020-2022 Composite Index Data'!A137:G271,3,FALSE)","v":1675033514.0426958},449533860.11000001,{"$f":"VLOOKUP(A136,'2020-2022 Composite Index Data'!A137:G271,5,FALSE)","v":181950241},{"$f":"+'2020-2022 Composite Index Data'!F137","v":3541.06},{"$f":"+'2020-2022 Composite Index Data'!G137","v":16142},0.27550000000000002,null,{"$f":"IF(ISNUMBER(VLOOKUP(A136,'2020-2022 Composite Index'!$A$6:$E$140,5,FALSE)),\"YES\",\"NO\")","v":"NO"},null,null,null,null,null,null,null,null,null,null,null,null,null,null,null,null,null,null,null,null,null,null,null,null,null,{"$f":"IF((1-D136/'2020-2022 Composite Index Data'!D137)>=0.03,\"YES\",\"NO\")","v":"NO"}]
[202,"COLONIAL BEACH",{"$f":"VLOOKUP(A137,'2020-2022 Composite Index Data'!A138:G272,3,FALSE)","v":516947893.90109891},79915327,{"$f":"VLOOKUP(A137,'2020-2022 Composite Index Data'!A138:G272,5,FALSE)","v":16882231.809999999},{"$f":"+'2020-2022 Composite Index Data'!F138","v":598.48},{"$f":"+'2020-2022 Composite Index Data'!G138","v":3569},0.33169999999999999,null,{"$f":"IF(ISNUMBER(VLOOKUP(A137,'2020-2022 Composite Index'!$A$6:$E$140,5,FALSE)),\"YES\",\"NO\")","v":"NO"},null,null,null,null,null,null,null,null,null,null,null,null,null,null,null,null,null,null,null,null,null,null,null,null,null,{"$f":"IF((1-D137/'2020-2022 Composite Index Data'!D138)>=0.03,\"YES\",\"NO\")","v":"NO"}]
[207,"WEST POINT",{"$f":"VLOOKUP(A138,'2020-2022 Composite Index Data'!A139:G273,3,FALSE)","v":391995669.25919694},88348940,{"$f":"VLOOKUP(A138,'2020-2022 Composite Index Data'!A139:G273,5,FALSE)","v":20782017.399999999},{"$f":"+'2020-2022 Composite Index Data'!F139","v":789.13},{"$f":"+'2020-2022 Composite Index Data'!G139","v":3313},0.26140000000000002,null,{"$f":"IF(ISNUMBER(VLOOKUP(A138,'2020-2022 Composite Index'!$A$6:$E$140,5,FALSE)),\"YES\",\"NO\")","v":"NO"},null,null,null,null,null,null,null,null,null,null,null,null,null,null,null,null,null,null,null,null,null,null,null,null,null,{"$f":"IF((1-D138/'2020-2022 Composite Index Data'!D139)>=0.03,\"YES\",\"NO\")","v":"NO"}]
[null," STATE TOTALS",{"$f":"SUM(C5:C138)","v":1254757655443.2961},275441722574.99164,{"$f":"SUM(E5:E138)","v":103666784236.73996},{"$f":"SUM(F5:F138)","v":1245358.1800000002},{"$f":"SUM(G5:G138)","v":8452812}]
["Data Sources:"]
["True Value of Property, Adjusted Gross Income, and Taxable Retail Sales - Virginia Department of Taxation"]
["March 31, 2018 Average Daily Membership (ADM) - Virginia Department of Education"]
["Total Population - Weldon Cooper Center for Public Service at the University of Virginia; US Census"]
["End of worksheet"]
[]
[]
[]
[]
[]
[]
[]
[]
[]
[]
[]
[]
["Division Number:"]

{"sheet":"2020-2022 Composite Index","index":9,"n_rows":151,"n_cols":12,"rows_kept":151,"cut":false,"hidden":false,"merged":[[148,0,148,10],[149,0,149,10],[0,0,1,10],[145,0,146,9],[3,0,3,10],[2,1,2,10]]}
["2020-2022 COMPOSITE INDEX OF LOCAL ABILITY-TO-PAY ",null,null,null,null,null,null,null,null,null,null,{"$f":"'2020-2022 Calculation Template'!N2","v":"<SE"}]
[]
[null,"2017 is the base year of Indicators of Ability-to-Pay in the table below."]
["Footnotes are provided in cell A149 and A150."]
[null,null,"TRUE VALUE OF PROPERTY INDICATOR","ADJUSTED GROSS INCOME (Including Nonresident AGI) INDICATOR","ADJUSTED GROSS INCOME (Excluding Nonresident AGI*) INDICATOR","TAXABLE RETAIL SALES INDICATOR","MARCH 31, 2018 ADM INDICATOR","TOTAL POPULATION INDICATOR"]
[1,"ACCOMACK",4275437691.2961879,710967096.66079998,656240883.13,342140946.14999998,5017.54,33041,0.34570000000000001,0.33739999999999998,0.33739999999999998]
[2,"ALBEMARLE",20330392876.497055,4705654613.3959999,"N/A",1490607721.02,13510.2,107697,0.64490000000000003,"N/A",0.64490000000000003]
[3,"ALLEGHANY ",1375295243.7933462,314799601.042,"N/A",70845093.010000005,2069.58,15405,0.28189999999999998,"N/A",0.28189999999999998]
[4,"AMELIA",1539511713.3606598,301430326.46880001,"N/A",64025091.090000004,1737.54,12948,0.34789999999999999,"N/A",0.34789999999999999]
[5,"AMHERST",2927837117.5589175,620940701.74199998,"N/A",247735438.91999999,3867.25,31982,0.31409999999999999,"N/A",0.31409999999999999]
[6,"APPOMATTOX",1518108117.1138613,316652150.22399998,"N/A",117292203.81999999,2179.2199999999998,15536,0.29780000000000001,"N/A",0.29780000000000001]
[7,"ARLINGTON",79645130693.357285,14433695257.162001,"N/A",3258772638.29,25750.7,239074,0.8,"N/A",0.8]
[8,"AUGUSTA",9526531504.9195671,1840044888.3870001,"N/A",471863459.75,9939.5499999999993,75013,0.37690000000000001,"N/A",0.37690000000000001]
[9,"BATH",2210598733.034523,105911017.4508,102700891,74264255.150000006,516.70000000000005,4556,0.8,0.8,0.8]
[10,"BEDFORD 2",10557134172.444504,2154075391.4400001,"N/A",504850970.55000001,9460.6,77807,0.43590000000000001,"N/A",0.31319999999999998]
[11,"BLAND",721512817.16380513,111626985.583,108128589,30921905,722.71,6511,0.34089999999999998,0.33800000000000002,0.33800000000000002]
[12,"BOTETOURT",4369317736.1863489,938448526.77600002,"N/A",215688997.53,4547.8900000000003,33350,0.39750000000000002,"N/A",0.39750000000000002]
[13,"BRUNSWICK",2340978032.9505591,254869443.56200001,245275103,69549513.510000005,1559.33,16581,0.43280000000000002,0.42899999999999999,0.42899999999999999]
[14,"BUCHANAN",2465511602.061337,283142350.56,"N/A",140412697.74000001,2726.8,22004,0.29749999999999999,"N/A",0.29749999999999999]
[15,"BUCKINGHAM",2191369035.2052441,245258412.33000001,"N/A",57962895.840000004,1950.15,16957,0.3422,"N/A",0.3422]
[16,"CAMPBELL",4813934062.8777437,1117736708.9216001,"N/A",485915056.01999998,7625.79,55503,0.2878,"N/A",0.2878]
[17,"CAROLINE",3733516556.9680629,714592168.95799994,"N/A",151212078.53,4113.07,29990,0.3553,"N/A",0.3553]
[18,"CARROLL",2572214998.7860894,472967570.352,"N/A",167345734.18000001,3611.35,29212,0.27489999999999998,"N/A",0.27489999999999998]
[19,"CHARLES CITY",1062603294.8681012,180272188.99200001,"N/A",58539334,606.35,7151,0.58799999999999997,"N/A",0.58799999999999997]
[20,"CHARLOTTE",1093540388.0940466,206130724.757,198700401,54357115.82,1773.63,12231,0.24729999999999999,0.24440000000000001,0.24440000000000001]
[21,"CHESTERFIELD",39470600366.594589,11087680066.448,"N/A",4394824320.29,60060.84,340020,0.3584,"N/A",0.3584]
[22,"CLARKE",2715153460.4986596,598066141.08700001,"N/A",85971890.569999993,1931.2,14312,0.57289999999999996,"N/A",0.57289999999999996]
[23,"CRAIG",543813795.63784695,100292646.881,"N/A",12876065,580.19000000000005,5129,0.33360000000000001,"N/A",0.33360000000000001]
[24,"CULPEPER",6331241639.2254486,1366184410.7820001,"N/A",703603206.82000005,7952.19,50272,0.37409999999999999,"N/A",0.37409999999999999]
[25,"CUMBERLAND",1037409991.9240725,170132350.248,"N/A",33660951.32,1239.1400000000001,9861,0.29780000000000001,"N/A",0.29780000000000001]
[26,"DICKENSON",1459712435.3101735,183436909.21799999,"N/A",58585686.920000002,1998.53,14682,0.24709999999999999,"N/A",0.24709999999999999]
[27,"DINWIDDIE",2963784007.8823018,596767440.31500006,"N/A",136670242.28,4258.46,28500,0.28789999999999999,"N/A",0.28789999999999999]
[28,"ESSEX",1593364500.3023257,238178111.24599999,"N/A",191246470.50999999,1330.47,10813,0.46360000000000001,"N/A",0.46360000000000001]
[29,"FAIRFAX COUNTY",262828932048.74387,59704270833.5382,"N/A",14939828530.33,180294.61,1143429,0.65410000000000001,"N/A",0.65410000000000001]
[30,"FAUQUIER",15265896813.45751,2964279243.2820001,"N/A",861595287.27999997,10955.27,69098,0.58789999999999998,"N/A",0.58789999999999998]
[31,"FLOYD",1882566202.5297158,302811476.87800002,"N/A",74718941.379999995,1971.33,15550,0.34179999999999999,"N/A",0.34179999999999999]
[32,"FLUVANNA",3522241579.3013902,693123058.66919994,"N/A",130487206.62,3471.79,26467,0.39400000000000002,"N/A",0.39400000000000002]
[33,"FRANKLIN COUNTY",7625278760.3298216,1165860877.625,"N/A",424098901.08999997,6858.45,56427,0.39529999999999998,"N/A",0.39529999999999998]
[34,"FREDERICK",11631668555.017563,2617118113.3899999,"N/A",1249749135.8199999,13343.46,85820,0.41199999999999998,"N/A",0.41199999999999998]
[35,"GILES",1422595318.8879442,322847137.76999998,"N/A",137678547.06,2386.69,17053,0.26950000000000002,"N/A",0.26950000000000002]
[36,"GLOUCESTER",4714496645.2898397,987497269.903,"N/A",405650909.30000001,5270.45,37169,0.38850000000000001,"N/A",0.38850000000000001]
[37,"GOOCHLAND",5635699923.6241608,1455957065.6059999,"N/A",227534841.06,2550.6,22705,0.8,"N/A",0.8]
[38,"GRAYSON",1827586769.031553,243209841.78119999,233663262,34104091,1510.86,15669,0.3654,0.36149999999999999,0.36149999999999999]
[39,"GREENE",2392404008.0104222,485417962.46399999,"N/A",175413564.53999999,2982.62,19985,0.34460000000000002,"N/A",0.34460000000000002]
[40,"GREENSVILLE",949033753.81977665,206649112.28549999,170257347.13999999,47788891,1218.05,11563,0.30130000000000001,0.27989999999999998,0.27989999999999998]
[41,"HALIFAX",3781125840.4999008,617703634.33973002,594051750.71000004,294706517.64999998,4722.6499999999996,35215,0.30919999999999997,0.30580000000000002,0.30580000000000002]
[42,"HANOVER",16419664887.229683,3845688564.0693998,"N/A",1915809188.3199999,17613.38,106375,0.46260000000000001,"N/A",0.46260000000000001]
[43,"HENRICO",40926624138.156441,11025542633.787701,"N/A",5656612709.1000004,50283.77,324395,0.4279,"N/A",0.4279]
[44,"HENRY",3232443251.3304853,897040682.45770001,868084368.65999997,371100551.52999997,7045.22,51975,0.2281,0.2253,0.2253]
[45,"HIGHLAND",637887453.24902165,48628507.691,"N/A",10023126.42,193.03,2284,0.8,"N/A",0.8]
[46,"ISLE OF WIGHT",5005182812.2924986,1097860213.734,"N/A",236926649.00999999,5338.11,37333,0.39639999999999997,"N/A",0.39639999999999997]
[47,"JAMES CITY",13050045023.309473,3014334841.9920001,"N/A",982030979.61000001,10422.450000000001,74722,0.55530000000000002,"N/A",0.55530000000000002]
[48,"KING GEORGE",3480141112.3470144,803004289.56400001,"N/A",187620362.83000001,4362.9399999999996,25381,0.37030000000000002,"N/A",0.37030000000000002]
[49,"KING AND QUEEN",981207271.51116312,150793913.54699999,"N/A",12379939,773.2,6935,0.41389999999999999,"N/A",0.41389999999999999]
[50,"KING WILLIAM",1697241572.8793774,357876540,"N/A",83516987.5,2172.5300000000002,13314,0.3407,"N/A",0.3407]
[51,"LANCASTER",2617889478.9597521,331501028.87300003,"N/A",166354409.81999999,1062.3,11171,0.78349999999999997,"N/A",0.78349999999999997]
[52,"LEE",1138485056.0939226,280523036.58499998,"N/A",114151983,3053.46,24363,0.16919999999999999,"N/A",0.16919999999999999]
[53,"LOUDOUN",84918073098.409882,20877016004.071701,"N/A",5697354606.2299995,80270.95,396068,0.54659999999999997,"N/A",0.54659999999999997]
[54,"LOUISA",7695422724.5881872,909729092.25969994,"N/A",300831730.06,4704.2,35035,0.54059999999999997,"N/A",0.54059999999999997]
[55,"LUNENBURG",994576205.92197824,189048883.23199999,"N/A",39312051.57,1441.57,12386,0.25609999999999999,"N/A",0.25609999999999999]
[56,"MADISON",2319775163.1593547,327282712.824,"N/A",87685702.239999995,1673.19,13190,0.4738,"N/A",0.4738]
[57,"MATHEWS",1681978635.7777324,232145137.06900001,"N/A",40043459.710000001,1075.74,8651,0.51619999999999999,"N/A",0.51619999999999999]
[58,"MECKLENBURG",4379236370.896122,586690948.949,555134507.97000003,499432508.49000001,4103.1400000000003,31264,0.40500000000000003,0.39960000000000001,0.39960000000000001]
[59,"MIDDLESEX",2304976582.7809606,269874645.58099997,"N/A",97303967.329999998,1194.26,11004,0.6008,"N/A",0.6008]
[60,"MONTGOMERY",9010770466.2197704,2153801351.6343999,"N/A",1089716202.6300001,9636.9500000000007,98776,0.40050000000000002,"N/A",0.40050000000000002]
[62,"NELSON",3094695787.1193795,398056053.47799999,"N/A",102746557.27,1794.43,14858,0.56040000000000001,"N/A",0.56040000000000001]
[63,"NEW KENT",3068018934.0543213,697158538.37800002,"N/A",129697269.95999999,3158.26,21709,0.41660000000000003,"N/A",0.41660000000000003]
[65,"NORTHAMPTON",2081349222.5888631,269219459.759,"N/A",125938193.58,1528.2,12000,0.46960000000000002,"N/A",0.46960000000000002]
[66,"NORTHUMBERLAND",3006211990.3277965,325582101.44099998,"N/A",59190236.479999997,1217.5899999999999,12053,0.71160000000000001,"N/A",0.71160000000000001]
[67,"NOTTOWAY",1206276137.4249439,244985533.06999999,236775861.59999999,138347448.74000001,1958.02,15845,0.26240000000000002,0.25969999999999999,0.25969999999999999]
[68,"ORANGE",4660934258.5186081,974630915.96700001,"N/A",296990638.50999999,4745.57,34521,0.41049999999999998,"N/A",0.41049999999999998]
[69,"PAGE",2626726549.2020202,462573017.64999998,"N/A",179912536.83000001,3233.29,23665,0.31979999999999997,"N/A",0.31979999999999997]
[70,"PATRICK",1637838595.3285484,281220852.72299999,271540560,97099828.709999993,2588.38,17930,0.24809999999999999,0.24560000000000001,0.24560000000000001]
[71,"PITTSYLVANIA",4917968784.6168776,1180967797.221,"N/A",173524846.33000001,8619.9699999999993,62166,0.24460000000000001,"N/A",0.24460000000000001]
[72,"POWHATAN",4252961337.0146441,1018341052.087,"N/A",253911712.52000001,4220.03,29166,0.45069999999999999,"N/A",0.45069999999999999]
[73,"PRINCE EDWARD",1735744005.9118435,331400119.31699997,"N/A",292525761.44999999,1968.27,23223,0.35539999999999999,"N/A",0.35539999999999999]
[74,"PRINCE GEORGE",3250105232.5275345,770840674.70550001,"N/A",203313121.75999999,6189.27,37025,0.2467,"N/A",0.2467]
[75,"PRINCE WILLIAM",64496713588.881714,15712284717.323799,"N/A",5540880713.7700005,87313.29,455990,0.37990000000000002,"N/A",0.37990000000000002]
[77,"PULASKI",3030751356.2835822,635361543.97599995,"N/A",376119737.45999998,4013.88,34467,0.32350000000000001,"N/A",0.32350000000000001]
[78,"RAPPAHANNOCK",2116665131.3772788,265100919.95300001,"N/A",40244653,817.68,7288,0.79900000000000004,"N/A",0.79900000000000004]
[79,"RICHMOND COUNTY",1002618539.3058923,230917391.639,174675312,70063437.129999995,1275.55,9094,0.34649999999999997,0.312,0.312]
[80,"ROANOKE COUNTY",9484304507.0225658,2902580475.349,"N/A",1060806738.78,13778.96,93735,0.36599999999999999,"N/A",0.36599999999999999]
[81,"ROCKBRIDGE",3237676337.9390926,486605731.67699999,"N/A",253206596,2574.59,22596,0.4506,"N/A",0.4506]
[82,"ROCKINGHAM",10539136675.836027,2049709198.9454999,"N/A",618300799.61000001,11252.58,80666,0.37990000000000002,"N/A",0.37990000000000002]
[83,"RUSSELL",2142651703.8957539,403533182.41000003,"N/A",155743996,3629.3,27309,0.23730000000000001,"N/A",0.23730000000000001]
[84,"SCOTT",1449588768.8548353,340480335.34399998,308392569.00999999,125014352.54000001,3431.49,22377,0.19719999999999999,0.18990000000000001,0.18990000000000001]
[85,"SHENANDOAH",5560973201.7541246,1029338148.4906,"N/A",378819979.47000003,5813,42525,0.38319999999999999,"N/A",0.38319999999999999]
[86,"SMYTH",2050943352.2474034,499490842.44800001,480940167,205033051.61000001,4217.82,30686,0.22589999999999999,0.2228,0.2228]
[87,"SOUTHAMPTON",2105916475.5673299,385172536.44199997,373233609.39999998,43903421.399999999,2637.85,18119,0.30459999999999998,0.30149999999999999,0.30149999999999999]
[88,"SPOTSYLVANIA",17549263472.548038,4057966913.7841001,"N/A",1634908083.1900001,23183.64,131549,0.37219999999999998,"N/A",0.37219999999999998]
[89,"STAFFORD",19587826223.531853,4814474903.125,"N/A",1165726180.8699999,28486.89,145699,0.34699999999999998,"N/A",0.34699999999999998]
[90,"SURRY",2840333103.9658718,143066509.829,138772208,20421222,731.15,6674,0.8,0.8,0.8]
[91,"SUSSEX",1028597204.1583422,163877638.54820001,"N/A",90499076.510000005,1019.46,11655,0.34920000000000001,"N/A",0.34920000000000001]
[92,"TAZEWELL",2929410024.421875,701695888.95200002,"N/A",511172039.33999997,5625.69,42574,0.25750000000000001,"N/A",0.25750000000000001]
[93,"WARREN",6023427519.9794588,1041222853.2539999,"N/A",404670592.17000002,5279.87,39239,0.44319999999999998,"N/A",0.44319999999999998]
[94,"WASHINGTON",5482514964.2722025,1205337906.4484,1105064375.8399999,659752986.01999998,6979.59,53789,0.35220000000000001,0.34160000000000001,0.34160000000000001]
[95,"WESTMORELAND",2132048750.1497116,319318646,"N/A",67126856.730000004,1518.62,14191,0.46179999999999999,"N/A",0.46179999999999999]
[96,"WISE",3462392703.2608471,528747188.78500003,512235823.92000002,269251707.95999998,5575,39133,0.2392,0.23719999999999999,0.23719999999999999]
[97,"WYTHE",2999424650.148581,522972560.72899997,"N/A",389415463.48000002,3999.31,28723,0.32040000000000002,"N/A",0.32040000000000002]
[98,"YORK",9947911300.6336079,2110103154.039,"N/A",949567169.16999996,12609.72,68890,0.38119999999999998,"N/A",0.38119999999999998]
[101,"ALEXANDRIA",40241761138.620949,8517147154.3915997,"N/A",2166848199.3800001,14987.82,160719,0.8,"N/A",0.8]
[102,"BRISTOL",1301914172.7526095,362364999.051,254390884.00999999,357990921.17000002,2157.2199999999998,17160,0.34329999999999999,0.30509999999999998,0.30509999999999998]
[103,"BUENA VISTA",340422447.9868319,97911477.337799996,"N/A",30887490,892.59,6424,0.1893,"N/A",0.1893]
[104,"CHARLOTTESVILLE",7637638791.5555553,1423575334.1912,1378955317.01,971359089.53999996,4189.74,49132,0.69479999999999997,0.68859999999999999,0.68859999999999999]
[106,"COLONIAL HEIGHTS",1812640040.8409362,398659176.16900003,"N/A",717236556.60000002,2759.15,17320,0.41560000000000002,"N/A",0.41560000000000002]
[107,"COVINGTON",580167623.31773269,98817773.386000007,"N/A",110735625.84999999,961.48,5850,0.2913,"N/A",0.2913]
[108,"DANVILLE",2314741875.1414142,770968255.63859999,671438106.35000002,793761923.86000001,5519.2,41358,0.27589999999999998,0.26219999999999999,0.26219999999999999]
[109,"FALLS CHURCH",4429390875.1606121,1030319973.8788,990897780.42999995,362455075.37,2607.3000000000002,14269,0.8,0.8,0.8]
[110,"FREDERICKSBURG",4256115976.0956955,819317316.75699997,783702802.79999995,945058833.03999996,3400.21,27645,0.59099999999999997,0.58399999999999996,0.58399999999999996]
[111,"GALAX",517853296.76590931,114691226.73999999,107727650,208254312.55000001,1229.6600000000001,6748,0.28210000000000002,0.27750000000000002,0.27750000000000002]
[112,"HAMPTON",11298695163.44898,2535376962.2313399,"N/A",1354676659.3900001,19013.27,136743,0.27429999999999999,"N/A",0.27429999999999999]
[113,"HARRISONBURG",4478527081.7577124,760802893.347,"N/A",1238467780.28,5886.9,54689,0.35370000000000001,"N/A",0.35370000000000001]
[114,"HOPEWELL",1743092657.5218105,355172499.74110001,"N/A",169710176.56,3976.77,22817,0.20530000000000001,"N/A",0.20530000000000001]
[115,"LYNCHBURG",5751276306.7575245,1548042261.8278,"N/A",1373101288.8099999,7978.94,80380,0.36680000000000001,"N/A",0.36680000000000001]
[116,"MARTINSVILLE",679090524.71235728,241750968.579,224114065,156627539,1893.97,13382,0.22539999999999999,0.2185,0.2185]
[117,"NEWPORT NEWS",15940670477.786209,3558760525.165,"N/A",2188701990.54,26872.560000000001,182155,0.28420000000000001,"N/A",0.28420000000000001]
[118,"NORFOLK",20271901551.44326,4330645703.1117802,4082671515.46,2800002003.8600001,28431.57,246256,0.31190000000000001,0.30590000000000001,0.30590000000000001]
[119,"NORTON",268221468.51461154,66254098.452,61791085,140897761.55000001,766.24,3882,0.27589999999999998,0.27100000000000002,0.27100000000000002]
[120,"PETERSBURG",2049675300.2709107,445740064.6358,"N/A",293004412.83999997,3738.9,31705,0.2442,"N/A",0.2442]
[121,"PORTSMOUTH",7493264463.627615,1673148239.0539999,1606991242.96,609799751.41999996,13476.08,95440,0.24590000000000001,0.24260000000000001,0.24260000000000001]
[122,"RADFORD",925257385.2163589,242744308.98500001,"N/A",69825230.849999994,1572.47,17208,0.2452,"N/A",0.2452]
[123,"RICHMOND CITY",25285469456.353184,6169580882.2012596,5947843102.2600002,2699889889.6100001,22952.560000000001,222853,0.4748,0.46879999999999999,0.46879999999999999]
[124,"ROANOKE CITY",8006183886.744957,1993403216.1700399,"N/A",1837473382.29,12822.83,99908,0.32840000000000003,"N/A",0.32840000000000003]
[126,"STAUNTON",2061468017.9821334,551053906.50100005,"N/A",361530282.13999999,2563.29,24761,0.38769999999999999,"N/A",0.38769999999999999]
[127,"SUFFOLK",10800133373.296234,2330568682.6696,"N/A",895475059.50999999,13783.08,92533,0.34870000000000001,"N/A",0.34870000000000001]
[128,"VIRGINIA BEACH",61362089466.21727,13104904539.4165,"N/A",5597203814.4899998,67090.94,454448,0.40820000000000001,"N/A",0.40820000000000001]
[130,"WAYNESBORO",2102741411.6239665,456798300.37800002,"N/A",490439867.54000002,2934.02,21955,0.36520000000000002,"N/A",0.36520000000000002]
[131,"WILLIAMSBURG",1966889776.7903092,332999798.2784,318182469.89999998,400643946.56999999,998.36,15404,0.75460000000000005,0.74590000000000001,0.74590000000000001]
[132,"WINCHESTER",3368957279.7845116,728288876.90799999,"N/A",833496389.77999997,4169.8599999999997,28005,0.43190000000000001,"N/A",0.43190000000000001]
[134,"FAIRFAX CITY",6355389025.1897068,1250452741.2030001,1194362525.8699999,814715859.09000003,3079.33,23825,0.8,0.8,0.8]
[135,"FRANKLIN CITY",559805775.87078476,140661177.7994,131242490.97,164268774.81,1032.56,8474,0.2994,0.29289999999999999,0.29289999999999999]
[136,"CHESAPEAKE",28351072450.137012,6280153505.5107002,"N/A",3514278566.1500001,39613.21,242655,0.34860000000000002,"N/A",0.34860000000000002]
[137,"LEXINGTON",552281823.07528639,156027399.537,"N/A",86631192.849999994,659.79,7284,0.39200000000000002,"N/A",0.39200000000000002]
[138,"EMPORIA",365347587.28288037,83991080.240199998,66962658.159999996,143228126.77000001,1021.87,5797,0.2369,0.2228,0.2228]
[139,"SALEM",2426210430.4134278,662425518.83099997,"N/A",590842044.02999997,3872.18,25679,0.36409999999999998,"N/A",0.36409999999999998]
[142,"POQUOSON",1591617690.1021671,435860588.70499998,"N/A",52879880.060000002,2095.1999999999998,12311,0.37030000000000002,"N/A",0.37030000000000002]
[143,"MANASSAS",5514335180.9101801,1168033339.74,"N/A",607443814.72000003,7420.46,41783,0.36109999999999998,"N/A",0.36109999999999998]
[144,"MANASSAS PARK",1675033514.0426958,451328424.671,"N/A",181950241,3541.06,16142,0.27550000000000002,"N/A",0.27550000000000002]
[202,"COLONIAL BEACH",516947893.90109891,80307818,"N/A",16882231.809999999,598.48,3569,0.33169999999999999,"N/A",0.33169999999999999]
[207,"WEST POINT",391995669.25919694,89052499,"N/A",20782017.399999999,789.13,3313,0.26140000000000002,"N/A",0.26140000000000002]
[null,"STATE TOTALS",{"$f":"SUM(C6:C140)","v":1255682912828.5125},{"$f":"SUM(D6:D140)","v":276897521668.16241},"no data",{"$f":"SUM(F6:F140)","v":103736609467.58997},{"$f":"SUM(G6:G140)","v":1246930.6500000001},{"$f":"SUM(H6:H140)","v":8470020},"no data","no data","no data"]
["Data Sources:"]
["True Value of Property, Adjusted Gross Income, and Taxable Retail Sales - Virginia Department of Taxation"]
["March 31, 2018 Average Daily Membership (ADM) - Virginia Department of Education"]
["Total Population - Weldon Cooper Center for Public Service, UVA; U.S. Census"]
["Downloadable Excel file containing the 2020-2022 composite index for each school division are available on the Virginia Department of Education website at:  "]
[]
["http://www.doe.virginia.gov/school_finance/budget/compositeindex_local_abilitypay/index.shtml."]
["1 For divisions that qualify for the exclusion of nonresident AGI.  Pursuant to Item 136, Paragraph A.4.b of Chapter 854, 2019 Acts of Assembly, \"any locality whose total calendar year [2017] Virginia Adjusted Gross Income is comprised of at least 3 percent or more by nonresidents of Virginia, such nonresident income shall be excluded in computing the composite index of ability-to-pay.\""]
["2 The actual composite index to be used for Bedford Co. in the 2020-2022 biennium is .3132 pursuant to the appropriation act and Section 15.2-1302, Code of Virginia."]
["End of worksheet"]

{"sheet":"Comp Index Comparison - Ranked","index":10,"n_rows":156,"n_cols":15,"rows_kept":156,"cut":false,"hidden":false,"merged":[[145,1,145,4],[1,1,1,6],[142,1,142,4],[143,1,143,4],[3,5,3,6]]}
[null,null,null,null,null,null,null,null,{"$f":"'2020-2022 Calculation Template'!N2","v":"<SE"}]
[null,"Comparison of 2018-2020 and 2020-2022 Composite Index Values"]
[]
[null,null,null,null,null,"Division Number - Ascending"]
[null,"Div. #","Division","2020-2022 Composite Index","2018-2020 Composite Index","Variance","Direction of Change"]
[null,1,"ACCOMACK",{"$f":"VLOOKUP(B6,'2020-2022 Composite Index'!$A$6:$K$140,11,FALSE)","v":0.33739999999999998},0.35060000000000002,{"$f":"D6-E6","v":-1.3200000000000045E-2},{"$f":"IF(AND(D6=0.8,E6=0.8),\"STILL CAPPED\",IF(F6=0,\"NO CHANGE\",IF(F6<0,\"DECREASED\",\"INCREASED\")))","v":"DECREASED"}]
[null,2,"ALBEMARLE",{"$f":"VLOOKUP(B7,'2020-2022 Composite Index'!$A$6:$K$140,11,FALSE)","v":0.64490000000000003},0.67800000000000005,-3.3100000000000018E-2,"DECREASED",null,null,null,null,null,null,null,"Click this cell to view sort options"]
[null,3,"ALLEGHANY",{"$f":"VLOOKUP(B8,'2020-2022 Composite Index'!$A$6:$K$140,11,FALSE)","v":0.28189999999999998},0.28989999999999999,-8.0000000000000071E-3,"DECREASED",null,null,null,null,null,null,null,"Division Number - Ascending"]
[null,4,"AMELIA",{"$f":"VLOOKUP(B9,'2020-2022 Composite Index'!$A$6:$K$140,11,FALSE)","v":0.34789999999999999},0.3231,2.4799999999999989E-2,"INCREASED",null,null,null,null,null,null,null,"Variance - Ascending"]
[null,5,"AMHERST",{"$f":"VLOOKUP(B10,'2020-2022 Composite Index'!$A$6:$K$140,11,FALSE)","v":0.31409999999999999},0.30730000000000002,6.7999999999999727E-3,"INCREASED",null,null,null,null,null,null,null,"Variance - Descending"]
[null,6,"APPOMATTOX",{"$f":"VLOOKUP(B11,'2020-2022 Composite Index'!$A$6:$K$140,11,FALSE)","v":0.29780000000000001},0.29499999999999998,2.8000000000000247E-3,"INCREASED"]
[null,7,"ARLINGTON",{"$f":"VLOOKUP(B12,'2020-2022 Composite Index'!$A$6:$K$140,11,FALSE)","v":0.8},0.8,0,"STILL CAPPED"]
[null,8,"AUGUSTA",{"$f":"VLOOKUP(B13,'2020-2022 Composite Index'!$A$6:$K$140,11,FALSE)","v":0.37690000000000001},0.36020000000000002,1.6699999999999993E-2,"INCREASED"]
[null,9,"BATH",{"$f":"VLOOKUP(B14,'2020-2022 Composite Index'!$A$6:$K$140,11,FALSE)","v":0.8},0.8,0,"STILL CAPPED"]
[null,10,"BEDFORD COUNTY",{"$f":"VLOOKUP(B15,'2020-2022 Composite Index'!$A$6:$K$140,11,FALSE)","v":0.31319999999999998},0.31319999999999998,0,"NO CHANGE"]
[null,11,"BLAND",{"$f":"VLOOKUP(B16,'2020-2022 Composite Index'!$A$6:$K$140,11,FALSE)","v":0.33800000000000002},0.307,3.1000000000000028E-2,"INCREASED"]
[null,12,"BOTETOURT",{"$f":"VLOOKUP(B17,'2020-2022 Composite Index'!$A$6:$K$140,11,FALSE)","v":0.39750000000000002},0.3856,1.1900000000000022E-2,"INCREASED"]
[null,13,"BRUNSWICK",{"$f":"VLOOKUP(B18,'2020-2022 Composite Index'!$A$6:$K$140,11,FALSE)","v":0.42899999999999999},0.35370000000000001,7.5299999999999978E-2,"INCREASED"]
[null,14,"BUCHANAN",{"$f":"VLOOKUP(B19,'2020-2022 Composite Index'!$A$6:$K$140,11,FALSE)","v":0.29749999999999999},0.30780000000000002,-1.0300000000000031E-2,"DECREASED"]
[null,15,"BUCKINGHAM",{"$f":"VLOOKUP(B20,'2020-2022 Composite Index'!$A$6:$K$140,11,FALSE)","v":0.3422},0.34849999999999998,-6.2999999999999723E-3,"DECREASED"]
[null,16,"CAMPBELL",{"$f":"VLOOKUP(B21,'2020-2022 Composite Index'!$A$6:$K$140,11,FALSE)","v":0.2878},0.28510000000000002,2.6999999999999802E-3,"INCREASED"]
[null,17,"CAROLINE",{"$f":"VLOOKUP(B22,'2020-2022 Composite Index'!$A$6:$K$140,11,FALSE)","v":0.3553},0.34460000000000002,1.0699999999999987E-2,"INCREASED"]
[null,18,"CARROLL",{"$f":"VLOOKUP(B23,'2020-2022 Composite Index'!$A$6:$K$140,11,FALSE)","v":0.27489999999999998},0.2727,2.1999999999999797E-3,"INCREASED"]
[null,19,"CHARLES CITY",{"$f":"VLOOKUP(B24,'2020-2022 Composite Index'!$A$6:$K$140,11,FALSE)","v":0.58799999999999997},0.51749999999999996,7.0500000000000007E-2,"INCREASED"]
[null,20,"CHARLOTTE",{"$f":"VLOOKUP(B25,'2020-2022 Composite Index'!$A$6:$K$140,11,FALSE)","v":0.24440000000000001},0.24390000000000001,5.0000000000000044E-4,"INCREASED"]
[null,21,"CHESTERFIELD",{"$f":"VLOOKUP(B26,'2020-2022 Composite Index'!$A$6:$K$140,11,FALSE)","v":0.3584},0.35220000000000001,6.1999999999999833E-3,"INCREASED"]
[null,22,"CLARKE",{"$f":"VLOOKUP(B27,'2020-2022 Composite Index'!$A$6:$K$140,11,FALSE)","v":0.57289999999999996},0.55059999999999998,2.2299999999999986E-2,"INCREASED"]
[null,23,"CRAIG",{"$f":"VLOOKUP(B28,'2020-2022 Composite Index'!$A$6:$K$140,11,FALSE)","v":0.33360000000000001},0.32350000000000001,1.0099999999999998E-2,"INCREASED"]
[null,24,"CULPEPER",{"$f":"VLOOKUP(B29,'2020-2022 Composite Index'!$A$6:$K$140,11,FALSE)","v":0.37409999999999999},0.35730000000000001,1.6799999999999982E-2,"INCREASED"]
[null,25,"CUMBERLAND",{"$f":"VLOOKUP(B30,'2020-2022 Composite Index'!$A$6:$K$140,11,FALSE)","v":0.29780000000000001},0.28100000000000003,1.6799999999999982E-2,"INCREASED"]
[null,26,"DICKENSON",{"$f":"VLOOKUP(B31,'2020-2022 Composite Index'!$A$6:$K$140,11,FALSE)","v":0.24709999999999999},0.247,9.9999999999988987E-5,"INCREASED"]
[null,27,"DINWIDDIE",{"$f":"VLOOKUP(B32,'2020-2022 Composite Index'!$A$6:$K$140,11,FALSE)","v":0.28789999999999999},0.27829999999999999,9.5999999999999974E-3,"INCREASED"]
[null,28,"ESSEX",{"$f":"VLOOKUP(B33,'2020-2022 Composite Index'!$A$6:$K$140,11,FALSE)","v":0.46360000000000001},0.42980000000000002,3.3799999999999997E-2,"INCREASED"]
[null,29,"FAIRFAX COUNTY",{"$f":"VLOOKUP(B34,'2020-2022 Composite Index'!$A$6:$K$140,11,FALSE)","v":0.65410000000000001},0.6754,-2.1299999999999986E-2,"DECREASED"]
[null,30,"FAUQUIER",{"$f":"VLOOKUP(B35,'2020-2022 Composite Index'!$A$6:$K$140,11,FALSE)","v":0.58789999999999998},0.61140000000000005,-2.3500000000000076E-2,"DECREASED"]
[null,31,"FLOYD",{"$f":"VLOOKUP(B36,'2020-2022 Composite Index'!$A$6:$K$140,11,FALSE)","v":0.34179999999999999},0.3337,8.0999999999999961E-3,"INCREASED"]
[null,32,"FLUVANNA",{"$f":"VLOOKUP(B37,'2020-2022 Composite Index'!$A$6:$K$140,11,FALSE)","v":0.39400000000000002},0.39119999999999999,2.8000000000000247E-3,"INCREASED"]
[null,33,"FRANKLIN COUNTY",{"$f":"VLOOKUP(B38,'2020-2022 Composite Index'!$A$6:$K$140,11,FALSE)","v":0.39529999999999998},0.39539999999999997,{"$f":"D38-E38","v":-9.9999999999988987E-5},{"$f":"IF(AND(D38=0.8,E38=0.8),\"STILL CAPPED\",IF(F38=0,\"NO CHANGE\",IF(F38<0,\"DECREASED\",\"INCREASED\")))","v":"DECREASED"}]
[null,34,"FREDERICK",{"$f":"VLOOKUP(B39,'2020-2022 Composite Index'!$A$6:$K$140,11,FALSE)","v":0.41199999999999998},0.38979999999999998,2.2199999999999998E-2,"INCREASED"]
[null,35,"GILES",{"$f":"VLOOKUP(B40,'2020-2022 Composite Index'!$A$6:$K$140,11,FALSE)","v":0.26950000000000002},0.27789999999999998,-8.3999999999999631E-3,"DECREASED"]
[null,36,"GLOUCESTER",{"$f":"VLOOKUP(B41,'2020-2022 Composite Index'!$A$6:$K$140,11,FALSE)","v":0.38850000000000001},0.3821,6.4000000000000168E-3,"INCREASED"]
[null,37,"GOOCHLAND",{"$f":"VLOOKUP(B42,'2020-2022 Composite Index'!$A$6:$K$140,11,FALSE)","v":0.8},0.8,0,"STILL CAPPED"]
[null,38,"GRAYSON",{"$f":"VLOOKUP(B43,'2020-2022 Composite Index'!$A$6:$K$140,11,FALSE)","v":0.36149999999999999},0.34620000000000001,1.529999999999998E-2,"INCREASED"]
[null,39,"GREENE",{"$f":"VLOOKUP(B44,'2020-2022 Composite Index'!$A$6:$K$140,11,FALSE)","v":0.34460000000000002},0.33210000000000001,1.2500000000000011E-2,"INCREASED"]
[null,40,"GREENSVILLE",{"$f":"VLOOKUP(B45,'2020-2022 Composite Index'!$A$6:$K$140,11,FALSE)","v":0.27989999999999998},0.21890000000000001,6.0999999999999971E-2,"INCREASED"]
[null,41,"HALIFAX",{"$f":"VLOOKUP(B46,'2020-2022 Composite Index'!$A$6:$K$140,11,FALSE)","v":0.30580000000000002},0.3,5.8000000000000274E-3,"INCREASED"]
[null,42,"HANOVER",{"$f":"VLOOKUP(B47,'2020-2022 Composite Index'!$A$6:$K$140,11,FALSE)","v":0.46260000000000001},0.44679999999999997,1.5800000000000036E-2,"INCREASED"]
[null,43,"HENRICO",{"$f":"VLOOKUP(B48,'2020-2022 Composite Index'!$A$6:$K$140,11,FALSE)","v":0.4279},0.41830000000000001,9.5999999999999974E-3,"INCREASED"]
[null,44,"HENRY",{"$f":"VLOOKUP(B49,'2020-2022 Composite Index'!$A$6:$K$140,11,FALSE)","v":0.2253},0.2253,0,"NO CHANGE"]
[null,45,"HIGHLAND",{"$f":"VLOOKUP(B50,'2020-2022 Composite Index'!$A$6:$K$140,11,FALSE)","v":0.8},0.8,0,"STILL CAPPED"]
[null,46,"ISLE OF WIGHT",{"$f":"VLOOKUP(B51,'2020-2022 Composite Index'!$A$6:$K$140,11,FALSE)","v":0.39639999999999997},0.39679999999999999,-4.0000000000001146E-4,"DECREASED"]
[null,47,"JAMES CITY",{"$f":"VLOOKUP(B52,'2020-2022 Composite Index'!$A$6:$K$140,11,FALSE)","v":0.55530000000000002},0.56569999999999998,-1.0399999999999965E-2,"DECREASED"]
[null,48,"KING GEORGE",{"$f":"VLOOKUP(B53,'2020-2022 Composite Index'!$A$6:$K$140,11,FALSE)","v":0.37030000000000002},0.37209999999999999,-1.7999999999999683E-3,"DECREASED"]
[null,49,"KING AND QUEEN",{"$f":"VLOOKUP(B54,'2020-2022 Composite Index'!$A$6:$K$140,11,FALSE)","v":0.41389999999999999},0.39450000000000002,1.9399999999999973E-2,"INCREASED"]
[null,50,"KING WILLIAM",{"$f":"VLOOKUP(B55,'2020-2022 Composite Index'!$A$6:$K$140,11,FALSE)","v":0.3407},0.32829999999999998,1.2400000000000022E-2,"INCREASED"]
[null,51,"LANCASTER",{"$f":"VLOOKUP(B56,'2020-2022 Composite Index'!$A$6:$K$140,11,FALSE)","v":0.78349999999999997},0.77180000000000004,1.1699999999999933E-2,"INCREASED"]
[null,52,"LEE",{"$f":"VLOOKUP(B57,'2020-2022 Composite Index'!$A$6:$K$140,11,FALSE)","v":0.16919999999999999},0.1754,-6.2000000000000111E-3,"DECREASED"]
[null,53,"LOUDOUN",{"$f":"VLOOKUP(B58,'2020-2022 Composite Index'!$A$6:$K$140,11,FALSE)","v":0.54659999999999997},0.5383,8.2999999999999741E-3,"INCREASED"]
[null,54,"LOUISA",{"$f":"VLOOKUP(B59,'2020-2022 Composite Index'!$A$6:$K$140,11,FALSE)","v":0.54059999999999997},0.5474,-6.8000000000000282E-3,"DECREASED"]
[null,55,"LUNENBURG",{"$f":"VLOOKUP(B60,'2020-2022 Composite Index'!$A$6:$K$140,11,FALSE)","v":0.25609999999999999},0.2525,3.5999999999999921E-3,"INCREASED"]
[null,56,"MADISON",{"$f":"VLOOKUP(B61,'2020-2022 Composite Index'!$A$6:$K$140,11,FALSE)","v":0.4738},0.46079999999999999,1.3000000000000012E-2,"INCREASED"]
[null,57,"MATHEWS",{"$f":"VLOOKUP(B62,'2020-2022 Composite Index'!$A$6:$K$140,11,FALSE)","v":0.51619999999999999},0.50600000000000001,1.0199999999999987E-2,"INCREASED"]
[null,58,"MECKLENBURG",{"$f":"VLOOKUP(B63,'2020-2022 Composite Index'!$A$6:$K$140,11,FALSE)","v":0.39960000000000001},0.37669999999999998,2.2900000000000031E-2,"INCREASED"]
[null,59,"MIDDLESEX",{"$f":"VLOOKUP(B64,'2020-2022 Composite Index'!$A$6:$K$140,11,FALSE)","v":0.6008},0.61599999999999999,-1.5199999999999991E-2,"DECREASED"]
[null,60,"MONTGOMERY",{"$f":"VLOOKUP(B65,'2020-2022 Composite Index'!$A$6:$K$140,11,FALSE)","v":0.40050000000000002},0.39200000000000002,8.5000000000000075E-3,"INCREASED"]
[null,62,"NELSON",{"$f":"VLOOKUP(B66,'2020-2022 Composite Index'!$A$6:$K$140,11,FALSE)","v":0.56040000000000001},0.53559999999999997,2.4800000000000044E-2,"INCREASED"]
[null,63,"NEW KENT",{"$f":"VLOOKUP(B67,'2020-2022 Composite Index'!$A$6:$K$140,11,FALSE)","v":0.41660000000000003},0.41720000000000002,-5.9999999999998943E-4,"DECREASED"]
[null,65,"NORTHAMPTON",{"$f":"VLOOKUP(B68,'2020-2022 Composite Index'!$A$6:$K$140,11,FALSE)","v":0.46960000000000002},0.47460000000000002,-5.0000000000000044E-3,"DECREASED"]
[null,66,"NORTHUMBERLAND",{"$f":"VLOOKUP(B69,'2020-2022 Composite Index'!$A$6:$K$140,11,FALSE)","v":0.71160000000000001},0.71870000000000001,-7.0999999999999952E-3,"DECREASED"]
[null,67,"NOTTOWAY",{"$f":"VLOOKUP(B70,'2020-2022 Composite Index'!$A$6:$K$140,11,FALSE)","v":0.25969999999999999},0.23849999999999999,{"$f":"D70-E70","v":2.1199999999999997E-2},{"$f":"IF(AND(D70=0.8,E70=0.8),\"STILL CAPPED\",IF(F70=0,\"NO CHANGE\",IF(F70<0,\"DECREASED\",\"INCREASED\")))","v":"INCREASED"}]
[null,68,"ORANGE",{"$f":"VLOOKUP(B71,'2020-2022 Composite Index'!$A$6:$K$140,11,FALSE)","v":0.41049999999999998},0.40250000000000002,7.9999999999999516E-3,"INCREASED"]
[null,69,"PAGE",{"$f":"VLOOKUP(B72,'2020-2022 Composite Index'!$A$6:$K$140,11,FALSE)","v":0.31979999999999997},0.30070000000000002,1.909999999999995E-2,"INCREASED"]
[null,70,"PATRICK",{"$f":"VLOOKUP(B73,'2020-2022 Composite Index'!$A$6:$K$140,11,FALSE)","v":0.24560000000000001},0.23960000000000001,6.0000000000000053E-3,"INCREASED"]
[null,71,"PITTSYLVANIA",{"$f":"VLOOKUP(B74,'2020-2022 Composite Index'!$A$6:$K$140,11,FALSE)","v":0.24460000000000001},0.24429999999999999,3.0000000000002247E-4,"INCREASED"]
[null,72,"POWHATAN",{"$f":"VLOOKUP(B75,'2020-2022 Composite Index'!$A$6:$K$140,11,FALSE)","v":0.45069999999999999},0.43020000000000003,2.0499999999999963E-2,"INCREASED"]
[null,73,"PRINCE EDWARD",{"$f":"VLOOKUP(B76,'2020-2022 Composite Index'!$A$6:$K$140,11,FALSE)","v":0.35539999999999999},0.35980000000000001,-4.400000000000015E-3,"DECREASED"]
[null,74,"PRINCE GEORGE",{"$f":"VLOOKUP(B77,'2020-2022 Composite Index'!$A$6:$K$140,11,FALSE)","v":0.2467},0.23910000000000001,7.5999999999999956E-3,"INCREASED"]
[null,75,"PRINCE WILLIAM",{"$f":"VLOOKUP(B78,'2020-2022 Composite Index'!$A$6:$K$140,11,FALSE)","v":0.37990000000000002},0.37830000000000003,1.5999999999999903E-3,"INCREASED"]
[null,77,"PULASKI",{"$f":"VLOOKUP(B79,'2020-2022 Composite Index'!$A$6:$K$140,11,FALSE)","v":0.32350000000000001},0.31919999999999998,4.300000000000026E-3,"INCREASED"]
[null,78,"RAPPAHANNOCK",{"$f":"VLOOKUP(B80,'2020-2022 Composite Index'!$A$6:$K$140,11,FALSE)","v":0.79900000000000004},0.76719999999999999,3.180000000000005E-2,"INCREASED"]
[null,79,"RICHMOND COUNTY",{"$f":"VLOOKUP(B81,'2020-2022 Composite Index'!$A$6:$K$140,11,FALSE)","v":0.312},0.31,2.0000000000000018E-3,"INCREASED"]
[null,80,"ROANOKE COUNTY",{"$f":"VLOOKUP(B82,'2020-2022 Composite Index'!$A$6:$K$140,11,FALSE)","v":0.36599999999999999},0.36199999999999999,4.0000000000000036E-3,"INCREASED"]
[null,81,"ROCKBRIDGE",{"$f":"VLOOKUP(B83,'2020-2022 Composite Index'!$A$6:$K$140,11,FALSE)","v":0.4506},0.44979999999999998,8.0000000000002292E-4,"INCREASED"]
[null,82,"ROCKINGHAM",{"$f":"VLOOKUP(B84,'2020-2022 Composite Index'!$A$6:$K$140,11,FALSE)","v":0.37990000000000002},0.36820000000000003,1.1699999999999988E-2,"INCREASED"]
[null,83,"RUSSELL",{"$f":"VLOOKUP(B85,'2020-2022 Composite Index'!$A$6:$K$140,11,FALSE)","v":0.23730000000000001},0.23219999999999999,5.1000000000000212E-3,"INCREASED"]
[null,84,"SCOTT",{"$f":"VLOOKUP(B86,'2020-2022 Composite Index'!$A$6:$K$140,11,FALSE)","v":0.18990000000000001},0.19170000000000001,-1.799999999999996E-3,"DECREASED"]
[null,85,"SHENANDOAH",{"$f":"VLOOKUP(B87,'2020-2022 Composite Index'!$A$6:$K$140,11,FALSE)","v":0.38319999999999999},0.3821,1.0999999999999899E-3,"INCREASED"]
[null,86,"SMYTH",{"$f":"VLOOKUP(B88,'2020-2022 Composite Index'!$A$6:$K$140,11,FALSE)","v":0.2228},0.21740000000000001,5.3999999999999881E-3,"INCREASED"]
[null,87,"SOUTHAMPTON",{"$f":"VLOOKUP(B89,'2020-2022 Composite Index'!$A$6:$K$140,11,FALSE)","v":0.30149999999999999},0.29630000000000001,5.1999999999999824E-3,"INCREASED"]
[null,88,"SPOTSYLVANIA",{"$f":"VLOOKUP(B90,'2020-2022 Composite Index'!$A$6:$K$140,11,FALSE)","v":0.37219999999999998},0.36270000000000002,9.4999999999999529E-3,"INCREASED"]
[null,89,"STAFFORD",{"$f":"VLOOKUP(B91,'2020-2022 Composite Index'!$A$6:$K$140,11,FALSE)","v":0.34699999999999998},0.34620000000000001,7.999999999999674E-4,"INCREASED"]
[null,90,"SURRY",{"$f":"VLOOKUP(B92,'2020-2022 Composite Index'!$A$6:$K$140,11,FALSE)","v":0.8},0.8,0,"STILL CAPPED"]
[null,91,"SUSSEX",{"$f":"VLOOKUP(B93,'2020-2022 Composite Index'!$A$6:$K$140,11,FALSE)","v":0.34920000000000001},0.34820000000000001,1.0000000000000009E-3,"INCREASED"]
[null,92,"TAZEWELL",{"$f":"VLOOKUP(B94,'2020-2022 Composite Index'!$A$6:$K$140,11,FALSE)","v":0.25750000000000001},0.26240000000000002,-4.9000000000000155E-3,"DECREASED"]
[null,93,"WARREN",{"$f":"VLOOKUP(B95,'2020-2022 Composite Index'!$A$6:$K$140,11,FALSE)","v":0.44319999999999998},0.43330000000000002,9.8999999999999644E-3,"INCREASED"]
[null,94,"WASHINGTON",{"$f":"VLOOKUP(B96,'2020-2022 Composite Index'!$A$6:$K$140,11,FALSE)","v":0.34160000000000001},0.34339999999999998,-1.7999999999999683E-3,"DECREASED"]
[null,95,"WESTMORELAND",{"$f":"VLOOKUP(B97,'2020-2022 Composite Index'!$A$6:$K$140,11,FALSE)","v":0.46179999999999999},0.4743,-1.2500000000000011E-2,"DECREASED"]
[null,96,"WISE",{"$f":"VLOOKUP(B98,'2020-2022 Composite Index'!$A$6:$K$140,11,FALSE)","v":0.23719999999999999},0.24740000000000001,-1.0200000000000015E-2,"DECREASED"]
[null,97,"WYTHE",{"$f":"VLOOKUP(B99,'2020-2022 Composite Index'!$A$6:$K$140,11,FALSE)","v":0.32040000000000002},0.31459999999999999,5.8000000000000274E-3,"INCREASED"]
[null,98,"YORK",{"$f":"VLOOKUP(B100,'2020-2022 Composite Index'!$A$6:$K$140,11,FALSE)","v":0.38119999999999998},0.38219999999999998,-1.0000000000000009E-3,"DECREASED"]
[null,101,"ALEXANDRIA",{"$f":"VLOOKUP(B101,'2020-2022 Composite Index'!$A$6:$K$140,11,FALSE)","v":0.8},0.8,0,"STILL CAPPED"]
[null,102,"BRISTOL",{"$f":"VLOOKUP(B102,'2020-2022 Composite Index'!$A$6:$K$140,11,FALSE)","v":0.30509999999999998},0.29220000000000002,{"$f":"D102-E102","v":1.2899999999999967E-2},{"$f":"IF(AND(D102=0.8,E102=0.8),\"STILL CAPPED\",IF(F102=0,\"NO CHANGE\",IF(F102<0,\"DECREASED\",\"INCREASED\")))","v":"INCREASED"}]
[null,103,"BUENA VISTA",{"$f":"VLOOKUP(B103,'2020-2022 Composite Index'!$A$6:$K$140,11,FALSE)","v":0.1893},0.18490000000000001,4.3999999999999873E-3,"INCREASED"]
[null,104,"CHARLOTTESVILLE",{"$f":"VLOOKUP(B104,'2020-2022 Composite Index'!$A$6:$K$140,11,FALSE)","v":0.68859999999999999},0.67720000000000002,1.1399999999999966E-2,"INCREASED"]
[null,106,"COLONIAL HEIGHTS",{"$f":"VLOOKUP(B105,'2020-2022 Composite Index'!$A$6:$K$140,11,FALSE)","v":0.41560000000000002},0.41789999999999999,-2.2999999999999687E-3,"DECREASED"]
[null,107,"COVINGTON",{"$f":"VLOOKUP(B106,'2020-2022 Composite Index'!$A$6:$K$140,11,FALSE)","v":0.2913},0.29809999999999998,-6.7999999999999727E-3,"DECREASED"]
[null,108,"DANVILLE",{"$f":"VLOOKUP(B107,'2020-2022 Composite Index'!$A$6:$K$140,11,FALSE)","v":0.26219999999999999},0.25459999999999999,7.5999999999999956E-3,"INCREASED"]
[null,109,"FALLS CHURCH",{"$f":"VLOOKUP(B108,'2020-2022 Composite Index'!$A$6:$K$140,11,FALSE)","v":0.8},0.8,0,"STILL CAPPED"]
[null,110,"FREDERICKSBURG",{"$f":"VLOOKUP(B109,'2020-2022 Composite Index'!$A$6:$K$140,11,FALSE)","v":0.58399999999999996},0.621,-3.7000000000000033E-2,"DECREASED"]
[null,111,"GALAX",{"$f":"VLOOKUP(B110,'2020-2022 Composite Index'!$A$6:$K$140,11,FALSE)","v":0.27750000000000002},0.25869999999999999,1.8800000000000039E-2,"INCREASED"]
[null,112,"HAMPTON",{"$f":"VLOOKUP(B111,'2020-2022 Composite Index'!$A$6:$K$140,11,FALSE)","v":0.27429999999999999},0.27410000000000001,1.9999999999997797E-4,"INCREASED"]
[null,113,"HARRISONBURG",{"$f":"VLOOKUP(B112,'2020-2022 Composite Index'!$A$6:$K$140,11,FALSE)","v":0.35370000000000001},0.36449999999999999,-1.0799999999999976E-2,"DECREASED"]
[null,114,"HOPEWELL",{"$f":"VLOOKUP(B113,'2020-2022 Composite Index'!$A$6:$K$140,11,FALSE)","v":0.20530000000000001},0.20319999999999999,2.1000000000000185E-3,"INCREASED"]
[null,115,"LYNCHBURG",{"$f":"VLOOKUP(B114,'2020-2022 Composite Index'!$A$6:$K$140,11,FALSE)","v":0.36680000000000001},0.37,-3.1999999999999806E-3,"DECREASED"]
[null,116,"MARTINSVILLE",{"$f":"VLOOKUP(B115,'2020-2022 Composite Index'!$A$6:$K$140,11,FALSE)","v":0.2185},0.2135,5.0000000000000044E-3,"INCREASED"]
[null,117,"NEWPORT NEWS",{"$f":"VLOOKUP(B116,'2020-2022 Composite Index'!$A$6:$K$140,11,FALSE)","v":0.28420000000000001},0.27810000000000001,6.0999999999999943E-3,"INCREASED"]
[null,118,"NORFOLK",{"$f":"VLOOKUP(B117,'2020-2022 Composite Index'!$A$6:$K$140,11,FALSE)","v":0.30590000000000001},0.29580000000000001,1.0099999999999998E-2,"INCREASED"]
[null,119,"NORTON",{"$f":"VLOOKUP(B118,'2020-2022 Composite Index'!$A$6:$K$140,11,FALSE)","v":0.27100000000000002},0.28699999999999998,-1.5999999999999959E-2,"DECREASED"]
[null,120,"PETERSBURG",{"$f":"VLOOKUP(B119,'2020-2022 Composite Index'!$A$6:$K$140,11,FALSE)","v":0.2442},0.24299999999999999,1.2000000000000066E-3,"INCREASED"]
[null,121,"PORTSMOUTH",{"$f":"VLOOKUP(B120,'2020-2022 Composite Index'!$A$6:$K$140,11,FALSE)","v":0.24260000000000001},0.2462,-3.5999999999999921E-3,"DECREASED"]
[null,122,"RADFORD",{"$f":"VLOOKUP(B121,'2020-2022 Composite Index'!$A$6:$K$140,11,FALSE)","v":0.2452},0.2429,2.2999999999999965E-3,"INCREASED"]
[null,123,"RICHMOND CITY",{"$f":"VLOOKUP(B122,'2020-2022 Composite Index'!$A$6:$K$140,11,FALSE)","v":0.46879999999999999},0.49249999999999999,-2.3699999999999999E-2,"DECREASED"]
[null,124,"ROANOKE CITY",{"$f":"VLOOKUP(B123,'2020-2022 Composite Index'!$A$6:$K$140,11,FALSE)","v":0.32840000000000003},0.34160000000000001,-1.319999999999999E-2,"DECREASED"]
[null,126,"STAUNTON",{"$f":"VLOOKUP(B124,'2020-2022 Composite Index'!$A$6:$K$140,11,FALSE)","v":0.38769999999999999},0.38669999999999999,1.0000000000000009E-3,"INCREASED"]
[null,127,"SUFFOLK",{"$f":"VLOOKUP(B125,'2020-2022 Composite Index'!$A$6:$K$140,11,FALSE)","v":0.34870000000000001},0.34200000000000003,6.6999999999999837E-3,"INCREASED"]
[null,128,"VIRGINIA BEACH",{"$f":"VLOOKUP(B126,'2020-2022 Composite Index'!$A$6:$K$140,11,FALSE)","v":0.40820000000000001},0.40460000000000002,3.5999999999999921E-3,"INCREASED"]
[null,130,"WAYNESBORO",{"$f":"VLOOKUP(B127,'2020-2022 Composite Index'!$A$6:$K$140,11,FALSE)","v":0.36520000000000002},0.35780000000000001,7.4000000000000177E-3,"INCREASED"]
[null,131,"WILLIAMSBURG",{"$f":"VLOOKUP(B128,'2020-2022 Composite Index'!$A$6:$K$140,11,FALSE)","v":0.74590000000000001},0.77029999999999998,-2.4399999999999977E-2,"DECREASED"]
[null,132,"WINCHESTER",{"$f":"VLOOKUP(B129,'2020-2022 Composite Index'!$A$6:$K$140,11,FALSE)","v":0.43190000000000001},0.4244,7.5000000000000067E-3,"INCREASED"]
[null,134,"FAIRFAX CITY",{"$f":"VLOOKUP(B130,'2020-2022 Composite Index'!$A$6:$K$140,11,FALSE)","v":0.8},0.8,0,"STILL CAPPED"]
[null,135,"FRANKLIN CITY",{"$f":"VLOOKUP(B131,'2020-2022 Composite Index'!$A$6:$K$140,11,FALSE)","v":0.29289999999999999},0.29520000000000002,-2.3000000000000242E-3,"DECREASED"]
[null,136,"CHESAPEAKE",{"$f":"VLOOKUP(B132,'2020-2022 Composite Index'!$A$6:$K$140,11,FALSE)","v":0.34860000000000002},0.34760000000000002,1.0000000000000009E-3,"INCREASED"]
[null,137,"LEXINGTON",{"$f":"VLOOKUP(B133,'2020-2022 Composite Index'!$A$6:$K$140,11,FALSE)","v":0.39200000000000002},0.41720000000000002,-2.52E-2,"DECREASED"]
[null,138,"EMPORIA",{"$f":"VLOOKUP(B134,'2020-2022 Composite Index'!$A$6:$K$140,11,FALSE)","v":0.2228},0.21679999999999999,{"$f":"D134-E134","v":6.0000000000000053E-3},{"$f":"IF(AND(D134=0.8,E134=0.8),\"STILL CAPPED\",IF(F134=0,\"NO CHANGE\",IF(F134<0,\"DECREASED\",\"INCREASED\")))","v":"INCREASED"}]
[null,139,"SALEM",{"$f":"VLOOKUP(B135,'2020-2022 Composite Index'!$A$6:$K$140,11,FALSE)","v":0.36409999999999998},0.3715,-7.4000000000000177E-3,"DECREASED"]
[null,142,"POQUOSON",{"$f":"VLOOKUP(B136,'2020-2022 Composite Index'!$A$6:$K$140,11,FALSE)","v":0.37030000000000002},0.37419999999999998,-3.8999999999999591E-3,"DECREASED"]
[null,143,"MANASSAS",{"$f":"VLOOKUP(B137,'2020-2022 Composite Index'!$A$6:$K$140,11,FALSE)","v":0.36109999999999998},0.35570000000000002,5.3999999999999604E-3,"INCREASED"]
[null,144,"MANASSAS PARK",{"$f":"VLOOKUP(B138,'2020-2022 Composite Index'!$A$6:$K$140,11,FALSE)","v":0.27550000000000002},0.26750000000000002,8.0000000000000071E-3,"INCREASED"]
[null,202,"COLONIAL BEACH",{"$f":"VLOOKUP(B139,'2020-2022 Composite Index'!$A$6:$K$140,11,FALSE)","v":0.33169999999999999},0.36,-2.8299999999999992E-2,"DECREASED"]
[null,207,"WEST POINT",{"$f":"VLOOKUP(B140,'2020-2022 Composite Index'!$A$6:$K$140,11,FALSE)","v":0.26140000000000002},0.25540000000000002,6.0000000000000053E-3,"INCREASED"]
[null,null,null,{"$f":"SUM(D6:D140)","v":53.696900000000014},{"$f":"SUM(E6:E140)","v":53.13599999999996},{"$f":"SUM(F6:F140)","v":0.56089999999999984}]
[]
[null,"Number of Composite Index values that DECREASED:",null,null,null,{"$f":"COUNTIF($G$6:$G$140,\"DECREASED\")","v":40}]
[null,"Number of Composite Index values that are STILL CAPPED:",null,null,null,{"$f":"COUNTIF($G$6:$G$140,\"STILL CAPPED\")","v":8}]
[null,"Number of Composite Index values that had NO CHANGE:",null,null,null,{"$f":"COUNTIF($G$6:$G$140,\"NO CHANGE\")","v":2}]
[null,"Number of Composite Index values that INCREASED:",null,null,null,{"$f":"COUNTIF($G$6:$G$140,\"INCREASED\")","v":85}]
[]
[]
[]
[]
[]
[]
[]
[]
[]
[null,null,null,null,-0.43280000000001451]

{"sheet":"True Value of Property","index":11,"n_rows":148,"n_cols":15,"rows_kept":148,"cut":false,"hidden":false,"merged":[[1,1,1,6],[3,5,3,6]]}
[null,null,null,null,null,null,null,null,{"$f":"'2020-2022 Calculation Template'!N2","v":"<SE"}]
[null,"Comparison of True Value of Property Data from Base Year 2015 \n(for 2018-2020 Biennium) to Base Year 2017 (for 2020-2022 Biennium)"]
[]
[null,null,null,null,null,"Division Number - Ascending"]
[null,"Div","Division","2017\nTrue Value of Property","2015\nTrue Value of Property","Variance","Percentage Change from Prior Base Year"]
[null,1,"ACCOMACK",{"$f":"VLOOKUP(B6,'2020-2022 Composite Index'!$A$6:$K$140,3,FALSE)","v":4275437691.2961879},4012143667.4039736,{"$f":"D6-E6","v":263294023.8922143},{"$f":"F6/E6","v":6.5624276127324382E-2}]
[null,2,"ALBEMARLE",{"$f":"VLOOKUP(B7,'2020-2022 Composite Index'!$A$6:$K$140,3,FALSE)","v":20330392876.497055},19166881073.970486,1163511802.5265694,6.0704284543543832E-2,null,null,null,null,null,null,null,"Click this cell to view sort options"]
[null,3,"ALLEGHANY",{"$f":"VLOOKUP(B8,'2020-2022 Composite Index'!$A$6:$K$140,3,FALSE)","v":1375295243.7933462},1390193198.5934064,-14897954.800060272,-1.0716463593070359E-2,null,null,null,null,null,null,null,"Division Number - Ascending"]
[null,4,"AMELIA",{"$f":"VLOOKUP(B9,'2020-2022 Composite Index'!$A$6:$K$140,3,FALSE)","v":1539511713.3606598},1341940045.9499416,197571667.4107182,0.14722838625093704,null,null,null,null,null,null,null,"Variance - Ascending"]
[null,5,"AMHERST",{"$f":"VLOOKUP(B10,'2020-2022 Composite Index'!$A$6:$K$140,3,FALSE)","v":2927837117.5589175},2806913895.0628037,120923222.49611378,4.3080488756285187E-2,null,null,null,null,null,null,null,"Variance - Descending"]
[null,6,"APPOMATTOX",{"$f":"VLOOKUP(B11,'2020-2022 Composite Index'!$A$6:$K$140,3,FALSE)","v":1518108117.1138613},1451769667.4928823,66338449.620979071,4.5694886114779856E-2,null,null,null,null,null,null,null,"% Variance - Ascending"]
[null,7,"ARLINGTON",{"$f":"VLOOKUP(B12,'2020-2022 Composite Index'!$A$6:$K$140,3,FALSE)","v":79645130693.357285},75174841517.345078,4470289176.012207,5.9465229134946403E-2,null,null,null,null,null,null,null,"% Variance - Descending"]
[null,8,"AUGUSTA",{"$f":"VLOOKUP(B13,'2020-2022 Composite Index'!$A$6:$K$140,3,FALSE)","v":9526531504.9195671},8692275040.5000801,834256464.419487,9.5976767938476426E-2]
[null,9,"BATH",{"$f":"VLOOKUP(B14,'2020-2022 Composite Index'!$A$6:$K$140,3,FALSE)","v":2210598733.034523},2448333187.6828942,-237734454.64837122,-9.7100531841159826E-2]
[null,10,"BEDFORD COUNTY",{"$f":"VLOOKUP(B15,'2020-2022 Composite Index'!$A$6:$K$140,3,FALSE)","v":10557134172.444504},9840655334.4935055,716478837.95099831,7.2808041090474299E-2]
[null,11,"BLAND",{"$f":"VLOOKUP(B16,'2020-2022 Composite Index'!$A$6:$K$140,3,FALSE)","v":721512817.16380513},672296569.42880523,49216247.734999895,7.3206156290243851E-2]
[null,12,"BOTETOURT",{"$f":"VLOOKUP(B17,'2020-2022 Composite Index'!$A$6:$K$140,3,FALSE)","v":4369317736.1863489},4032528394.1390491,336789342.04729986,8.3518157624580078E-2]
[null,13,"BRUNSWICK",{"$f":"VLOOKUP(B18,'2020-2022 Composite Index'!$A$6:$K$140,3,FALSE)","v":2340978032.9505591},1814531068.7610474,526446964.18951178,0.29012838261786672]
[null,14,"BUCHANAN",{"$f":"VLOOKUP(B19,'2020-2022 Composite Index'!$A$6:$K$140,3,FALSE)","v":2465511602.061337},2579513757.8121762,-114002155.75083923,-4.4195211367095234E-2]
[null,15,"BUCKINGHAM",{"$f":"VLOOKUP(B20,'2020-2022 Composite Index'!$A$6:$K$140,3,FALSE)","v":2191369035.2052441},2062209218.5476191,129159816.65762496,6.2631771546725098E-2]
[null,16,"CAMPBELL",{"$f":"VLOOKUP(B21,'2020-2022 Composite Index'!$A$6:$K$140,3,FALSE)","v":4813934062.8777437},4481965191.8131008,331968871.06464291,7.4067703977493557E-2]
[null,17,"CAROLINE",{"$f":"VLOOKUP(B22,'2020-2022 Composite Index'!$A$6:$K$140,3,FALSE)","v":3733516556.9680629},3459260771.3939471,274255785.57411575,7.9281616419915449E-2]
[null,18,"CARROLL",{"$f":"VLOOKUP(B23,'2020-2022 Composite Index'!$A$6:$K$140,3,FALSE)","v":2572214998.7860894},2533602640.6190476,38612358.167041779,1.5240100222506648E-2]
[null,19,"CHARLES CITY",{"$f":"VLOOKUP(B24,'2020-2022 Composite Index'!$A$6:$K$140,3,FALSE)","v":1062603294.8681012},951471670.03440404,111131624.8336972,0.11679972019522013]
[null,20,"CHARLOTTE",{"$f":"VLOOKUP(B25,'2020-2022 Composite Index'!$A$6:$K$140,3,FALSE)","v":1093540388.0940466},1061127011.9461316,32413376.147915006,3.054617947051232E-2]
[null,21,"CHESTERFIELD",{"$f":"VLOOKUP(B26,'2020-2022 Composite Index'!$A$6:$K$140,3,FALSE)","v":39470600366.594589},35462878178.519089,4007722188.0755005,0.11301175747497832]
[null,22,"CLARKE",{"$f":"VLOOKUP(B27,'2020-2022 Composite Index'!$A$6:$K$140,3,FALSE)","v":2715153460.4986596},2575697595.0769229,139455865.42173672,5.4142949734583216E-2]
[null,23,"CRAIG",{"$f":"VLOOKUP(B28,'2020-2022 Composite Index'!$A$6:$K$140,3,FALSE)","v":543813795.63784695},515609289.72638685,28204505.911460102,5.4701314490332595E-2]
[null,24,"CULPEPER",{"$f":"VLOOKUP(B29,'2020-2022 Composite Index'!$A$6:$K$140,3,FALSE)","v":6331241639.2254486},5696920903.6710148,634320735.55443382,0.11134448700976111]
[null,25,"CUMBERLAND",{"$f":"VLOOKUP(B30,'2020-2022 Composite Index'!$A$6:$K$140,3,FALSE)","v":1037409991.9240725},950335785.31188607,87074206.612186432,9.1624674097282338E-2]
[null,26,"DICKENSON",{"$f":"VLOOKUP(B31,'2020-2022 Composite Index'!$A$6:$K$140,3,FALSE)","v":1459712435.3101735},1508069625.890528,-48357190.580354452,-3.2065622004553748E-2]
[null,27,"DINWIDDIE",{"$f":"VLOOKUP(B32,'2020-2022 Composite Index'!$A$6:$K$140,3,FALSE)","v":2963784007.8823018},2734966557.7989073,228817450.08339453,8.3663710413902137E-2]
[null,28,"ESSEX",{"$f":"VLOOKUP(B33,'2020-2022 Composite Index'!$A$6:$K$140,3,FALSE)","v":1593364500.3023257},1411183489.3206885,182181010.98163724,0.1290980318011905]
[null,29,"FAIRFAX COUNTY",{"$f":"VLOOKUP(B34,'2020-2022 Composite Index'!$A$6:$K$140,3,FALSE)","v":262828932048.74387},249233574522.73746,13595357526.006409,5.4548660035231775E-2]
[null,30,"FAUQUIER",{"$f":"VLOOKUP(B35,'2020-2022 Composite Index'!$A$6:$K$140,3,FALSE)","v":15265896813.45751},14418202055.693708,847694757.76380157,5.8793374825056588E-2]
[null,31,"FLOYD",{"$f":"VLOOKUP(B36,'2020-2022 Composite Index'!$A$6:$K$140,3,FALSE)","v":1882566202.5297158},1729492812.0284672,153073390.5012486,8.8507676607058966E-2]
[null,32,"FLUVANNA",{"$f":"VLOOKUP(B37,'2020-2022 Composite Index'!$A$6:$K$140,3,FALSE)","v":3522241579.3013902},3362716420.1848741,159525159.11651611,4.7439373168358279E-2]
[null,33,"FRANKLIN COUNTY",{"$f":"VLOOKUP(B38,'2020-2022 Composite Index'!$A$6:$K$140,3,FALSE)","v":7625278760.3298216},7360330323.4396172,{"$f":"D38-E38","v":264948436.89020443},{"$f":"F38/E38","v":3.5996813355842594E-2}]
[null,34,"FREDERICK",{"$f":"VLOOKUP(B39,'2020-2022 Composite Index'!$A$6:$K$140,3,FALSE)","v":11631668555.017563},9724832257.9252014,1906836297.0923615,0.19607909386183964]
[null,35,"GILES",{"$f":"VLOOKUP(B40,'2020-2022 Composite Index'!$A$6:$K$140,3,FALSE)","v":1422595318.8879442},1362967284.1797621,59628034.708182096,4.3748691109681645E-2]
[null,36,"GLOUCESTER",{"$f":"VLOOKUP(B41,'2020-2022 Composite Index'!$A$6:$K$140,3,FALSE)","v":4714496645.2898397},4541962509.6699829,172534135.61985683,3.798669303247796E-2]
[null,37,"GOOCHLAND",{"$f":"VLOOKUP(B42,'2020-2022 Composite Index'!$A$6:$K$140,3,FALSE)","v":5635699923.6241608},5249123022.8951159,386576900.72904491,7.3645997444318087E-2]
[null,38,"GRAYSON",{"$f":"VLOOKUP(B43,'2020-2022 Composite Index'!$A$6:$K$140,3,FALSE)","v":1827586769.031553},1670558004.2648437,157028764.76670933,9.3997792573393704E-2]
[null,39,"GREENE",{"$f":"VLOOKUP(B44,'2020-2022 Composite Index'!$A$6:$K$140,3,FALSE)","v":2392404008.0104222},2257170514.3919344,135233493.61848783,5.991283899742008E-2]
[null,40,"GREENSVILLE",{"$f":"VLOOKUP(B45,'2020-2022 Composite Index'!$A$6:$K$140,3,FALSE)","v":949033753.81977665},716461134.26246715,232572619.55730951,0.32461302984246632]
[null,41,"HALIFAX",{"$f":"VLOOKUP(B46,'2020-2022 Composite Index'!$A$6:$K$140,3,FALSE)","v":3781125840.4999008},3666857551.2319984,114268289.26790237,3.1162456591614877E-2]
[null,42,"HANOVER",{"$f":"VLOOKUP(B47,'2020-2022 Composite Index'!$A$6:$K$140,3,FALSE)","v":16419664887.229683},14954590370.086966,1465074517.1427174,9.7968214500428169E-2]
[null,43,"HENRICO",{"$f":"VLOOKUP(B48,'2020-2022 Composite Index'!$A$6:$K$140,3,FALSE)","v":40926624138.156441},36922193176.922699,4004430961.2337418,0.10845593440360991]
[null,44,"HENRY",{"$f":"VLOOKUP(B49,'2020-2022 Composite Index'!$A$6:$K$140,3,FALSE)","v":3232443251.3304853},3118390249.73668,114053001.59380531,3.6574319587946394E-2]
[null,45,"HIGHLAND",{"$f":"VLOOKUP(B50,'2020-2022 Composite Index'!$A$6:$K$140,3,FALSE)","v":637887453.24902165},653594689.99574113,-15707236.74671948,-2.4032075209824345E-2]
[null,46,"ISLE OF WIGHT",{"$f":"VLOOKUP(B51,'2020-2022 Composite Index'!$A$6:$K$140,3,FALSE)","v":5005182812.2924986},4673046081.0904694,332136731.20202923,7.1074995931673782E-2]
[null,47,"JAMES CITY",{"$f":"VLOOKUP(B52,'2020-2022 Composite Index'!$A$6:$K$140,3,FALSE)","v":13050045023.309473},12512468850.514198,537576172.79527473,4.2963237648594277E-2]
[null,48,"KING GEORGE",{"$f":"VLOOKUP(B53,'2020-2022 Composite Index'!$A$6:$K$140,3,FALSE)","v":3480141112.3470144},3197353292.7142034,282787819.63281107,8.8444345602094895E-2]
[null,49,"KING AND QUEEN",{"$f":"VLOOKUP(B54,'2020-2022 Composite Index'!$A$6:$K$140,3,FALSE)","v":981207271.51116312},942198653.81307852,39008617.698084593,4.1401691182869654E-2]
[null,50,"KING WILLIAM",{"$f":"VLOOKUP(B55,'2020-2022 Composite Index'!$A$6:$K$140,3,FALSE)","v":1697241572.8793774},1532880856.1757441,164360716.70363331,0.10722341272738123]
[null,51,"LANCASTER",{"$f":"VLOOKUP(B56,'2020-2022 Composite Index'!$A$6:$K$140,3,FALSE)","v":2617889478.9597521},2626641072.0150409,-8751593.0552887917,-3.331857233380944E-3]
[null,52,"LEE",{"$f":"VLOOKUP(B57,'2020-2022 Composite Index'!$A$6:$K$140,3,FALSE)","v":1138485056.0939226},1154579892.7181141,-16094836.624191523,-1.3939993867640487E-2]
[null,53,"LOUDOUN",{"$f":"VLOOKUP(B58,'2020-2022 Composite Index'!$A$6:$K$140,3,FALSE)","v":84918073098.409882},74057839092.188339,10860234006.221542,0.14664529966507064]
[null,54,"LOUISA",{"$f":"VLOOKUP(B59,'2020-2022 Composite Index'!$A$6:$K$140,3,FALSE)","v":7695422724.5881872},7490954655.0249119,204468069.56327534,2.7295328697006425E-2]
[null,55,"LUNENBURG",{"$f":"VLOOKUP(B60,'2020-2022 Composite Index'!$A$6:$K$140,3,FALSE)","v":994576205.92197824},973149203.74825239,21427002.173725843,2.2018208606857038E-2]
[null,56,"MADISON",{"$f":"VLOOKUP(B61,'2020-2022 Composite Index'!$A$6:$K$140,3,FALSE)","v":2319775163.1593547},2183766360.5184622,136008802.64089251,6.2281755548520203E-2]
[null,57,"MATHEWS",{"$f":"VLOOKUP(B62,'2020-2022 Composite Index'!$A$6:$K$140,3,FALSE)","v":1681978635.7777324},1544894655.6256881,137083980.1520443,8.8733545457521684E-2]
[null,58,"MECKLENBURG",{"$f":"VLOOKUP(B63,'2020-2022 Composite Index'!$A$6:$K$140,3,FALSE)","v":4379236370.896122},3931843918.0273051,447392452.86881685,0.11378693106751901]
[null,59,"MIDDLESEX",{"$f":"VLOOKUP(B64,'2020-2022 Composite Index'!$A$6:$K$140,3,FALSE)","v":2304976582.7809606},2258959159.1449738,46017423.635986805,2.0371073753013138E-2]
[null,60,"MONTGOMERY",{"$f":"VLOOKUP(B65,'2020-2022 Composite Index'!$A$6:$K$140,3,FALSE)","v":9010770466.2197704},8144236258.0901146,866534208.12965584,0.10639846152165344]
[null,62,"NELSON",{"$f":"VLOOKUP(B66,'2020-2022 Composite Index'!$A$6:$K$140,3,FALSE)","v":3094695787.1193795},2908574135.0675497,186121652.05182981,6.3990685266651207E-2]
[null,63,"NEW KENT",{"$f":"VLOOKUP(B67,'2020-2022 Composite Index'!$A$6:$K$140,3,FALSE)","v":3068018934.0543213},2755340472.0727825,312678461.98153877,0.11348088018549576]
[null,65,"NORTHAMPTON",{"$f":"VLOOKUP(B68,'2020-2022 Composite Index'!$A$6:$K$140,3,FALSE)","v":2081349222.5888631},2101162419.594682,-19813197.005818844,-9.4296361009735003E-3]
[null,66,"NORTHUMBERLAND",{"$f":"VLOOKUP(B69,'2020-2022 Composite Index'!$A$6:$K$140,3,FALSE)","v":3006211990.3277965},2967245739.9950027,38966250.332793713,1.3132127820616346E-2]
[null,67,"NOTTOWAY",{"$f":"VLOOKUP(B70,'2020-2022 Composite Index'!$A$6:$K$140,3,FALSE)","v":1206276137.4249439},1082405093.7497156,{"$f":"D70-E70","v":123871043.67522836},{"$f":"F70/E70","v":0.11444055870626847}]
[null,68,"ORANGE",{"$f":"VLOOKUP(B71,'2020-2022 Composite Index'!$A$6:$K$140,3,FALSE)","v":4660934258.5186081},4579356935.234251,81577323.284357071,1.7814143871749559E-2]
[null,69,"PAGE",{"$f":"VLOOKUP(B72,'2020-2022 Composite Index'!$A$6:$K$140,3,FALSE)","v":2626726549.2020202},2307337792.8540144,319388756.34800577,0.13842305939649363]
[null,70,"PATRICK",{"$f":"VLOOKUP(B73,'2020-2022 Composite Index'!$A$6:$K$140,3,FALSE)","v":1637838595.3285484},1649767603.0843568,-11929007.755808353,-7.2307200926398562E-3]
[null,71,"PITTSYLVANIA",{"$f":"VLOOKUP(B74,'2020-2022 Composite Index'!$A$6:$K$140,3,FALSE)","v":4917968784.6168776},4846648595.4674702,71320189.149407387,1.4715362119734697E-2]
[null,72,"POWHATAN",{"$f":"VLOOKUP(B75,'2020-2022 Composite Index'!$A$6:$K$140,3,FALSE)","v":4252961337.0146441},3869102071.9114585,383859265.10318565,9.9211459912079053E-2]
[null,73,"PRINCE EDWARD",{"$f":"VLOOKUP(B76,'2020-2022 Composite Index'!$A$6:$K$140,3,FALSE)","v":1735744005.9118435},1683097600.6877339,52646405.22410965,3.1279472564513015E-2]
[null,74,"PRINCE GEORGE",{"$f":"VLOOKUP(B77,'2020-2022 Composite Index'!$A$6:$K$140,3,FALSE)","v":3250105232.5275345},3014849483.3194718,235255749.20806265,7.8032336443223202E-2]
[null,75,"PRINCE WILLIAM",{"$f":"VLOOKUP(B78,'2020-2022 Composite Index'!$A$6:$K$140,3,FALSE)","v":64496713588.881714},58784909112.445976,5711804476.4357376,9.7164468954268252E-2]
[null,77,"PULASKI",{"$f":"VLOOKUP(B79,'2020-2022 Composite Index'!$A$6:$K$140,3,FALSE)","v":3030751356.2835822},2955324153.6391053,75427202.644476891,2.5522480351807736E-2]
[null,78,"RAPPAHANNOCK",{"$f":"VLOOKUP(B80,'2020-2022 Composite Index'!$A$6:$K$140,3,FALSE)","v":2116665131.3772788},1990142500.2665949,126522631.11068392,6.357465914814403E-2]
[null,79,"RICHMOND COUNTY",{"$f":"VLOOKUP(B81,'2020-2022 Composite Index'!$A$6:$K$140,3,FALSE)","v":1002618539.3058923},920660028.70180047,81958510.604091883,8.9021471606255689E-2]
[null,80,"ROANOKE COUNTY",{"$f":"VLOOKUP(B82,'2020-2022 Composite Index'!$A$6:$K$140,3,FALSE)","v":9484304507.0225658},9060921998.5536594,423382508.4689064,4.6726206067824932E-2]
[null,81,"ROCKBRIDGE",{"$f":"VLOOKUP(B83,'2020-2022 Composite Index'!$A$6:$K$140,3,FALSE)","v":3237676337.9390926},2929929490.7019277,307746847.23716497,0.10503558130453085]
[null,82,"ROCKINGHAM",{"$f":"VLOOKUP(B84,'2020-2022 Composite Index'!$A$6:$K$140,3,FALSE)","v":10539136675.836027},9657180438.8506355,881956236.98539162,9.132647386780722E-2]
[null,83,"RUSSELL",{"$f":"VLOOKUP(B85,'2020-2022 Composite Index'!$A$6:$K$140,3,FALSE)","v":2142651703.8957539},2003212219.6750271,139439484.22072673,6.960794410656472E-2]
[null,84,"SCOTT",{"$f":"VLOOKUP(B86,'2020-2022 Composite Index'!$A$6:$K$140,3,FALSE)","v":1449588768.8548353},1411693443.4263144,37895325.428520918,2.6843877192306961E-2]
[null,85,"SHENANDOAH",{"$f":"VLOOKUP(B87,'2020-2022 Composite Index'!$A$6:$K$140,3,FALSE)","v":5560973201.7541246},5363197964.8146381,197775236.9394865,3.6876363363238629E-2]
[null,86,"SMYTH",{"$f":"VLOOKUP(B88,'2020-2022 Composite Index'!$A$6:$K$140,3,FALSE)","v":2050943352.2474034},1911765583.545476,139177768.70192742,7.2800645591607774E-2]
[null,87,"SOUTHAMPTON",{"$f":"VLOOKUP(B89,'2020-2022 Composite Index'!$A$6:$K$140,3,FALSE)","v":2105916475.5673299},1916893450.3137805,189023025.25354934,9.8609041218544385E-2]
[null,88,"SPOTSYLVANIA",{"$f":"VLOOKUP(B90,'2020-2022 Composite Index'!$A$6:$K$140,3,FALSE)","v":17549263472.548038},16138769357.51502,1410494115.0330181,8.7397873021601943E-2]
[null,89,"STAFFORD",{"$f":"VLOOKUP(B91,'2020-2022 Composite Index'!$A$6:$K$140,3,FALSE)","v":19587826223.531853},17965419467.794609,1622406755.7372437,9.0307201490375577E-2]
[null,90,"SURRY",{"$f":"VLOOKUP(B92,'2020-2022 Composite Index'!$A$6:$K$140,3,FALSE)","v":2840333103.9658718},2663022868.8000984,177310235.16577339,6.6582317877602618E-2]
[null,91,"SUSSEX",{"$f":"VLOOKUP(B93,'2020-2022 Composite Index'!$A$6:$K$140,3,FALSE)","v":1028597204.1583422},985375129.81143045,43222074.346911788,4.3863573414099785E-2]
[null,92,"TAZEWELL",{"$f":"VLOOKUP(B94,'2020-2022 Composite Index'!$A$6:$K$140,3,FALSE)","v":2929410024.421875},2890893582.5284963,38516441.893378735,1.3323368983956389E-2]
[null,93,"WARREN",{"$f":"VLOOKUP(B95,'2020-2022 Composite Index'!$A$6:$K$140,3,FALSE)","v":6023427519.9794588},5684050581.9539289,339376938.02552986,5.9706882113787746E-2]
[null,94,"WASHINGTON",{"$f":"VLOOKUP(B96,'2020-2022 Composite Index'!$A$6:$K$140,3,FALSE)","v":5482514964.2722025},5232344009.2171783,250170955.05502415,4.7812405800216631E-2]
[null,95,"WESTMORELAND",{"$f":"VLOOKUP(B97,'2020-2022 Composite Index'!$A$6:$K$140,3,FALSE)","v":2132048750.1497116},2163936548.5050507,-31887798.35533905,-1.4736013575522186E-2]
[null,96,"WISE",{"$f":"VLOOKUP(B98,'2020-2022 Composite Index'!$A$6:$K$140,3,FALSE)","v":3462392703.2608471},3514761351.4171143,-52368648.156267166,-1.4899631275151209E-2]
[null,97,"WYTHE",{"$f":"VLOOKUP(B99,'2020-2022 Composite Index'!$A$6:$K$140,3,FALSE)","v":2999424650.148581},2794606044.1296806,204818606.01890039,7.3290690274266088E-2]
[null,98,"YORK",{"$f":"VLOOKUP(B100,'2020-2022 Composite Index'!$A$6:$K$140,3,FALSE)","v":9947911300.6336079},9444497028.5649796,503414272.06862831,5.3302390857453461E-2]
[null,101,"ALEXANDRIA",{"$f":"VLOOKUP(B101,'2020-2022 Composite Index'!$A$6:$K$140,3,FALSE)","v":40241761138.620949},38423290440.087097,1818470698.5338516,4.7327302729821323E-2]
[null,102,"BRISTOL",{"$f":"VLOOKUP(B102,'2020-2022 Composite Index'!$A$6:$K$140,3,FALSE)","v":1301914172.7526095},1179371645.864876,{"$f":"D102-E102","v":122542526.88773346},{"$f":"F102/E102","v":0.10390492879610361}]
[null,103,"BUENA VISTA",{"$f":"VLOOKUP(B103,'2020-2022 Composite Index'!$A$6:$K$140,3,FALSE)","v":340422447.9868319},345560427.11530399,-5137979.1284720898,-1.486854027633693E-2]
[null,104,"CHARLOTTESVILLE",{"$f":"VLOOKUP(B104,'2020-2022 Composite Index'!$A$6:$K$140,3,FALSE)","v":7637638791.5555553},6170868791,1466770000.5555553,0.23769262485288764]
[null,106,"COLONIAL HEIGHTS",{"$f":"VLOOKUP(B105,'2020-2022 Composite Index'!$A$6:$K$140,3,FALSE)","v":1812640040.8409362},1696534293.2860086,116105747.55492759,6.843701775697264E-2]
[null,107,"COVINGTON",{"$f":"VLOOKUP(B106,'2020-2022 Composite Index'!$A$6:$K$140,3,FALSE)","v":580167623.31773269},557512650.10739708,22654973.210335612,4.0635801189392647E-2]
[null,108,"DANVILLE",{"$f":"VLOOKUP(B107,'2020-2022 Composite Index'!$A$6:$K$140,3,FALSE)","v":2314741875.1414142},2328316143.3940949,-13574268.252680779,-5.8300795152727561E-3]
[null,109,"FALLS CHURCH",{"$f":"VLOOKUP(B108,'2020-2022 Composite Index'!$A$6:$K$140,3,FALSE)","v":4429390875.1606121},4024378159.3447037,405012715.81590843,0.10063982552818976]
[null,110,"FREDERICKSBURG",{"$f":"VLOOKUP(B109,'2020-2022 Composite Index'!$A$6:$K$140,3,FALSE)","v":4256115976.0956955},4271986394.4661479,-15870418.370452404,-3.7149974051908616E-3]
[null,111,"GALAX",{"$f":"VLOOKUP(B110,'2020-2022 Composite Index'!$A$6:$K$140,3,FALSE)","v":517853296.76590931},453336162.24122763,64517134.524681687,0.14231632042261622]
[null,112,"HAMPTON",{"$f":"VLOOKUP(B111,'2020-2022 Composite Index'!$A$6:$K$140,3,FALSE)","v":11298695163.44898},10887152456.34535,411542707.10363007,3.7800766431241715E-2]
[null,113,"HARRISONBURG",{"$f":"VLOOKUP(B112,'2020-2022 Composite Index'!$A$6:$K$140,3,FALSE)","v":4478527081.7577124},4097626380.4441514,380900701.31356096,9.2956425488522509E-2]
[null,114,"HOPEWELL",{"$f":"VLOOKUP(B113,'2020-2022 Composite Index'!$A$6:$K$140,3,FALSE)","v":1743092657.5218105},1607070138.8651245,136022518.65668607,8.4640063533718571E-2]
[null,115,"LYNCHBURG",{"$f":"VLOOKUP(B114,'2020-2022 Composite Index'!$A$6:$K$140,3,FALSE)","v":5751276306.7575245},5439315296.7653093,311961009.99221516,5.7352992605104972E-2]
[null,116,"MARTINSVILLE",{"$f":"VLOOKUP(B115,'2020-2022 Composite Index'!$A$6:$K$140,3,FALSE)","v":679090524.71235728},682772063.3787204,-3681538.6663631201,-5.3920464292942843E-3]
[null,117,"NEWPORT NEWS",{"$f":"VLOOKUP(B116,'2020-2022 Composite Index'!$A$6:$K$140,3,FALSE)","v":15940670477.786209},14918461774.952984,1022208702.8332253,6.8519711901493724E-2]
[null,118,"NORFOLK",{"$f":"VLOOKUP(B117,'2020-2022 Composite Index'!$A$6:$K$140,3,FALSE)","v":20271901551.44326},18988098325.460701,1283803225.9825592,6.7610942600878424E-2]
[null,119,"NORTON",{"$f":"VLOOKUP(B118,'2020-2022 Composite Index'!$A$6:$K$140,3,FALSE)","v":268221468.51461154},261967543.05828512,6253925.4563264251,2.3872901899663922E-2]
[null,120,"PETERSBURG",{"$f":"VLOOKUP(B119,'2020-2022 Composite Index'!$A$6:$K$140,3,FALSE)","v":2049675300.2709107},1948638534.539422,101036765.7314887,5.1849926982671331E-2]
[null,121,"PORTSMOUTH",{"$f":"VLOOKUP(B120,'2020-2022 Composite Index'!$A$6:$K$140,3,FALSE)","v":7493264463.627615},7517722515.0845079,-24458051.456892967,-3.2533857704666862E-3]
[null,122,"RADFORD",{"$f":"VLOOKUP(B121,'2020-2022 Composite Index'!$A$6:$K$140,3,FALSE)","v":925257385.2163589},871874958.59416163,53382426.62219727,6.122715889016099E-2]
[null,123,"RICHMOND CITY",{"$f":"VLOOKUP(B122,'2020-2022 Composite Index'!$A$6:$K$140,3,FALSE)","v":25285469456.353184},22953530783.923157,2331938672.430027,0.10159389831490918]
[null,124,"ROANOKE CITY",{"$f":"VLOOKUP(B123,'2020-2022 Composite Index'!$A$6:$K$140,3,FALSE)","v":8006183886.744957},7708082338.1303196,298101548.61463737,3.8673892615286358E-2]
[null,126,"STAUNTON",{"$f":"VLOOKUP(B124,'2020-2022 Composite Index'!$A$6:$K$140,3,FALSE)","v":2061468017.9821334},1921277548.7354288,140190469.24670458,7.2967317678269306E-2]
[null,127,"SUFFOLK",{"$f":"VLOOKUP(B125,'2020-2022 Composite Index'!$A$6:$K$140,3,FALSE)","v":10800133373.296234},10098793805.731142,701339567.56509209,6.9447854967300798E-2]
[null,128,"VIRGINIA BEACH",{"$f":"VLOOKUP(B126,'2020-2022 Composite Index'!$A$6:$K$140,3,FALSE)","v":61362089466.21727},57617510275.98877,3744579190.2285004,6.499029847509738E-2]
[null,130,"WAYNESBORO",{"$f":"VLOOKUP(B127,'2020-2022 Composite Index'!$A$6:$K$140,3,FALSE)","v":2102741411.6239665},1960997755.8064194,141743655.81754708,7.2281396242219548E-2]
[null,131,"WILLIAMSBURG",{"$f":"VLOOKUP(B128,'2020-2022 Composite Index'!$A$6:$K$140,3,FALSE)","v":1966889776.7903092},1847992755.7282796,118897021.0620296,6.433846707108612E-2]
[null,132,"WINCHESTER",{"$f":"VLOOKUP(B129,'2020-2022 Composite Index'!$A$6:$K$140,3,FALSE)","v":3368957279.7845116},3146782686.7224503,222174593.06206131,7.0603729326307096E-2]
[null,134,"FAIRFAX CITY",{"$f":"VLOOKUP(B130,'2020-2022 Composite Index'!$A$6:$K$140,3,FALSE)","v":6355389025.1897068},6093747493.0518646,261641532.13784218,4.2936063963294795E-2]
[null,135,"FRANKLIN CITY",{"$f":"VLOOKUP(B131,'2020-2022 Composite Index'!$A$6:$K$140,3,FALSE)","v":559805775.87078476},546080260.40340698,13725515.467377782,2.5134612002342484E-2]
[null,136,"CHESAPEAKE",{"$f":"VLOOKUP(B132,'2020-2022 Composite Index'!$A$6:$K$140,3,FALSE)","v":28351072450.137012},26309889889.600494,2041182560.5365181,7.7582330032606325E-2]
[null,137,"LEXINGTON",{"$f":"VLOOKUP(B133,'2020-2022 Composite Index'!$A$6:$K$140,3,FALSE)","v":552281823.07528639},559234885.19368243,-6953062.1183960438,-1.2433169500840344E-2]
[null,138,"EMPORIA",{"$f":"VLOOKUP(B134,'2020-2022 Composite Index'!$A$6:$K$140,3,FALSE)","v":365347587.28288037},349136294.45275486,{"$f":"D134-E134","v":16211292.830125511},{"$f":"F134/E134","v":4.6432562548489854E-2}]
[null,139,"SALEM",{"$f":"VLOOKUP(B135,'2020-2022 Composite Index'!$A$6:$K$140,3,FALSE)","v":2426210430.4134278},2252842869.9508963,173367560.46253157,7.6955016603670337E-2]
[null,142,"POQUOSON",{"$f":"VLOOKUP(B136,'2020-2022 Composite Index'!$A$6:$K$140,3,FALSE)","v":1591617690.1021671},1527109407.5634611,64508282.538706064,4.2242083127253173E-2]
[null,143,"MANASSAS",{"$f":"VLOOKUP(B137,'2020-2022 Composite Index'!$A$6:$K$140,3,FALSE)","v":5514335180.9101801},4993679524.8490257,520655656.06115437,0.10426292946319886]
[null,144,"MANASSAS PARK",{"$f":"VLOOKUP(B138,'2020-2022 Composite Index'!$A$6:$K$140,3,FALSE)","v":1675033514.0426958},1520648019.9699478,154385494.07274795,0.10152612047316448]
[null,202,"COLONIAL BEACH",{"$f":"VLOOKUP(B139,'2020-2022 Composite Index'!$A$6:$K$140,3,FALSE)","v":516947893.90109891},529185628.89695674,-12237734.995857835,-2.3125599652746374E-2]
[null,207,"WEST POINT",{"$f":"VLOOKUP(B140,'2020-2022 Composite Index'!$A$6:$K$140,3,FALSE)","v":391995669.25919694},337396232.27027029,54599436.988926649,0.16182586456742032]
[null,null,null,{"$f":"SUM(D6:D140)","v":1255682912828.5125},{"$f":"SUM(E6:E140)","v":1170092111098.9373},{"$f":"SUM(F6:F140)","v":85590801729.575394},{"$f":"F141/E141","v":7.3148772577561846E-2}]
[]
[]
[]
[]
[]
[]
[null,null,null,null,0]

{"sheet":"Adjusted Gross Income","index":12,"n_rows":148,"n_cols":15,"rows_kept":148,"cut":false,"hidden":false,"merged":[[1,1,1,6],[3,5,3,6]]}
["NO DATA","NO DATA","NO DATA","NO DATA","NO DATA","NO DATA","NO DATA",null,{"$f":"'2020-2022 Calculation Template'!N2","v":"<SE"}]
[null,"Comparison of Adjusted Gross Income Data from Base Year 2015\n(for 2018-2020 Biennium) to Base Year 2017 (for 2020-2022 Biennium)\n(including non-residential)"]
["NO DATA","NO DATA","NO DATA","NO DATA","NO DATA","NO DATA","NO DATA"]
["no data","no data","no data","no data","no data","Click this cell to view sort options"]
[null,"Div","Division","2017\nTotal Adjusted Gross Income","2015\nTotal Adjusted Gross Income","Variance","Percentage Change from Prior Base Year"]
["NO DATA",1,"ACCOMACK",{"$f":"VLOOKUP(B6,'2020-2022 Composite Index'!$A$6:$K$140,4,FALSE)","v":710967096.66079998},723999503.04480004,{"$f":"D6-E6","v":-13032406.384000063},{"$f":"F6/E6","v":-1.8000573659501029E-2}]
["NO DATA",2,"ALBEMARLE",{"$f":"VLOOKUP(B7,'2020-2022 Composite Index'!$A$6:$K$140,4,FALSE)","v":4705654613.3959999},5051376339.1620998,-345721725.76609993,-6.844109457571057E-2,null,null,null,null,null,null,null,"Click this cell to view sort options"]
["NO DATA",3,"ALLEGHANY",{"$f":"VLOOKUP(B8,'2020-2022 Composite Index'!$A$6:$K$140,4,FALSE)","v":314799601.042},325700568.58289999,-10900967.540899992,-3.3469292326781398E-2,null,null,null,null,null,null,null,"Division Number - Ascending"]
["NO DATA",4,"AMELIA",{"$f":"VLOOKUP(B9,'2020-2022 Composite Index'!$A$6:$K$140,4,FALSE)","v":301430326.46880001},287614413.59100002,13815912.877799988,4.8036232625833578E-2,null,null,null,null,null,null,null,"Variance - Ascending"]
["NO DATA",5,"AMHERST",{"$f":"VLOOKUP(B10,'2020-2022 Composite Index'!$A$6:$K$140,4,FALSE)","v":620940701.74199998},605771635.29100001,15169066.450999975,2.5040899189202007E-2,null,null,null,null,null,null,null,"Variance - Descending"]
["NO DATA",6,"APPOMATTOX",{"$f":"VLOOKUP(B11,'2020-2022 Composite Index'!$A$6:$K$140,4,FALSE)","v":316652150.22399998},300389174.06999999,16262976.153999984,5.4139687970946003E-2,null,null,null,null,null,null,null,"% Variance - Ascending"]
["NO DATA",7,"ARLINGTON",{"$f":"VLOOKUP(B12,'2020-2022 Composite Index'!$A$6:$K$140,4,FALSE)","v":14433695257.162001},14020477518.7628,413217738.39920044,2.9472443991027757E-2,null,null,null,null,null,null,null,"% Variance - Descending"]
["NO DATA",8,"AUGUSTA",{"$f":"VLOOKUP(B13,'2020-2022 Composite Index'!$A$6:$K$140,4,FALSE)","v":1840044888.3870001},1744534383.697,95510504.690000057,5.4748422033158863E-2]
["NO DATA",9,"BATH",{"$f":"VLOOKUP(B14,'2020-2022 Composite Index'!$A$6:$K$140,4,FALSE)","v":105911017.4508},107856632.74339999,-1945615.292599991,-1.8038902597940113E-2]
["NO DATA",10,"BEDFORD COUNTY",{"$f":"VLOOKUP(B15,'2020-2022 Composite Index'!$A$6:$K$140,4,FALSE)","v":2154075391.4400001},2113311071.9749999,40764319.465000153,1.9289313346048841E-2]
["NO DATA",11,"BLAND",{"$f":"VLOOKUP(B16,'2020-2022 Composite Index'!$A$6:$K$140,4,FALSE)","v":111626985.583},115607285.661,-3980300.0779999942,-3.4429491664319425E-2]
["NO DATA",12,"BOTETOURT",{"$f":"VLOOKUP(B17,'2020-2022 Composite Index'!$A$6:$K$140,4,FALSE)","v":938448526.77600002},917707929.73000002,20740597.046000004,2.260043350840623E-2]
["NO DATA",13,"BRUNSWICK",{"$f":"VLOOKUP(B18,'2020-2022 Composite Index'!$A$6:$K$140,4,FALSE)","v":254869443.56200001},255014166.89899999,-144723.3369999826,-5.6751096913490776E-4]
["NO DATA",14,"BUCHANAN",{"$f":"VLOOKUP(B19,'2020-2022 Composite Index'!$A$6:$K$140,4,FALSE)","v":283142350.56},294218297.27700001,-11075946.717000008,-3.7645336199373929E-2]
["NO DATA",15,"BUCKINGHAM",{"$f":"VLOOKUP(B20,'2020-2022 Composite Index'!$A$6:$K$140,4,FALSE)","v":245258412.33000001},242674591.13499999,2583821.1950000226,1.0647267119789404E-2]
["NO DATA",16,"CAMPBELL",{"$f":"VLOOKUP(B21,'2020-2022 Composite Index'!$A$6:$K$140,4,FALSE)","v":1117736708.9216001},1098826029.687,18910679.234600067,1.7209893762697596E-2]
["NO DATA",17,"CAROLINE",{"$f":"VLOOKUP(B22,'2020-2022 Composite Index'!$A$6:$K$140,4,FALSE)","v":714592168.95799994},683056477.79400003,31535691.163999915,4.6168497319354351E-2]
["NO DATA",18,"CARROLL",{"$f":"VLOOKUP(B23,'2020-2022 Composite Index'!$A$6:$K$140,4,FALSE)","v":472967570.352},457357033.03439999,15610537.317600012,3.413205917930176E-2]
["NO DATA",19,"CHARLES CITY",{"$f":"VLOOKUP(B24,'2020-2022 Composite Index'!$A$6:$K$140,4,FALSE)","v":180272188.99200001},170857780.535,9414408.4570000172,5.5100847193034257E-2]
["NO DATA",20,"CHARLOTTE",{"$f":"VLOOKUP(B25,'2020-2022 Composite Index'!$A$6:$K$140,4,FALSE)","v":206130724.757},217253725.0088,-11123000.251800001,-5.1198202706763514E-2]
["NO DATA",21,"CHESTERFIELD",{"$f":"VLOOKUP(B26,'2020-2022 Composite Index'!$A$6:$K$140,4,FALSE)","v":11087680066.448},10652986641.969299,434693424.47870064,4.0804840847744057E-2]
["NO DATA",22,"CLARKE",{"$f":"VLOOKUP(B27,'2020-2022 Composite Index'!$A$6:$K$140,4,FALSE)","v":598066141.08700001},542115810.03400004,55950331.052999973,0.10320734060401396]
["NO DATA",23,"CRAIG",{"$f":"VLOOKUP(B28,'2020-2022 Composite Index'!$A$6:$K$140,4,FALSE)","v":100292646.881},96519187.584999993,3773459.2960000038,3.9095431596716378E-2]
["NO DATA",24,"CULPEPER",{"$f":"VLOOKUP(B29,'2020-2022 Composite Index'!$A$6:$K$140,4,FALSE)","v":1366184410.7820001},1272750536.658,93433874.124000072,7.3410987803894073E-2]
["NO DATA",25,"CUMBERLAND",{"$f":"VLOOKUP(B30,'2020-2022 Composite Index'!$A$6:$K$140,4,FALSE)","v":170132350.248},162619003.06060001,7513347.1873999834,4.6202147633386564E-2]
["NO DATA",26,"DICKENSON",{"$f":"VLOOKUP(B31,'2020-2022 Composite Index'!$A$6:$K$140,4,FALSE)","v":183436909.21799999},185755461.8554,-2318552.6374000013,-1.2481746777410303E-2]
["NO DATA",27,"DINWIDDIE",{"$f":"VLOOKUP(B32,'2020-2022 Composite Index'!$A$6:$K$140,4,FALSE)","v":596767440.31500006},581719837.57700002,15047602.738000035,2.5867439557634549E-2]
["NO DATA",28,"ESSEX",{"$f":"VLOOKUP(B33,'2020-2022 Composite Index'!$A$6:$K$140,4,FALSE)","v":238178111.24599999},240430772.38299999,-2252661.1369999945,-9.369271306967162E-3]
["NO DATA",29,"FAIRFAX COUNTY",{"$f":"VLOOKUP(B34,'2020-2022 Composite Index'!$A$6:$K$140,4,FALSE)","v":59704270833.5382},60844541467.445801,-1140270633.9076004,-1.8740721951494854E-2]
["NO DATA",30,"FAUQUIER",{"$f":"VLOOKUP(B35,'2020-2022 Composite Index'!$A$6:$K$140,4,FALSE)","v":2964279243.2820001},3197576357.7091999,-233297114.42719984,-7.2960607763042765E-2]
["NO DATA",31,"FLOYD",{"$f":"VLOOKUP(B36,'2020-2022 Composite Index'!$A$6:$K$140,4,FALSE)","v":302811476.87800002},294224896.97500002,8586579.9029999971,2.9183729831434319E-2]
["NO DATA",32,"FLUVANNA",{"$f":"VLOOKUP(B37,'2020-2022 Composite Index'!$A$6:$K$140,4,FALSE)","v":693123058.66919994},648907375.47800004,44215683.191199899,6.8138666413877044E-2]
["NO DATA",33,"FRANKLIN COUNTY",{"$f":"VLOOKUP(B38,'2020-2022 Composite Index'!$A$6:$K$140,4,FALSE)","v":1165860877.625},1131517145.7293999,{"$f":"D38-E38","v":34343731.89560008},{"$f":"F38/E38","v":3.0351932381423512E-2}]
["NO DATA",34,"FREDERICK",{"$f":"VLOOKUP(B39,'2020-2022 Composite Index'!$A$6:$K$140,4,FALSE)","v":2617118113.3899999},2442467859.638,174650253.75199986,7.1505650755168959E-2]
["NO DATA",35,"GILES",{"$f":"VLOOKUP(B40,'2020-2022 Composite Index'!$A$6:$K$140,4,FALSE)","v":322847137.76999998},323426015.37159997,-578877.60159999132,-1.7898300510393096E-3]
["NO DATA",36,"GLOUCESTER",{"$f":"VLOOKUP(B41,'2020-2022 Composite Index'!$A$6:$K$140,4,FALSE)","v":987497269.903},946981548.21780002,40515721.685199976,4.278406666048535E-2]
["NO DATA",37,"GOOCHLAND",{"$f":"VLOOKUP(B42,'2020-2022 Composite Index'!$A$6:$K$140,4,FALSE)","v":1455957065.6059999},1437296953.329,18660112.27699995,1.29827814869991E-2]
["NO DATA",38,"GRAYSON",{"$f":"VLOOKUP(B43,'2020-2022 Composite Index'!$A$6:$K$140,4,FALSE)","v":243209841.78119999},263095529.88209999,-19885688.100899994,-7.5583527055025579E-2]
["NO DATA",39,"GREENE",{"$f":"VLOOKUP(B44,'2020-2022 Composite Index'!$A$6:$K$140,4,FALSE)","v":485417962.46399999},455535998.60799998,29881963.856000006,6.559737089343444E-2]
["NO DATA",40,"GREENSVILLE",{"$f":"VLOOKUP(B45,'2020-2022 Composite Index'!$A$6:$K$140,4,FALSE)","v":206649112.28549999},212242897.2974,-5593785.0119000077,-2.635558166199483E-2]
["NO DATA",41,"HALIFAX",{"$f":"VLOOKUP(B46,'2020-2022 Composite Index'!$A$6:$K$140,4,FALSE)","v":617703634.33973002},622215965.86500001,-4512331.5252699852,-7.2520342980864775E-3]
["NO DATA",42,"HANOVER",{"$f":"VLOOKUP(B47,'2020-2022 Composite Index'!$A$6:$K$140,4,FALSE)","v":3845688564.0693998},3625397263.1492,220291300.92019987,6.0763355000947927E-2]
["NO DATA",43,"HENRICO",{"$f":"VLOOKUP(B48,'2020-2022 Composite Index'!$A$6:$K$140,4,FALSE)","v":11025542633.787701},10706405670.062599,319136963.72510147,2.980803955686797E-2]
["NO DATA",44,"HENRY",{"$f":"VLOOKUP(B49,'2020-2022 Composite Index'!$A$6:$K$140,4,FALSE)","v":897040682.45770001},864808728.1882,32231954.269500017,3.7270616286478653E-2]
["NO DATA",45,"HIGHLAND",{"$f":"VLOOKUP(B50,'2020-2022 Composite Index'!$A$6:$K$140,4,FALSE)","v":48628507.691},49103920.795999996,-475413.10499999672,-9.6817748418721768E-3]
["NO DATA",46,"ISLE OF WIGHT",{"$f":"VLOOKUP(B51,'2020-2022 Composite Index'!$A$6:$K$140,4,FALSE)","v":1097860213.734},1072159453.3839999,25700760.350000024,2.3971024336801844E-2]
["NO DATA",47,"JAMES CITY",{"$f":"VLOOKUP(B52,'2020-2022 Composite Index'!$A$6:$K$140,4,FALSE)","v":3014334841.9920001},2890281957.1518002,124052884.84019995,4.2920686175007869E-2]
["NO DATA",48,"KING GEORGE",{"$f":"VLOOKUP(B53,'2020-2022 Composite Index'!$A$6:$K$140,4,FALSE)","v":803004289.56400001},767258358.13909996,35745931.424900055,4.6589171751217996E-2]
["NO DATA",49,"KING AND QUEEN",{"$f":"VLOOKUP(B54,'2020-2022 Composite Index'!$A$6:$K$140,4,FALSE)","v":150793913.54699999},142621954.491,8171959.0559999943,5.7298044225832546E-2]
["NO DATA",50,"KING WILLIAM",{"$f":"VLOOKUP(B55,'2020-2022 Composite Index'!$A$6:$K$140,4,FALSE)","v":357876540},339636150,18240390,5.370567885662348E-2]
["NO DATA",51,"LANCASTER",{"$f":"VLOOKUP(B56,'2020-2022 Composite Index'!$A$6:$K$140,4,FALSE)","v":331501028.87300003},321655823.57639998,9845205.2966000438,3.0607887608357264E-2]
["NO DATA",52,"LEE",{"$f":"VLOOKUP(B57,'2020-2022 Composite Index'!$A$6:$K$140,4,FALSE)","v":280523036.58499998},286784132.10689998,-6261095.5218999982,-2.1832084906169596E-2]
["NO DATA",53,"LOUDOUN",{"$f":"VLOOKUP(B58,'2020-2022 Composite Index'!$A$6:$K$140,4,FALSE)","v":20877016004.071701},19025828188.1717,1851187815.9000015,9.729867197323265E-2]
["NO DATA",54,"LOUISA",{"$f":"VLOOKUP(B59,'2020-2022 Composite Index'!$A$6:$K$140,4,FALSE)","v":909729092.25969994},840019099.66649997,69709992.593199968,8.2986199505315855E-2]
["NO DATA",55,"LUNENBURG",{"$f":"VLOOKUP(B60,'2020-2022 Composite Index'!$A$6:$K$140,4,FALSE)","v":189048883.23199999},178613466.965,10435416.26699999,5.8424577073154564E-2]
["NO DATA",56,"MADISON",{"$f":"VLOOKUP(B61,'2020-2022 Composite Index'!$A$6:$K$140,4,FALSE)","v":327282712.824},308540593.88099998,18742118.943000019,6.0744418448318037E-2]
["NO DATA",57,"MATHEWS",{"$f":"VLOOKUP(B62,'2020-2022 Composite Index'!$A$6:$K$140,4,FALSE)","v":232145137.06900001},234955677.49134001,-2810540.4223400056,-1.1962002588524792E-2]
["NO DATA",58,"MECKLENBURG",{"$f":"VLOOKUP(B63,'2020-2022 Composite Index'!$A$6:$K$140,4,FALSE)","v":586690948.949},579779221.28219998,6911727.6668000221,1.1921309721163375E-2]
["NO DATA",59,"MIDDLESEX",{"$f":"VLOOKUP(B64,'2020-2022 Composite Index'!$A$6:$K$140,4,FALSE)","v":269874645.58099997},264999185.79300001,4875459.7879999578,1.8398017991679217E-2]
["NO DATA",60,"MONTGOMERY",{"$f":"VLOOKUP(B65,'2020-2022 Composite Index'!$A$6:$K$140,4,FALSE)","v":2153801351.6343999},2042835618.4668,110965733.16759992,5.4319462694155746E-2]
["NO DATA",62,"NELSON",{"$f":"VLOOKUP(B66,'2020-2022 Composite Index'!$A$6:$K$140,4,FALSE)","v":398056053.47799999},388166056.98500001,9889996.4929999709,2.5478777226990129E-2]
["NO DATA",63,"NEW KENT",{"$f":"VLOOKUP(B67,'2020-2022 Composite Index'!$A$6:$K$140,4,FALSE)","v":697158538.37800002},641920853.28960001,55237685.088400006,8.6050616373230276E-2]
["NO DATA",65,"NORTHAMPTON",{"$f":"VLOOKUP(B68,'2020-2022 Composite Index'!$A$6:$K$140,4,FALSE)","v":269219459.759},256385446.8312,12834012.9278,5.0057493849288974E-2]
["NO DATA",66,"NORTHUMBERLAND",{"$f":"VLOOKUP(B69,'2020-2022 Composite Index'!$A$6:$K$140,4,FALSE)","v":325582101.44099998},336607865.60500002,-11025764.164000034,-3.275551551412189E-2]
["NO DATA",67,"NOTTOWAY",{"$f":"VLOOKUP(B70,'2020-2022 Composite Index'!$A$6:$K$140,4,FALSE)","v":244985533.06999999},235448294.03240001,{"$f":"D70-E70","v":9537239.0375999808},{"$f":"F70/E70","v":4.0506723893644195E-2}]
["NO DATA",68,"ORANGE",{"$f":"VLOOKUP(B71,'2020-2022 Composite Index'!$A$6:$K$140,4,FALSE)","v":974630915.96700001},900340065.52139997,74290850.445600033,8.2514211341441449E-2]
["NO DATA",69,"PAGE",{"$f":"VLOOKUP(B72,'2020-2022 Composite Index'!$A$6:$K$140,4,FALSE)","v":462573017.64999998},441708713.31,20864304.339999974,4.7235437543558231E-2]
["NO DATA",70,"PATRICK",{"$f":"VLOOKUP(B73,'2020-2022 Composite Index'!$A$6:$K$140,4,FALSE)","v":281220852.72299999},271638643.9817,9582208.7412999868,3.5275572727220393E-2]
["NO DATA",71,"PITTSYLVANIA",{"$f":"VLOOKUP(B74,'2020-2022 Composite Index'!$A$6:$K$140,4,FALSE)","v":1180967797.221},1158316989.7530999,22650807.467900038,1.9554929840689076E-2]
["NO DATA",72,"POWHATAN",{"$f":"VLOOKUP(B75,'2020-2022 Composite Index'!$A$6:$K$140,4,FALSE)","v":1018341052.087},937183726.76499999,81157325.322000027,8.6597027887094682E-2]
["NO DATA",73,"PRINCE EDWARD",{"$f":"VLOOKUP(B76,'2020-2022 Composite Index'!$A$6:$K$140,4,FALSE)","v":331400119.31699997},327262592.36400002,4137526.9529999495,1.2642834987990187E-2]
["NO DATA",74,"PRINCE GEORGE",{"$f":"VLOOKUP(B77,'2020-2022 Composite Index'!$A$6:$K$140,4,FALSE)","v":770840674.70550001},754390580.70089996,16450094.004600048,2.1805805143161199E-2]
["NO DATA",75,"PRINCE WILLIAM",{"$f":"VLOOKUP(B78,'2020-2022 Composite Index'!$A$6:$K$140,4,FALSE)","v":15712284717.323799},14959257007.5709,753027709.75289917,5.0338576934121179E-2]
["NO DATA",77,"PULASKI",{"$f":"VLOOKUP(B79,'2020-2022 Composite Index'!$A$6:$K$140,4,FALSE)","v":635361543.97599995},637001720.71099997,-1640176.7350000143,-2.5748387824907348E-3]
["NO DATA",78,"RAPPAHANNOCK",{"$f":"VLOOKUP(B80,'2020-2022 Composite Index'!$A$6:$K$140,4,FALSE)","v":265100919.95300001},263304355.646,1796564.3070000112,6.8231469342474732E-3]
["NO DATA",79,"RICHMOND COUNTY",{"$f":"VLOOKUP(B81,'2020-2022 Composite Index'!$A$6:$K$140,4,FALSE)","v":230917391.639},262225223.1692,-31307831.530200005,-0.119392906417697]
["NO DATA",80,"ROANOKE COUNTY",{"$f":"VLOOKUP(B82,'2020-2022 Composite Index'!$A$6:$K$140,4,FALSE)","v":2902580475.349},2812842503.1476002,89737972.201399803,3.1902949454504503E-2]
["NO DATA",81,"ROCKBRIDGE",{"$f":"VLOOKUP(B83,'2020-2022 Composite Index'!$A$6:$K$140,4,FALSE)","v":486605731.67699999},488067915.28420001,-1462183.6072000265,-2.9958609476482445E-3]
["NO DATA",82,"ROCKINGHAM",{"$f":"VLOOKUP(B84,'2020-2022 Composite Index'!$A$6:$K$140,4,FALSE)","v":2049709198.9454999},1949737691.8713,99971507.074199915,5.1274336794633259E-2]
["NO DATA",83,"RUSSELL",{"$f":"VLOOKUP(B85,'2020-2022 Composite Index'!$A$6:$K$140,4,FALSE)","v":403533182.41000003},416328856.11619997,-12795673.706199944,-3.0734534775145619E-2]
["NO DATA",84,"SCOTT",{"$f":"VLOOKUP(B86,'2020-2022 Composite Index'!$A$6:$K$140,4,FALSE)","v":340480335.34399998},342553219.92299998,-2072884.5789999962,-6.0512774612538883E-3]
["NO DATA",85,"SHENANDOAH",{"$f":"VLOOKUP(B87,'2020-2022 Composite Index'!$A$6:$K$140,4,FALSE)","v":1029338148.4906},969182251.54680002,60155896.943799973,6.2068714989148926E-2]
["NO DATA",86,"SMYTH",{"$f":"VLOOKUP(B88,'2020-2022 Composite Index'!$A$6:$K$140,4,FALSE)","v":499490842.44800001},490141673.111,9349169.3370000124,1.907442245761207E-2]
["NO DATA",87,"SOUTHAMPTON",{"$f":"VLOOKUP(B89,'2020-2022 Composite Index'!$A$6:$K$140,4,FALSE)","v":385172536.44199997},374257292.93900001,10915243.502999961,2.9165078968224758E-2]
["NO DATA",88,"SPOTSYLVANIA",{"$f":"VLOOKUP(B90,'2020-2022 Composite Index'!$A$6:$K$140,4,FALSE)","v":4057966913.7841001},3790488329.2743001,267478584.50979996,7.0565732241948231E-2]
["NO DATA",89,"STAFFORD",{"$f":"VLOOKUP(B91,'2020-2022 Composite Index'!$A$6:$K$140,4,FALSE)","v":4814474903.125},4497318999.1688004,317155903.95619965,7.0521104688107905E-2]
["NO DATA",90,"SURRY",{"$f":"VLOOKUP(B92,'2020-2022 Composite Index'!$A$6:$K$140,4,FALSE)","v":143066509.829},148830153.60330001,-5763643.774300009,-3.8726317448161338E-2]
["NO DATA",91,"SUSSEX",{"$f":"VLOOKUP(B93,'2020-2022 Composite Index'!$A$6:$K$140,4,FALSE)","v":163877638.54820001},162669929.979,1207708.5692000091,7.4242889841774637E-3]
["NO DATA",92,"TAZEWELL",{"$f":"VLOOKUP(B94,'2020-2022 Composite Index'!$A$6:$K$140,4,FALSE)","v":701695888.95200002},753638783.65439999,-51942894.702399969,-6.8922799395392698E-2]
["NO DATA",93,"WARREN",{"$f":"VLOOKUP(B95,'2020-2022 Composite Index'!$A$6:$K$140,4,FALSE)","v":1041222853.2539999},980824172.51600003,60398680.737999916,6.1579518970322523E-2]
["NO DATA",94,"WASHINGTON",{"$f":"VLOOKUP(B96,'2020-2022 Composite Index'!$A$6:$K$140,4,FALSE)","v":1205337906.4484},1223949400.3057001,-18611493.857300043,-1.5206097451946574E-2]
["NO DATA",95,"WESTMORELAND",{"$f":"VLOOKUP(B97,'2020-2022 Composite Index'!$A$6:$K$140,4,FALSE)","v":319318646},311426457,7892189,2.5342063343064009E-2]
["NO DATA",96,"WISE",{"$f":"VLOOKUP(B98,'2020-2022 Composite Index'!$A$6:$K$140,4,FALSE)","v":528747188.78500003},548513204.97679996,-19766016.191799939,-3.6035625054160671E-2]
["NO DATA",97,"WYTHE",{"$f":"VLOOKUP(B99,'2020-2022 Composite Index'!$A$6:$K$140,4,FALSE)","v":522972560.72899997},514860771.97000003,8111788.7589999437,1.5755305512909813E-2]
["NO DATA",98,"YORK",{"$f":"VLOOKUP(B100,'2020-2022 Composite Index'!$A$6:$K$140,4,FALSE)","v":2110103154.039},2061899229.4935,48203924.54550004,2.3378409505173153E-2]
["NO DATA",101,"ALEXANDRIA",{"$f":"VLOOKUP(B101,'2020-2022 Composite Index'!$A$6:$K$140,4,FALSE)","v":8517147154.3915997},8228588435.1715498,288558719.22004986,3.5067827427929195E-2]
["NO DATA",102,"BRISTOL",{"$f":"VLOOKUP(B102,'2020-2022 Composite Index'!$A$6:$K$140,4,FALSE)","v":362364999.051},384903624.04049999,{"$f":"D102-E102","v":-22538624.989499986},{"$f":"F102/E102","v":-5.8556541382755199E-2}]
["NO DATA",103,"BUENA VISTA",{"$f":"VLOOKUP(B103,'2020-2022 Composite Index'!$A$6:$K$140,4,FALSE)","v":97911477.337799996},97331045.839000002,580431.49879999459,5.9634774680230439E-3]
["NO DATA",104,"CHARLOTTESVILLE",{"$f":"VLOOKUP(B104,'2020-2022 Composite Index'!$A$6:$K$140,4,FALSE)","v":1423575334.1912},1469433425.3836,-45858091.192399979,-3.1208008746928147E-2]
["NO DATA",106,"COLONIAL HEIGHTS",{"$f":"VLOOKUP(B105,'2020-2022 Composite Index'!$A$6:$K$140,4,FALSE)","v":398659176.16900003},387877356.31199998,10781819.857000053,2.7796981910765101E-2]
["NO DATA",107,"COVINGTON",{"$f":"VLOOKUP(B106,'2020-2022 Composite Index'!$A$6:$K$140,4,FALSE)","v":98817773.386000007},99965761.503000006,-1147988.1169999987,-1.1483813054988305E-2]
["NO DATA",108,"DANVILLE",{"$f":"VLOOKUP(B107,'2020-2022 Composite Index'!$A$6:$K$140,4,FALSE)","v":770968255.63859999},766189303.08739996,4778952.5512000322,6.2373000144259286E-3]
["NO DATA",109,"FALLS CHURCH",{"$f":"VLOOKUP(B108,'2020-2022 Composite Index'!$A$6:$K$140,4,FALSE)","v":1030319973.8788},919607553.07910001,110712420.79970002,0.12039094332033731]
["NO DATA",110,"FREDERICKSBURG",{"$f":"VLOOKUP(B109,'2020-2022 Composite Index'!$A$6:$K$140,4,FALSE)","v":819317316.75699997},811835762.94000006,7481553.8169999123,9.2156001971458457E-3]
["NO DATA",111,"GALAX",{"$f":"VLOOKUP(B110,'2020-2022 Composite Index'!$A$6:$K$140,4,FALSE)","v":114691226.73999999},114449088.48999999,242138.25,2.1156852640303626E-3]
["NO DATA",112,"HAMPTON",{"$f":"VLOOKUP(B111,'2020-2022 Composite Index'!$A$6:$K$140,4,FALSE)","v":2535376962.2313399},2562675320.6286998,-27298358.397359848,-1.0652289104911955E-2]
["NO DATA",113,"HARRISONBURG",{"$f":"VLOOKUP(B112,'2020-2022 Composite Index'!$A$6:$K$140,4,FALSE)","v":760802893.347},730434024.17540002,30368869.171599984,4.1576471202698889E-2]
["NO DATA",114,"HOPEWELL",{"$f":"VLOOKUP(B113,'2020-2022 Composite Index'!$A$6:$K$140,4,FALSE)","v":355172499.74110001},352445011.93400002,2727487.807099998,7.7387612669937746E-3]
["NO DATA",115,"LYNCHBURG",{"$f":"VLOOKUP(B114,'2020-2022 Composite Index'!$A$6:$K$140,4,FALSE)","v":1548042261.8278},1528762531.7393999,19279730.088400126,1.2611330856247488E-2]
["NO DATA",116,"MARTINSVILLE",{"$f":"VLOOKUP(B115,'2020-2022 Composite Index'!$A$6:$K$140,4,FALSE)","v":241750968.579},242689464.79300001,-938496.21400001645,-3.8670661489179151E-3]
["NO DATA",117,"NEWPORT NEWS",{"$f":"VLOOKUP(B116,'2020-2022 Composite Index'!$A$6:$K$140,4,FALSE)","v":3558760525.165},3546295431.0588002,12465094.106199741,3.514962119915119E-3]
["NO DATA",118,"NORFOLK",{"$f":"VLOOKUP(B117,'2020-2022 Composite Index'!$A$6:$K$140,4,FALSE)","v":4330645703.1117802},4202374122.6360998,128271580.47568035,3.052359850227164E-2]
["NO DATA",119,"NORTON",{"$f":"VLOOKUP(B118,'2020-2022 Composite Index'!$A$6:$K$140,4,FALSE)","v":66254098.452},77024767.133000001,-10770668.681000002,-0.139833836334774]
["NO DATA",120,"PETERSBURG",{"$f":"VLOOKUP(B119,'2020-2022 Composite Index'!$A$6:$K$140,4,FALSE)","v":445740064.6358},460268177.3951,-14528112.759299994,-3.1564451927835274E-2]
["NO DATA",121,"PORTSMOUTH",{"$f":"VLOOKUP(B120,'2020-2022 Composite Index'!$A$6:$K$140,4,FALSE)","v":1673148239.0539999},1674210245.8754001,-1062006.8214001656,-6.3433300806546578E-4]
["NO DATA",122,"RADFORD",{"$f":"VLOOKUP(B121,'2020-2022 Composite Index'!$A$6:$K$140,4,FALSE)","v":242744308.98500001},234197351.331,8546957.6540000141,3.6494681111573606E-2]
["NO DATA",123,"RICHMOND CITY",{"$f":"VLOOKUP(B122,'2020-2022 Composite Index'!$A$6:$K$140,4,FALSE)","v":6169580882.2012596},6360087630.6898403,-190506748.4885807,-2.9953478560470335E-2]
["NO DATA",124,"ROANOKE CITY",{"$f":"VLOOKUP(B123,'2020-2022 Composite Index'!$A$6:$K$140,4,FALSE)","v":1993403216.1700399},2074923527.4202001,-81520311.250160217,-3.9288344930724403E-2]
["NO DATA",126,"STAUNTON",{"$f":"VLOOKUP(B124,'2020-2022 Composite Index'!$A$6:$K$140,4,FALSE)","v":551053906.50100005},521727987.49699998,29325919.004000068,5.6209211901189597E-2]
["NO DATA",127,"SUFFOLK",{"$f":"VLOOKUP(B125,'2020-2022 Composite Index'!$A$6:$K$140,4,FALSE)","v":2330568682.6696},2253999697.7902002,76568984.879399776,3.3970272912843456E-2]
["NO DATA",128,"VIRGINIA BEACH",{"$f":"VLOOKUP(B126,'2020-2022 Composite Index'!$A$6:$K$140,4,FALSE)","v":13104904539.4165},12921948503.7379,182956035.67860031,1.4158548583108582E-2]
["NO DATA",130,"WAYNESBORO",{"$f":"VLOOKUP(B127,'2020-2022 Composite Index'!$A$6:$K$140,4,FALSE)","v":456798300.37800002},436032421.53399998,20765878.844000041,4.7624621056718386E-2]
["NO DATA",131,"WILLIAMSBURG",{"$f":"VLOOKUP(B128,'2020-2022 Composite Index'!$A$6:$K$140,4,FALSE)","v":332999798.2784},346908084.18049997,-13908285.902099967,-4.0092135457020187E-2]
["NO DATA",132,"WINCHESTER",{"$f":"VLOOKUP(B129,'2020-2022 Composite Index'!$A$6:$K$140,4,FALSE)","v":728288876.90799999},713482479.81930006,14806397.088699937,2.0752292463369071E-2]
["NO DATA",134,"FAIRFAX CITY",{"$f":"VLOOKUP(B130,'2020-2022 Composite Index'!$A$6:$K$140,4,FALSE)","v":1250452741.2030001},1165707088.2407999,84745652.962200165,7.2698925671020945E-2]
["NO DATA",135,"FRANKLIN CITY",{"$f":"VLOOKUP(B131,'2020-2022 Composite Index'!$A$6:$K$140,4,FALSE)","v":140661177.7994},140608109.00009999,53068.799300014973,3.7742346211325006E-4]
["NO DATA",136,"CHESAPEAKE",{"$f":"VLOOKUP(B132,'2020-2022 Composite Index'!$A$6:$K$140,4,FALSE)","v":6280153505.5107002},6138460843.4292002,141692662.08150005,2.3082767113057713E-2]
["NO DATA",137,"LEXINGTON",{"$f":"VLOOKUP(B133,'2020-2022 Composite Index'!$A$6:$K$140,4,FALSE)","v":156027399.537},165255250.28299999,-9227850.7459999919,-5.5839985296668497E-2]
["NO DATA",138,"EMPORIA",{"$f":"VLOOKUP(B134,'2020-2022 Composite Index'!$A$6:$K$140,4,FALSE)","v":83991080.240199998},92494585.096599996,{"$f":"D134-E134","v":-8503504.8563999981},{"$f":"F134/E134","v":-9.1935164069540526E-2}]
["NO DATA",139,"SALEM",{"$f":"VLOOKUP(B135,'2020-2022 Composite Index'!$A$6:$K$140,4,FALSE)","v":662425518.83099997},651093602.66999996,11331916.161000013,1.7404434807115555E-2]
["NO DATA",142,"POQUOSON",{"$f":"VLOOKUP(B136,'2020-2022 Composite Index'!$A$6:$K$140,4,FALSE)","v":435860588.70499998},426123433.55500001,9737155.1499999762,2.2850550763581032E-2]
["NO DATA",143,"MANASSAS",{"$f":"VLOOKUP(B137,'2020-2022 Composite Index'!$A$6:$K$140,4,FALSE)","v":1168033339.74},1134383730.2428,33649609.497200012,2.9663339309351479E-2]
["NO DATA",144,"MANASSAS PARK",{"$f":"VLOOKUP(B138,'2020-2022 Composite Index'!$A$6:$K$140,4,FALSE)","v":451328424.671},392361408.70359999,58967015.967400014,0.15028750192898108]
["NO DATA",202,"COLONIAL BEACH",{"$f":"VLOOKUP(B139,'2020-2022 Composite Index'!$A$6:$K$140,4,FALSE)","v":80307818},78819846,1487972,1.8878138889030564E-2]
["NO DATA",207,"WEST POINT",{"$f":"VLOOKUP(B140,'2020-2022 Composite Index'!$A$6:$K$140,4,FALSE)","v":89052499},87616663,1435836,1.6387704699504478E-2]
["NO DATA","no data","no data",{"$f":"SUM(D6:D140)","v":276897521668.16241},{"$f":"SUM(E6:E140)","v":271432497952.66599},{"$f":"SUM(F6:F140)","v":5465023715.4965229},2.0134006637810724E-2]
["End of worksheet"]
[]
[]
[]
[]
[]
[null,null,null,null,0]

{"sheet":"Taxable Sales","index":13,"n_rows":148,"n_cols":15,"rows_kept":148,"cut":false,"hidden":false,"merged":[[1,1,1,6],[3,5,3,6]]}
["no data","no data","no data","no data","no data","no data","no data",null,{"$f":"'2020-2022 Calculation Template'!N2","v":"<SE"}]
[null,"Comparison of Taxable Retail Sales Data from Base Year 2015\n(for 2018-2020 Biennium) to Base Year 2017 (for 2020-2022 Biennium)"]
["no data","no data","no data","no data","no data","no data","no data"]
["no data","no data","no data","no data","no data","Click this cell to view sort options"]
["no data","Div","Division","2017\nTaxable Sales","2015\nTaxable Sales","Variance","Percentage Change from Prior Base Year"]
["no data",1,"ACCOMACK",{"$f":"VLOOKUP(B6,'2020-2022 Composite Index'!$A$6:$K$140,6,FALSE)","v":342140946.14999998},502574536.38,{"$f":"D6-E6","v":-160433590.23000002},{"$f":"F6/E6","v":-0.31922347555765362}]
["no data",2,"ALBEMARLE",{"$f":"VLOOKUP(B7,'2020-2022 Composite Index'!$A$6:$K$140,6,FALSE)","v":1490607721.02},1329772736.6799998,160834984.34000015,0.12094922681416345,null,null,null,null,null,null,null,"Click this cell to view sort options"]
["no data",3,"ALLEGHANY",{"$f":"VLOOKUP(B8,'2020-2022 Composite Index'!$A$6:$K$140,6,FALSE)","v":70845093.010000005},76488688.870000005,-5643595.8599999994,-7.378340436181148E-2,null,null,null,null,null,null,null,"Division Number - Ascending"]
["no data",4,"AMELIA",{"$f":"VLOOKUP(B9,'2020-2022 Composite Index'!$A$6:$K$140,6,FALSE)","v":64025091.090000004},61389169.649999999,2635921.4400000051,4.2937890429668078E-2,null,null,null,null,null,null,null,"Variance - Ascending"]
["no data",5,"AMHERST",{"$f":"VLOOKUP(B10,'2020-2022 Composite Index'!$A$6:$K$140,6,FALSE)","v":247735438.91999999},233613015.50999999,14122423.409999996,6.0452211445365618E-2,null,null,null,null,null,null,null,"Variance - Descending"]
["no data",6,"APPOMATTOX",{"$f":"VLOOKUP(B11,'2020-2022 Composite Index'!$A$6:$K$140,6,FALSE)","v":117292203.81999999},111243954.83,6048248.9899999946,5.4369237404789904E-2,null,null,null,null,null,null,null,"% Variance - Ascending"]
["no data",7,"ARLINGTON",{"$f":"VLOOKUP(B12,'2020-2022 Composite Index'!$A$6:$K$140,6,FALSE)","v":3258772638.29},3179231834.8800001,79540803.409999847,2.5018874854403975E-2,null,null,null,null,null,null,null,"% Variance - Descending"]
["no data",8,"AUGUSTA",{"$f":"VLOOKUP(B13,'2020-2022 Composite Index'!$A$6:$K$140,6,FALSE)","v":471863459.75},435582346.36000001,36281113.389999986,8.3293351287506909E-2]
["no data",9,"BATH",{"$f":"VLOOKUP(B14,'2020-2022 Composite Index'!$A$6:$K$140,6,FALSE)","v":74264255.150000006},77422215.200000003,-3157960.049999997,-4.0788810315517773E-2]
["no data",10,"BEDFORD COUNTY",{"$f":"VLOOKUP(B15,'2020-2022 Composite Index'!$A$6:$K$140,6,FALSE)","v":504850970.55000001},482777476.19,22073494.360000014,4.5721881091471753E-2]
["no data",11,"BLAND",{"$f":"VLOOKUP(B16,'2020-2022 Composite Index'!$A$6:$K$140,6,FALSE)","v":30921905},20270739,10651166,0.52544537226787835]
["no data",12,"BOTETOURT",{"$f":"VLOOKUP(B17,'2020-2022 Composite Index'!$A$6:$K$140,6,FALSE)","v":215688997.53},212364970.66,3324026.8700000048,1.5652425443185871E-2]
["no data",13,"BRUNSWICK",{"$f":"VLOOKUP(B18,'2020-2022 Composite Index'!$A$6:$K$140,6,FALSE)","v":69549513.510000005},66583183.200000003,2966330.3100000024,4.4550743407533608E-2]
["no data",14,"BUCHANAN",{"$f":"VLOOKUP(B19,'2020-2022 Composite Index'!$A$6:$K$140,6,FALSE)","v":140412697.74000001},141875222.57999998,-1462524.8399999738,-1.0308528955260611E-2]
["no data",15,"BUCKINGHAM",{"$f":"VLOOKUP(B20,'2020-2022 Composite Index'!$A$6:$K$140,6,FALSE)","v":57962895.840000004},55434369.219999999,2528526.6200000048,4.5612977212118169E-2]
["no data",16,"CAMPBELL",{"$f":"VLOOKUP(B21,'2020-2022 Composite Index'!$A$6:$K$140,6,FALSE)","v":485915056.01999998},462416719.18000001,23498336.839999974,5.0816365121203647E-2]
["no data",17,"CAROLINE",{"$f":"VLOOKUP(B22,'2020-2022 Composite Index'!$A$6:$K$140,6,FALSE)","v":151212078.53},137726350.05000001,13485728.479999989,9.7916836357778647E-2]
["no data",18,"CARROLL",{"$f":"VLOOKUP(B23,'2020-2022 Composite Index'!$A$6:$K$140,6,FALSE)","v":167345734.18000001},162406342.17000002,4939392.0099999905,3.0413787688350534E-2]
["no data",19,"CHARLES CITY",{"$f":"VLOOKUP(B24,'2020-2022 Composite Index'!$A$6:$K$140,6,FALSE)","v":58539334},56799976,1739358,3.0622512939089973E-2]
["no data",20,"CHARLOTTE",{"$f":"VLOOKUP(B25,'2020-2022 Composite Index'!$A$6:$K$140,6,FALSE)","v":54357115.82},50781692.710000001,3575423.1099999994,7.0407718199120256E-2]
["no data",21,"CHESTERFIELD",{"$f":"VLOOKUP(B26,'2020-2022 Composite Index'!$A$6:$K$140,6,FALSE)","v":4394824320.29},4073926473.7600002,320897846.52999973,7.8768688781422569E-2]
["no data",22,"CLARKE",{"$f":"VLOOKUP(B27,'2020-2022 Composite Index'!$A$6:$K$140,6,FALSE)","v":85971890.569999993},83134365.680000007,2837524.8899999857,3.4131792151060117E-2]
["no data",23,"CRAIG",{"$f":"VLOOKUP(B28,'2020-2022 Composite Index'!$A$6:$K$140,6,FALSE)","v":12876065},12891098,-15033,-1.1661535735745705E-3]
["no data",24,"CULPEPER",{"$f":"VLOOKUP(B29,'2020-2022 Composite Index'!$A$6:$K$140,6,FALSE)","v":703603206.82000005},599375784.63,104227422.19000006,0.17389328174867888]
["no data",25,"CUMBERLAND",{"$f":"VLOOKUP(B30,'2020-2022 Composite Index'!$A$6:$K$140,6,FALSE)","v":33660951.32},32060124.59,1600826.7300000004,4.9932018370861871E-2]
["no data",26,"DICKENSON",{"$f":"VLOOKUP(B31,'2020-2022 Composite Index'!$A$6:$K$140,6,FALSE)","v":58585686.920000002},60520561.030000001,-1934874.1099999994,-3.1970525009523354E-2]
["no data",27,"DINWIDDIE",{"$f":"VLOOKUP(B32,'2020-2022 Composite Index'!$A$6:$K$140,6,FALSE)","v":136670242.28},131364126.45,5306115.8299999982,4.0392426558095516E-2]
["no data",28,"ESSEX",{"$f":"VLOOKUP(B33,'2020-2022 Composite Index'!$A$6:$K$140,6,FALSE)","v":191246470.50999999},181036123.17000002,10210347.339999974,5.639950282415216E-2]
["no data",29,"FAIRFAX COUNTY",{"$f":"VLOOKUP(B34,'2020-2022 Composite Index'!$A$6:$K$140,6,FALSE)","v":14939828530.33},15019492203.389999,-79663673.059999466,-5.3040190694342414E-3]
["no data",30,"FAUQUIER",{"$f":"VLOOKUP(B35,'2020-2022 Composite Index'!$A$6:$K$140,6,FALSE)","v":861595287.27999997},744459400.08999991,117135887.19000006,0.1573435531552683]
["no data",31,"FLOYD",{"$f":"VLOOKUP(B36,'2020-2022 Composite Index'!$A$6:$K$140,6,FALSE)","v":74718941.379999995},71712184.689999998,3006756.6899999976,4.1928114489855707E-2]
["no data",32,"FLUVANNA",{"$f":"VLOOKUP(B37,'2020-2022 Composite Index'!$A$6:$K$140,6,FALSE)","v":130487206.62},115253863.33,15233343.290000007,0.13217208386657911]
["no data",33,"FRANKLIN COUNTY",{"$f":"VLOOKUP(B38,'2020-2022 Composite Index'!$A$6:$K$140,6,FALSE)","v":424098901.08999997},404044020.85000002,{"$f":"D38-E38","v":20054880.23999995},{"$f":"F38/E38","v":4.9635384277707841E-2}]
["no data",34,"FREDERICK",{"$f":"VLOOKUP(B39,'2020-2022 Composite Index'!$A$6:$K$140,6,FALSE)","v":1249749135.8199999},1159781255.6500001,89967880.169999838,7.7573145566641605E-2]
["no data",35,"GILES",{"$f":"VLOOKUP(B40,'2020-2022 Composite Index'!$A$6:$K$140,6,FALSE)","v":137678547.06},156312262.80000001,-18633715.74000001,-0.11920827839234638]
["no data",36,"GLOUCESTER",{"$f":"VLOOKUP(B41,'2020-2022 Composite Index'!$A$6:$K$140,6,FALSE)","v":405650909.30000001},373293033.47000003,32357875.829999983,8.6682238693855634E-2]
["no data",37,"GOOCHLAND",{"$f":"VLOOKUP(B42,'2020-2022 Composite Index'!$A$6:$K$140,6,FALSE)","v":227534841.06},201116705.23000002,26418135.829999983,0.13135724255122325]
["no data",38,"GRAYSON",{"$f":"VLOOKUP(B43,'2020-2022 Composite Index'!$A$6:$K$140,6,FALSE)","v":34104091},33295047,809044,2.4299229852416188E-2]
["no data",39,"GREENE",{"$f":"VLOOKUP(B44,'2020-2022 Composite Index'!$A$6:$K$140,6,FALSE)","v":175413564.53999999},164467431.91,10946132.629999995,6.6555016411941947E-2]
["no data",40,"GREENSVILLE",{"$f":"VLOOKUP(B45,'2020-2022 Composite Index'!$A$6:$K$140,6,FALSE)","v":47788891},42405153,5383738,0.12695952305607763]
["no data",41,"HALIFAX",{"$f":"VLOOKUP(B46,'2020-2022 Composite Index'!$A$6:$K$140,6,FALSE)","v":294706517.64999998},304313162.63,-9606644.9800000191,-3.1568286093757586E-2]
["no data",42,"HANOVER",{"$f":"VLOOKUP(B47,'2020-2022 Composite Index'!$A$6:$K$140,6,FALSE)","v":1915809188.3199999},1793204650.54,122604537.77999997,6.8371748725433668E-2]
["no data",43,"HENRICO",{"$f":"VLOOKUP(B48,'2020-2022 Composite Index'!$A$6:$K$140,6,FALSE)","v":5656612709.1000004},5430593997.3500004,226018711.75,4.1619519312305744E-2]
["no data",44,"HENRY",{"$f":"VLOOKUP(B49,'2020-2022 Composite Index'!$A$6:$K$140,6,FALSE)","v":371100551.52999997},377770857.46000004,-6670305.9300000668,-1.7657015617480093E-2]
["no data",45,"HIGHLAND",{"$f":"VLOOKUP(B50,'2020-2022 Composite Index'!$A$6:$K$140,6,FALSE)","v":10023126.42},10412003.07,-388876.65000000037,-3.7348879690639616E-2]
["no data",46,"ISLE OF WIGHT",{"$f":"VLOOKUP(B51,'2020-2022 Composite Index'!$A$6:$K$140,6,FALSE)","v":236926649.00999999},220426281.04000002,16500367.969999969,7.4856627313898666E-2]
["no data",47,"JAMES CITY",{"$f":"VLOOKUP(B52,'2020-2022 Composite Index'!$A$6:$K$140,6,FALSE)","v":982030979.61000001},1002337084.74,-20306105.129999995,-2.0258758694204428E-2]
["no data",48,"KING GEORGE",{"$f":"VLOOKUP(B53,'2020-2022 Composite Index'!$A$6:$K$140,6,FALSE)","v":187620362.83000001},174808750.68000001,12811612.150000006,7.3289306743302474E-2]
["no data",49,"KING AND QUEEN",{"$f":"VLOOKUP(B54,'2020-2022 Composite Index'!$A$6:$K$140,6,FALSE)","v":12379939},11317609,1062330,9.3865232488593658E-2]
["no data",50,"KING WILLIAM",{"$f":"VLOOKUP(B55,'2020-2022 Composite Index'!$A$6:$K$140,6,FALSE)","v":83516987.5},81254590.299999997,2262397.200000003,2.7843315579427676E-2]
["no data",51,"LANCASTER",{"$f":"VLOOKUP(B56,'2020-2022 Composite Index'!$A$6:$K$140,6,FALSE)","v":166354409.81999999},158447138.17000002,7907271.6499999762,4.9904793114762099E-2]
["no data",52,"LEE",{"$f":"VLOOKUP(B57,'2020-2022 Composite Index'!$A$6:$K$140,6,FALSE)","v":114151983},122560574,-8408591,-6.8607633968816112E-2]
["no data",53,"LOUDOUN",{"$f":"VLOOKUP(B58,'2020-2022 Composite Index'!$A$6:$K$140,6,FALSE)","v":5697354606.2299995},5335423939.3999996,361930666.82999992,6.7835409320951015E-2]
["no data",54,"LOUISA",{"$f":"VLOOKUP(B59,'2020-2022 Composite Index'!$A$6:$K$140,6,FALSE)","v":300831730.06},278391164.80000001,22440565.25999999,8.0608036810800365E-2]
["no data",55,"LUNENBURG",{"$f":"VLOOKUP(B60,'2020-2022 Composite Index'!$A$6:$K$140,6,FALSE)","v":39312051.57},38493332,818719.5700000003,2.1269127078944485E-2]
["no data",56,"MADISON",{"$f":"VLOOKUP(B61,'2020-2022 Composite Index'!$A$6:$K$140,6,FALSE)","v":87685702.239999995},82288335.870000005,5397366.3699999899,6.5590904384393037E-2]
["no data",57,"MATHEWS",{"$f":"VLOOKUP(B62,'2020-2022 Composite Index'!$A$6:$K$140,6,FALSE)","v":40043459.710000001},40782888.590000004,-739428.88000000268,-1.8130860896923107E-2]
["no data",58,"MECKLENBURG",{"$f":"VLOOKUP(B63,'2020-2022 Composite Index'!$A$6:$K$140,6,FALSE)","v":499432508.49000001},494498439.25999999,4934069.2300000191,9.9779268007067629E-3]
["no data",59,"MIDDLESEX",{"$f":"VLOOKUP(B64,'2020-2022 Composite Index'!$A$6:$K$140,6,FALSE)","v":97303967.329999998},93051922.590000004,4252044.7399999946,4.5695399102446362E-2]
["no data",60,"MONTGOMERY",{"$f":"VLOOKUP(B65,'2020-2022 Composite Index'!$A$6:$K$140,6,FALSE)","v":1089716202.6300001},1045664373.0799999,44051829.550000191,4.2128077310548233E-2]
["no data",62,"NELSON",{"$f":"VLOOKUP(B66,'2020-2022 Composite Index'!$A$6:$K$140,6,FALSE)","v":102746557.27},97899344.25,4847213.0199999958,4.9512211313917927E-2]
["no data",63,"NEW KENT",{"$f":"VLOOKUP(B67,'2020-2022 Composite Index'!$A$6:$K$140,6,FALSE)","v":129697269.95999999},118286363.76000001,11410906.199999988,9.64684840862335E-2]
["no data",65,"NORTHAMPTON",{"$f":"VLOOKUP(B68,'2020-2022 Composite Index'!$A$6:$K$140,6,FALSE)","v":125938193.58},113442883.09999999,12495310.480000004,0.11014627042743068]
["no data",66,"NORTHUMBERLAND",{"$f":"VLOOKUP(B69,'2020-2022 Composite Index'!$A$6:$K$140,6,FALSE)","v":59190236.479999997},60339664.850000001,-1149428.3700000048,-1.9049299873597238E-2]
["no data",67,"NOTTOWAY",{"$f":"VLOOKUP(B70,'2020-2022 Composite Index'!$A$6:$K$140,6,FALSE)","v":138347448.74000001},125684762.78,{"$f":"D70-E70","v":12662685.960000008},{"$f":"F70/E70","v":0.10074957122817596}]
["no data",68,"ORANGE",{"$f":"VLOOKUP(B71,'2020-2022 Composite Index'!$A$6:$K$140,6,FALSE)","v":296990638.50999999},253300185.09999999,43690453.409999996,0.17248488544432572]
["no data",69,"PAGE",{"$f":"VLOOKUP(B72,'2020-2022 Composite Index'!$A$6:$K$140,6,FALSE)","v":179912536.83000001},170782160.44999999,9130376.380000025,5.3462120141483584E-2]
["no data",70,"PATRICK",{"$f":"VLOOKUP(B73,'2020-2022 Composite Index'!$A$6:$K$140,6,FALSE)","v":97099828.709999993},97894919.280000001,-795090.57000000775,-8.1218777833186821E-3]
["no data",71,"PITTSYLVANIA",{"$f":"VLOOKUP(B74,'2020-2022 Composite Index'!$A$6:$K$140,6,FALSE)","v":173524846.33000001},169037178.22,4487668.1100000143,2.6548408801283729E-2]
["no data",72,"POWHATAN",{"$f":"VLOOKUP(B75,'2020-2022 Composite Index'!$A$6:$K$140,6,FALSE)","v":253911712.52000001},213906196.55000001,40005515.969999999,0.18702364220967677]
["no data",73,"PRINCE EDWARD",{"$f":"VLOOKUP(B76,'2020-2022 Composite Index'!$A$6:$K$140,6,FALSE)","v":292525761.44999999},289134327.81,3391433.6399999857,1.1729612549598787E-2]
["no data",74,"PRINCE GEORGE",{"$f":"VLOOKUP(B77,'2020-2022 Composite Index'!$A$6:$K$140,6,FALSE)","v":203313121.75999999},171835968.26999998,31477153.49000001,0.18318140146619963]
["no data",75,"PRINCE WILLIAM",{"$f":"VLOOKUP(B78,'2020-2022 Composite Index'!$A$6:$K$140,6,FALSE)","v":5540880713.7700005},5265015359.8800001,275865353.89000034,5.2395925754011065E-2]
["no data",77,"PULASKI",{"$f":"VLOOKUP(B79,'2020-2022 Composite Index'!$A$6:$K$140,6,FALSE)","v":376119737.45999998},357070665.13,19049072.329999983,5.3348186200243362E-2]
["no data",78,"RAPPAHANNOCK",{"$f":"VLOOKUP(B80,'2020-2022 Composite Index'!$A$6:$K$140,6,FALSE)","v":40244653},39861848,382805,9.6032928528551921E-3]
["no data",79,"RICHMOND COUNTY",{"$f":"VLOOKUP(B81,'2020-2022 Composite Index'!$A$6:$K$140,6,FALSE)","v":70063437.129999995},63749860.739999995,6313576.3900000006,9.9036708734934267E-2]
["no data",80,"ROANOKE COUNTY",{"$f":"VLOOKUP(B82,'2020-2022 Composite Index'!$A$6:$K$140,6,FALSE)","v":1060806738.78},1032343545.6900001,28463193.089999914,2.7571435118505655E-2]
["no data",81,"ROCKBRIDGE",{"$f":"VLOOKUP(B83,'2020-2022 Composite Index'!$A$6:$K$140,6,FALSE)","v":253206596},250483351,2723245,1.0871960108837732E-2]
["no data",82,"ROCKINGHAM",{"$f":"VLOOKUP(B84,'2020-2022 Composite Index'!$A$6:$K$140,6,FALSE)","v":618300799.61000001},538710543.17000008,79590256.439999938,0.14774215476024899]
["no data",83,"RUSSELL",{"$f":"VLOOKUP(B85,'2020-2022 Composite Index'!$A$6:$K$140,6,FALSE)","v":155743996},172010922,-16266926,-9.4569146022018297E-2]
["no data",84,"SCOTT",{"$f":"VLOOKUP(B86,'2020-2022 Composite Index'!$A$6:$K$140,6,FALSE)","v":125014352.54000001},126156437.54000001,-1142085,-9.0529268444020771E-3]
["no data",85,"SHENANDOAH",{"$f":"VLOOKUP(B87,'2020-2022 Composite Index'!$A$6:$K$140,6,FALSE)","v":378819979.47000003},365285841.97000003,13534137.5,3.7050813212496536E-2]
["no data",86,"SMYTH",{"$f":"VLOOKUP(B88,'2020-2022 Composite Index'!$A$6:$K$140,6,FALSE)","v":205033051.61000001},207381453.43000001,-2348401.8199999928,-1.1324068672286924E-2]
["no data",87,"SOUTHAMPTON",{"$f":"VLOOKUP(B89,'2020-2022 Composite Index'!$A$6:$K$140,6,FALSE)","v":43903421.399999999},45382014.920000002,-1478593.5200000033,-3.2581046095165385E-2]
["no data",88,"SPOTSYLVANIA",{"$f":"VLOOKUP(B90,'2020-2022 Composite Index'!$A$6:$K$140,6,FALSE)","v":1634908083.1900001},1547887315.25,87020767.940000057,5.6219058766526095E-2]
["no data",89,"STAFFORD",{"$f":"VLOOKUP(B91,'2020-2022 Composite Index'!$A$6:$K$140,6,FALSE)","v":1165726180.8699999},1094482580.3600001,71243600.509999752,6.5093407413177942E-2]
["no data",90,"SURRY",{"$f":"VLOOKUP(B92,'2020-2022 Composite Index'!$A$6:$K$140,6,FALSE)","v":20421222},29802533,-9381311,-0.31478233746104733]
["no data",91,"SUSSEX",{"$f":"VLOOKUP(B93,'2020-2022 Composite Index'!$A$6:$K$140,6,FALSE)","v":90499076.510000005},81299438.939999998,9199637.5700000077,0.1131574545894401]
["no data",92,"TAZEWELL",{"$f":"VLOOKUP(B94,'2020-2022 Composite Index'!$A$6:$K$140,6,FALSE)","v":511172039.33999997},531489881.39999998,-20317842.060000002,-3.8228088193289177E-2]
["no data",93,"WARREN",{"$f":"VLOOKUP(B95,'2020-2022 Composite Index'!$A$6:$K$140,6,FALSE)","v":404670592.17000002},369480595.10000002,35189997.069999993,9.5241800345362684E-2]
["no data",94,"WASHINGTON",{"$f":"VLOOKUP(B96,'2020-2022 Composite Index'!$A$6:$K$140,6,FALSE)","v":659752986.01999998},644170449.15999997,15582536.860000014,2.4190083354987311E-2]
["no data",95,"WESTMORELAND",{"$f":"VLOOKUP(B97,'2020-2022 Composite Index'!$A$6:$K$140,6,FALSE)","v":67126856.730000004},67041385.469999999,85471.260000005364,1.2749029483922652E-3]
["no data",96,"WISE",{"$f":"VLOOKUP(B98,'2020-2022 Composite Index'!$A$6:$K$140,6,FALSE)","v":269251707.95999998},285000504.39999998,-15748796.439999998,-5.5258837078745883E-2]
["no data",97,"WYTHE",{"$f":"VLOOKUP(B99,'2020-2022 Composite Index'!$A$6:$K$140,6,FALSE)","v":389415463.48000002},379537280.75999999,9878182.7200000286,2.602691018974362E-2]
["no data",98,"YORK",{"$f":"VLOOKUP(B100,'2020-2022 Composite Index'!$A$6:$K$140,6,FALSE)","v":949567169.16999996},922303789.76999998,27263379.399999976,2.9560086061013364E-2]
["no data",101,"ALEXANDRIA",{"$f":"VLOOKUP(B101,'2020-2022 Composite Index'!$A$6:$K$140,6,FALSE)","v":2166848199.3800001},2088861531.45,77986667.930000067,3.7334532115139769E-2]
["no data",102,"BRISTOL",{"$f":"VLOOKUP(B102,'2020-2022 Composite Index'!$A$6:$K$140,6,FALSE)","v":357990921.17000002},335454753.24000001,{"$f":"D102-E102","v":22536167.930000007},{"$f":"F102/E102","v":6.7180946796352531E-2}]
["no data",103,"BUENA VISTA",{"$f":"VLOOKUP(B103,'2020-2022 Composite Index'!$A$6:$K$140,6,FALSE)","v":30887490},33497023,-2609533,-7.7903430403352555E-2]
["no data",104,"CHARLOTTESVILLE",{"$f":"VLOOKUP(B104,'2020-2022 Composite Index'!$A$6:$K$140,6,FALSE)","v":971359089.53999996},959435495.89999998,11923593.639999986,1.2427717851750982E-2]
["no data",106,"COLONIAL HEIGHTS",{"$f":"VLOOKUP(B105,'2020-2022 Composite Index'!$A$6:$K$140,6,FALSE)","v":717236556.60000002},720733536.39999998,-3496979.7999999523,-4.8519731959012977E-3]
["no data",107,"COVINGTON",{"$f":"VLOOKUP(B106,'2020-2022 Composite Index'!$A$6:$K$140,6,FALSE)","v":110735625.84999999},112746567.90000001,-2010942.0500000119,-1.7835949133135534E-2]
["no data",108,"DANVILLE",{"$f":"VLOOKUP(B107,'2020-2022 Composite Index'!$A$6:$K$140,6,FALSE)","v":793761923.86000001},770375644.50999999,23386279.350000024,3.0356981709715063E-2]
["no data",109,"FALLS CHURCH",{"$f":"VLOOKUP(B108,'2020-2022 Composite Index'!$A$6:$K$140,6,FALSE)","v":362455075.37},322397956.84000003,40057118.529999971,0.12424743296335329]
["no data",110,"FREDERICKSBURG",{"$f":"VLOOKUP(B109,'2020-2022 Composite Index'!$A$6:$K$140,6,FALSE)","v":945058833.03999996},916785104.69000006,28273728.349999905,3.0840082594448703E-2]
["no data",111,"GALAX",{"$f":"VLOOKUP(B110,'2020-2022 Composite Index'!$A$6:$K$140,6,FALSE)","v":208254312.55000001},203878778.90000001,4375533.650000006,2.1461447207049199E-2]
["no data",112,"HAMPTON",{"$f":"VLOOKUP(B111,'2020-2022 Composite Index'!$A$6:$K$140,6,FALSE)","v":1354676659.3900001},1396275489.76,-41598830.369999886,-2.979270973033419E-2]
["no data",113,"HARRISONBURG",{"$f":"VLOOKUP(B112,'2020-2022 Composite Index'!$A$6:$K$140,6,FALSE)","v":1238467780.28},1194530338.3800001,43937441.899999857,3.6782190027577703E-2]
["no data",114,"HOPEWELL",{"$f":"VLOOKUP(B113,'2020-2022 Composite Index'!$A$6:$K$140,6,FALSE)","v":169710176.56},171716894.99000001,-2006718.4300000072,-1.1686202630887712E-2]
["no data",115,"LYNCHBURG",{"$f":"VLOOKUP(B114,'2020-2022 Composite Index'!$A$6:$K$140,6,FALSE)","v":1373101288.8099999},1353815268.71,19286020.099999905,1.4245680740753377E-2]
["no data",116,"MARTINSVILLE",{"$f":"VLOOKUP(B115,'2020-2022 Composite Index'!$A$6:$K$140,6,FALSE)","v":156627539},155265380,1362159,8.7731018981823256E-3]
["no data",117,"NEWPORT NEWS",{"$f":"VLOOKUP(B116,'2020-2022 Composite Index'!$A$6:$K$140,6,FALSE)","v":2188701990.54},2082466487.9000001,106235502.63999987,5.1014267579945462E-2]
["no data",118,"NORFOLK",{"$f":"VLOOKUP(B117,'2020-2022 Composite Index'!$A$6:$K$140,6,FALSE)","v":2800002003.8600001},2671631729.8900003,128370273.96999979,4.8049389642218845E-2]
["no data",119,"NORTON",{"$f":"VLOOKUP(B118,'2020-2022 Composite Index'!$A$6:$K$140,6,FALSE)","v":140897761.55000001},150625617.25999999,-9727855.7099999785,-6.4583009762598328E-2]
["no data",120,"PETERSBURG",{"$f":"VLOOKUP(B119,'2020-2022 Composite Index'!$A$6:$K$140,6,FALSE)","v":293004412.83999997},302220885.73000002,-9216472.8900000453,-3.0495817215736423E-2]
["no data",121,"PORTSMOUTH",{"$f":"VLOOKUP(B120,'2020-2022 Composite Index'!$A$6:$K$140,6,FALSE)","v":609799751.41999996},619199125.87,-9399374.4500000477,-1.5179889727385425E-2]
["no data",122,"RADFORD",{"$f":"VLOOKUP(B121,'2020-2022 Composite Index'!$A$6:$K$140,6,FALSE)","v":69825230.849999994},79433243.930000007,-9608013.0800000131,-0.12095707797691112]
["no data",123,"RICHMOND CITY",{"$f":"VLOOKUP(B122,'2020-2022 Composite Index'!$A$6:$K$140,6,FALSE)","v":2699889889.6100001},2672449738.96,27440150.650000095,1.0267789230969259E-2]
["no data",124,"ROANOKE CITY",{"$f":"VLOOKUP(B123,'2020-2022 Composite Index'!$A$6:$K$140,6,FALSE)","v":1837473382.29},1843019507.3299999,-5546125.0399999619,-3.0092600853881828E-3]
["no data",126,"STAUNTON",{"$f":"VLOOKUP(B124,'2020-2022 Composite Index'!$A$6:$K$140,6,FALSE)","v":361530282.13999999},364671682.99000001,-3141400.8500000238,-8.6143262461268952E-3]
["no data",127,"SUFFOLK",{"$f":"VLOOKUP(B125,'2020-2022 Composite Index'!$A$6:$K$140,6,FALSE)","v":895475059.50999999},821340720.88,74134338.629999995,9.02601523890975E-2]
["no data",128,"VIRGINIA BEACH",{"$f":"VLOOKUP(B126,'2020-2022 Composite Index'!$A$6:$K$140,6,FALSE)","v":5597203814.4899998},5374616764.1099997,222587050.38000011,4.1414497097982207E-2]
["no data",130,"WAYNESBORO",{"$f":"VLOOKUP(B127,'2020-2022 Composite Index'!$A$6:$K$140,6,FALSE)","v":490439867.54000002},507989002.38999999,-17549134.849999964,-3.4546288930339702E-2]
["no data",131,"WILLIAMSBURG",{"$f":"VLOOKUP(B128,'2020-2022 Composite Index'!$A$6:$K$140,6,FALSE)","v":400643946.56999999},389879512.15999997,10764434.410000026,2.7609643682898845E-2]
["no data",132,"WINCHESTER",{"$f":"VLOOKUP(B129,'2020-2022 Composite Index'!$A$6:$K$140,6,FALSE)","v":833496389.77999997},779790232.77999997,53706157,6.8872569496714858E-2]
["no data",134,"FAIRFAX CITY",{"$f":"VLOOKUP(B130,'2020-2022 Composite Index'!$A$6:$K$140,6,FALSE)","v":814715859.09000003},807668396.45000005,7047462.6399999857,8.7256882539618712E-3]
["no data",135,"FRANKLIN CITY",{"$f":"VLOOKUP(B131,'2020-2022 Composite Index'!$A$6:$K$140,6,FALSE)","v":164268774.81},162315899.40000001,1952875.4099999964,1.2031325441431134E-2]
["no data",136,"CHESAPEAKE",{"$f":"VLOOKUP(B132,'2020-2022 Composite Index'!$A$6:$K$140,6,FALSE)","v":3514278566.1500001},3343105779.54,171172786.61000013,5.1201726148657173E-2]
["no data",137,"LEXINGTON",{"$f":"VLOOKUP(B133,'2020-2022 Composite Index'!$A$6:$K$140,6,FALSE)","v":86631192.849999994},81886514.780000001,4744678.0699999928,5.794211760931893E-2]
["no data",138,"EMPORIA",{"$f":"VLOOKUP(B134,'2020-2022 Composite Index'!$A$6:$K$140,6,FALSE)","v":143228126.77000001},135239179.63999999,{"$f":"D134-E134","v":7988947.130000025},{"$f":"F134/E134","v":5.9072726936574206E-2}]
["no data",139,"SALEM",{"$f":"VLOOKUP(B135,'2020-2022 Composite Index'!$A$6:$K$140,6,FALSE)","v":590842044.02999997},563709737.99000001,27132306.039999962,4.8131696530105496E-2]
["no data",142,"POQUOSON",{"$f":"VLOOKUP(B136,'2020-2022 Composite Index'!$A$6:$K$140,6,FALSE)","v":52879880.060000002},52684184.060000002,195696,3.714511356522658E-3]
["no data",143,"MANASSAS",{"$f":"VLOOKUP(B137,'2020-2022 Composite Index'!$A$6:$K$140,6,FALSE)","v":607443814.72000003},550309242.04999995,57134572.670000076,0.10382266606529016]
["no data",144,"MANASSAS PARK",{"$f":"VLOOKUP(B138,'2020-2022 Composite Index'!$A$6:$K$140,6,FALSE)","v":181950241},167092520,14857721,8.8919126960321143E-2]
["no data",202,"COLONIAL BEACH",{"$f":"VLOOKUP(B139,'2020-2022 Composite Index'!$A$6:$K$140,6,FALSE)","v":16882231.809999999},16967703.07,-85471.260000001639,-5.0372911199230239E-3]
["no data",207,"WEST POINT",{"$f":"VLOOKUP(B140,'2020-2022 Composite Index'!$A$6:$K$140,6,FALSE)","v":20782017.399999999},20961420.239999998,-179402.83999999985,-8.558715866859596E-3]
["no data","no data","no data",{"$f":"SUM(D6:D140)","v":103736609467.58997},{"$f":"SUM(E6:E140)","v":100207273998.17998},{"$f":"SUM(F6:F140)","v":3529335469.4099998},3.5220352062207597E-2]
["End of worksheet"]
[]
[]
[]
[]
[]
[null,null,null,null,0]

{"sheet":"March 31 ADM","index":14,"n_rows":148,"n_cols":15,"rows_kept":148,"cut":false,"hidden":false,"merged":[[1,1,1,6],[3,5,3,6]]}
["No data","no data","no data","no data","no data","no data","no data",null,{"$f":"'2020-2022 Calculation Template'!N2","v":"<SE"}]
[null,"Comparison of March 31 ADM from Base Year 2016\n(for 2018-2020 Biennium) to Base Year 2018 (for 2020-2022 Biennium)"]
["No data","no data","no data","no data","no data","no data","no data"]
["no data","no data","no data","no data","no data","Click this cell to view sort options"]
["no data","Div","Division","March 31, 2018 Unadjusted ADM","March 31, 2016 Unadjusted ADM","Variance","Percentage Change from Prior Base Year"]
["no data",1,"ACCOMACK",{"$f":"VLOOKUP(B6,'2020-2022 Composite Index'!$A$6:$K$140,7,FALSE)","v":5017.54},5102.46,{"$f":"D6-E6","v":-84.920000000000073},{"$f":"F6/E6","v":-1.6642952615013164E-2}]
["no data",2,"ALBEMARLE",{"$f":"VLOOKUP(B7,'2020-2022 Composite Index'!$A$6:$K$140,7,FALSE)","v":13510.2},13282.19,228.01000000000022,1.7166596773574253E-2,null,null,null,null,null,null,null,"Click this cell to view sort options"]
["no data",3,"ALLEGHANY",{"$f":"VLOOKUP(B8,'2020-2022 Composite Index'!$A$6:$K$140,7,FALSE)","v":2069.58},2175.5,-105.92000000000007,-4.8687658009652988E-2,null,null,null,null,null,null,null,"Division Number - Ascending"]
["no data",4,"AMELIA",{"$f":"VLOOKUP(B9,'2020-2022 Composite Index'!$A$6:$K$140,7,FALSE)","v":1737.54},1767.18,-29.6400000000001,-1.6772484976063616E-2,null,null,null,null,null,null,null,"Variance - Ascending"]
["no data",5,"AMHERST",{"$f":"VLOOKUP(B10,'2020-2022 Composite Index'!$A$6:$K$140,7,FALSE)","v":3867.25},4003.74,-136.48999999999978,-3.4090625265376817E-2,null,null,null,null,null,null,null,"Variance - Descending"]
["no data",6,"APPOMATTOX",{"$f":"VLOOKUP(B11,'2020-2022 Composite Index'!$A$6:$K$140,7,FALSE)","v":2179.2199999999998},2188.62,-9.4000000000000909,-4.294943845893801E-3,null,null,null,null,null,null,null,"% Variance - Ascending"]
["no data",7,"ARLINGTON",{"$f":"VLOOKUP(B12,'2020-2022 Composite Index'!$A$6:$K$140,7,FALSE)","v":25750.7},24209.87,1540.8300000000017,6.3644703585769014E-2,null,null,null,null,null,null,null,"% Variance - Descending"]
["no data",8,"AUGUSTA",{"$f":"VLOOKUP(B13,'2020-2022 Composite Index'!$A$6:$K$140,7,FALSE)","v":9939.5499999999993},10105.52,-165.97000000000116,-1.6423697147697612E-2]
["no data",9,"BATH",{"$f":"VLOOKUP(B14,'2020-2022 Composite Index'!$A$6:$K$140,7,FALSE)","v":516.70000000000005},542.46,-25.759999999999991,-4.7487372340817735E-2]
["no data",10,"BEDFORD COUNTY",{"$f":"VLOOKUP(B15,'2020-2022 Composite Index'!$A$6:$K$140,7,FALSE)","v":9460.6},9609.5,-148.89999999999964,-1.5495082990790325E-2]
["no data",11,"BLAND",{"$f":"VLOOKUP(B16,'2020-2022 Composite Index'!$A$6:$K$140,7,FALSE)","v":722.71},797.18,-74.469999999999914,-9.341679419955333E-2]
["no data",12,"BOTETOURT",{"$f":"VLOOKUP(B17,'2020-2022 Composite Index'!$A$6:$K$140,7,FALSE)","v":4547.8900000000003},4665.01,-117.11999999999989,-2.5106055506847764E-2]
["no data",13,"BRUNSWICK",{"$f":"VLOOKUP(B18,'2020-2022 Composite Index'!$A$6:$K$140,7,FALSE)","v":1559.33},1668.9,-109.57000000000016,-6.5654023608364892E-2]
["no data",14,"BUCHANAN",{"$f":"VLOOKUP(B19,'2020-2022 Composite Index'!$A$6:$K$140,7,FALSE)","v":2726.8},2888.83,-162.02999999999975,-5.6088451033809446E-2]
["no data",15,"BUCKINGHAM",{"$f":"VLOOKUP(B20,'2020-2022 Composite Index'!$A$6:$K$140,7,FALSE)","v":1950.15},1905.07,45.080000000000155,2.3663172481851142E-2]
["no data",16,"CAMPBELL",{"$f":"VLOOKUP(B21,'2020-2022 Composite Index'!$A$6:$K$140,7,FALSE)","v":7625.79},7598.82,26.970000000000255,3.5492352760034132E-3]
["no data",17,"CAROLINE",{"$f":"VLOOKUP(B22,'2020-2022 Composite Index'!$A$6:$K$140,7,FALSE)","v":4113.07},4170.37,-57.300000000000182,-1.3739788076357777E-2]
["no data",18,"CARROLL",{"$f":"VLOOKUP(B23,'2020-2022 Composite Index'!$A$6:$K$140,7,FALSE)","v":3611.35},3751.52,-140.17000000000007,-3.7363521985755127E-2]
["no data",19,"CHARLES CITY",{"$f":"VLOOKUP(B24,'2020-2022 Composite Index'!$A$6:$K$140,7,FALSE)","v":606.35},673.5,-67.149999999999977,-9.9703043801039309E-2]
["no data",20,"CHARLOTTE",{"$f":"VLOOKUP(B25,'2020-2022 Composite Index'!$A$6:$K$140,7,FALSE)","v":1773.63},1822.78,-49.149999999999864,-2.696430726692188E-2]
["no data",21,"CHESTERFIELD",{"$f":"VLOOKUP(B26,'2020-2022 Composite Index'!$A$6:$K$140,7,FALSE)","v":60060.84},58902.73,1158.1099999999933,1.9661397697525958E-2]
["no data",22,"CLARKE",{"$f":"VLOOKUP(B27,'2020-2022 Composite Index'!$A$6:$K$140,7,FALSE)","v":1931.2},1965.82,-34.619999999999891,-1.7610971502985975E-2]
["no data",23,"CRAIG",{"$f":"VLOOKUP(B28,'2020-2022 Composite Index'!$A$6:$K$140,7,FALSE)","v":580.19000000000005},600.45000000000005,-20.259999999999991,-3.3741360646182016E-2]
["no data",24,"CULPEPER",{"$f":"VLOOKUP(B29,'2020-2022 Composite Index'!$A$6:$K$140,7,FALSE)","v":7952.19},7900.27,51.919999999999163,6.5719272885609173E-3]
["no data",25,"CUMBERLAND",{"$f":"VLOOKUP(B30,'2020-2022 Composite Index'!$A$6:$K$140,7,FALSE)","v":1239.1400000000001},1288.5999999999999,-49.459999999999809,-3.8382740959180359E-2]
["no data",26,"DICKENSON",{"$f":"VLOOKUP(B31,'2020-2022 Composite Index'!$A$6:$K$140,7,FALSE)","v":1998.53},2182.5,-183.97000000000003,-8.429324169530357E-2]
["no data",27,"DINWIDDIE",{"$f":"VLOOKUP(B32,'2020-2022 Composite Index'!$A$6:$K$140,7,FALSE)","v":4258.46},4361.71,-103.25,-2.3671908494604179E-2]
["no data",28,"ESSEX",{"$f":"VLOOKUP(B33,'2020-2022 Composite Index'!$A$6:$K$140,7,FALSE)","v":1330.47},1417.41,-86.940000000000055,-6.1337227760492767E-2]
["no data",29,"FAIRFAX COUNTY",{"$f":"VLOOKUP(B34,'2020-2022 Composite Index'!$A$6:$K$140,7,FALSE)","v":180294.61},178383.87,1910.7399999999907,1.0711394477538752E-2]
["no data",30,"FAUQUIER",{"$f":"VLOOKUP(B35,'2020-2022 Composite Index'!$A$6:$K$140,7,FALSE)","v":10955.27},10904.11,51.159999999999854,4.6918088683991499E-3]
["no data",31,"FLOYD",{"$f":"VLOOKUP(B36,'2020-2022 Composite Index'!$A$6:$K$140,7,FALSE)","v":1971.33},1991.8,-20.470000000000027,-1.0277136258660523E-2]
["no data",32,"FLUVANNA",{"$f":"VLOOKUP(B37,'2020-2022 Composite Index'!$A$6:$K$140,7,FALSE)","v":3471.79},3447.7,24.090000000000146,6.9872668735679287E-3]
["no data",33,"FRANKLIN COUNTY",{"$f":"VLOOKUP(B38,'2020-2022 Composite Index'!$A$6:$K$140,7,FALSE)","v":6858.45},6951.64,{"$f":"D38-E38","v":-93.190000000000509},{"$f":"F38/E38","v":-1.34054697884241E-2}]
["no data",34,"FREDERICK",{"$f":"VLOOKUP(B39,'2020-2022 Composite Index'!$A$6:$K$140,7,FALSE)","v":13343.46},13041.46,302,2.3156916480210038E-2]
["no data",35,"GILES",{"$f":"VLOOKUP(B40,'2020-2022 Composite Index'!$A$6:$K$140,7,FALSE)","v":2386.69},2391.04,-4.3499999999999091,-1.8192920235545658E-3]
["no data",36,"GLOUCESTER",{"$f":"VLOOKUP(B41,'2020-2022 Composite Index'!$A$6:$K$140,7,FALSE)","v":5270.45},5381.45,-111,-2.0626411097380819E-2]
["no data",37,"GOOCHLAND",{"$f":"VLOOKUP(B42,'2020-2022 Composite Index'!$A$6:$K$140,7,FALSE)","v":2550.6},2495.3000000000002,55.299999999999727,2.2161663928184878E-2]
["no data",38,"GRAYSON",{"$f":"VLOOKUP(B43,'2020-2022 Composite Index'!$A$6:$K$140,7,FALSE)","v":1510.86},1615.96,-105.10000000000014,-6.503873858263827E-2]
["no data",39,"GREENE",{"$f":"VLOOKUP(B44,'2020-2022 Composite Index'!$A$6:$K$140,7,FALSE)","v":2982.62},3069.9,-87.2800000000002,-2.8430893514446789E-2]
["no data",40,"GREENSVILLE",{"$f":"VLOOKUP(B45,'2020-2022 Composite Index'!$A$6:$K$140,7,FALSE)","v":1218.05},1399.62,-181.56999999999994,-0.12972806904731279]
["no data",41,"HALIFAX",{"$f":"VLOOKUP(B46,'2020-2022 Composite Index'!$A$6:$K$140,7,FALSE)","v":4722.6499999999996},5040.01,-317.36000000000058,-6.2968129031490128E-2]
["no data",42,"HANOVER",{"$f":"VLOOKUP(B47,'2020-2022 Composite Index'!$A$6:$K$140,7,FALSE)","v":17613.38},17753.43,-140.04999999999927,-7.8886164532712428E-3]
["no data",43,"HENRICO",{"$f":"VLOOKUP(B48,'2020-2022 Composite Index'!$A$6:$K$140,7,FALSE)","v":50283.77},50308.69,-24.92000000000553,-4.9534185843450756E-4]
["no data",44,"HENRY",{"$f":"VLOOKUP(B49,'2020-2022 Composite Index'!$A$6:$K$140,7,FALSE)","v":7045.22},7044.63,0.59000000000014552,8.3751737138805797E-5]
["no data",45,"HIGHLAND",{"$f":"VLOOKUP(B50,'2020-2022 Composite Index'!$A$6:$K$140,7,FALSE)","v":193.03},193.23,-0.19999999999998863,-1.0350359674998119E-3]
["no data",46,"ISLE OF WIGHT",{"$f":"VLOOKUP(B51,'2020-2022 Composite Index'!$A$6:$K$140,7,FALSE)","v":5338.11},5314.23,23.880000000000109,4.4935954973721708E-3]
["no data",47,"JAMES CITY",{"$f":"VLOOKUP(B52,'2020-2022 Composite Index'!$A$6:$K$140,7,FALSE)","v":10422.450000000001},10278.19,144.26000000000022,1.4035545168945136E-2]
["no data",48,"KING GEORGE",{"$f":"VLOOKUP(B53,'2020-2022 Composite Index'!$A$6:$K$140,7,FALSE)","v":4362.9399999999996},4219.38,143.55999999999949,3.4023956126255396E-2]
["no data",49,"KING AND QUEEN",{"$f":"VLOOKUP(B54,'2020-2022 Composite Index'!$A$6:$K$140,7,FALSE)","v":773.2},813.36,-40.159999999999968,-4.9375430313760162E-2]
["no data",50,"KING WILLIAM",{"$f":"VLOOKUP(B55,'2020-2022 Composite Index'!$A$6:$K$140,7,FALSE)","v":2172.5300000000002},2211.46,-38.929999999999836,-1.7603754985394189E-2]
["no data",51,"LANCASTER",{"$f":"VLOOKUP(B56,'2020-2022 Composite Index'!$A$6:$K$140,7,FALSE)","v":1062.3},1132.02,-69.720000000000027,-6.1589017861875255E-2]
["no data",52,"LEE",{"$f":"VLOOKUP(B57,'2020-2022 Composite Index'!$A$6:$K$140,7,FALSE)","v":3053.46},3063.5,-10.039999999999964,-3.277297209074576E-3]
["no data",53,"LOUDOUN",{"$f":"VLOOKUP(B58,'2020-2022 Composite Index'!$A$6:$K$140,7,FALSE)","v":80270.95},75549.69,4721.2599999999948,6.2492116115896633E-2]
["no data",54,"LOUISA",{"$f":"VLOOKUP(B59,'2020-2022 Composite Index'!$A$6:$K$140,7,FALSE)","v":4704.2},4688.0200000000004,16.179999999999382,3.451350463521781E-3]
["no data",55,"LUNENBURG",{"$f":"VLOOKUP(B60,'2020-2022 Composite Index'!$A$6:$K$140,7,FALSE)","v":1441.57},1483.44,-41.870000000000118,-2.8224936633770233E-2]
["no data",56,"MADISON",{"$f":"VLOOKUP(B61,'2020-2022 Composite Index'!$A$6:$K$140,7,FALSE)","v":1673.19},1710.45,-37.259999999999991,-2.1783741120757691E-2]
["no data",57,"MATHEWS",{"$f":"VLOOKUP(B62,'2020-2022 Composite Index'!$A$6:$K$140,7,FALSE)","v":1075.74},1096.07,-20.329999999999927,-1.8548085432499684E-2]
["no data",58,"MECKLENBURG",{"$f":"VLOOKUP(B63,'2020-2022 Composite Index'!$A$6:$K$140,7,FALSE)","v":4103.1400000000003},4302.6499999999996,-199.50999999999931,-4.6369098113952872E-2]
["no data",59,"MIDDLESEX",{"$f":"VLOOKUP(B64,'2020-2022 Composite Index'!$A$6:$K$140,7,FALSE)","v":1194.26},1193.1600000000001,1.0999999999999091,9.2192161990002088E-4]
["no data",60,"MONTGOMERY",{"$f":"VLOOKUP(B65,'2020-2022 Composite Index'!$A$6:$K$140,7,FALSE)","v":9636.9500000000007},9487.9599999999991,148.9900000000016,1.5703059456405974E-2]
["no data",62,"NELSON",{"$f":"VLOOKUP(B66,'2020-2022 Composite Index'!$A$6:$K$140,7,FALSE)","v":1794.43},1896.01,-101.57999999999993,-5.3575666795006319E-2]
["no data",63,"NEW KENT",{"$f":"VLOOKUP(B67,'2020-2022 Composite Index'!$A$6:$K$140,7,FALSE)","v":3158.26},2983.49,174.77000000000044,5.8579046686933908E-2]
["no data",65,"NORTHAMPTON",{"$f":"VLOOKUP(B68,'2020-2022 Composite Index'!$A$6:$K$140,7,FALSE)","v":1528.2},1559.87,-31.669999999999845,-2.0302973965779101E-2]
["no data",66,"NORTHUMBERLAND",{"$f":"VLOOKUP(B69,'2020-2022 Composite Index'!$A$6:$K$140,7,FALSE)","v":1217.5899999999999},1277.97,-60.380000000000109,-4.7246805480566922E-2]
["no data",67,"NOTTOWAY",{"$f":"VLOOKUP(B70,'2020-2022 Composite Index'!$A$6:$K$140,7,FALSE)","v":1958.02},2092.8000000000002,{"$f":"D70-E70","v":-134.7800000000002},{"$f":"F70/E70","v":-6.4401758409786028E-2}]
["no data",68,"ORANGE",{"$f":"VLOOKUP(B71,'2020-2022 Composite Index'!$A$6:$K$140,7,FALSE)","v":4745.57},4840.2700000000004,-94.700000000000728,-1.9565024265175437E-2]
["no data",69,"PAGE",{"$f":"VLOOKUP(B72,'2020-2022 Composite Index'!$A$6:$K$140,7,FALSE)","v":3233.29},3280.23,-46.940000000000055,-1.4309972166585897E-2]
["no data",70,"PATRICK",{"$f":"VLOOKUP(B73,'2020-2022 Composite Index'!$A$6:$K$140,7,FALSE)","v":2588.38},2800.21,-211.82999999999993,-7.5647897836233685E-2]
["no data",71,"PITTSYLVANIA",{"$f":"VLOOKUP(B74,'2020-2022 Composite Index'!$A$6:$K$140,7,FALSE)","v":8619.9699999999993},8851.89,-231.92000000000007,-2.6200054451648188E-2]
["no data",72,"POWHATAN",{"$f":"VLOOKUP(B75,'2020-2022 Composite Index'!$A$6:$K$140,7,FALSE)","v":4220.03},4215.07,4.9600000000000364,1.1767301610649495E-3]
["no data",73,"PRINCE EDWARD",{"$f":"VLOOKUP(B76,'2020-2022 Composite Index'!$A$6:$K$140,7,FALSE)","v":1968.27},1975.74,-7.4700000000000273,-3.7808618542925828E-3]
["no data",74,"PRINCE GEORGE",{"$f":"VLOOKUP(B77,'2020-2022 Composite Index'!$A$6:$K$140,7,FALSE)","v":6189.27},6292.79,-103.51999999999953,-1.6450572798393008E-2]
["no data",75,"PRINCE WILLIAM",{"$f":"VLOOKUP(B78,'2020-2022 Composite Index'!$A$6:$K$140,7,FALSE)","v":87313.29},84894.18,2419.1100000000006,2.8495592984112701E-2]
["no data",77,"PULASKI",{"$f":"VLOOKUP(B79,'2020-2022 Composite Index'!$A$6:$K$140,7,FALSE)","v":4013.88},4193.22,-179.34000000000015,-4.2769041452630704E-2]
["no data",78,"RAPPAHANNOCK",{"$f":"VLOOKUP(B80,'2020-2022 Composite Index'!$A$6:$K$140,7,FALSE)","v":817.68},868.78,-51.100000000000023,-5.8818112755818532E-2]
["no data",79,"RICHMOND COUNTY",{"$f":"VLOOKUP(B81,'2020-2022 Composite Index'!$A$6:$K$140,7,FALSE)","v":1275.55},1247.3599999999999,28.190000000000055,2.2599730631092912E-2]
["no data",80,"ROANOKE COUNTY",{"$f":"VLOOKUP(B82,'2020-2022 Composite Index'!$A$6:$K$140,7,FALSE)","v":13778.96},13981.99,-203.03000000000065,-1.4520822858548794E-2]
["no data",81,"ROCKBRIDGE",{"$f":"VLOOKUP(B83,'2020-2022 Composite Index'!$A$6:$K$140,7,FALSE)","v":2574.59},2551.2600000000002,23.329999999999927,9.1445011484521076E-3]
["no data",82,"ROCKINGHAM",{"$f":"VLOOKUP(B84,'2020-2022 Composite Index'!$A$6:$K$140,7,FALSE)","v":11252.58},11287.29,-34.710000000000946,-3.0751402683904588E-3]
["no data",83,"RUSSELL",{"$f":"VLOOKUP(B85,'2020-2022 Composite Index'!$A$6:$K$140,7,FALSE)","v":3629.3},3849.98,-220.67999999999984,-5.7319778284562473E-2]
["no data",84,"SCOTT",{"$f":"VLOOKUP(B86,'2020-2022 Composite Index'!$A$6:$K$140,7,FALSE)","v":3431.49},3540.08,-108.59000000000015,-3.0674448035072695E-2]
["no data",85,"SHENANDOAH",{"$f":"VLOOKUP(B87,'2020-2022 Composite Index'!$A$6:$K$140,7,FALSE)","v":5813},5832.5,-19.5,-3.3433347621088729E-3]
["no data",86,"SMYTH",{"$f":"VLOOKUP(B88,'2020-2022 Composite Index'!$A$6:$K$140,7,FALSE)","v":4217.82},4402.57,-184.75,-4.1964125499424201E-2]
["no data",87,"SOUTHAMPTON",{"$f":"VLOOKUP(B89,'2020-2022 Composite Index'!$A$6:$K$140,7,FALSE)","v":2637.85},2629.02,8.8299999999999272,3.3586659667860751E-3]
["no data",88,"SPOTSYLVANIA",{"$f":"VLOOKUP(B90,'2020-2022 Composite Index'!$A$6:$K$140,7,FALSE)","v":23183.64},23093.59,90.049999999999272,3.8993504258107671E-3]
["no data",89,"STAFFORD",{"$f":"VLOOKUP(B91,'2020-2022 Composite Index'!$A$6:$K$140,7,FALSE)","v":28486.89},27518.55,968.34000000000015,3.5188627307761497E-2]
["no data",90,"SURRY",{"$f":"VLOOKUP(B92,'2020-2022 Composite Index'!$A$6:$K$140,7,FALSE)","v":731.15},785.67,-54.519999999999982,-6.9393002151030309E-2]
["no data",91,"SUSSEX",{"$f":"VLOOKUP(B93,'2020-2022 Composite Index'!$A$6:$K$140,7,FALSE)","v":1019.46},1022.95,-3.4900000000000091,-3.4117014516838644E-3]
["no data",92,"TAZEWELL",{"$f":"VLOOKUP(B94,'2020-2022 Composite Index'!$A$6:$K$140,7,FALSE)","v":5625.69},5936.11,-310.42000000000007,-5.2293505342724457E-2]
["no data",93,"WARREN",{"$f":"VLOOKUP(B95,'2020-2022 Composite Index'!$A$6:$K$140,7,FALSE)","v":5279.87},5332.53,-52.659999999999854,-9.8752374576420304E-3]
["no data",94,"WASHINGTON",{"$f":"VLOOKUP(B96,'2020-2022 Composite Index'!$A$6:$K$140,7,FALSE)","v":6979.59},7089.57,-109.97999999999956,-1.5512929557081681E-2]
["no data",95,"WESTMORELAND",{"$f":"VLOOKUP(B97,'2020-2022 Composite Index'!$A$6:$K$140,7,FALSE)","v":1518.62},1561.98,-43.360000000000127,-2.775963840766215E-2]
["no data",96,"WISE",{"$f":"VLOOKUP(B98,'2020-2022 Composite Index'!$A$6:$K$140,7,FALSE)","v":5575},5753.71,-178.71000000000004,-3.105995957390971E-2]
["no data",97,"WYTHE",{"$f":"VLOOKUP(B99,'2020-2022 Composite Index'!$A$6:$K$140,7,FALSE)","v":3999.31},4081.37,-82.059999999999945,-2.0105993820702349E-2]
["no data",98,"YORK",{"$f":"VLOOKUP(B100,'2020-2022 Composite Index'!$A$6:$K$140,7,FALSE)","v":12609.72},12521.81,87.909999999999854,7.0205505434118437E-3]
["no data",101,"ALEXANDRIA",{"$f":"VLOOKUP(B101,'2020-2022 Composite Index'!$A$6:$K$140,7,FALSE)","v":14987.82},14340.94,646.8799999999992,4.5107224491560467E-2]
["no data",102,"BRISTOL",{"$f":"VLOOKUP(B102,'2020-2022 Composite Index'!$A$6:$K$140,7,FALSE)","v":2157.2199999999998},2193.2199999999998,{"$f":"D102-E102","v":-36},{"$f":"F102/E102","v":-1.6414222011471719E-2}]
["no data",103,"BUENA VISTA",{"$f":"VLOOKUP(B103,'2020-2022 Composite Index'!$A$6:$K$140,7,FALSE)","v":892.59},965.38,-72.789999999999964,-7.5400360479811024E-2]
["no data",104,"CHARLOTTESVILLE",{"$f":"VLOOKUP(B104,'2020-2022 Composite Index'!$A$6:$K$140,7,FALSE)","v":4189.74},4065.74,124,3.0498752994534823E-2]
["no data",106,"COLONIAL HEIGHTS",{"$f":"VLOOKUP(B105,'2020-2022 Composite Index'!$A$6:$K$140,7,FALSE)","v":2759.15},2769.82,-10.670000000000073,-3.8522358853644179E-3]
["no data",107,"COVINGTON",{"$f":"VLOOKUP(B106,'2020-2022 Composite Index'!$A$6:$K$140,7,FALSE)","v":961.48},940.25,21.230000000000018,2.2579101302845007E-2]
["no data",108,"DANVILLE",{"$f":"VLOOKUP(B107,'2020-2022 Composite Index'!$A$6:$K$140,7,FALSE)","v":5519.2},5935.16,-415.96000000000004,-7.0084041542266773E-2]
["no data",109,"FALLS CHURCH",{"$f":"VLOOKUP(B108,'2020-2022 Composite Index'!$A$6:$K$140,7,FALSE)","v":2607.3000000000002},2456.87,150.43000000000029,6.1228310818236334E-2]
["no data",110,"FREDERICKSBURG",{"$f":"VLOOKUP(B109,'2020-2022 Composite Index'!$A$6:$K$140,7,FALSE)","v":3400.21},3300.13,100.07999999999993,3.0326078063591413E-2]
["no data",111,"GALAX",{"$f":"VLOOKUP(B110,'2020-2022 Composite Index'!$A$6:$K$140,7,FALSE)","v":1229.6600000000001},1304.99,-75.329999999999927,-5.7724580264982818E-2]
["no data",112,"HAMPTON",{"$f":"VLOOKUP(B111,'2020-2022 Composite Index'!$A$6:$K$140,7,FALSE)","v":19013.27},19748.560000000001,-735.29000000000087,-3.7232588097562601E-2]
["no data",113,"HARRISONBURG",{"$f":"VLOOKUP(B112,'2020-2022 Composite Index'!$A$6:$K$140,7,FALSE)","v":5886.9},5522.56,364.33999999999924,6.5973027001969956E-2]
["no data",114,"HOPEWELL",{"$f":"VLOOKUP(B113,'2020-2022 Composite Index'!$A$6:$K$140,7,FALSE)","v":3976.77},4007.24,-30.4699999999998,-7.6037372356035082E-3]
["no data",115,"LYNCHBURG",{"$f":"VLOOKUP(B114,'2020-2022 Composite Index'!$A$6:$K$140,7,FALSE)","v":7978.94},8009.13,-30.190000000000509,-3.7694481173361537E-3]
["no data",116,"MARTINSVILLE",{"$f":"VLOOKUP(B115,'2020-2022 Composite Index'!$A$6:$K$140,7,FALSE)","v":1893.97},2056.9299999999998,-162.95999999999981,-7.922486423942468E-2]
["no data",117,"NEWPORT NEWS",{"$f":"VLOOKUP(B116,'2020-2022 Composite Index'!$A$6:$K$140,7,FALSE)","v":26872.560000000001},27253.040000000001,-380.47999999999956,-1.3961011322039652E-2]
["no data",118,"NORFOLK",{"$f":"VLOOKUP(B117,'2020-2022 Composite Index'!$A$6:$K$140,7,FALSE)","v":28431.57},29606.81,-1175.2400000000016,-3.9694921540010614E-2]
["no data",119,"NORTON",{"$f":"VLOOKUP(B118,'2020-2022 Composite Index'!$A$6:$K$140,7,FALSE)","v":766.24},813.5,-47.259999999999991,-5.8094652735095259E-2]
["no data",120,"PETERSBURG",{"$f":"VLOOKUP(B119,'2020-2022 Composite Index'!$A$6:$K$140,7,FALSE)","v":3738.9},3871.02,-132.11999999999989,-3.4130539237720262E-2]
["no data",121,"PORTSMOUTH",{"$f":"VLOOKUP(B120,'2020-2022 Composite Index'!$A$6:$K$140,7,FALSE)","v":13476.08},14003.22,-527.13999999999942,-3.7644198977092369E-2]
["no data",122,"RADFORD",{"$f":"VLOOKUP(B121,'2020-2022 Composite Index'!$A$6:$K$140,7,FALSE)","v":1572.47},1599.41,-26.940000000000055,-1.684371111847497E-2]
["no data",123,"RICHMOND CITY",{"$f":"VLOOKUP(B122,'2020-2022 Composite Index'!$A$6:$K$140,7,FALSE)","v":22952.560000000001},21729.72,1222.8400000000001,5.6275000322139453E-2]
["no data",124,"ROANOKE CITY",{"$f":"VLOOKUP(B123,'2020-2022 Composite Index'!$A$6:$K$140,7,FALSE)","v":12822.83},12791.44,31.389999999999418,2.4539848523699769E-3]
["no data",126,"STAUNTON",{"$f":"VLOOKUP(B124,'2020-2022 Composite Index'!$A$6:$K$140,7,FALSE)","v":2563.29},2535.46,27.829999999999927,1.0976311990723547E-2]
["no data",127,"SUFFOLK",{"$f":"VLOOKUP(B125,'2020-2022 Composite Index'!$A$6:$K$140,7,FALSE)","v":13783.08},13836.67,-53.590000000000146,-3.8730417072894087E-3]
["no data",128,"VIRGINIA BEACH",{"$f":"VLOOKUP(B126,'2020-2022 Composite Index'!$A$6:$K$140,7,FALSE)","v":67090.94},67889.72,-798.77999999999884,-1.1765846139886847E-2]
["no data",130,"WAYNESBORO",{"$f":"VLOOKUP(B127,'2020-2022 Composite Index'!$A$6:$K$140,7,FALSE)","v":2934.02},3041.12,-107.09999999999991,-3.5217288367443547E-2]
["no data",131,"WILLIAMSBURG",{"$f":"VLOOKUP(B128,'2020-2022 Composite Index'!$A$6:$K$140,7,FALSE)","v":998.36},989.87,8.4900000000000091,8.576883833230636E-3]
["no data",132,"WINCHESTER",{"$f":"VLOOKUP(B129,'2020-2022 Composite Index'!$A$6:$K$140,7,FALSE)","v":4169.8599999999997},4227.17,-57.3100000000004,-1.3557533763723815E-2]
["no data",134,"FAIRFAX CITY",{"$f":"VLOOKUP(B130,'2020-2022 Composite Index'!$A$6:$K$140,7,FALSE)","v":3079.33},3124.97,-45.639999999999873,-1.4604940207425952E-2]
["no data",135,"FRANKLIN CITY",{"$f":"VLOOKUP(B131,'2020-2022 Composite Index'!$A$6:$K$140,7,FALSE)","v":1032.56},1057.17,-24.610000000000127,-2.3279132022286032E-2]
["no data",136,"CHESAPEAKE",{"$f":"VLOOKUP(B132,'2020-2022 Composite Index'!$A$6:$K$140,7,FALSE)","v":39613.21},38885.050000000003,728.15999999999622,1.872596280575687E-2]
["no data",137,"LEXINGTON",{"$f":"VLOOKUP(B133,'2020-2022 Composite Index'!$A$6:$K$140,7,FALSE)","v":659.79},652.9,6.8899999999999864,1.0552917751569899E-2]
["no data",138,"EMPORIA",{"$f":"VLOOKUP(B134,'2020-2022 Composite Index'!$A$6:$K$140,7,FALSE)","v":1021.87},1023.48,{"$f":"D134-E134","v":-1.6100000000000136},{"$f":"F134/E134","v":-1.5730644467893985E-3}]
["no data",139,"SALEM",{"$f":"VLOOKUP(B135,'2020-2022 Composite Index'!$A$6:$K$140,7,FALSE)","v":3872.18},3716.18,156,4.19785909186315E-2]
["no data",142,"POQUOSON",{"$f":"VLOOKUP(B136,'2020-2022 Composite Index'!$A$6:$K$140,7,FALSE)","v":2095.1999999999998},2078.3200000000002,16.879999999999654,8.1219446475998183E-3]
["no data",143,"MANASSAS",{"$f":"VLOOKUP(B137,'2020-2022 Composite Index'!$A$6:$K$140,7,FALSE)","v":7420.46},7230.2,190.26000000000022,2.6314624768332857E-2]
["no data",144,"MANASSAS PARK",{"$f":"VLOOKUP(B138,'2020-2022 Composite Index'!$A$6:$K$140,7,FALSE)","v":3541.06},3330.38,210.67999999999984,6.3260048402884905E-2]
["no data",202,"COLONIAL BEACH",{"$f":"VLOOKUP(B139,'2020-2022 Composite Index'!$A$6:$K$140,7,FALSE)","v":598.48},571.45000000000005,27.029999999999973,4.7300726222766598E-2]
["no data",207,"WEST POINT",{"$f":"VLOOKUP(B140,'2020-2022 Composite Index'!$A$6:$K$140,7,FALSE)","v":789.13},757.77,31.360000000000014,4.1384588991382629E-2]
["no data",null,null,{"$f":"SUM(D6:D140)","v":1246930.6500000001},{"$f":"SUM(E6:E140)","v":1239781.2999999996},{"$f":"SUM(F6:F140)","v":7149.3499999999622},5.7666219033953529E-3]
["End of worksheet"]
[]
[]
[]
[]
[]
[null,null,null,null,0]

{"sheet":"Population","index":15,"n_rows":145,"n_cols":15,"rows_kept":145,"cut":false,"hidden":false,"merged":[[1,1,1,6],[3,5,3,6]]}
["no data","no data","no data","no data","no data","no data","no data",null,{"$f":"'2020-2022 Calculation Template'!N2","v":"<SE"}]
[null,"Comparison of Population Estimates from Base Year 2015 \n(for 2018-2020 Biennium) to Base Year 2017 (for 2020-2022 Biennium)"]
["no data","no data","no data","no data","no data","no data","no data"]
["no data","no data","no data","no data","no data","Click this cell to view sort options"]
["no data","Div","Division","2017\nPopulation Estimate","2015\nPopulation Estimate","Variance","Percentage Change from Prior Base Year"]
["no data",1,"ACCOMACK",{"$f":"VLOOKUP($B6,'2020-2022 Composite Index'!$A$6:$K$140,8,FALSE)","v":33041},33516,{"$f":"D6-E6","v":-475},{"$f":"F6/E6","v":-1.417233560090703E-2}]
["no data",2,"ALBEMARLE",{"$f":"VLOOKUP($B7,'2020-2022 Composite Index'!$A$6:$K$140,8,FALSE)","v":107697},105051,2646,2.5187765942256617E-2,null,null,null,null,null,null,null,"Click this cell to view sort options"]
["no data",3,"ALLEGHANY",{"$f":"VLOOKUP($B8,'2020-2022 Composite Index'!$A$6:$K$140,8,FALSE)","v":15405},15515,-110,-7.0899129874315179E-3,null,null,null,null,null,null,null,"Division Number - Ascending"]
["no data",4,"AMELIA",{"$f":"VLOOKUP($B9,'2020-2022 Composite Index'!$A$6:$K$140,8,FALSE)","v":12948},12909,39,3.0211480362537764E-3,null,null,null,null,null,null,null,"Variance - Ascending"]
["no data",5,"AMHERST",{"$f":"VLOOKUP($B10,'2020-2022 Composite Index'!$A$6:$K$140,8,FALSE)","v":31982},32028,-46,-1.4362432871237666E-3,null,null,null,null,null,null,null,"Variance - Descending"]
["no data",6,"APPOMATTOX",{"$f":"VLOOKUP($B11,'2020-2022 Composite Index'!$A$6:$K$140,8,FALSE)","v":15536},15455,81,5.2410223228728566E-3,null,null,null,null,null,null,null,"% Variance - Ascending"]
["no data",7,"ARLINGTON",{"$f":"VLOOKUP($B12,'2020-2022 Composite Index'!$A$6:$K$140,8,FALSE)","v":239074},234678,4396,1.8732049872591382E-2,null,null,null,null,null,null,null,"% Variance - Descending"]
["no data",8,"AUGUSTA",{"$f":"VLOOKUP($B13,'2020-2022 Composite Index'!$A$6:$K$140,8,FALSE)","v":75013},74881,132,1.762796971194295E-3]
["no data",9,"BATH",{"$f":"VLOOKUP($B14,'2020-2022 Composite Index'!$A$6:$K$140,8,FALSE)","v":4556},4727,-171,-3.6175163951766447E-2]
["no data",10,"BEDFORD COUNTY",{"$f":"VLOOKUP($B15,'2020-2022 Composite Index'!$A$6:$K$140,8,FALSE)","v":77807},77575,232,2.9906542056074765E-3]
["no data",11,"BLAND",{"$f":"VLOOKUP($B16,'2020-2022 Composite Index'!$A$6:$K$140,8,FALSE)","v":6511},6684,-173,-2.5882704967085578E-2]
["no data",12,"BOTETOURT",{"$f":"VLOOKUP($B17,'2020-2022 Composite Index'!$A$6:$K$140,8,FALSE)","v":33350},33486,-136,-4.0613987935256522E-3]
["no data",13,"BRUNSWICK",{"$f":"VLOOKUP($B18,'2020-2022 Composite Index'!$A$6:$K$140,8,FALSE)","v":16581},16930,-349,-2.0614294152392205E-2]
["no data",14,"BUCHANAN",{"$f":"VLOOKUP($B19,'2020-2022 Composite Index'!$A$6:$K$140,8,FALSE)","v":22004},22983,-979,-4.2596701910107469E-2]
["no data",15,"BUCKINGHAM",{"$f":"VLOOKUP($B20,'2020-2022 Composite Index'!$A$6:$K$140,8,FALSE)","v":16957},16988,-31,-1.8248175182481751E-3]
["no data",16,"CAMPBELL",{"$f":"VLOOKUP($B21,'2020-2022 Composite Index'!$A$6:$K$140,8,FALSE)","v":55503},56167,-664,-1.1821888297398829E-2]
["no data",17,"CAROLINE",{"$f":"VLOOKUP($B22,'2020-2022 Composite Index'!$A$6:$K$140,8,FALSE)","v":29990},29792,198,6.6460794844253488E-3]
["no data",18,"CARROLL",{"$f":"VLOOKUP($B23,'2020-2022 Composite Index'!$A$6:$K$140,8,FALSE)","v":29212},29283,-71,-2.4246149643137658E-3]
["no data",19,"CHARLES CITY",{"$f":"VLOOKUP($B24,'2020-2022 Composite Index'!$A$6:$K$140,8,FALSE)","v":7151},7331,-180,-2.4553266948574546E-2]
["no data",20,"CHARLOTTE",{"$f":"VLOOKUP($B25,'2020-2022 Composite Index'!$A$6:$K$140,8,FALSE)","v":12231},12454,-223,-1.7905893688774689E-2]
["no data",21,"CHESTERFIELD",{"$f":"VLOOKUP($B26,'2020-2022 Composite Index'!$A$6:$K$140,8,FALSE)","v":340020},333450,6570,1.970310391363023E-2]
["no data",22,"CLARKE",{"$f":"VLOOKUP($B27,'2020-2022 Composite Index'!$A$6:$K$140,8,FALSE)","v":14312},14206,106,7.4616359284809235E-3]
["no data",23,"CRAIG",{"$f":"VLOOKUP($B28,'2020-2022 Composite Index'!$A$6:$K$140,8,FALSE)","v":5129},5192,-63,-1.2134052388289676E-2]
["no data",24,"CULPEPER",{"$f":"VLOOKUP($B29,'2020-2022 Composite Index'!$A$6:$K$140,8,FALSE)","v":50272},48908,1364,2.7889097898094382E-2]
["no data",25,"CUMBERLAND",{"$f":"VLOOKUP($B30,'2020-2022 Composite Index'!$A$6:$K$140,8,FALSE)","v":9861},9989,-128,-1.2814095505055561E-2]
["no data",26,"DICKENSON",{"$f":"VLOOKUP($B31,'2020-2022 Composite Index'!$A$6:$K$140,8,FALSE)","v":14682},15339,-657,-4.2831996870721686E-2]
["no data",27,"DINWIDDIE",{"$f":"VLOOKUP($B32,'2020-2022 Composite Index'!$A$6:$K$140,8,FALSE)","v":28500},28753,-253,-8.7990818349389637E-3]
["no data",28,"ESSEX",{"$f":"VLOOKUP($B33,'2020-2022 Composite Index'!$A$6:$K$140,8,FALSE)","v":10813},10914,-101,-9.2541689573025464E-3]
["no data",29,"FAIRFAX COUNTY",{"$f":"VLOOKUP($B34,'2020-2022 Composite Index'!$A$6:$K$140,8,FALSE)","v":1143429},1129330,14099,1.2484393401397289E-2]
["no data",30,"FAUQUIER",{"$f":"VLOOKUP($B35,'2020-2022 Composite Index'!$A$6:$K$140,8,FALSE)","v":69098},67898,1200,1.7673569177295356E-2]
["no data",31,"FLOYD",{"$f":"VLOOKUP($B36,'2020-2022 Composite Index'!$A$6:$K$140,8,FALSE)","v":15550},15430,120,7.7770576798444589E-3]
["no data",32,"FLUVANNA",{"$f":"VLOOKUP($B37,'2020-2022 Composite Index'!$A$6:$K$140,8,FALSE)","v":26467},26162,305,1.165813011237673E-2]
["no data",33,"FRANKLIN COUNTY",{"$f":"VLOOKUP($B38,'2020-2022 Composite Index'!$A$6:$K$140,8,FALSE)","v":56427},56373,{"$f":"D38-E38","v":54},{"$f":"F38/E38","v":9.5790538023521896E-4}]
["no data",34,"FREDERICK",{"$f":"VLOOKUP($B39,'2020-2022 Composite Index'!$A$6:$K$140,8,FALSE)","v":85820},82623,3197,3.8693826174309817E-2]
["no data",35,"GILES",{"$f":"VLOOKUP($B40,'2020-2022 Composite Index'!$A$6:$K$140,8,FALSE)","v":17053},17179,-126,-7.3345363525234297E-3]
["no data",36,"GLOUCESTER",{"$f":"VLOOKUP($B41,'2020-2022 Composite Index'!$A$6:$K$140,8,FALSE)","v":37169},37072,97,2.6165299956840741E-3]
["no data",37,"GOOCHLAND",{"$f":"VLOOKUP($B42,'2020-2022 Composite Index'!$A$6:$K$140,8,FALSE)","v":22705},22277,428,1.9212640840328591E-2]
["no data",38,"GRAYSON",{"$f":"VLOOKUP($B43,'2020-2022 Composite Index'!$A$6:$K$140,8,FALSE)","v":15669},16087,-418,-2.5983713557530926E-2]
["no data",39,"GREENE",{"$f":"VLOOKUP($B44,'2020-2022 Composite Index'!$A$6:$K$140,8,FALSE)","v":19985},19840,145,7.3084677419354835E-3]
["no data",40,"GREENSVILLE",{"$f":"VLOOKUP($B45,'2020-2022 Composite Index'!$A$6:$K$140,8,FALSE)","v":11563},11804,-241,-2.0416807861741781E-2]
["no data",41,"HALIFAX",{"$f":"VLOOKUP($B46,'2020-2022 Composite Index'!$A$6:$K$140,8,FALSE)","v":35215},35766,-551,-1.5405692557177207E-2]
["no data",42,"HANOVER",{"$f":"VLOOKUP($B47,'2020-2022 Composite Index'!$A$6:$K$140,8,FALSE)","v":106375},104013,2362,2.2708699874054206E-2]
["no data",43,"HENRICO",{"$f":"VLOOKUP($B48,'2020-2022 Composite Index'!$A$6:$K$140,8,FALSE)","v":324395},320717,3678,1.1468054390630993E-2]
["no data",44,"HENRY",{"$f":"VLOOKUP($B49,'2020-2022 Composite Index'!$A$6:$K$140,8,FALSE)","v":51975},52822,-847,-1.6034985422740525E-2]
["no data",45,"HIGHLAND",{"$f":"VLOOKUP($B50,'2020-2022 Composite Index'!$A$6:$K$140,8,FALSE)","v":2284},2277,7,3.0742204655248135E-3]
["no data",46,"ISLE OF WIGHT",{"$f":"VLOOKUP($B51,'2020-2022 Composite Index'!$A$6:$K$140,8,FALSE)","v":37333},36438,895,2.4562270157527856E-2]
["no data",47,"JAMES CITY",{"$f":"VLOOKUP($B52,'2020-2022 Composite Index'!$A$6:$K$140,8,FALSE)","v":74722},73325,1397,1.9052165018752131E-2]
["no data",48,"KING GEORGE",{"$f":"VLOOKUP($B53,'2020-2022 Composite Index'!$A$6:$K$140,8,FALSE)","v":25381},24600,781,3.1747967479674795E-2]
["no data",49,"KING AND QUEEN",{"$f":"VLOOKUP($B54,'2020-2022 Composite Index'!$A$6:$K$140,8,FALSE)","v":6935},7190,-255,-3.5465924895688457E-2]
["no data",50,"KING WILLIAM",{"$f":"VLOOKUP($B55,'2020-2022 Composite Index'!$A$6:$K$140,8,FALSE)","v":13314},12920,394,3.0495356037151703E-2]
["no data",51,"LANCASTER",{"$f":"VLOOKUP($B56,'2020-2022 Composite Index'!$A$6:$K$140,8,FALSE)","v":11171},11297,-126,-1.115340355846685E-2]
["no data",52,"LEE",{"$f":"VLOOKUP($B57,'2020-2022 Composite Index'!$A$6:$K$140,8,FALSE)","v":24363},25182,-819,-3.2523230879199429E-2]
["no data",53,"LOUDOUN",{"$f":"VLOOKUP($B58,'2020-2022 Composite Index'!$A$6:$K$140,8,FALSE)","v":396068},374451,21617,5.7729849833489562E-2]
["no data",54,"LOUISA",{"$f":"VLOOKUP($B59,'2020-2022 Composite Index'!$A$6:$K$140,8,FALSE)","v":35035},34244,791,2.3098937040065413E-2]
["no data",55,"LUNENBURG",{"$f":"VLOOKUP($B60,'2020-2022 Composite Index'!$A$6:$K$140,8,FALSE)","v":12386},12435,-49,-3.9404905508644951E-3]
["no data",56,"MADISON",{"$f":"VLOOKUP($B61,'2020-2022 Composite Index'!$A$6:$K$140,8,FALSE)","v":13190},13099,91,6.9470951981067258E-3]
["no data",57,"MATHEWS",{"$f":"VLOOKUP($B62,'2020-2022 Composite Index'!$A$6:$K$140,8,FALSE)","v":8651},8737,-86,-9.8431956048987065E-3]
["no data",58,"MECKLENBURG",{"$f":"VLOOKUP($B63,'2020-2022 Composite Index'!$A$6:$K$140,8,FALSE)","v":31264},31608,-344,-1.0883320678309289E-2]
["no data",59,"MIDDLESEX",{"$f":"VLOOKUP($B64,'2020-2022 Composite Index'!$A$6:$K$140,8,FALSE)","v":11004},11082,-78,-7.0384407146724419E-3]
["no data",60,"MONTGOMERY",{"$f":"VLOOKUP($B65,'2020-2022 Composite Index'!$A$6:$K$140,8,FALSE)","v":98776},98121,655,6.6754313551635226E-3]
["no data",62,"NELSON",{"$f":"VLOOKUP($B66,'2020-2022 Composite Index'!$A$6:$K$140,8,FALSE)","v":14858},14993,-135,-9.0042019609150939E-3]
["no data",63,"NEW KENT",{"$f":"VLOOKUP($B67,'2020-2022 Composite Index'!$A$6:$K$140,8,FALSE)","v":21709},20468,1241,6.06312292358804E-2]
["no data",65,"NORTHAMPTON",{"$f":"VLOOKUP($B68,'2020-2022 Composite Index'!$A$6:$K$140,8,FALSE)","v":12000},12176,-176,-1.4454664914586071E-2]
["no data",66,"NORTHUMBERLAND",{"$f":"VLOOKUP($B69,'2020-2022 Composite Index'!$A$6:$K$140,8,FALSE)","v":12053},12220,-167,-1.3666121112929624E-2]
["no data",67,"NOTTOWAY",{"$f":"VLOOKUP($B70,'2020-2022 Composite Index'!$A$6:$K$140,8,FALSE)","v":15845},16261,{"$f":"D70-E70","v":-416},{"$f":"F70/E70","v":-2.5582682491851669E-2}]
["no data",68,"ORANGE",{"$f":"VLOOKUP($B71,'2020-2022 Composite Index'!$A$6:$K$140,8,FALSE)","v":34521},34015,506,1.4875790092606204E-2]
["no data",69,"PAGE",{"$f":"VLOOKUP($B72,'2020-2022 Composite Index'!$A$6:$K$140,8,FALSE)","v":23665},23719,-54,-2.2766558455246848E-3]
["no data",70,"PATRICK",{"$f":"VLOOKUP($B73,'2020-2022 Composite Index'!$A$6:$K$140,8,FALSE)","v":17930},18450,-520,-2.8184281842818428E-2]
["no data",71,"PITTSYLVANIA",{"$f":"VLOOKUP($B74,'2020-2022 Composite Index'!$A$6:$K$140,8,FALSE)","v":62166},63255,-1089,-1.7216030353331753E-2]
["no data",72,"POWHATAN",{"$f":"VLOOKUP($B75,'2020-2022 Composite Index'!$A$6:$K$140,8,FALSE)","v":29166},28442,724,2.5455312565923635E-2]
["no data",73,"PRINCE EDWARD",{"$f":"VLOOKUP($B76,'2020-2022 Composite Index'!$A$6:$K$140,8,FALSE)","v":23223},23631,-408,-1.7265456392027423E-2]
["no data",74,"PRINCE GEORGE",{"$f":"VLOOKUP($B77,'2020-2022 Composite Index'!$A$6:$K$140,8,FALSE)","v":37025},37131,-106,-2.8547574802725486E-3]
["no data",75,"PRINCE WILLIAM",{"$f":"VLOOKUP($B78,'2020-2022 Composite Index'!$A$6:$K$140,8,FALSE)","v":455990},443463,12527,2.8248128930711242E-2]
["no data",77,"PULASKI",{"$f":"VLOOKUP($B79,'2020-2022 Composite Index'!$A$6:$K$140,8,FALSE)","v":34467},34841,-374,-1.0734479492551879E-2]
["no data",78,"RAPPAHANNOCK",{"$f":"VLOOKUP($B80,'2020-2022 Composite Index'!$A$6:$K$140,8,FALSE)","v":7288},7308,-20,-2.7367268746579091E-3]
["no data",79,"RICHMOND COUNTY",{"$f":"VLOOKUP($B81,'2020-2022 Composite Index'!$A$6:$K$140,8,FALSE)","v":9094},9119,-25,-2.7415286763899549E-3]
["no data",80,"ROANOKE COUNTY",{"$f":"VLOOKUP($B82,'2020-2022 Composite Index'!$A$6:$K$140,8,FALSE)","v":93735},93775,-40,-4.2655291922154092E-4]
["no data",81,"ROCKBRIDGE",{"$f":"VLOOKUP($B83,'2020-2022 Composite Index'!$A$6:$K$140,8,FALSE)","v":22596},22163,433,1.9537066281640571E-2]
["no data",82,"ROCKINGHAM",{"$f":"VLOOKUP($B84,'2020-2022 Composite Index'!$A$6:$K$140,8,FALSE)","v":80666},79134,1532,1.9359567316197843E-2]
["no data",83,"RUSSELL",{"$f":"VLOOKUP($B85,'2020-2022 Composite Index'!$A$6:$K$140,8,FALSE)","v":27309},28008,-699,-2.4957155098543272E-2]
["no data",84,"SCOTT",{"$f":"VLOOKUP($B86,'2020-2022 Composite Index'!$A$6:$K$140,8,FALSE)","v":22377},22759,-382,-1.6784568742036116E-2]
["no data",85,"SHENANDOAH",{"$f":"VLOOKUP($B87,'2020-2022 Composite Index'!$A$6:$K$140,8,FALSE)","v":42525},42228,297,7.0332480818414318E-3]
["no data",86,"SMYTH",{"$f":"VLOOKUP($B88,'2020-2022 Composite Index'!$A$6:$K$140,8,FALSE)","v":30686},31417,-731,-2.3267657637584746E-2]
["no data",87,"SOUTHAMPTON",{"$f":"VLOOKUP($B89,'2020-2022 Composite Index'!$A$6:$K$140,8,FALSE)","v":18119},18551,-432,-2.3287154331302896E-2]
["no data",88,"SPOTSYLVANIA",{"$f":"VLOOKUP($B90,'2020-2022 Composite Index'!$A$6:$K$140,8,FALSE)","v":131549},128998,2551,1.9775500395354965E-2]
["no data",89,"STAFFORD",{"$f":"VLOOKUP($B91,'2020-2022 Composite Index'!$A$6:$K$140,8,FALSE)","v":145699},140176,5523,3.9400467983106952E-2]
["no data",90,"SURRY",{"$f":"VLOOKUP($B92,'2020-2022 Composite Index'!$A$6:$K$140,8,FALSE)","v":6674},6819,-145,-2.1264114972869921E-2]
["no data",91,"SUSSEX",{"$f":"VLOOKUP($B93,'2020-2022 Composite Index'!$A$6:$K$140,8,FALSE)","v":11655},11887,-232,-1.9517119542357197E-2]
["no data",92,"TAZEWELL",{"$f":"VLOOKUP($B94,'2020-2022 Composite Index'!$A$6:$K$140,8,FALSE)","v":42574},44051,-1477,-3.3529318290163673E-2]
["no data",93,"WARREN",{"$f":"VLOOKUP($B95,'2020-2022 Composite Index'!$A$6:$K$140,8,FALSE)","v":39239},38829,410,1.055911818486183E-2]
["no data",94,"WASHINGTON",{"$f":"VLOOKUP($B96,'2020-2022 Composite Index'!$A$6:$K$140,8,FALSE)","v":53789},54130,-341,-6.2996489931646041E-3]
["no data",95,"WESTMORELAND",{"$f":"VLOOKUP($B97,'2020-2022 Composite Index'!$A$6:$K$140,8,FALSE)","v":14191},14145,46,3.2520325203252032E-3]
["no data",96,"WISE",{"$f":"VLOOKUP($B98,'2020-2022 Composite Index'!$A$6:$K$140,8,FALSE)","v":39133},39943,-810,-2.0278897428836092E-2]
["no data",97,"WYTHE",{"$f":"VLOOKUP($B99,'2020-2022 Composite Index'!$A$6:$K$140,8,FALSE)","v":28723},28743,-20,-6.9582159134397943E-4]
["no data",98,"YORK",{"$f":"VLOOKUP($B100,'2020-2022 Composite Index'!$A$6:$K$140,8,FALSE)","v":68890},69466,-576,-8.2918262171421987E-3]
["no data",101,"ALEXANDRIA",{"$f":"VLOOKUP($B101,'2020-2022 Composite Index'!$A$6:$K$140,8,FALSE)","v":160719},159571,1148,7.1942896892292461E-3]
["no data",102,"BRISTOL",{"$f":"VLOOKUP($B102,'2020-2022 Composite Index'!$A$6:$K$140,8,FALSE)","v":17160},17625,{"$f":"D102-E102","v":-465},{"$f":"F102/E102","v":-2.6382978723404255E-2}]
["no data",103,"BUENA VISTA",{"$f":"VLOOKUP($B103,'2020-2022 Composite Index'!$A$6:$K$140,8,FALSE)","v":6424},6817,-393,-5.7649992665395333E-2]
["no data",104,"CHARLOTTESVILLE",{"$f":"VLOOKUP($B104,'2020-2022 Composite Index'!$A$6:$K$140,8,FALSE)","v":49132},48210,922,1.9124662933001451E-2]
["no data",106,"COLONIAL HEIGHTS",{"$f":"VLOOKUP($B105,'2020-2022 Composite Index'!$A$6:$K$140,8,FALSE)","v":17320},17215,105,6.0993319779262273E-3]
["no data",107,"COVINGTON",{"$f":"VLOOKUP($B106,'2020-2022 Composite Index'!$A$6:$K$140,8,FALSE)","v":5850},6198,-348,-5.6147144240077447E-2]
["no data",108,"DANVILLE",{"$f":"VLOOKUP($B107,'2020-2022 Composite Index'!$A$6:$K$140,8,FALSE)","v":41358},42544,-1186,-2.7877021436630314E-2]
["no data",109,"FALLS CHURCH",{"$f":"VLOOKUP($B108,'2020-2022 Composite Index'!$A$6:$K$140,8,FALSE)","v":14269},14183,86,6.0635972643305362E-3]
["no data",110,"FREDERICKSBURG",{"$f":"VLOOKUP($B109,'2020-2022 Composite Index'!$A$6:$K$140,8,FALSE)","v":27645},26969,676,2.5065816307612444E-2]
["no data",111,"GALAX",{"$f":"VLOOKUP($B110,'2020-2022 Composite Index'!$A$6:$K$140,8,FALSE)","v":6748},7043,-295,-4.1885560130626151E-2]
["no data",112,"HAMPTON",{"$f":"VLOOKUP($B111,'2020-2022 Composite Index'!$A$6:$K$140,8,FALSE)","v":136743},138626,-1883,-1.3583310490095653E-2]
["no data",113,"HARRISONBURG",{"$f":"VLOOKUP($B112,'2020-2022 Composite Index'!$A$6:$K$140,8,FALSE)","v":54689},53875,814,1.5109048723897912E-2]
["no data",114,"HOPEWELL",{"$f":"VLOOKUP($B113,'2020-2022 Composite Index'!$A$6:$K$140,8,FALSE)","v":22817},22984,-167,-7.2659241211277406E-3]
["no data",115,"LYNCHBURG",{"$f":"VLOOKUP($B114,'2020-2022 Composite Index'!$A$6:$K$140,8,FALSE)","v":80380},78675,1705,2.1671433110899269E-2]
["no data",116,"MARTINSVILLE",{"$f":"VLOOKUP($B115,'2020-2022 Composite Index'!$A$6:$K$140,8,FALSE)","v":13382},13474,-92,-6.8279649695710256E-3]
["no data",117,"NEWPORT NEWS",{"$f":"VLOOKUP($B116,'2020-2022 Composite Index'!$A$6:$K$140,8,FALSE)","v":182155},183454,-1299,-7.0807940955225834E-3]
["no data",118,"NORFOLK",{"$f":"VLOOKUP($B117,'2020-2022 Composite Index'!$A$6:$K$140,8,FALSE)","v":246256},247189,-933,-3.7744398011238366E-3]
["no data",119,"NORTON",{"$f":"VLOOKUP($B118,'2020-2022 Composite Index'!$A$6:$K$140,8,FALSE)","v":3882},3946,-64,-1.6218955904713634E-2]
["no data",120,"PETERSBURG",{"$f":"VLOOKUP($B119,'2020-2022 Composite Index'!$A$6:$K$140,8,FALSE)","v":31705},32057,-352,-1.0980441089309668E-2]
["no data",121,"PORTSMOUTH",{"$f":"VLOOKUP($B120,'2020-2022 Composite Index'!$A$6:$K$140,8,FALSE)","v":95440},96874,-1434,-1.4802733447571072E-2]
["no data",122,"RADFORD",{"$f":"VLOOKUP($B121,'2020-2022 Composite Index'!$A$6:$K$140,8,FALSE)","v":17208},17420,-212,-1.21699196326062E-2]
["no data",123,"RICHMOND CITY",{"$f":"VLOOKUP($B122,'2020-2022 Composite Index'!$A$6:$K$140,8,FALSE)","v":222853},217938,4915,2.2552285512393432E-2]
["no data",124,"ROANOKE CITY",{"$f":"VLOOKUP($B123,'2020-2022 Composite Index'!$A$6:$K$140,8,FALSE)","v":99908},99681,227,2.2772644736710106E-3]
["no data",126,"STAUNTON",{"$f":"VLOOKUP($B124,'2020-2022 Composite Index'!$A$6:$K$140,8,FALSE)","v":24761},24542,219,8.9234781191426943E-3]
["no data",127,"SUFFOLK",{"$f":"VLOOKUP($B125,'2020-2022 Composite Index'!$A$6:$K$140,8,FALSE)","v":92533},90426,2107,2.3300820560458277E-2]
["no data",128,"VIRGINIA BEACH",{"$f":"VLOOKUP($B126,'2020-2022 Composite Index'!$A$6:$K$140,8,FALSE)","v":454448},453500,948,2.0904079382579933E-3]
["no data",130,"WAYNESBORO",{"$f":"VLOOKUP($B127,'2020-2022 Composite Index'!$A$6:$K$140,8,FALSE)","v":21955},21795,160,7.34113328745125E-3]
["no data",131,"WILLIAMSBURG",{"$f":"VLOOKUP($B128,'2020-2022 Composite Index'!$A$6:$K$140,8,FALSE)","v":15404},14860,544,3.660834454912517E-2]
["no data",132,"WINCHESTER",{"$f":"VLOOKUP($B129,'2020-2022 Composite Index'!$A$6:$K$140,8,FALSE)","v":28005},27515,490,1.7808468108304561E-2]
["no data",134,"FAIRFAX CITY",{"$f":"VLOOKUP($B130,'2020-2022 Composite Index'!$A$6:$K$140,8,FALSE)","v":23825},23193,632,2.7249601172767646E-2]
["no data",135,"FRANKLIN CITY",{"$f":"VLOOKUP($B131,'2020-2022 Composite Index'!$A$6:$K$140,8,FALSE)","v":8474},8535,-61,-7.1470415934387814E-3]
["no data",136,"CHESAPEAKE",{"$f":"VLOOKUP($B132,'2020-2022 Composite Index'!$A$6:$K$140,8,FALSE)","v":242655},238283,4372,1.8347930821753965E-2]
["no data",137,"LEXINGTON",{"$f":"VLOOKUP($B133,'2020-2022 Composite Index'!$A$6:$K$140,8,FALSE)","v":7284},7410,-126,-1.7004048582995951E-2]
["no data",138,"EMPORIA",{"$f":"VLOOKUP($B134,'2020-2022 Composite Index'!$A$6:$K$140,8,FALSE)","v":5797},6082,{"$f":"D134-E134","v":-285},{"$f":"F134/E134","v":-4.6859585662610982E-2}]
["no data",139,"SALEM",{"$f":"VLOOKUP($B135,'2020-2022 Composite Index'!$A$6:$K$140,8,FALSE)","v":25679},25438,241,9.474015252771445E-3]
["no data",142,"POQUOSON",{"$f":"VLOOKUP($B136,'2020-2022 Composite Index'!$A$6:$K$140,8,FALSE)","v":12311},12359,-48,-3.8838093696901043E-3]
["no data",143,"MANASSAS",{"$f":"VLOOKUP($B137,'2020-2022 Composite Index'!$A$6:$K$140,8,FALSE)","v":41783},41577,206,4.9546624335570144E-3]
["no data",144,"MANASSAS PARK",{"$f":"VLOOKUP($B138,'2020-2022 Composite Index'!$A$6:$K$140,8,FALSE)","v":16142},15700,442,2.8152866242038218E-2]
["no data",202,"COLONIAL BEACH",{"$f":"VLOOKUP($B139,'2020-2022 Composite Index'!$A$6:$K$140,8,FALSE)","v":3569},3580,-11,-3.0726256983240221E-3]
["no data",207,"WEST POINT",{"$f":"VLOOKUP($B140,'2020-2022 Composite Index'!$A$6:$K$140,8,FALSE)","v":3313},3333,-20,-6.0006000600060002E-3]
["no data","no data","no data",{"$f":"SUM(D6:D140)","v":8470020},{"$f":"SUM(E6:E140)","v":8382993},{"$f":"SUM(F6:F140)","v":87027},1.0381375721058099E-2]
["End of Worksheet"]
[]
[]
[null,null,null,null,0]

{"sheet":"AGI analysis","index":16,"n_rows":146,"n_cols":22,"rows_kept":146,"cut":false,"hidden":true,"merged":[[3,2,3,7],[3,9,3,14],[3,16,3,21]]}
["ANALYSIS OF ADJUSTED GROSS INCOME ELEMENTS"]
[]
[]
[null,null,"TOTAL AGI CHANGE",null,null,null,null,null,null,"AGI PER ADM",null,null,null,null,null,null,"AGI PER CAPITA"]
[]
[null,null,2013,2015]
[null,null,"ADJUSTED","ADJUSTED",null,"ABSOLUTE","ABSOLUTE","COMPARE",null,{"$f":"C6","v":2013},{"$f":"D6","v":2015},null,"PER ADM","PER ADM","COMPARE",null,{"$f":"J7","v":2013},{"$f":"K7","v":2015},null,"PER POP","PER POP","COMPARE"]
["Div",null,"GROSS","GROSS",null,"$ CHANGE","% CHANGE","TO",null,"AGI","AGI",null,"$ CHANGE","% CHANGE","TO",null,"AGI","AGI",null,"$ CHANGE","% CHANGE","TO"]
["Num","DIVISION","INCOME","INCOME",null,{"$f":"C6&\" to \"&D6","v":"2013 to 2015"},{"$f":"F9","v":"2013 to 2015"},"STATE AVG",null,"PER ADM","PER ADM",null,{"$f":"F9","v":"2013 to 2015"},{"$f":"G9","v":"2013 to 2015"},"STATE AVG",null,"PER POP","PER POP",null,{"$f":"M9","v":"2013 to 2015"},{"$f":"N9","v":"2013 to 2015"},"STATE AVG"]
[1,"ACCOMACK",576744541.10000002,{"$f":"IF(VLOOKUP($A10,'2020-22 Comp Index Non-Res. AGI'!$A$5:$J$138,10,FALSE)=\"YES\",VLOOKUP($A10,'2020-22 Comp Index Non-Res. AGI'!$A$5:$J$138,4,FALSE),VLOOKUP($A10,'2020-2022 Composite Index'!$A$6:$K$140,4,FALSE))","v":656240883.13},null,{"$f":"D10-C10","v":79496342.029999971},{"$f":"F10/C10","v":0.13783631463313034},{"$f":"IF(G10<$G$146,\"BELOW\", \"ABOVE\")","v":{"$error":"#N/A"}},null,{"$f":"C10/VLOOKUP(A10,'ADM & Population Analysis'!$A$10:$C$144,3,FALSE)","v":113032.643293627},{"$f":"D10/VLOOKUP(A10, '2020-2022 Composite Index Data'!$A$5:$F$139, 6, FALSE)","v":130789.36752472327},null,{"$f":"K10-J10","v":17756.724231096276},{"$f":"M10/J10","v":0.15709377144237266},{"$f":"IF(N10<$N$146,\"BELOW\", \"ABOVE\")","v":{"$error":"#N/A"}},null,{"$f":"C10/VLOOKUP(A10,'ADM & Population Analysis'!$A$10:$J$144,10,FALSE)","v":17208.036194653301},{"$f":"D10/VLOOKUP(A10, '2020-2022 Composite Index Data'!$A$5:$G$139, 7, FALSE)","v":19861.41106897491},null,{"$f":"R10-Q10","v":2653.3748743216092},{"$f":"T10/Q10","v":0.15419393847776994},{"$f":"IF(U10<$U$146,\"BELOW\", \"ABOVE\")","v":{"$error":"#N/A"}}]
[2,"ALBEMARLE",3950643716.7719998,{"$f":"IF(VLOOKUP($A11,'2020-22 Comp Index Non-Res. AGI'!$A$5:$J$138,10,FALSE)=\"YES\",VLOOKUP($A11,'2020-22 Comp Index Non-Res. AGI'!$A$5:$J$138,4,FALSE),VLOOKUP($A11,'2020-2022 Composite Index'!$A$6:$K$140,4,FALSE))","v":4705654613.3959999},null,{"$f":"D11-C11","v":755010896.62400007},{"$f":"F11/C11","v":0.19111085452193244},{"$f":"IF(G11<$G$146,\"BELOW\", \"ABOVE\")","v":{"$error":"#N/A"}},null,{"$f":"C11/VLOOKUP(A11,'ADM & Population Analysis'!$A$10:$C$144,3,FALSE)","v":297439.18109679199},{"$f":"D11/VLOOKUP(A11, '2020-2022 Composite Index Data'!$A$5:$F$139, 6, FALSE)","v":348303.84549421916},null,{"$f":"K11-J11","v":50864.664397427172},{"$f":"M11/J11","v":0.17100862169491687},{"$f":"IF(N11<$N$146,\"BELOW\", \"ABOVE\")","v":{"$error":"#N/A"}},null,{"$f":"C11/VLOOKUP(A11,'ADM & Population Analysis'!$A$10:$J$144,10,FALSE)","v":37606.912040551731},{"$f":"D11/VLOOKUP(A11, '2020-2022 Composite Index Data'!$A$5:$G$139, 7, FALSE)","v":43693.460480756192},null,{"$f":"R11-Q11","v":6086.5484402044603},{"$f":"T11/Q11","v":0.16184653591449633},{"$f":"IF(U11<$U$146,\"BELOW\", \"ABOVE\")","v":{"$error":"#N/A"}}]
[3,"ALLEGHANY",295595229.01999998,{"$f":"IF(VLOOKUP($A12,'2020-22 Comp Index Non-Res. AGI'!$A$5:$J$138,10,FALSE)=\"YES\",VLOOKUP($A12,'2020-22 Comp Index Non-Res. AGI'!$A$5:$J$138,4,FALSE),VLOOKUP($A12,'2020-2022 Composite Index'!$A$6:$K$140,4,FALSE))","v":314799601.042},null,{"$f":"D12-C12","v":19204372.022000015},{"$f":"F12/C12","v":6.4968477622826065E-2},{"$f":"IF(G12<$G$146,\"BELOW\", \"ABOVE\")","v":{"$error":"#N/A"}},null,{"$f":"C12/VLOOKUP(A12,'ADM & Population Analysis'!$A$10:$C$144,3,FALSE)","v":135874.61687887841},{"$f":"D12/VLOOKUP(A12, '2020-2022 Composite Index Data'!$A$5:$F$139, 6, FALSE)","v":152107.96443819519},null,{"$f":"K12-J12","v":16233.347559316782},{"$f":"M12/J12","v":0.11947299600327514},{"$f":"IF(N12<$N$146,\"BELOW\", \"ABOVE\")","v":{"$error":"#N/A"}},null,{"$f":"C12/VLOOKUP(A12,'ADM & Population Analysis'!$A$10:$J$144,10,FALSE)","v":19052.222302288108},{"$f":"D12/VLOOKUP(A12, '2020-2022 Composite Index Data'!$A$5:$G$139, 7, FALSE)","v":20434.897828107758},null,{"$f":"R12-Q12","v":1382.6755258196499},{"$f":"T12/Q12","v":7.2572926343274669E-2},{"$f":"IF(U12<$U$146,\"BELOW\", \"ABOVE\")","v":{"$error":"#N/A"}}]
[4,"AMELIA",259377305.18700001,{"$f":"IF(VLOOKUP($A13,'2020-22 Comp Index Non-Res. AGI'!$A$5:$J$138,10,FALSE)=\"YES\",VLOOKUP($A13,'2020-22 Comp Index Non-Res. AGI'!$A$5:$J$138,4,FALSE),VLOOKUP($A13,'2020-2022 Composite Index'!$A$6:$K$140,4,FALSE))","v":301430326.46880001},null,42053021.281800002,0.16213068931177907,{"$error":"#N/A"},null,{"$f":"C13/VLOOKUP(A13,'ADM & Population Analysis'!$A$10:$C$144,3,FALSE)","v":146774.69481716634},{"$f":"D13/VLOOKUP(A13, '2020-2022 Composite Index Data'!$A$5:$F$139, 6, FALSE)","v":173481.08617286509},null,26706.391355698754,0.18195501199281153,{"$error":"#N/A"},null,{"$f":"C13/VLOOKUP(A13,'ADM & Population Analysis'!$A$10:$J$144,10,FALSE)","v":20092.749646525681},{"$f":"D13/VLOOKUP(A13, '2020-2022 Composite Index Data'!$A$5:$G$139, 7, FALSE)","v":23280.068463762746},null,{"$f":"R13-Q13","v":3187.3188172370646},{"$f":"T13/Q13","v":0.15863029566927375},{"$f":"IF(U13<$U$146,\"BELOW\", \"ABOVE\")","v":{"$error":"#N/A"}}]
[5,"AMHERST",571279327.72099996,{"$f":"IF(VLOOKUP($A14,'2020-22 Comp Index Non-Res. AGI'!$A$5:$J$138,10,FALSE)=\"YES\",VLOOKUP($A14,'2020-22 Comp Index Non-Res. AGI'!$A$5:$J$138,4,FALSE),VLOOKUP($A14,'2020-2022 Composite Index'!$A$6:$K$140,4,FALSE))","v":620940701.74199998},null,49661374.021000028,8.6930108637247122E-2,{"$error":"#N/A"},null,{"$f":"C14/VLOOKUP(A14,'ADM & Population Analysis'!$A$10:$C$144,3,FALSE)","v":142686.42012743084},{"$f":"D14/VLOOKUP(A14, '2020-2022 Composite Index Data'!$A$5:$F$139, 6, FALSE)","v":160563.88951890878},null,17877.469391477935,0.12529201710654642,{"$error":"#N/A"},null,{"$f":"C14/VLOOKUP(A14,'ADM & Population Analysis'!$A$10:$J$144,10,FALSE)","v":17836.871728518796},{"$f":"D14/VLOOKUP(A14, '2020-2022 Composite Index Data'!$A$5:$G$139, 7, FALSE)","v":19415.318045838285},null,{"$f":"R14-Q14","v":1578.446317319489},{"$f":"T14/Q14","v":8.8493450047956695E-2},{"$f":"IF(U14<$U$146,\"BELOW\", \"ABOVE\")","v":{"$error":"#N/A"}}]
[6,"APPOMATTOX",273680275.16799998,{"$f":"IF(VLOOKUP($A15,'2020-22 Comp Index Non-Res. AGI'!$A$5:$J$138,10,FALSE)=\"YES\",VLOOKUP($A15,'2020-22 Comp Index Non-Res. AGI'!$A$5:$J$138,4,FALSE),VLOOKUP($A15,'2020-2022 Composite Index'!$A$6:$K$140,4,FALSE))","v":316652150.22399998},null,42971875.055999994,0.15701487814429263,{"$error":"#N/A"},null,{"$f":"C15/VLOOKUP(A15,'ADM & Population Analysis'!$A$10:$C$144,3,FALSE)","v":125046.95889099067},{"$f":"D15/VLOOKUP(A15, '2020-2022 Composite Index Data'!$A$5:$F$139, 6, FALSE)","v":145305.26987821332},null,20258.310987222649,0.16200562706113286,{"$error":"#N/A"},null,{"$f":"C15/VLOOKUP(A15,'ADM & Population Analysis'!$A$10:$J$144,10,FALSE)","v":17708.202857845357},{"$f":"D15/VLOOKUP(A15, '2020-2022 Composite Index Data'!$A$5:$G$139, 7, FALSE)","v":20381.832532440782},null,2673.6296745954241,0.15098255289135182,{"$error":"#N/A"}]
[7,"ARLINGTON",12207919913.17,{"$f":"IF(VLOOKUP($A16,'2020-22 Comp Index Non-Res. AGI'!$A$5:$J$138,10,FALSE)=\"YES\",VLOOKUP($A16,'2020-22 Comp Index Non-Res. AGI'!$A$5:$J$138,4,FALSE),VLOOKUP($A16,'2020-2022 Composite Index'!$A$6:$K$140,4,FALSE))","v":14433695257.162001},null,2225775343.9920006,0.18232224325053251,{"$error":"#N/A"},null,{"$f":"C16/VLOOKUP(A16,'ADM & Population Analysis'!$A$10:$C$144,3,FALSE)","v":504253.83999046672},{"$f":"D16/VLOOKUP(A16, '2020-2022 Composite Index Data'!$A$5:$F$139, 6, FALSE)","v":560516.61730213161},null,56262.77731166489,0.1115762991764794,{"$error":"#N/A"},null,{"$f":"C16/VLOOKUP(A16,'ADM & Population Analysis'!$A$10:$J$144,10,FALSE)","v":52019.873670177862},{"$f":"D16/VLOOKUP(A16, '2020-2022 Composite Index Data'!$A$5:$G$139, 7, FALSE)","v":60373.337364841012},null,8353.4636946631508,0.16058216034177059,{"$error":"#N/A"}]
[8,"AUGUSTA",1598037248.155,{"$f":"IF(VLOOKUP($A17,'2020-22 Comp Index Non-Res. AGI'!$A$5:$J$138,10,FALSE)=\"YES\",VLOOKUP($A17,'2020-22 Comp Index Non-Res. AGI'!$A$5:$J$138,4,FALSE),VLOOKUP($A17,'2020-2022 Composite Index'!$A$6:$K$140,4,FALSE))","v":1840044888.3870001},null,242007640.23200011,0.1514405502821714,{"$error":"#N/A"},null,{"$f":"C17/VLOOKUP(A17,'ADM & Population Analysis'!$A$10:$C$144,3,FALSE)","v":158135.08341530172},{"$f":"D17/VLOOKUP(A17, '2020-2022 Composite Index Data'!$A$5:$F$139, 6, FALSE)","v":185123.56076351547},null,26988.477348213753,0.17066723440070131,{"$error":"#N/A"},null,{"$f":"C17/VLOOKUP(A17,'ADM & Population Analysis'!$A$10:$J$144,10,FALSE)","v":21341.024400782575},{"$f":"D17/VLOOKUP(A17, '2020-2022 Composite Index Data'!$A$5:$G$139, 7, FALSE)","v":24529.680033954115},null,3188.6556331715401,0.14941436611892969,{"$error":"#N/A"}]
[9,"BATH",106569495.627,{"$f":"IF(VLOOKUP($A18,'2020-22 Comp Index Non-Res. AGI'!$A$5:$J$138,10,FALSE)=\"YES\",VLOOKUP($A18,'2020-22 Comp Index Non-Res. AGI'!$A$5:$J$138,4,FALSE),VLOOKUP($A18,'2020-2022 Composite Index'!$A$6:$K$140,4,FALSE))","v":102700891},null,-3868604.6270000041,-3.6301238025376097E-2,{"$error":"#N/A"},null,{"$f":"C18/VLOOKUP(A18,'ADM & Population Analysis'!$A$10:$C$144,3,FALSE)","v":196455.95182501935},{"$f":"D18/VLOOKUP(A18, '2020-2022 Composite Index Data'!$A$5:$F$139, 6, FALSE)","v":198763.09463905552},null,2307.1428140361677,1.1743817342276851E-2,{"$error":"#N/A"},null,{"$f":"C18/VLOOKUP(A18,'ADM & Population Analysis'!$A$10:$J$144,10,FALSE)","v":22544.847816162473},{"$f":"D18/VLOOKUP(A18, '2020-2022 Composite Index Data'!$A$5:$G$139, 7, FALSE)","v":22541.89881474978},null,-2.9490014126931783,-1.3080600218463349E-4,{"$error":"#N/A"}]
[10,"BEDFORD COUNTY",1898774155.7716,{"$f":"IF(VLOOKUP($A19,'2020-22 Comp Index Non-Res. AGI'!$A$5:$J$138,10,FALSE)=\"YES\",VLOOKUP($A19,'2020-22 Comp Index Non-Res. AGI'!$A$5:$J$138,4,FALSE),VLOOKUP($A19,'2020-2022 Composite Index'!$A$6:$K$140,4,FALSE))","v":2154075391.4400001},null,255301235.66840005,0.13445581976791438,{"$error":"#N/A"},null,{"$f":"C19/VLOOKUP(A19,'ADM & Population Analysis'!$A$10:$C$144,3,FALSE)","v":197593.43938515012},{"$f":"D19/VLOOKUP(A19, '2020-2022 Composite Index Data'!$A$5:$F$139, 6, FALSE)","v":227689.08858211953},null,30095.649196969403,0.15231097394031801,{"$error":"#N/A"},null,{"$f":"C19/VLOOKUP(A19,'ADM & Population Analysis'!$A$10:$J$144,10,FALSE)","v":24476.624631280698},{"$f":"D19/VLOOKUP(A19, '2020-2022 Composite Index Data'!$A$5:$G$139, 7, FALSE)","v":27684.853437865488},null,3208.2288065847897,0.1310731710321173,{"$error":"#N/A"}]
[11,"BLAND",108937453.42399999,{"$f":"IF(VLOOKUP($A20,'2020-22 Comp Index Non-Res. AGI'!$A$5:$J$138,10,FALSE)=\"YES\",VLOOKUP($A20,'2020-22 Comp Index Non-Res. AGI'!$A$5:$J$138,4,FALSE),VLOOKUP($A20,'2020-2022 Composite Index'!$A$6:$K$140,4,FALSE))","v":108128589},null,-808864.42399999499,-7.4250351791479846E-3,{"$error":"#N/A"},null,{"$f":"C20/VLOOKUP(A20,'ADM & Population Analysis'!$A$10:$C$144,3,FALSE)","v":136653.52043954941},{"$f":"D20/VLOOKUP(A20, '2020-2022 Composite Index Data'!$A$5:$F$139, 6, FALSE)","v":149615.45986633643},null,12961.939426787023,9.4852583271141683E-2,{"$error":"#N/A"},null,{"$f":"C20/VLOOKUP(A20,'ADM & Population Analysis'!$A$10:$J$144,10,FALSE)","v":16298.242582884499},{"$f":"D20/VLOOKUP(A20, '2020-2022 Composite Index Data'!$A$5:$G$139, 7, FALSE)","v":16607.063277530335},null,308.82069464583583,1.8948097813327555E-2,{"$error":"#N/A"}]
[12,"BOTETOURT",859624857.26600003,{"$f":"IF(VLOOKUP($A21,'2020-22 Comp Index Non-Res. AGI'!$A$5:$J$138,10,FALSE)=\"YES\",VLOOKUP($A21,'2020-22 Comp Index Non-Res. AGI'!$A$5:$J$138,4,FALSE),VLOOKUP($A21,'2020-2022 Composite Index'!$A$6:$K$140,4,FALSE))","v":938448526.77600002},null,78823669.50999999,9.1695428353125205E-2,{"$error":"#N/A"},null,{"$f":"C21/VLOOKUP(A21,'ADM & Population Analysis'!$A$10:$C$144,3,FALSE)","v":184270.74267064809},{"$f":"D21/VLOOKUP(A21, '2020-2022 Composite Index Data'!$A$5:$F$139, 6, FALSE)","v":206348.11457093287},null,22077.371900284779,0.11980942595832612,{"$error":"#N/A"},null,{"$f":"C21/VLOOKUP(A21,'ADM & Population Analysis'!$A$10:$J$144,10,FALSE)","v":25671.171751358779},{"$f":"D21/VLOOKUP(A21, '2020-2022 Composite Index Data'!$A$5:$G$139, 7, FALSE)","v":28139.386110224888},null,2468.2143588661093,9.6147319755104918E-2,{"$error":"#N/A"}]
[13,"BRUNSWICK",229554303.19749999,{"$f":"IF(VLOOKUP($A22,'2020-22 Comp Index Non-Res. AGI'!$A$5:$J$138,10,FALSE)=\"YES\",VLOOKUP($A22,'2020-22 Comp Index Non-Res. AGI'!$A$5:$J$138,4,FALSE),VLOOKUP($A22,'2020-2022 Composite Index'!$A$6:$K$140,4,FALSE))","v":245275103},null,15720799.80250001,6.8484012643293457E-2,{"$error":"#N/A"},null,{"$f":"C22/VLOOKUP(A22,'ADM & Population Analysis'!$A$10:$C$144,3,FALSE)","v":137548.26724039786},{"$f":"D22/VLOOKUP(A22, '2020-2022 Composite Index Data'!$A$5:$F$139, 6, FALSE)","v":157295.18639415648},null,19746.919153758616,0.14356356172227341,{"$error":"#N/A"},null,{"$f":"C22/VLOOKUP(A22,'ADM & Population Analysis'!$A$10:$J$144,10,FALSE)","v":13559.02558756645},{"$f":"D22/VLOOKUP(A22, '2020-2022 Composite Index Data'!$A$5:$G$139, 7, FALSE)","v":14792.539834750618},null,1233.5142471841682,9.0973664679510138E-2,{"$error":"#N/A"}]
[14,"BUCHANAN",316423691.89899999,{"$f":"IF(VLOOKUP($A23,'2020-22 Comp Index Non-Res. AGI'!$A$5:$J$138,10,FALSE)=\"YES\",VLOOKUP($A23,'2020-22 Comp Index Non-Res. AGI'!$A$5:$J$138,4,FALSE),VLOOKUP($A23,'2020-2022 Composite Index'!$A$6:$K$140,4,FALSE))","v":283142350.56},null,-33281341.338999987,-0.10517967583041517,{"$error":"#N/A"},null,{"$f":"C23/VLOOKUP(A23,'ADM & Population Analysis'!$A$10:$C$144,3,FALSE)","v":109533.5107635271},{"$f":"D23/VLOOKUP(A23, '2020-2022 Composite Index Data'!$A$5:$F$139, 6, FALSE)","v":103836.86026111191},null,-5696.6505024151847,-5.2008289177489578E-2,{"$error":"#N/A"},null,{"$f":"C23/VLOOKUP(A23,'ADM & Population Analysis'!$A$10:$J$144,10,FALSE)","v":13767.727968454945},{"$f":"D23/VLOOKUP(A23, '2020-2022 Composite Index Data'!$A$5:$G$139, 7, FALSE)","v":12867.767249590983},null,{"$f":"R23-Q23","v":-899.96071886396203},{"$f":"T23/Q23","v":-6.5367409998656326E-2},{"$error":"#N/A"}]
[15,"BUCKINGHAM",217520435.493,{"$f":"IF(VLOOKUP($A24,'2020-22 Comp Index Non-Res. AGI'!$A$5:$J$138,10,FALSE)=\"YES\",VLOOKUP($A24,'2020-22 Comp Index Non-Res. AGI'!$A$5:$J$138,4,FALSE),VLOOKUP($A24,'2020-2022 Composite Index'!$A$6:$K$140,4,FALSE))","v":245258412.33000001},null,27737976.837000012,0.12751894677910686,{"$error":"#N/A"},null,{"$f":"C24/VLOOKUP(A24,'ADM & Population Analysis'!$A$10:$C$144,3,FALSE)","v":114179.76005763568},{"$f":"D24/VLOOKUP(A24, '2020-2022 Composite Index Data'!$A$5:$F$139, 6, FALSE)","v":125763.87064071995},null,11584.110583084272,0.10145502650589598,{"$error":"#N/A"},null,{"$f":"C24/VLOOKUP(A24,'ADM & Population Analysis'!$A$10:$J$144,10,FALSE)","v":12804.35810530963},{"$f":"D24/VLOOKUP(A24, '2020-2022 Composite Index Data'!$A$5:$G$139, 7, FALSE)","v":14463.549703957069},null,1659.1915986474396,0.12958022456115287,{"$error":"#N/A"}]
[16,"CAMPBELL",1013051225.191,{"$f":"IF(VLOOKUP($A25,'2020-22 Comp Index Non-Res. AGI'!$A$5:$J$138,10,FALSE)=\"YES\",VLOOKUP($A25,'2020-22 Comp Index Non-Res. AGI'!$A$5:$J$138,4,FALSE),VLOOKUP($A25,'2020-2022 Composite Index'!$A$6:$K$140,4,FALSE))","v":1117736708.9216001},null,104685483.73060012,0.10333681173018945,{"$error":"#N/A"},null,{"$f":"C25/VLOOKUP(A25,'ADM & Population Analysis'!$A$10:$C$144,3,FALSE)","v":133316.91304584133},{"$f":"D25/VLOOKUP(A25, '2020-2022 Composite Index Data'!$A$5:$F$139, 6, FALSE)","v":146573.23489390608},null,13256.321848064748,9.9434659453197294E-2,{"$error":"#N/A"},null,{"$f":"C25/VLOOKUP(A25,'ADM & Population Analysis'!$A$10:$J$144,10,FALSE)","v":18036.41328878167},{"$f":"D25/VLOOKUP(A25, '2020-2022 Composite Index Data'!$A$5:$G$139, 7, FALSE)","v":20138.311603365586},null,2101.8983145839156,0.11653638009566232,{"$error":"#N/A"}]
[17,"CAROLINE",622441244.98699999,{"$f":"IF(VLOOKUP($A26,'2020-22 Comp Index Non-Res. AGI'!$A$5:$J$138,10,FALSE)=\"YES\",VLOOKUP($A26,'2020-22 Comp Index Non-Res. AGI'!$A$5:$J$138,4,FALSE),VLOOKUP($A26,'2020-2022 Composite Index'!$A$6:$K$140,4,FALSE))","v":714592168.95799994},null,92150923.970999956,0.14804758635961629,{"$error":"#N/A"},null,{"$f":"C26/VLOOKUP(A26,'ADM & Population Analysis'!$A$10:$C$144,3,FALSE)","v":149253.24251493273},{"$f":"D26/VLOOKUP(A26, '2020-2022 Composite Index Data'!$A$5:$F$139, 6, FALSE)","v":173736.9334725643},null,24483.690957631567,0.16404126667587796,{"$error":"#N/A"},null,{"$f":"C26/VLOOKUP(A26,'ADM & Population Analysis'!$A$10:$J$144,10,FALSE)","v":20892.898932162996},{"$f":"D26/VLOOKUP(A26, '2020-2022 Composite Index Data'!$A$5:$G$139, 7, FALSE)","v":23827.681525775257},null,2934.7825936122608,0.14046794574277058,{"$error":"#N/A"}]
[18,"CARROLL",415278326.41000003,{"$f":"IF(VLOOKUP($A27,'2020-22 Comp Index Non-Res. AGI'!$A$5:$J$138,10,FALSE)=\"YES\",VLOOKUP($A27,'2020-22 Comp Index Non-Res. AGI'!$A$5:$J$138,4,FALSE),VLOOKUP($A27,'2020-2022 Composite Index'!$A$6:$K$140,4,FALSE))","v":472967570.352},null,57689243.941999972,0.13891705941100324,{"$error":"#N/A"},null,{"$f":"C27/VLOOKUP(A27,'ADM & Population Analysis'!$A$10:$C$144,3,FALSE)","v":110696.0182566},{"$f":"D27/VLOOKUP(A27, '2020-2022 Composite Index Data'!$A$5:$F$139, 6, FALSE)","v":130966.97089786368},null,20270.952641263677,0.18312269005263038,{"$error":"#N/A"},null,{"$f":"C27/VLOOKUP(A27,'ADM & Population Analysis'!$A$10:$J$144,10,FALSE)","v":14181.549923505107},{"$f":"D27/VLOOKUP(A27, '2020-2022 Composite Index Data'!$A$5:$G$139, 7, FALSE)","v":16190.865752156647},null,2009.3158286515409,0.14168520644709046,{"$error":"#N/A"}]
[19,"CHARLES CITY",158867013.96700001,{"$f":"IF(VLOOKUP($A28,'2020-22 Comp Index Non-Res. AGI'!$A$5:$J$138,10,FALSE)=\"YES\",VLOOKUP($A28,'2020-22 Comp Index Non-Res. AGI'!$A$5:$J$138,4,FALSE),VLOOKUP($A28,'2020-2022 Composite Index'!$A$6:$K$140,4,FALSE))","v":180272188.99200001},null,21405175.025000006,0.13473643452155717,{"$error":"#N/A"},null,{"$f":"C28/VLOOKUP(A28,'ADM & Population Analysis'!$A$10:$C$144,3,FALSE)","v":235882.72303934672},{"$f":"D28/VLOOKUP(A28, '2020-2022 Composite Index Data'!$A$5:$F$139, 6, FALSE)","v":297307.1476737858},null,61424.424634439085,0.26040238913213287,{"$error":"#N/A"},null,{"$f":"C28/VLOOKUP(A28,'ADM & Population Analysis'!$A$10:$J$144,10,FALSE)","v":21670.578906970401},{"$f":"D28/VLOOKUP(A28, '2020-2022 Composite Index Data'!$A$5:$G$139, 7, FALSE)","v":25209.367779611246},null,3538.7888726408455,0.16329923108341995,{"$error":"#N/A"}]
[20,"CHARLOTTE",187462905.03999999,{"$f":"IF(VLOOKUP($A29,'2020-22 Comp Index Non-Res. AGI'!$A$5:$J$138,10,FALSE)=\"YES\",VLOOKUP($A29,'2020-22 Comp Index Non-Res. AGI'!$A$5:$J$138,4,FALSE),VLOOKUP($A29,'2020-2022 Composite Index'!$A$6:$K$140,4,FALSE))","v":198700401},null,11237495.960000008,5.9945171326573662E-2,{"$error":"#N/A"},null,{"$f":"C29/VLOOKUP(A29,'ADM & Population Analysis'!$A$10:$C$144,3,FALSE)","v":102844.50402133005},{"$f":"D29/VLOOKUP(A29, '2020-2022 Composite Index Data'!$A$5:$F$139, 6, FALSE)","v":112030.35638774716},null,9185.852366417108,8.9317873170081635E-2,{"$error":"#N/A"},null,{"$f":"C29/VLOOKUP(A29,'ADM & Population Analysis'!$A$10:$J$144,10,FALSE)","v":15052.425328408543},{"$f":"D29/VLOOKUP(A29, '2020-2022 Composite Index Data'!$A$5:$G$139, 7, FALSE)","v":16245.638214373314},null,1193.212885964771,7.9270473689898494E-2,{"$error":"#N/A"}]
[21,"CHESTERFIELD",9685881996.309,{"$f":"IF(VLOOKUP($A30,'2020-22 Comp Index Non-Res. AGI'!$A$5:$J$138,10,FALSE)=\"YES\",VLOOKUP($A30,'2020-22 Comp Index Non-Res. AGI'!$A$5:$J$138,4,FALSE),VLOOKUP($A30,'2020-2022 Composite Index'!$A$6:$K$140,4,FALSE))","v":11087680066.448},null,1401798070.1389999,0.14472590835539637,{"$error":"#N/A"},null,{"$f":"C30/VLOOKUP(A30,'ADM & Population Analysis'!$A$10:$C$144,3,FALSE)","v":164438.59217236619},{"$f":"D30/VLOOKUP(A30, '2020-2022 Composite Index Data'!$A$5:$F$139, 6, FALSE)","v":184607.47579367855},null,20168.883621312358,0.12265298160769419,{"$error":"#N/A"},null,{"$f":"C30/VLOOKUP(A30,'ADM & Population Analysis'!$A$10:$J$144,10,FALSE)","v":29047.479371147099},{"$f":"D30/VLOOKUP(A30, '2020-2022 Composite Index Data'!$A$5:$G$139, 7, FALSE)","v":32608.90555393212},null,3561.4261827850205,0.12260706470533171,{"$error":"#N/A"}]
[22,"CLARKE",489626514.64399999,{"$f":"IF(VLOOKUP($A31,'2020-22 Comp Index Non-Res. AGI'!$A$5:$J$138,10,FALSE)=\"YES\",VLOOKUP($A31,'2020-22 Comp Index Non-Res. AGI'!$A$5:$J$138,4,FALSE),VLOOKUP($A31,'2020-2022 Composite Index'!$A$6:$K$140,4,FALSE))","v":598066141.08700001},null,108439626.44300002,0.22147417102573544,{"$error":"#N/A"},null,{"$f":"C31/VLOOKUP(A31,'ADM & Population Analysis'!$A$10:$C$144,3,FALSE)","v":249069.86125077575},{"$f":"D31/VLOOKUP(A31, '2020-2022 Composite Index Data'!$A$5:$F$139, 6, FALSE)","v":309686.27852475143},null,60616.417273975676,0.24337114482488145,{"$error":"#N/A"},null,{"$f":"C31/VLOOKUP(A31,'ADM & Population Analysis'!$A$10:$J$144,10,FALSE)","v":34466.177294382658},{"$f":"D31/VLOOKUP(A31, '2020-2022 Composite Index Data'!$A$5:$G$139, 7, FALSE)","v":41787.740433692008},null,7321.5631393093499,0.21242747859080466,{"$error":"#N/A"}]
[23,"CRAIG",91591947.621999994,{"$f":"IF(VLOOKUP($A32,'2020-22 Comp Index Non-Res. AGI'!$A$5:$J$138,10,FALSE)=\"YES\",VLOOKUP($A32,'2020-22 Comp Index Non-Res. AGI'!$A$5:$J$138,4,FALSE),VLOOKUP($A32,'2020-2022 Composite Index'!$A$6:$K$140,4,FALSE))","v":100292646.881},null,8700699.2590000033,9.499415052191916E-2,{"$error":"#N/A"},null,{"$f":"C32/VLOOKUP(A32,'ADM & Population Analysis'!$A$10:$C$144,3,FALSE)","v":152538.84190523773},{"$f":"D32/VLOOKUP(A32, '2020-2022 Composite Index Data'!$A$5:$F$139, 6, FALSE)","v":172861.72957307086},null,20322.887667833129,0.13323090311947164,{"$error":"#N/A"},null,{"$f":"C32/VLOOKUP(A32,'ADM & Population Analysis'!$A$10:$J$144,10,FALSE)","v":17640.976044298921},{"$f":"D32/VLOOKUP(A32, '2020-2022 Composite Index Data'!$A$5:$G$139, 7, FALSE)","v":19554.035266328719},null,1913.0592220297985,0.10844406892372867,{"$error":"#N/A"}]
[24,"CULPEPER",1148046993.3,{"$f":"IF(VLOOKUP($A33,'2020-22 Comp Index Non-Res. AGI'!$A$5:$J$138,10,FALSE)=\"YES\",VLOOKUP($A33,'2020-22 Comp Index Non-Res. AGI'!$A$5:$J$138,4,FALSE),VLOOKUP($A33,'2020-2022 Composite Index'!$A$6:$K$140,4,FALSE))","v":1366184410.7820001},null,218137417.48200011,0.19000739408321232,{"$error":"#N/A"},null,{"$f":"C33/VLOOKUP(A33,'ADM & Population Analysis'!$A$10:$C$144,3,FALSE)","v":145317.43766985179},{"$f":"D33/VLOOKUP(A33, '2020-2022 Composite Index Data'!$A$5:$F$139, 6, FALSE)","v":171799.76972154842},null,26482.332051696634,0.18223781313748541,{"$error":"#N/A"},null,{"$f":"C33/VLOOKUP(A33,'ADM & Population Analysis'!$A$10:$J$144,10,FALSE)","v":23473.603363457922},{"$f":"D33/VLOOKUP(A33, '2020-2022 Composite Index Data'!$A$5:$G$139, 7, FALSE)","v":27175.851583028329},null,3702.2482195704069,0.15771963776698256,{"$error":"#N/A"}]
[25,"CUMBERLAND",146463492.414,{"$f":"IF(VLOOKUP($A34,'2020-22 Comp Index Non-Res. AGI'!$A$5:$J$138,10,FALSE)=\"YES\",VLOOKUP($A34,'2020-22 Comp Index Non-Res. AGI'!$A$5:$J$138,4,FALSE),VLOOKUP($A34,'2020-2022 Composite Index'!$A$6:$K$140,4,FALSE))","v":170132350.248},null,23668857.833999991,0.16160244060749679,{"$error":"#N/A"},null,{"$f":"C34/VLOOKUP(A34,'ADM & Population Analysis'!$A$10:$C$144,3,FALSE)","v":113660.94398106473},{"$f":"D34/VLOOKUP(A34, '2020-2022 Composite Index Data'!$A$5:$F$139, 6, FALSE)","v":137298.73157835272},null,23637.787597287985,0.20796754601321898,{"$error":"#N/A"},null,{"$f":"C34/VLOOKUP(A34,'ADM & Population Analysis'!$A$10:$J$144,10,FALSE)","v":14662.477967163881},{"$f":"D34/VLOOKUP(A34, '2020-2022 Composite Index Data'!$A$5:$G$139, 7, FALSE)","v":17253.052453909339},null,2590.5744867454578,0.17668053739258541,{"$error":"#N/A"}]
[26,"DICKENSON",187001613.167,{"$f":"IF(VLOOKUP($A35,'2020-22 Comp Index Non-Res. AGI'!$A$5:$J$138,10,FALSE)=\"YES\",VLOOKUP($A35,'2020-22 Comp Index Non-Res. AGI'!$A$5:$J$138,4,FALSE),VLOOKUP($A35,'2020-2022 Composite Index'!$A$6:$K$140,4,FALSE))","v":183436909.21799999},null,-3564703.949000001,-1.9062423519398072E-2,{"$error":"#N/A"},null,{"$f":"C35/VLOOKUP(A35,'ADM & Population Analysis'!$A$10:$C$144,3,FALSE)","v":85682.296983734253},{"$f":"D35/VLOOKUP(A35, '2020-2022 Composite Index Data'!$A$5:$F$139, 6, FALSE)","v":91785.917258184767},null,6103.6202744505135,7.123548841844439E-2,{"$error":"#N/A"},null,{"$f":"C35/VLOOKUP(A35,'ADM & Population Analysis'!$A$10:$J$144,10,FALSE)","v":12191.251917791251},{"$f":"D35/VLOOKUP(A35, '2020-2022 Composite Index Data'!$A$5:$G$139, 7, FALSE)","v":12494.000082958724},null,302.74816516747342,2.4833230189071822E-2,{"$error":"#N/A"}]
[27,"DINWIDDIE",546531018.46200001,{"$f":"IF(VLOOKUP($A36,'2020-22 Comp Index Non-Res. AGI'!$A$5:$J$138,10,FALSE)=\"YES\",VLOOKUP($A36,'2020-22 Comp Index Non-Res. AGI'!$A$5:$J$138,4,FALSE),VLOOKUP($A36,'2020-2022 Composite Index'!$A$6:$K$140,4,FALSE))","v":596767440.31500006},null,50236421.853000045,9.1918702060810764E-2,{"$error":"#N/A"},null,{"$f":"C36/VLOOKUP(A36,'ADM & Population Analysis'!$A$10:$C$144,3,FALSE)","v":125302.00734620138},{"$f":"D36/VLOOKUP(A36, '2020-2022 Composite Index Data'!$A$5:$F$139, 6, FALSE)","v":140136.91341823101},null,14834.906072029626,0.11839320363832428,{"$error":"#N/A"},null,{"$f":"C36/VLOOKUP(A36,'ADM & Population Analysis'!$A$10:$J$144,10,FALSE)","v":19007.791133516504},{"$f":"D36/VLOOKUP(A36, '2020-2022 Composite Index Data'!$A$5:$G$139, 7, FALSE)","v":20939.208432105264},null,1931.4172985887599,0.10161187510015748,{"$error":"#N/A"}]
[28,"ESSEX",235706937.4386,{"$f":"IF(VLOOKUP($A37,'2020-22 Comp Index Non-Res. AGI'!$A$5:$J$138,10,FALSE)=\"YES\",VLOOKUP($A37,'2020-22 Comp Index Non-Res. AGI'!$A$5:$J$138,4,FALSE),VLOOKUP($A37,'2020-2022 Composite Index'!$A$6:$K$140,4,FALSE))","v":238178111.24599999},null,2471173.8073999882,1.0484094504192146E-2,{"$error":"#N/A"},null,{"$f":"C37/VLOOKUP(A37,'ADM & Population Analysis'!$A$10:$C$144,3,FALSE)","v":166294.11210489555},{"$f":"D37/VLOOKUP(A37, '2020-2022 Composite Index Data'!$A$5:$F$139, 6, FALSE)","v":179018.02464241959},null,12723.91253752404,7.6514510204053449E-2,{"$error":"#N/A"},null,{"$f":"C37/VLOOKUP(A37,'ADM & Population Analysis'!$A$10:$J$144,10,FALSE)","v":21596.750727377679},{"$f":"D37/VLOOKUP(A37, '2020-2022 Composite Index Data'!$A$5:$G$139, 7, FALSE)","v":22027.014819754},null,430.26409237632106,1.9922630853486941E-2,{"$error":"#N/A"}]
[29,"FAIRFAX COUNTY",54802514171.645103,{"$f":"IF(VLOOKUP($A38,'2020-22 Comp Index Non-Res. AGI'!$A$5:$J$138,10,FALSE)=\"YES\",VLOOKUP($A38,'2020-22 Comp Index Non-Res. AGI'!$A$5:$J$138,4,FALSE),VLOOKUP($A38,'2020-2022 Composite Index'!$A$6:$K$140,4,FALSE))","v":59704270833.5382},null,4901756661.8930969,8.9444010662366152E-2,{"$error":"#N/A"},null,{"$f":"C38/VLOOKUP(A38,'ADM & Population Analysis'!$A$10:$C$144,3,FALSE)","v":307216.75772391923},{"$f":"D38/VLOOKUP(A38, '2020-2022 Composite Index Data'!$A$5:$F$139, 6, FALSE)","v":331148.3955817548},null,23931.637857835565,7.7898217646518372E-2,{"$error":"#N/A"},null,{"$f":"C38/VLOOKUP(A38,'ADM & Population Analysis'!$A$10:$J$144,10,FALSE)","v":48526.572544468938},{"$f":"D38/VLOOKUP(A38, '2020-2022 Composite Index Data'!$A$5:$G$139, 7, FALSE)","v":52215.109843757855},null,3688.537299288917,7.6010670152086332E-2,{"$error":"#N/A"}]
[30,"FAUQUIER",2641102890.7950001,{"$f":"IF(VLOOKUP($A39,'2020-22 Comp Index Non-Res. AGI'!$A$5:$J$138,10,FALSE)=\"YES\",VLOOKUP($A39,'2020-22 Comp Index Non-Res. AGI'!$A$5:$J$138,4,FALSE),VLOOKUP($A39,'2020-2022 Composite Index'!$A$6:$K$140,4,FALSE))","v":2964279243.2820001},null,323176352.48699999,0.12236416597526818,{"$error":"#N/A"},null,{"$f":"C39/VLOOKUP(A39,'ADM & Population Analysis'!$A$10:$C$144,3,FALSE)","v":242211.68814281953},{"$f":"D39/VLOOKUP(A39, '2020-2022 Composite Index Data'!$A$5:$F$139, 6, FALSE)","v":270580.2087289496},null,28368.520586130064,0.11712283913153949,{"$error":"#N/A"},null,{"$f":"C39/VLOOKUP(A39,'ADM & Population Analysis'!$A$10:$J$144,10,FALSE)","v":38898.095537350142},{"$f":"D39/VLOOKUP(A39, '2020-2022 Composite Index Data'!$A$5:$G$139, 7, FALSE)","v":42899.638821413064},null,4001.5432840629219,0.10287247302944742,{"$error":"#N/A"}]
[31,"FLOYD",278016259.91500002,{"$f":"IF(VLOOKUP($A40,'2020-22 Comp Index Non-Res. AGI'!$A$5:$J$138,10,FALSE)=\"YES\",VLOOKUP($A40,'2020-22 Comp Index Non-Res. AGI'!$A$5:$J$138,4,FALSE),VLOOKUP($A40,'2020-2022 Composite Index'!$A$6:$K$140,4,FALSE))","v":302811476.87800002},null,24795216.963,8.9186211520796754E-2,{"$error":"#N/A"},null,{"$f":"C40/VLOOKUP(A40,'ADM & Population Analysis'!$A$10:$C$144,3,FALSE)","v":139580.40963701176},{"$f":"D40/VLOOKUP(A40, '2020-2022 Composite Index Data'!$A$5:$F$139, 6, FALSE)","v":153607.70488857778},null,14027.295251566014,0.10049616051453739,{"$error":"#N/A"},null,{"$f":"C40/VLOOKUP(A40,'ADM & Population Analysis'!$A$10:$J$144,10,FALSE)","v":18017.904077446536},{"$f":"D40/VLOOKUP(A40, '2020-2022 Composite Index Data'!$A$5:$G$139, 7, FALSE)","v":19473.406873183281},null,1455.5027957367456,8.0780915997806596E-2,{"$error":"#N/A"}]
[32,"FLUVANNA",590140306.95500004,{"$f":"IF(VLOOKUP($A41,'2020-22 Comp Index Non-Res. AGI'!$A$5:$J$138,10,FALSE)=\"YES\",VLOOKUP($A41,'2020-22 Comp Index Non-Res. AGI'!$A$5:$J$138,4,FALSE),VLOOKUP($A41,'2020-2022 Composite Index'!$A$6:$K$140,4,FALSE))","v":693123058.66919994},null,102982751.7141999,0.17450553792126022,{"$error":"#N/A"},null,{"$f":"C41/VLOOKUP(A41,'ADM & Population Analysis'!$A$10:$C$144,3,FALSE)","v":171169.27428575573},{"$f":"D41/VLOOKUP(A41, '2020-2022 Composite Index Data'!$A$5:$F$139, 6, FALSE)","v":199644.29261827472},null,28475.018332518986,0.16635589799242728,{"$error":"#N/A"},null,{"$f":"C41/VLOOKUP(A41,'ADM & Population Analysis'!$A$10:$J$144,10,FALSE)","v":22557.15568209617},{"$f":"D41/VLOOKUP(A41, '2020-2022 Composite Index Data'!$A$5:$G$139, 7, FALSE)","v":26188.198838901269},null,3631.043156805099,0.16097078940174592,{"$error":"#N/A"}]
[33,"FRANKLIN COUNTY",1042511768.8189,{"$f":"IF(VLOOKUP($A42,'2020-22 Comp Index Non-Res. AGI'!$A$5:$J$138,10,FALSE)=\"YES\",VLOOKUP($A42,'2020-22 Comp Index Non-Res. AGI'!$A$5:$J$138,4,FALSE),VLOOKUP($A42,'2020-2022 Composite Index'!$A$6:$K$140,4,FALSE))","v":1165860877.625},null,123349108.80610001,0.11831915235436312,{"$error":"#N/A"},null,{"$f":"C42/VLOOKUP(A42,'ADM & Population Analysis'!$A$10:$C$144,3,FALSE)","v":149966.30562268759},{"$f":"D42/VLOOKUP(A42, '2020-2022 Composite Index Data'!$A$5:$F$139, 6, FALSE)","v":169988.97383884114},null,20022.668216153543,0.13351444601516158,{"$error":"#N/A"},null,{"$f":"C42/VLOOKUP(A42,'ADM & Population Analysis'!$A$10:$J$144,10,FALSE)","v":18493.104302039985},{"$f":"D42/VLOOKUP(A42, '2020-2022 Composite Index Data'!$A$5:$G$139, 7, FALSE)","v":20661.401060219399},null,2168.2967581794146,0.11724893358981535,{"$error":"#N/A"}]
[34,"FREDERICK",2193179600.3818002,{"$f":"IF(VLOOKUP($A43,'2020-22 Comp Index Non-Res. AGI'!$A$5:$J$138,10,FALSE)=\"YES\",VLOOKUP($A43,'2020-22 Comp Index Non-Res. AGI'!$A$5:$J$138,4,FALSE),VLOOKUP($A43,'2020-2022 Composite Index'!$A$6:$K$140,4,FALSE))","v":2617118113.3899999},null,423938513.00819969,0.19329858481922696,{"$error":"#N/A"},null,{"$f":"C43/VLOOKUP(A43,'ADM & Population Analysis'!$A$10:$C$144,3,FALSE)","v":168169.79083490654},{"$f":"D43/VLOOKUP(A43, '2020-2022 Composite Index Data'!$A$5:$F$139, 6, FALSE)","v":196134.89405221734},null,27965.103217310796,0.16629088422167532,{"$error":"#N/A"},null,{"$f":"C43/VLOOKUP(A43,'ADM & Population Analysis'!$A$10:$J$144,10,FALSE)","v":26544.419839291724},{"$f":"D43/VLOOKUP(A43, '2020-2022 Composite Index Data'!$A$5:$G$139, 7, FALSE)","v":30495.433621416916},null,3951.0137821251919,0.14884536207782553,{"$error":"#N/A"}]
[35,"GILES",304393715.44199997,{"$f":"IF(VLOOKUP($A44,'2020-22 Comp Index Non-Res. AGI'!$A$5:$J$138,10,FALSE)=\"YES\",VLOOKUP($A44,'2020-22 Comp Index Non-Res. AGI'!$A$5:$J$138,4,FALSE),VLOOKUP($A44,'2020-2022 Composite Index'!$A$6:$K$140,4,FALSE))","v":322847137.76999998},null,18453422.328000009,6.0623532589049713E-2,{"$error":"#N/A"},null,{"$f":"C44/VLOOKUP(A44,'ADM & Population Analysis'!$A$10:$C$144,3,FALSE)","v":127305.99046523687},{"$f":"D44/VLOOKUP(A44, '2020-2022 Composite Index Data'!$A$5:$F$139, 6, FALSE)","v":135269.82463998257},null,7963.8341747457016,6.2556633396763567E-2,{"$error":"#N/A"},null,{"$f":"C44/VLOOKUP(A44,'ADM & Population Analysis'!$A$10:$J$144,10,FALSE)","v":17718.942630071597},{"$f":"D44/VLOOKUP(A44, '2020-2022 Composite Index Data'!$A$5:$G$139, 7, FALSE)","v":18931.984857209874},null,1213.0422271382777,6.846019271373284E-2,{"$error":"#N/A"}]
[36,"GLOUCESTER",865240721.50300002,{"$f":"IF(VLOOKUP($A45,'2020-22 Comp Index Non-Res. AGI'!$A$5:$J$138,10,FALSE)=\"YES\",VLOOKUP($A45,'2020-22 Comp Index Non-Res. AGI'!$A$5:$J$138,4,FALSE),VLOOKUP($A45,'2020-2022 Composite Index'!$A$6:$K$140,4,FALSE))","v":987497269.903},null,122256548.39999998,0.14129772832192813,{"$error":"#N/A"},null,{"$f":"C45/VLOOKUP(A45,'ADM & Population Analysis'!$A$10:$C$144,3,FALSE)","v":160782.0794586961},{"$f":"D45/VLOOKUP(A45, '2020-2022 Composite Index Data'!$A$5:$F$139, 6, FALSE)","v":187364.88723031242},null,26582.807771616324,0.16533439461109395,{"$error":"#N/A"},null,{"$f":"C45/VLOOKUP(A45,'ADM & Population Analysis'!$A$10:$J$144,10,FALSE)","v":23339.467023710618},{"$f":"D45/VLOOKUP(A45, '2020-2022 Composite Index Data'!$A$5:$G$139, 7, FALSE)","v":26567.765339476446},null,3228.2983157658273,0.13831928177649436,{"$error":"#N/A"}]
[37,"GOOCHLAND",1186129959.171,{"$f":"IF(VLOOKUP($A46,'2020-22 Comp Index Non-Res. AGI'!$A$5:$J$138,10,FALSE)=\"YES\",VLOOKUP($A46,'2020-22 Comp Index Non-Res. AGI'!$A$5:$J$138,4,FALSE),VLOOKUP($A46,'2020-2022 Composite Index'!$A$6:$K$140,4,FALSE))","v":1455957065.6059999},null,269827106.43499994,0.22748528046925418,{"$error":"#N/A"},null,{"$f":"C46/VLOOKUP(A46,'ADM & Population Analysis'!$A$10:$C$144,3,FALSE)","v":475345.63345930347},{"$f":"D46/VLOOKUP(A46, '2020-2022 Composite Index Data'!$A$5:$F$139, 6, FALSE)","v":570829.24237669574},null,95483.608917392266,0.20087195967808771,{"$error":"#N/A"},null,{"$f":"C46/VLOOKUP(A46,'ADM & Population Analysis'!$A$10:$J$144,10,FALSE)","v":53244.600223144946},{"$f":"D46/VLOOKUP(A46, '2020-2022 Composite Index Data'!$A$5:$G$139, 7, FALSE)","v":64124.953340938118},null,10880.353117793173,0.20434660176232447,{"$error":"#N/A"}]
[38,"GRAYSON",207954992.05000001,{"$f":"IF(VLOOKUP($A47,'2020-22 Comp Index Non-Res. AGI'!$A$5:$J$138,10,FALSE)=\"YES\",VLOOKUP($A47,'2020-22 Comp Index Non-Res. AGI'!$A$5:$J$138,4,FALSE),VLOOKUP($A47,'2020-2022 Composite Index'!$A$6:$K$140,4,FALSE))","v":233663262},null,25708269.949999988,0.12362420202838303,{"$error":"#N/A"},null,{"$f":"C47/VLOOKUP(A47,'ADM & Population Analysis'!$A$10:$C$144,3,FALSE)","v":128688.20518453428},{"$f":"D47/VLOOKUP(A47, '2020-2022 Composite Index Data'!$A$5:$F$139, 6, FALSE)","v":154655.80000794251},null,25967.594823408232,0.20178690647034536,{"$error":"#N/A"},null,{"$f":"C47/VLOOKUP(A47,'ADM & Population Analysis'!$A$10:$J$144,10,FALSE)","v":12926.897000683783},{"$f":"D47/VLOOKUP(A47, '2020-2022 Composite Index Data'!$A$5:$G$139, 7, FALSE)","v":14912.455293892399},null,1985.5582932086163,0.15359898768463831,{"$error":"#N/A"}]
[39,"GREENE",413128528.15200001,{"$f":"IF(VLOOKUP($A48,'2020-22 Comp Index Non-Res. AGI'!$A$5:$J$138,10,FALSE)=\"YES\",VLOOKUP($A48,'2020-22 Comp Index Non-Res. AGI'!$A$5:$J$138,4,FALSE),VLOOKUP($A48,'2020-2022 Composite Index'!$A$6:$K$140,4,FALSE))","v":485417962.46399999},null,72289434.311999977,0.17498049489674297,{"$error":"#N/A"},null,{"$f":"C48/VLOOKUP(A48,'ADM & Population Analysis'!$A$10:$C$144,3,FALSE)","v":134573.93665982605},{"$f":"D48/VLOOKUP(A48, '2020-2022 Composite Index Data'!$A$5:$F$139, 6, FALSE)","v":162748.84580134245},null,28174.9091415164,0.20936378797282645,{"$error":"#N/A"},null,{"$f":"C48/VLOOKUP(A48,'ADM & Population Analysis'!$A$10:$J$144,10,FALSE)","v":20823.010491532259},{"$f":"D48/VLOOKUP(A48, '2020-2022 Composite Index Data'!$A$5:$G$139, 7, FALSE)","v":24289.114959419563},null,3466.1044678873041,0.16645549255698672,{"$error":"#N/A"}]
[40,"GREENSVILLE",151714765.02000001,{"$f":"IF(VLOOKUP($A49,'2020-22 Comp Index Non-Res. AGI'!$A$5:$J$138,10,FALSE)=\"YES\",VLOOKUP($A49,'2020-22 Comp Index Non-Res. AGI'!$A$5:$J$138,4,FALSE),VLOOKUP($A49,'2020-2022 Composite Index'!$A$6:$K$140,4,FALSE))","v":170257347.13999999},null,18542582.119999975,0.12222002332835287,{"$error":"#N/A"},null,{"$f":"C49/VLOOKUP(A49,'ADM & Population Analysis'!$A$10:$C$144,3,FALSE)","v":108397.111373087},{"$f":"D49/VLOOKUP(A49, '2020-2022 Composite Index Data'!$A$5:$F$139, 6, FALSE)","v":139778.61921924388},null,31381.507846156877,0.2895050195401086,{"$error":"#N/A"},null,{"$f":"C49/VLOOKUP(A49,'ADM & Population Analysis'!$A$10:$J$144,10,FALSE)","v":12852.826585903085},{"$f":"D49/VLOOKUP(A49, '2020-2022 Composite Index Data'!$A$5:$G$139, 7, FALSE)","v":14724.323025166477},null,1871.4964392633919,0.14560971680081949,{"$error":"#N/A"}]
[41,"HALIFAX",559260767.11000001,{"$f":"IF(VLOOKUP($A50,'2020-22 Comp Index Non-Res. AGI'!$A$5:$J$138,10,FALSE)=\"YES\",VLOOKUP($A50,'2020-22 Comp Index Non-Res. AGI'!$A$5:$J$138,4,FALSE),VLOOKUP($A50,'2020-2022 Composite Index'!$A$6:$K$140,4,FALSE))","v":594051750.71000004},null,34790983.600000024,6.2208875798285788E-2,{"$error":"#N/A"},null,{"$f":"C50/VLOOKUP(A50,'ADM & Population Analysis'!$A$10:$C$144,3,FALSE)","v":110964.21775155207},{"$f":"D50/VLOOKUP(A50, '2020-2022 Composite Index Data'!$A$5:$F$139, 6, FALSE)","v":125787.79937323327},null,14823.581621681195,0.13358884442254229,{"$error":"#N/A"},null,{"$f":"C50/VLOOKUP(A50,'ADM & Population Analysis'!$A$10:$J$144,10,FALSE)","v":15636.659595985015},{"$f":"D50/VLOOKUP(A50, '2020-2022 Composite Index Data'!$A$5:$G$139, 7, FALSE)","v":16869.281576316913},null,1232.6219803318982,7.8828983438917824E-2,{"$error":"#N/A"}]
[42,"HANOVER",3222932593.2666001,{"$f":"IF(VLOOKUP($A51,'2020-22 Comp Index Non-Res. AGI'!$A$5:$J$138,10,FALSE)=\"YES\",VLOOKUP($A51,'2020-22 Comp Index Non-Res. AGI'!$A$5:$J$138,4,FALSE),VLOOKUP($A51,'2020-2022 Composite Index'!$A$6:$K$140,4,FALSE))","v":3845688564.0693998},null,622755970.8027997,0.19322649567784042,{"$error":"#N/A"},null,{"$f":"C51/VLOOKUP(A51,'ADM & Population Analysis'!$A$10:$C$144,3,FALSE)","v":181538.58681204703},{"$f":"D51/VLOOKUP(A51, '2020-2022 Composite Index Data'!$A$5:$F$139, 6, FALSE)","v":218339.04475287534},null,36800.457940828317,0.20271424707590713,{"$error":"#N/A"},null,{"$f":"C51/VLOOKUP(A51,'ADM & Population Analysis'!$A$10:$J$144,10,FALSE)","v":30985.863240812207},{"$f":"D51/VLOOKUP(A51, '2020-2022 Composite Index Data'!$A$5:$G$139, 7, FALSE)","v":36152.183916046059},null,5166.3206752338519,0.16673153931787738,{"$error":"#N/A"}]
[43,"HENRICO",9608157922.6660004,{"$f":"IF(VLOOKUP($A52,'2020-22 Comp Index Non-Res. AGI'!$A$5:$J$138,10,FALSE)=\"YES\",VLOOKUP($A52,'2020-22 Comp Index Non-Res. AGI'!$A$5:$J$138,4,FALSE),VLOOKUP($A52,'2020-2022 Composite Index'!$A$6:$K$140,4,FALSE))","v":11025542633.787701},null,1417384711.1217003,0.14751888161392906,{"$error":"#N/A"},null,{"$f":"C52/VLOOKUP(A52,'ADM & Population Analysis'!$A$10:$C$144,3,FALSE)","v":190984.06105716527},{"$f":"D52/VLOOKUP(A52, '2020-2022 Composite Index Data'!$A$5:$F$139, 6, FALSE)","v":219266.42799033766},null,28282.366933172394,0.14808757744818782,{"$error":"#N/A"},null,{"$f":"C52/VLOOKUP(A52,'ADM & Population Analysis'!$A$10:$J$144,10,FALSE)","v":29958.368039941757},{"$f":"D52/VLOOKUP(A52, '2020-2022 Composite Index Data'!$A$5:$G$139, 7, FALSE)","v":33988.016565568832},null,4029.6485256270753,0.13450827896414713,{"$error":"#N/A"}]
[44,"HENRY",774860975.15999997,{"$f":"IF(VLOOKUP($A53,'2020-22 Comp Index Non-Res. AGI'!$A$5:$J$138,10,FALSE)=\"YES\",VLOOKUP($A53,'2020-22 Comp Index Non-Res. AGI'!$A$5:$J$138,4,FALSE),VLOOKUP($A53,'2020-2022 Composite Index'!$A$6:$K$140,4,FALSE))","v":868084368.65999997},null,93223393.5,0.12030983168400039,{"$error":"#N/A"},null,{"$f":"C53/VLOOKUP(A53,'ADM & Population Analysis'!$A$10:$C$144,3,FALSE)","v":109993.14018763228},{"$f":"D53/VLOOKUP(A53, '2020-2022 Composite Index Data'!$A$5:$F$139, 6, FALSE)","v":123216.07680952475},null,13222.93662189247,0.12021601164705423,{"$error":"#N/A"},null,{"$f":"C53/VLOOKUP(A53,'ADM & Population Analysis'!$A$10:$J$144,10,FALSE)","v":14669.285054712051},{"$f":"D53/VLOOKUP(A53, '2020-2022 Composite Index Data'!$A$5:$G$139, 7, FALSE)","v":16701.959954978356},null,2032.6749002663055,0.13856673264477684,{"$error":"#N/A"}]
[45,"HIGHLAND",47187863.263999999,{"$f":"IF(VLOOKUP($A54,'2020-22 Comp Index Non-Res. AGI'!$A$5:$J$138,10,FALSE)=\"YES\",VLOOKUP($A54,'2020-22 Comp Index Non-Res. AGI'!$A$5:$J$138,4,FALSE),VLOOKUP($A54,'2020-2022 Composite Index'!$A$6:$K$140,4,FALSE))","v":48628507.691},null,1440644.4270000011,3.0529977993283716E-2,{"$error":"#N/A"},null,{"$f":"C54/VLOOKUP(A54,'ADM & Population Analysis'!$A$10:$C$144,3,FALSE)","v":244205.67853852923},{"$f":"D54/VLOOKUP(A54, '2020-2022 Composite Index Data'!$A$5:$F$139, 6, FALSE)","v":251922.02088276434},null,7716.342344235105,3.1597718736166361E-2,{"$error":"#N/A"},null,{"$f":"C54/VLOOKUP(A54,'ADM & Population Analysis'!$A$10:$J$144,10,FALSE)","v":20723.699281510759},{"$f":"D54/VLOOKUP(A54, '2020-2022 Composite Index Data'!$A$5:$G$139, 7, FALSE)","v":21290.940320052538},null,567.24103854177883,2.7371611160554678E-2,{"$error":"#N/A"}]
[46,"ISLE OF WIGHT",1001650084.676,{"$f":"IF(VLOOKUP($A55,'2020-22 Comp Index Non-Res. AGI'!$A$5:$J$138,10,FALSE)=\"YES\",VLOOKUP($A55,'2020-22 Comp Index Non-Res. AGI'!$A$5:$J$138,4,FALSE),VLOOKUP($A55,'2020-2022 Composite Index'!$A$6:$K$140,4,FALSE))","v":1097860213.734},null,96210129.057999969,9.6051635725784124E-2,{"$error":"#N/A"},null,{"$f":"C55/VLOOKUP(A55,'ADM & Population Analysis'!$A$10:$C$144,3,FALSE)","v":188484.51886275155},{"$f":"D55/VLOOKUP(A55, '2020-2022 Composite Index Data'!$A$5:$F$139, 6, FALSE)","v":205664.59172516115},null,17180.072862409608,9.114845593721993E-2,{"$error":"#N/A"},null,{"$f":"C55/VLOOKUP(A55,'ADM & Population Analysis'!$A$10:$J$144,10,FALSE)","v":27489.161992315716},{"$f":"D55/VLOOKUP(A55, '2020-2022 Composite Index Data'!$A$5:$G$139, 7, FALSE)","v":29407.232575308706},null,1918.0705829929902,6.9775520386149467E-2,{"$error":"#N/A"}]
[47,"JAMES CITY",2542550786.1849999,{"$f":"IF(VLOOKUP($A56,'2020-22 Comp Index Non-Res. AGI'!$A$5:$J$138,10,FALSE)=\"YES\",VLOOKUP($A56,'2020-22 Comp Index Non-Res. AGI'!$A$5:$J$138,4,FALSE),VLOOKUP($A56,'2020-2022 Composite Index'!$A$6:$K$140,4,FALSE))","v":3014334841.9920001},null,471784055.80700016,0.18555541087731586,{"$error":"#N/A"},null,{"$f":"C56/VLOOKUP(A56,'ADM & Population Analysis'!$A$10:$C$144,3,FALSE)","v":247373.39805792653},{"$f":"D56/VLOOKUP(A56, '2020-2022 Composite Index Data'!$A$5:$F$139, 6, FALSE)","v":289215.57234546577},null,41842.174287539237,0.16914581202357581,{"$error":"#N/A"},null,{"$f":"C56/VLOOKUP(A56,'ADM & Population Analysis'!$A$10:$J$144,10,FALSE)","v":34675.087435185815},{"$f":"D56/VLOOKUP(A56, '2020-2022 Composite Index Data'!$A$5:$G$139, 7, FALSE)","v":40340.66060854902},null,5665.5731733632056,0.16339030677148875,{"$error":"#N/A"}]
[48,"KING GEORGE",688191944.91900003,{"$f":"IF(VLOOKUP($A57,'2020-22 Comp Index Non-Res. AGI'!$A$5:$J$138,10,FALSE)=\"YES\",VLOOKUP($A57,'2020-22 Comp Index Non-Res. AGI'!$A$5:$J$138,4,FALSE),VLOOKUP($A57,'2020-2022 Composite Index'!$A$6:$K$140,4,FALSE))","v":803004289.56400001},null,114812344.64499998,0.16683186354137486,{"$error":"#N/A"},null,{"$f":"C57/VLOOKUP(A57,'ADM & Population Analysis'!$A$10:$C$144,3,FALSE)","v":163102.62287800579},{"$f":"D57/VLOOKUP(A57, '2020-2022 Composite Index Data'!$A$5:$F$139, 6, FALSE)","v":184051.18786047943},null,20948.564982473647,0.12843794056054103,{"$error":"#N/A"},null,{"$f":"C57/VLOOKUP(A57,'ADM & Population Analysis'!$A$10:$J$144,10,FALSE)","v":27975.282313780488},{"$f":"D57/VLOOKUP(A57, '2020-2022 Composite Index Data'!$A$5:$G$139, 7, FALSE)","v":31638.008335526574},null,3662.7260217460862,0.1309272228485017,{"$error":"#N/A"}]
[49,"KING AND QUEEN",136012125.57699999,{"$f":"IF(VLOOKUP($A58,'2020-22 Comp Index Non-Res. AGI'!$A$5:$J$138,10,FALSE)=\"YES\",VLOOKUP($A58,'2020-22 Comp Index Non-Res. AGI'!$A$5:$J$138,4,FALSE),VLOOKUP($A58,'2020-2022 Composite Index'!$A$6:$K$140,4,FALSE))","v":150793913.54699999},null,14781787.969999999,0.10867992767035793,{"$error":"#N/A"},null,{"$f":"C58/VLOOKUP(A58,'ADM & Population Analysis'!$A$10:$C$144,3,FALSE)","v":167222.54054416248},{"$f":"D58/VLOOKUP(A58, '2020-2022 Composite Index Data'!$A$5:$F$139, 6, FALSE)","v":195025.7547167615},null,27803.214172599022,0.16626475164247584,{"$error":"#N/A"},null,{"$f":"C58/VLOOKUP(A58,'ADM & Population Analysis'!$A$10:$J$144,10,FALSE)","v":18916.846394575798},{"$f":"D58/VLOOKUP(A58, '2020-2022 Composite Index Data'!$A$5:$G$139, 7, FALSE)","v":21743.895248305693},null,2827.0488537298952,0.14944609660416341,{"$error":"#N/A"}]
[50,"KING WILLIAM",299684185,{"$f":"IF(VLOOKUP($A59,'2020-22 Comp Index Non-Res. AGI'!$A$5:$J$138,10,FALSE)=\"YES\",VLOOKUP($A59,'2020-22 Comp Index Non-Res. AGI'!$A$5:$J$138,4,FALSE),VLOOKUP($A59,'2020-2022 Composite Index'!$A$6:$K$140,4,FALSE))","v":357876540},null,58192355,0.19417893206476677,{"$error":"#N/A"},null,{"$f":"C59/VLOOKUP(A59,'ADM & Population Analysis'!$A$10:$C$144,3,FALSE)","v":135514.17841606901},{"$f":"D59/VLOOKUP(A59, '2020-2022 Composite Index Data'!$A$5:$F$139, 6, FALSE)","v":164728.00835891793},null,29213.829942848912,0.21557766341728263,{"$error":"#N/A"},null,{"$f":"C59/VLOOKUP(A59,'ADM & Population Analysis'!$A$10:$J$144,10,FALSE)","v":23195.37035603715},{"$f":"D59/VLOOKUP(A59, '2020-2022 Composite Index Data'!$A$5:$G$139, 7, FALSE)","v":26879.716088328074},null,3684.3457322909235,0.15883970273973161,{"$error":"#N/A"}]
[51,"LANCASTER",289683078.28619999,{"$f":"IF(VLOOKUP($A60,'2020-22 Comp Index Non-Res. AGI'!$A$5:$J$138,10,FALSE)=\"YES\",VLOOKUP($A60,'2020-22 Comp Index Non-Res. AGI'!$A$5:$J$138,4,FALSE),VLOOKUP($A60,'2020-2022 Composite Index'!$A$6:$K$140,4,FALSE))","v":331501028.87300003},null,41817950.586800039,0.14435758841766,{"$error":"#N/A"},null,{"$f":"C60/VLOOKUP(A60,'ADM & Population Analysis'!$A$10:$C$144,3,FALSE)","v":255899.25821646259},{"$f":"D60/VLOOKUP(A60, '2020-2022 Composite Index Data'!$A$5:$F$139, 6, FALSE)","v":312059.70900216512},null,56160.450785702531,0.21946312457927086,{"$error":"#N/A"},null,{"$f":"C60/VLOOKUP(A60,'ADM & Population Analysis'!$A$10:$J$144,10,FALSE)","v":25642.478382420111},{"$f":"D60/VLOOKUP(A60, '2020-2022 Composite Index Data'!$A$5:$G$139, 7, FALSE)","v":29675.143574702357},null,4032.6651922822457,0.15726503234753422,{"$error":"#N/A"}]
[52,"LEE",268232110.03999999,{"$f":"IF(VLOOKUP($A61,'2020-22 Comp Index Non-Res. AGI'!$A$5:$J$138,10,FALSE)=\"YES\",VLOOKUP($A61,'2020-22 Comp Index Non-Res. AGI'!$A$5:$J$138,4,FALSE),VLOOKUP($A61,'2020-2022 Composite Index'!$A$6:$K$140,4,FALSE))","v":280523036.58499998},null,12290926.544999987,4.582198060913404E-2,{"$error":"#N/A"},null,{"$f":"C61/VLOOKUP(A61,'ADM & Population Analysis'!$A$10:$C$144,3,FALSE)","v":87557.404942059729},{"$f":"D61/VLOOKUP(A61, '2020-2022 Composite Index Data'!$A$5:$F$139, 6, FALSE)","v":91870.545736639731},null,4313.140794580002,4.9260719837850166E-2,{"$error":"#N/A"},null,{"$f":"C61/VLOOKUP(A61,'ADM & Population Analysis'!$A$10:$J$144,10,FALSE)","v":10651.739736319592},{"$f":"D61/VLOOKUP(A61, '2020-2022 Composite Index Data'!$A$5:$G$139, 7, FALSE)","v":11514.305979764396},null,862.56624344480406,8.0978907182991264E-2,{"$error":"#N/A"}]
[53,"LOUDOUN",16469297390.6141,{"$f":"IF(VLOOKUP($A62,'2020-22 Comp Index Non-Res. AGI'!$A$5:$J$138,10,FALSE)=\"YES\",VLOOKUP($A62,'2020-22 Comp Index Non-Res. AGI'!$A$5:$J$138,4,FALSE),VLOOKUP($A62,'2020-2022 Composite Index'!$A$6:$K$140,4,FALSE))","v":20877016004.071701},null,4407718613.4576015,0.26763246232772342,{"$error":"#N/A"},null,{"$f":"C62/VLOOKUP(A62,'ADM & Population Analysis'!$A$10:$C$144,3,FALSE)","v":217992.91817893757},{"$f":"D62/VLOOKUP(A62, '2020-2022 Composite Index Data'!$A$5:$F$139, 6, FALSE)","v":260081.8353846778},null,42088.917205740232,0.19307469966153631,{"$error":"#N/A"},null,{"$f":"C62/VLOOKUP(A62,'ADM & Population Analysis'!$A$10:$J$144,10,FALSE)","v":43982.51677953617},{"$f":"D62/VLOOKUP(A62, '2020-2022 Composite Index Data'!$A$5:$G$139, 7, FALSE)","v":52710.686054090969},null,8728.1692745547989,0.19844633535422809,{"$error":"#N/A"}]
[54,"LOUISA",753436167.301,{"$f":"IF(VLOOKUP($A63,'2020-22 Comp Index Non-Res. AGI'!$A$5:$J$138,10,FALSE)=\"YES\",VLOOKUP($A63,'2020-22 Comp Index Non-Res. AGI'!$A$5:$J$138,4,FALSE),VLOOKUP($A63,'2020-2022 Composite Index'!$A$6:$K$140,4,FALSE))","v":909729092.25969994},null,156292924.95869994,0.20744016778300006,{"$error":"#N/A"},null,{"$f":"C63/VLOOKUP(A63,'ADM & Population Analysis'!$A$10:$C$144,3,FALSE)","v":160715.2203491026},{"$f":"D63/VLOOKUP(A63, '2020-2022 Composite Index Data'!$A$5:$F$139, 6, FALSE)","v":193386.56780317589},null,32671.347454073286,0.20328720194083172,{"$error":"#N/A"},null,{"$f":"C63/VLOOKUP(A63,'ADM & Population Analysis'!$A$10:$J$144,10,FALSE)","v":22001.990634884944},{"$f":"D63/VLOOKUP(A63, '2020-2022 Composite Index Data'!$A$5:$G$139, 7, FALSE)","v":25966.293485363207},null,3964.3028504782633,0.18017928087800925,{"$error":"#N/A"}]
[55,"LUNENBURG",168030579.73800001,{"$f":"IF(VLOOKUP($A64,'2020-22 Comp Index Non-Res. AGI'!$A$5:$J$138,10,FALSE)=\"YES\",VLOOKUP($A64,'2020-22 Comp Index Non-Res. AGI'!$A$5:$J$138,4,FALSE),VLOOKUP($A64,'2020-2022 Composite Index'!$A$6:$K$140,4,FALSE))","v":189048883.23199999},null,21018303.493999988,0.12508618090095605,{"$error":"#N/A"},null,{"$f":"C64/VLOOKUP(A64,'ADM & Population Analysis'!$A$10:$C$144,3,FALSE)","v":113270.8971970555},{"$f":"D64/VLOOKUP(A64, '2020-2022 Composite Index Data'!$A$5:$F$139, 6, FALSE)","v":131140.96660724073},null,17870.069410185228,0.15776399633435378,{"$error":"#N/A"},null,{"$f":"C64/VLOOKUP(A64,'ADM & Population Analysis'!$A$10:$J$144,10,FALSE)","v":13512.712483956575},{"$f":"D64/VLOOKUP(A64, '2020-2022 Composite Index Data'!$A$5:$G$139, 7, FALSE)","v":15263.110223801064},null,1750.3977398444895,0.12953711121454767,{"$error":"#N/A"}]
[56,"MADISON",289907349.74900001,{"$f":"IF(VLOOKUP($A65,'2020-22 Comp Index Non-Res. AGI'!$A$5:$J$138,10,FALSE)=\"YES\",VLOOKUP($A65,'2020-22 Comp Index Non-Res. AGI'!$A$5:$J$138,4,FALSE),VLOOKUP($A65,'2020-2022 Composite Index'!$A$6:$K$140,4,FALSE))","v":327282712.824},null,37375363.074999988,0.12892175071573503,{"$error":"#N/A"},null,{"$f":"C65/VLOOKUP(A65,'ADM & Population Analysis'!$A$10:$C$144,3,FALSE)","v":169491.85872080448},{"$f":"D65/VLOOKUP(A65, '2020-2022 Composite Index Data'!$A$5:$F$139, 6, FALSE)","v":195604.03350725261},null,26112.174786448129,0.15406152828532854,{"$error":"#N/A"},null,{"$f":"C65/VLOOKUP(A65,'ADM & Population Analysis'!$A$10:$J$144,10,FALSE)","v":22132.021509199178},{"$f":"D65/VLOOKUP(A65, '2020-2022 Composite Index Data'!$A$5:$G$139, 7, FALSE)","v":24812.942594692948},null,2680.9210854937701,0.12113313211716539,{"$error":"#N/A"}]
[57,"MATHEWS",210484622.26100001,{"$f":"IF(VLOOKUP($A66,'2020-22 Comp Index Non-Res. AGI'!$A$5:$J$138,10,FALSE)=\"YES\",VLOOKUP($A66,'2020-22 Comp Index Non-Res. AGI'!$A$5:$J$138,4,FALSE),VLOOKUP($A66,'2020-2022 Composite Index'!$A$6:$K$140,4,FALSE))","v":232145137.06900001},null,21660514.807999998,0.10290782564220323,{"$error":"#N/A"},null,{"$f":"C66/VLOOKUP(A66,'ADM & Population Analysis'!$A$10:$C$144,3,FALSE)","v":192035.74795496638},{"$f":"D66/VLOOKUP(A66, '2020-2022 Composite Index Data'!$A$5:$F$139, 6, FALSE)","v":215800.41373287226},null,23764.665777905873,0.12375126001789438,{"$error":"#N/A"},null,{"$f":"C66/VLOOKUP(A66,'ADM & Population Analysis'!$A$10:$J$144,10,FALSE)","v":24091.178008584182},{"$f":"D66/VLOOKUP(A66, '2020-2022 Composite Index Data'!$A$5:$G$139, 7, FALSE)","v":26834.485847763266},null,2743.3078391790841,0.11387188447993647,{"$error":"#N/A"}]
[58,"MECKLENBURG",520275959.16000003,{"$f":"IF(VLOOKUP($A67,'2020-22 Comp Index Non-Res. AGI'!$A$5:$J$138,10,FALSE)=\"YES\",VLOOKUP($A67,'2020-22 Comp Index Non-Res. AGI'!$A$5:$J$138,4,FALSE),VLOOKUP($A67,'2020-2022 Composite Index'!$A$6:$K$140,4,FALSE))","v":555134507.97000003},null,34858548.810000002,6.700011445133866E-2,{"$error":"#N/A"},null,{"$f":"C67/VLOOKUP(A67,'ADM & Population Analysis'!$A$10:$C$144,3,FALSE)","v":120919.8887104459},{"$f":"D67/VLOOKUP(A67, '2020-2022 Composite Index Data'!$A$5:$F$139, 6, FALSE)","v":135295.04427584726},null,14375.155565401365,0.11888164733449295,{"$error":"#N/A"},null,{"$f":"C67/VLOOKUP(A67,'ADM & Population Analysis'!$A$10:$J$144,10,FALSE)","v":16460.261932422174},{"$f":"D67/VLOOKUP(A67, '2020-2022 Composite Index Data'!$A$5:$G$139, 7, FALSE)","v":17756.349410504095},null,1296.0874780819213,7.8740392066847159E-2,{"$error":"#N/A"}]
[59,"MIDDLESEX",241428999.28999999,{"$f":"IF(VLOOKUP($A68,'2020-22 Comp Index Non-Res. AGI'!$A$5:$J$138,10,FALSE)=\"YES\",VLOOKUP($A68,'2020-22 Comp Index Non-Res. AGI'!$A$5:$J$138,4,FALSE),VLOOKUP($A68,'2020-2022 Composite Index'!$A$6:$K$140,4,FALSE))","v":269874645.58099997},null,28445646.290999979,0.11782199476721353,{"$error":"#N/A"},null,{"$f":"C68/VLOOKUP(A68,'ADM & Population Analysis'!$A$10:$C$144,3,FALSE)","v":202344.19465117838},{"$f":"D68/VLOOKUP(A68, '2020-2022 Composite Index Data'!$A$5:$F$139, 6, FALSE)","v":225976.4587116708},null,23632.264060492424,0.11679239970898171,{"$error":"#N/A"},null,{"$f":"C68/VLOOKUP(A68,'ADM & Population Analysis'!$A$10:$J$144,10,FALSE)","v":21785.688439812307},{"$f":"D68/VLOOKUP(A68, '2020-2022 Composite Index Data'!$A$5:$G$139, 7, FALSE)","v":24525.14045628862},null,2739.4520164763126,0.1257454876417903,{"$error":"#N/A"}]
[60,"MONTGOMERY",1837816445.3148,{"$f":"IF(VLOOKUP($A69,'2020-22 Comp Index Non-Res. AGI'!$A$5:$J$138,10,FALSE)=\"YES\",VLOOKUP($A69,'2020-22 Comp Index Non-Res. AGI'!$A$5:$J$138,4,FALSE),VLOOKUP($A69,'2020-2022 Composite Index'!$A$6:$K$140,4,FALSE))","v":2153801351.6343999},null,315984906.31959987,0.1719349650641932,{"$error":"#N/A"},null,{"$f":"C69/VLOOKUP(A69,'ADM & Population Analysis'!$A$10:$C$144,3,FALSE)","v":193699.85173997362},{"$f":"D69/VLOOKUP(A69, '2020-2022 Composite Index Data'!$A$5:$F$139, 6, FALSE)","v":223494.08802934535},null,29794.236289371736,0.15381651571611984,{"$error":"#N/A"},null,{"$f":"C69/VLOOKUP(A69,'ADM & Population Analysis'!$A$10:$J$144,10,FALSE)","v":18730.103090213106},{"$f":"D69/VLOOKUP(A69, '2020-2022 Composite Index Data'!$A$5:$G$139, 7, FALSE)","v":21804.905560403335},null,3074.8024701902286,0.1641636703962874,{"$error":"#N/A"}]
[62,"NELSON",363264070.25800002,{"$f":"IF(VLOOKUP($A70,'2020-22 Comp Index Non-Res. AGI'!$A$5:$J$138,10,FALSE)=\"YES\",VLOOKUP($A70,'2020-22 Comp Index Non-Res. AGI'!$A$5:$J$138,4,FALSE),VLOOKUP($A70,'2020-2022 Composite Index'!$A$6:$K$140,4,FALSE))","v":398056053.47799999},null,34791983.219999969,9.5776009984388927E-2,{"$error":"#N/A"},null,{"$f":"C70/VLOOKUP(A70,'ADM & Population Analysis'!$A$10:$C$144,3,FALSE)","v":191593.96324808415},{"$f":"D70/VLOOKUP(A70, '2020-2022 Composite Index Data'!$A$5:$F$139, 6, FALSE)","v":221828.68848492278},null,30234.725236838625,0.15780625195215256,{"$error":"#N/A"},null,{"$f":"C70/VLOOKUP(A70,'ADM & Population Analysis'!$A$10:$J$144,10,FALSE)","v":24228.911509237645},{"$f":"D70/VLOOKUP(A70, '2020-2022 Composite Index Data'!$A$5:$G$139, 7, FALSE)","v":26790.688752052763},null,2561.7772428151184,0.10573224644608575,{"$error":"#N/A"}]
[63,"NEW KENT",581884210.96700001,{"$f":"IF(VLOOKUP($A71,'2020-22 Comp Index Non-Res. AGI'!$A$5:$J$138,10,FALSE)=\"YES\",VLOOKUP($A71,'2020-22 Comp Index Non-Res. AGI'!$A$5:$J$138,4,FALSE),VLOOKUP($A71,'2020-2022 Composite Index'!$A$6:$K$140,4,FALSE))","v":697158538.37800002},null,115274327.41100001,0.19810526774636525,{"$error":"#N/A"},null,{"$f":"C71/VLOOKUP(A71,'ADM & Population Analysis'!$A$10:$C$144,3,FALSE)","v":195034.74486825833},{"$f":"D71/VLOOKUP(A71, '2020-2022 Composite Index Data'!$A$5:$F$139, 6, FALSE)","v":220741.33807159637},null,25706.593203338038,0.13180519820046563,{"$error":"#N/A"},null,{"$f":"C71/VLOOKUP(A71,'ADM & Population Analysis'!$A$10:$J$144,10,FALSE)","v":28428.972589749854},{"$f":"D71/VLOOKUP(A71, '2020-2022 Composite Index Data'!$A$5:$G$139, 7, FALSE)","v":32113.802495646967},null,3684.8299058971133,0.12961530334113056,{"$error":"#N/A"}]
[65,"NORTHAMPTON",235353204.50299999,{"$f":"IF(VLOOKUP($A72,'2020-22 Comp Index Non-Res. AGI'!$A$5:$J$138,10,FALSE)=\"YES\",VLOOKUP($A72,'2020-22 Comp Index Non-Res. AGI'!$A$5:$J$138,4,FALSE),VLOOKUP($A72,'2020-2022 Composite Index'!$A$6:$K$140,4,FALSE))","v":269219459.759},null,33866255.256000012,0.14389544993668582,{"$error":"#N/A"},null,{"$f":"C72/VLOOKUP(A72,'ADM & Population Analysis'!$A$10:$C$144,3,FALSE)","v":150880.01211831757},{"$f":"D72/VLOOKUP(A72, '2020-2022 Composite Index Data'!$A$5:$F$139, 6, FALSE)","v":176167.68731775944},null,25287.675199441874,0.16760122725607754,{"$error":"#N/A"},null,{"$f":"C72/VLOOKUP(A72,'ADM & Population Analysis'!$A$10:$J$144,10,FALSE)","v":19329.271066277925},{"$f":"D72/VLOOKUP(A72, '2020-2022 Composite Index Data'!$A$5:$G$139, 7, FALSE)","v":22434.954979916667},null,3105.6839136387425,0.16067258320242378,{"$error":"#N/A"}]
[66,"NORTHUMBERLAND",296093129.66000003,{"$f":"IF(VLOOKUP($A73,'2020-22 Comp Index Non-Res. AGI'!$A$5:$J$138,10,FALSE)=\"YES\",VLOOKUP($A73,'2020-22 Comp Index Non-Res. AGI'!$A$5:$J$138,4,FALSE),VLOOKUP($A73,'2020-2022 Composite Index'!$A$6:$K$140,4,FALSE))","v":325582101.44099998},null,29488971.780999959,9.959356981657011E-2,{"$error":"#N/A"},null,{"$f":"C73/VLOOKUP(A73,'ADM & Population Analysis'!$A$10:$C$144,3,FALSE)","v":231690.20372935204},{"$f":"D73/VLOOKUP(A73, '2020-2022 Composite Index Data'!$A$5:$F$139, 6, FALSE)","v":267398.79716571257},null,35708.593436360534,0.1541221547634935,{"$error":"#N/A"},null,{"$f":"C73/VLOOKUP(A73,'ADM & Population Analysis'!$A$10:$J$144,10,FALSE)","v":24230.207009819969},{"$f":"D73/VLOOKUP(A73, '2020-2022 Composite Index Data'!$A$5:$G$139, 7, FALSE)","v":27012.536417572388},null,2782.3294077524188,0.11482895736816454,{"$error":"#N/A"}]
[67,"NOTTOWAY",224022987.498,{"$f":"IF(VLOOKUP($A74,'2020-22 Comp Index Non-Res. AGI'!$A$5:$J$138,10,FALSE)=\"YES\",VLOOKUP($A74,'2020-22 Comp Index Non-Res. AGI'!$A$5:$J$138,4,FALSE),VLOOKUP($A74,'2020-2022 Composite Index'!$A$6:$K$140,4,FALSE))","v":236775861.59999999},null,12752874.101999998,5.6926631701641119E-2,{"$error":"#N/A"},null,{"$f":"C74/VLOOKUP(A74,'ADM & Population Analysis'!$A$10:$C$144,3,FALSE)","v":107044.62323107797},{"$f":"D74/VLOOKUP(A74, '2020-2022 Composite Index Data'!$A$5:$F$139, 6, FALSE)","v":120926.17113206198},null,13881.547900984006,0.1296800108401317,{"$error":"#N/A"},null,{"$f":"C74/VLOOKUP(A74,'ADM & Population Analysis'!$A$10:$J$144,10,FALSE)","v":13776.70423085911},{"$f":"D74/VLOOKUP(A74, '2020-2022 Composite Index Data'!$A$5:$G$139, 7, FALSE)","v":14943.254124329442},null,1166.5498934703319,8.467554169140977E-2,{"$error":"#N/A"}]
[68,"ORANGE",834603968.04400003,{"$f":"IF(VLOOKUP($A75,'2020-22 Comp Index Non-Res. AGI'!$A$5:$J$138,10,FALSE)=\"YES\",VLOOKUP($A75,'2020-22 Comp Index Non-Res. AGI'!$A$5:$J$138,4,FALSE),VLOOKUP($A75,'2020-2022 Composite Index'!$A$6:$K$140,4,FALSE))","v":974630915.96700001},null,140026947.92299998,0.16777651830624632,{"$error":"#N/A"},null,{"$f":"C75/VLOOKUP(A75,'ADM & Population Analysis'!$A$10:$C$144,3,FALSE)","v":172429.21738745979},{"$f":"D75/VLOOKUP(A75, '2020-2022 Composite Index Data'!$A$5:$F$139, 6, FALSE)","v":205376.99706610589},null,32947.779678646097,0.19108002795495074,{"$error":"#N/A"},null,{"$f":"C75/VLOOKUP(A75,'ADM & Population Analysis'!$A$10:$J$144,10,FALSE)","v":24536.350670116128},{"$f":"D75/VLOOKUP(A75, '2020-2022 Composite Index Data'!$A$5:$G$139, 7, FALSE)","v":28232.986181367862},null,3696.635511251734,0.15065954839625048,{"$error":"#N/A"}]
[69,"PAGE",406295854.68599999,{"$f":"IF(VLOOKUP($A76,'2020-22 Comp Index Non-Res. AGI'!$A$5:$J$138,10,FALSE)=\"YES\",VLOOKUP($A76,'2020-22 Comp Index Non-Res. AGI'!$A$5:$J$138,4,FALSE),VLOOKUP($A76,'2020-2022 Composite Index'!$A$6:$K$140,4,FALSE))","v":462573017.64999998},null,{"$f":"D76-C76","v":56277162.963999987},{"$f":"F76/C76","v":0.1385127667804856},{"$f":"IF(G76<$G$146,\"BELOW\", \"ABOVE\")","v":{"$error":"#N/A"}},null,{"$f":"C76/VLOOKUP(A76,'ADM & Population Analysis'!$A$10:$C$144,3,FALSE)","v":123862.00195900897},{"$f":"D76/VLOOKUP(A76, '2020-2022 Composite Index Data'!$A$5:$F$139, 6, FALSE)","v":143065.73726761286},null,{"$f":"K76-J76","v":19203.735308603893},{"$f":"M76/J76","v":0.15504137673278687},{"$f":"IF(N76<$N$146,\"BELOW\", \"ABOVE\")","v":{"$error":"#N/A"}},null,{"$f":"C76/VLOOKUP(A76,'ADM & Population Analysis'!$A$10:$J$144,10,FALSE)","v":17129.552455246849},{"$f":"D76/VLOOKUP(A76, '2020-2022 Composite Index Data'!$A$5:$G$139, 7, FALSE)","v":19546.715303190365},null,2417.1628479435167,0.1411106830875275,{"$error":"#N/A"}]
[70,"PATRICK",240340210.03999999,{"$f":"IF(VLOOKUP($A77,'2020-22 Comp Index Non-Res. AGI'!$A$5:$J$138,10,FALSE)=\"YES\",VLOOKUP($A77,'2020-22 Comp Index Non-Res. AGI'!$A$5:$J$138,4,FALSE),VLOOKUP($A77,'2020-2022 Composite Index'!$A$6:$K$140,4,FALSE))","v":271540560},null,31200349.960000008,0.12981743651970393,{"$error":"#N/A"},null,{"$f":"C77/VLOOKUP(A77,'ADM & Population Analysis'!$A$10:$C$144,3,FALSE)","v":85829.352098592601},{"$f":"D77/VLOOKUP(A77, '2020-2022 Composite Index Data'!$A$5:$F$139, 6, FALSE)","v":104907.53289702439},null,19078.180798431786,0.22228037765584652,{"$error":"#N/A"},null,{"$f":"C77/VLOOKUP(A77,'ADM & Population Analysis'!$A$10:$J$144,10,FALSE)","v":13026.569649864497},{"$f":"D77/VLOOKUP(A77, '2020-2022 Composite Index Data'!$A$5:$G$139, 7, FALSE)","v":15144.481873954266},null,2117.9122240897686,0.16258403255931611,{"$error":"#N/A"}]
[71,"PITTSYLVANIA",1084325520.036,{"$f":"IF(VLOOKUP($A78,'2020-22 Comp Index Non-Res. AGI'!$A$5:$J$138,10,FALSE)=\"YES\",VLOOKUP($A78,'2020-22 Comp Index Non-Res. AGI'!$A$5:$J$138,4,FALSE),VLOOKUP($A78,'2020-2022 Composite Index'!$A$6:$K$140,4,FALSE))","v":1180967797.221},null,96642277.184999943,8.9126627935300629E-2,{"$error":"#N/A"},null,{"$f":"C78/VLOOKUP(A78,'ADM & Population Analysis'!$A$10:$C$144,3,FALSE)","v":122496.49736225823},{"$f":"D78/VLOOKUP(A78, '2020-2022 Composite Index Data'!$A$5:$F$139, 6, FALSE)","v":137003.70154664112},null,14507.204184382892,0.11842954285852611,{"$error":"#N/A"},null,{"$f":"C78/VLOOKUP(A78,'ADM & Population Analysis'!$A$10:$J$144,10,FALSE)","v":17142.131373583117},{"$f":"D78/VLOOKUP(A78, '2020-2022 Composite Index Data'!$A$5:$G$139, 7, FALSE)","v":18997.004748914198},null,1854.8733753310808,0.10820552794208155,{"$f":"IF(U78<$U$146,\"BELOW\", \"ABOVE\")","v":{"$error":"#N/A"}}]
[72,"POWHATAN",824886567.61500001,{"$f":"IF(VLOOKUP($A79,'2020-22 Comp Index Non-Res. AGI'!$A$5:$J$138,10,FALSE)=\"YES\",VLOOKUP($A79,'2020-22 Comp Index Non-Res. AGI'!$A$5:$J$138,4,FALSE),VLOOKUP($A79,'2020-2022 Composite Index'!$A$6:$K$140,4,FALSE))","v":1018341052.087},null,193454484.472,0.23452252960226547,{"$error":"#N/A"},null,{"$f":"C79/VLOOKUP(A79,'ADM & Population Analysis'!$A$10:$C$144,3,FALSE)","v":195699.37571973895},{"$f":"D79/VLOOKUP(A79, '2020-2022 Composite Index Data'!$A$5:$F$139, 6, FALSE)","v":241311.33003485759},null,45611.954315118637,0.23307153713376946,{"$error":"#N/A"},null,{"$f":"C79/VLOOKUP(A79,'ADM & Population Analysis'!$A$10:$J$144,10,FALSE)","v":29002.410787391884},{"$f":"D79/VLOOKUP(A79, '2020-2022 Composite Index Data'!$A$5:$G$139, 7, FALSE)","v":34915.348422375369},null,5912.9376349834856,0.20387745275141045,{"$error":"#N/A"}]
[73,"PRINCE EDWARD",304846047.67799997,{"$f":"IF(VLOOKUP($A80,'2020-22 Comp Index Non-Res. AGI'!$A$5:$J$138,10,FALSE)=\"YES\",VLOOKUP($A80,'2020-22 Comp Index Non-Res. AGI'!$A$5:$J$138,4,FALSE),VLOOKUP($A80,'2020-2022 Composite Index'!$A$6:$K$140,4,FALSE))","v":331400119.31699997},null,26554071.638999999,8.7106497988939963E-2,{"$error":"#N/A"},null,{"$f":"C80/VLOOKUP(A80,'ADM & Population Analysis'!$A$10:$C$144,3,FALSE)","v":154294.61754988003},{"$f":"D80/VLOOKUP(A80, '2020-2022 Composite Index Data'!$A$5:$F$139, 6, FALSE)","v":168371.26985474554},null,14076.652304865507,9.1232296553149933E-2,{"$error":"#N/A"},null,{"$f":"C80/VLOOKUP(A80,'ADM & Population Analysis'!$A$10:$J$144,10,FALSE)","v":12900.260153103973},{"$f":"D80/VLOOKUP(A80, '2020-2022 Composite Index Data'!$A$5:$G$139, 7, FALSE)","v":14270.34058119106},null,1370.0804280870871,0.10620564328366879,{"$error":"#N/A"}]
[74,"PRINCE GEORGE",703370202.22759998,{"$f":"IF(VLOOKUP($A81,'2020-22 Comp Index Non-Res. AGI'!$A$5:$J$138,10,FALSE)=\"YES\",VLOOKUP($A81,'2020-22 Comp Index Non-Res. AGI'!$A$5:$J$138,4,FALSE),VLOOKUP($A81,'2020-2022 Composite Index'!$A$6:$K$140,4,FALSE))","v":770840674.70550001},null,67470472.477900028,9.5924553335097931E-2,{"$error":"#N/A"},null,{"$f":"C81/VLOOKUP(A81,'ADM & Population Analysis'!$A$10:$C$144,3,FALSE)","v":111773.98295948219},{"$f":"D81/VLOOKUP(A81, '2020-2022 Composite Index Data'!$A$5:$F$139, 6, FALSE)","v":124544.68373580405},null,12770.700776321857,0.11425468108219071,{"$error":"#N/A"},null,{"$f":"C81/VLOOKUP(A81,'ADM & Population Analysis'!$A$10:$J$144,10,FALSE)","v":18942.937228396757},{"$f":"D81/VLOOKUP(A81, '2020-2022 Composite Index Data'!$A$5:$G$139, 7, FALSE)","v":20819.464543024984},null,1876.527314628227,9.9062109112370622E-2,{"$error":"#N/A"}]
[75,"PRINCE WILLIAM",13766278960.332001,{"$f":"IF(VLOOKUP($A82,'2020-22 Comp Index Non-Res. AGI'!$A$5:$J$138,10,FALSE)=\"YES\",VLOOKUP($A82,'2020-22 Comp Index Non-Res. AGI'!$A$5:$J$138,4,FALSE),VLOOKUP($A82,'2020-2022 Composite Index'!$A$6:$K$140,4,FALSE))","v":15712284717.323799},null,1946005756.9917984,0.14136033147368871,{"$error":"#N/A"},null,{"$f":"C82/VLOOKUP(A82,'ADM & Population Analysis'!$A$10:$C$144,3,FALSE)","v":162158.10035896456},{"$f":"D82/VLOOKUP(A82, '2020-2022 Composite Index Data'!$A$5:$F$139, 6, FALSE)","v":179952.95695905859},null,17794.856600094034,0.10973769772032411,{"$error":"#N/A"},null,{"$f":"C82/VLOOKUP(A82,'ADM & Population Analysis'!$A$10:$J$144,10,FALSE)","v":31042.677653675732},{"$f":"D82/VLOOKUP(A82, '2020-2022 Composite Index Data'!$A$5:$G$139, 7, FALSE)","v":34457.52037834996},null,3414.8427246742285,0.11000477351765693,{"$error":"#N/A"}]
[77,"PULASKI",595707211.11099994,{"$f":"IF(VLOOKUP($A83,'2020-22 Comp Index Non-Res. AGI'!$A$5:$J$138,10,FALSE)=\"YES\",VLOOKUP($A83,'2020-22 Comp Index Non-Res. AGI'!$A$5:$J$138,4,FALSE),VLOOKUP($A83,'2020-2022 Composite Index'!$A$6:$K$140,4,FALSE))","v":635361543.97599995},null,39654332.86500001,6.6566816928477796E-2,{"$error":"#N/A"},null,{"$f":"C83/VLOOKUP(A83,'ADM & Population Analysis'!$A$10:$C$144,3,FALSE)","v":142064.3827681352},{"$f":"D83/VLOOKUP(A83, '2020-2022 Composite Index Data'!$A$5:$F$139, 6, FALSE)","v":158291.11582209732},null,16226.733053962118,0.11422098021884869,{"$error":"#N/A"},null,{"$f":"C83/VLOOKUP(A83,'ADM & Population Analysis'!$A$10:$J$144,10,FALSE)","v":17097.879254642517},{"$f":"D83/VLOOKUP(A83, '2020-2022 Composite Index Data'!$A$5:$G$139, 7, FALSE)","v":18433.909071749789},null,1336.0298171072718,7.8140089610499799E-2,{"$error":"#N/A"}]
[78,"RAPPAHANNOCK",228409520.752,{"$f":"IF(VLOOKUP($A84,'2020-22 Comp Index Non-Res. AGI'!$A$5:$J$138,10,FALSE)=\"YES\",VLOOKUP($A84,'2020-22 Comp Index Non-Res. AGI'!$A$5:$J$138,4,FALSE),VLOOKUP($A84,'2020-2022 Composite Index'!$A$6:$K$140,4,FALSE))","v":265100919.95300001},null,36691399.201000005,0.16063865937023875,{"$error":"#N/A"},null,{"$f":"C84/VLOOKUP(A84,'ADM & Population Analysis'!$A$10:$C$144,3,FALSE)","v":262908.35510946385},{"$f":"D84/VLOOKUP(A84, '2020-2022 Composite Index Data'!$A$5:$F$139, 6, FALSE)","v":324211.08496355545},null,61302.729854091594,0.23317147843615599,{"$error":"#N/A"},null,{"$f":"C84/VLOOKUP(A84,'ADM & Population Analysis'!$A$10:$J$144,10,FALSE)","v":31254.72369348659},{"$f":"D84/VLOOKUP(A84, '2020-2022 Composite Index Data'!$A$5:$G$139, 7, FALSE)","v":36374.989016602638},null,5120.2653231160475,0.16382372704139753,{"$error":"#N/A"}]
[79,"RICHMOND COUNTY",156623462.08000001,{"$f":"IF(VLOOKUP($A85,'2020-22 Comp Index Non-Res. AGI'!$A$5:$J$138,10,FALSE)=\"YES\",VLOOKUP($A85,'2020-22 Comp Index Non-Res. AGI'!$A$5:$J$138,4,FALSE),VLOOKUP($A85,'2020-2022 Composite Index'!$A$6:$K$140,4,FALSE))","v":174675312},null,18051849.919999987,0.11525635865959519,{"$error":"#N/A"},null,{"$f":"C85/VLOOKUP(A85,'ADM & Population Analysis'!$A$10:$C$144,3,FALSE)","v":125563.96074910213},{"$f":"D85/VLOOKUP(A85, '2020-2022 Composite Index Data'!$A$5:$F$139, 6, FALSE)","v":136941.17204343225},null,11377.211294330118,9.0608891488089455E-2,{"$error":"#N/A"},null,{"$f":"C85/VLOOKUP(A85,'ADM & Population Analysis'!$A$10:$J$144,10,FALSE)","v":17175.50850751179},{"$f":"D85/VLOOKUP(A85, '2020-2022 Composite Index Data'!$A$5:$G$139, 7, FALSE)","v":19207.753683747527},null,2032.2451762357377,0.11832227123563333,{"$error":"#N/A"}]
[80,"ROANOKE COUNTY",2638506041.5124002,{"$f":"IF(VLOOKUP($A86,'2020-22 Comp Index Non-Res. AGI'!$A$5:$J$138,10,FALSE)=\"YES\",VLOOKUP($A86,'2020-22 Comp Index Non-Res. AGI'!$A$5:$J$138,4,FALSE),VLOOKUP($A86,'2020-2022 Composite Index'!$A$6:$K$140,4,FALSE))","v":2902580475.349},null,264074433.83659983,0.10008483197758059,{"$error":"#N/A"},null,{"$f":"C86/VLOOKUP(A86,'ADM & Population Analysis'!$A$10:$C$144,3,FALSE)","v":188707.47593957657},{"$f":"D86/VLOOKUP(A86, '2020-2022 Composite Index Data'!$A$5:$F$139, 6, FALSE)","v":210653.08813938062},null,21945.612199804047,0.11629434441076913,{"$error":"#N/A"},null,{"$f":"C86/VLOOKUP(A86,'ADM & Population Analysis'!$A$10:$J$144,10,FALSE)","v":28136.561359769665},{"$f":"D86/VLOOKUP(A86, '2020-2022 Composite Index Data'!$A$5:$G$139, 7, FALSE)","v":30965.812933792073},null,2829.251574022408,0.10055427661703324,{"$error":"#N/A"}]
[81,"ROCKBRIDGE",440920255.91720003,{"$f":"IF(VLOOKUP($A87,'2020-22 Comp Index Non-Res. AGI'!$A$5:$J$138,10,FALSE)=\"YES\",VLOOKUP($A87,'2020-22 Comp Index Non-Res. AGI'!$A$5:$J$138,4,FALSE),VLOOKUP($A87,'2020-2022 Composite Index'!$A$6:$K$140,4,FALSE))","v":486605731.67699999},null,45685475.759799957,0.10361391917630382,{"$error":"#N/A"},null,{"$f":"C87/VLOOKUP(A87,'ADM & Population Analysis'!$A$10:$C$144,3,FALSE)","v":172824.50864169077},{"$f":"D87/VLOOKUP(A87, '2020-2022 Composite Index Data'!$A$5:$F$139, 6, FALSE)","v":189003.19339273436},null,16178.684751043591,9.3613370454222591E-2,{"$error":"#N/A"},null,{"$f":"C87/VLOOKUP(A87,'ADM & Population Analysis'!$A$10:$J$144,10,FALSE)","v":19894.430172684206},{"$f":"D87/VLOOKUP(A87, '2020-2022 Composite Index Data'!$A$5:$G$139, 7, FALSE)","v":21535.038576606479},null,{"$f":"R87-Q87","v":1640.6084039222733},{"$f":"T87/Q87","v":8.2465714759445072E-2},{"$error":"#N/A"}]
[82,"ROCKINGHAM",1760374491.8736,{"$f":"IF(VLOOKUP($A88,'2020-22 Comp Index Non-Res. AGI'!$A$5:$J$138,10,FALSE)=\"YES\",VLOOKUP($A88,'2020-22 Comp Index Non-Res. AGI'!$A$5:$J$138,4,FALSE),VLOOKUP($A88,'2020-2022 Composite Index'!$A$6:$K$140,4,FALSE))","v":2049709198.9454999},null,289334707.07189989,0.16435974754664587,{"$error":"#N/A"},null,{"$f":"C88/VLOOKUP(A88,'ADM & Population Analysis'!$A$10:$C$144,3,FALSE)","v":155960.77463001304},{"$f":"D88/VLOOKUP(A88, '2020-2022 Composite Index Data'!$A$5:$F$139, 6, FALSE)","v":182154.59911820223},null,26193.824488189188,0.167951361810872,{"$error":"#N/A"},null,{"$f":"C88/VLOOKUP(A88,'ADM & Population Analysis'!$A$10:$J$144,10,FALSE)","v":22245.488562104783},{"$f":"D88/VLOOKUP(A88, '2020-2022 Composite Index Data'!$A$5:$G$139, 7, FALSE)","v":25409.828167325762},null,3164.3396052209791,0.14224635239575881,{"$error":"#N/A"}]
[83,"RUSSELL",404229741.63999999,{"$f":"IF(VLOOKUP($A89,'2020-22 Comp Index Non-Res. AGI'!$A$5:$J$138,10,FALSE)=\"YES\",VLOOKUP($A89,'2020-22 Comp Index Non-Res. AGI'!$A$5:$J$138,4,FALSE),VLOOKUP($A89,'2020-2022 Composite Index'!$A$6:$K$140,4,FALSE))","v":403533182.41000003},null,-696559.22999995947,-1.7231765955022257E-3,{"$error":"#N/A"},null,{"$f":"C89/VLOOKUP(A89,'ADM & Population Analysis'!$A$10:$C$144,3,FALSE)","v":104995.28351835594},{"$f":"D89/VLOOKUP(A89, '2020-2022 Composite Index Data'!$A$5:$F$139, 6, FALSE)","v":111187.60708952139},null,6192.3235711654561,5.8977159389096513E-2,{"$error":"#N/A"},null,{"$f":"C89/VLOOKUP(A89,'ADM & Population Analysis'!$A$10:$J$144,10,FALSE)","v":14432.65287203656},{"$f":"D89/VLOOKUP(A89, '2020-2022 Composite Index Data'!$A$5:$G$139, 7, FALSE)","v":14776.563858434949},null,343.91098639838856,2.3828674426495788E-2,{"$error":"#N/A"}]
[84,"SCOTT",299645694.06,{"$f":"IF(VLOOKUP($A90,'2020-22 Comp Index Non-Res. AGI'!$A$5:$J$138,10,FALSE)=\"YES\",VLOOKUP($A90,'2020-22 Comp Index Non-Res. AGI'!$A$5:$J$138,4,FALSE),VLOOKUP($A90,'2020-2022 Composite Index'!$A$6:$K$140,4,FALSE))","v":308392569.00999999},null,8746874.9499999881,2.9190724657129713E-2,{"$error":"#N/A"},null,{"$f":"C90/VLOOKUP(A90,'ADM & Population Analysis'!$A$10:$C$144,3,FALSE)","v":84643.763434724635},{"$f":"D90/VLOOKUP(A90, '2020-2022 Composite Index Data'!$A$5:$F$139, 6, FALSE)","v":89871.329658544826},null,5227.5662238201912,6.175961478664134E-2,{"$error":"#N/A"},null,{"$f":"C90/VLOOKUP(A90,'ADM & Population Analysis'!$A$10:$J$144,10,FALSE)","v":13166.030759699459},{"$f":"D90/VLOOKUP(A90, '2020-2022 Composite Index Data'!$A$5:$G$139, 7, FALSE)","v":13781.676230504536},null,615.64547080507691,4.6760142220655901E-2,{"$error":"#N/A"}]
[85,"SHENANDOAH",901352018.48899996,{"$f":"IF(VLOOKUP($A91,'2020-22 Comp Index Non-Res. AGI'!$A$5:$J$138,10,FALSE)=\"YES\",VLOOKUP($A91,'2020-22 Comp Index Non-Res. AGI'!$A$5:$J$138,4,FALSE),VLOOKUP($A91,'2020-2022 Composite Index'!$A$6:$K$140,4,FALSE))","v":1029338148.4906},null,127986130.00160003,0.14199350240115091,{"$error":"#N/A"},null,{"$f":"C91/VLOOKUP(A91,'ADM & Population Analysis'!$A$10:$C$144,3,FALSE)","v":154539.56596468066},{"$f":"D91/VLOOKUP(A91, '2020-2022 Composite Index Data'!$A$5:$F$139, 6, FALSE)","v":177075.20187349044},null,22535.635908809782,0.14582437687161748,{"$error":"#N/A"},null,{"$f":"C91/VLOOKUP(A91,'ADM & Population Analysis'!$A$10:$J$144,10,FALSE)","v":21344.890084517381},{"$f":"D91/VLOOKUP(A91, '2020-2022 Composite Index Data'!$A$5:$G$139, 7, FALSE)","v":24205.482621766019},null,2860.5925372486381,0.1340176747653333,{"$error":"#N/A"}]
[86,"SMYTH",469877158.33600003,{"$f":"IF(VLOOKUP($A92,'2020-22 Comp Index Non-Res. AGI'!$A$5:$J$138,10,FALSE)=\"YES\",VLOOKUP($A92,'2020-22 Comp Index Non-Res. AGI'!$A$5:$J$138,4,FALSE),VLOOKUP($A92,'2020-2022 Composite Index'!$A$6:$K$140,4,FALSE))","v":480940167},null,11063008.663999975,2.3544470012498528E-2,{"$error":"#N/A"},null,{"$f":"C92/VLOOKUP(A92,'ADM & Population Analysis'!$A$10:$C$144,3,FALSE)","v":106727.92444776575},{"$f":"D92/VLOOKUP(A92, '2020-2022 Composite Index Data'!$A$5:$F$139, 6, FALSE)","v":114025.76852497262},null,7297.8440772068716,6.837801929502102E-2,{"$error":"#N/A"},null,{"$f":"C92/VLOOKUP(A92,'ADM & Population Analysis'!$A$10:$J$144,10,FALSE)","v":14956.143436228795},{"$f":"D92/VLOOKUP(A92, '2020-2022 Composite Index Data'!$A$5:$G$139, 7, FALSE)","v":15672.950759303918},null,716.80732307512335,4.7927283268678449E-2,{"$error":"#N/A"}]
[87,"SOUTHAMPTON",348120205.02209997,{"$f":"IF(VLOOKUP($A93,'2020-22 Comp Index Non-Res. AGI'!$A$5:$J$138,10,FALSE)=\"YES\",VLOOKUP($A93,'2020-22 Comp Index Non-Res. AGI'!$A$5:$J$138,4,FALSE),VLOOKUP($A93,'2020-2022 Composite Index'!$A$6:$K$140,4,FALSE))","v":373233609.39999998},null,25113404.377900004,7.214003673330513E-2,{"$error":"#N/A"},null,{"$f":"C93/VLOOKUP(A93,'ADM & Population Analysis'!$A$10:$C$144,3,FALSE)","v":132414.43770762489},{"$f":"D93/VLOOKUP(A93, '2020-2022 Composite Index Data'!$A$5:$F$139, 6, FALSE)","v":141491.59709611995},null,9077.1593884950562,6.855113041780006E-2,{"$error":"#N/A"},null,{"$f":"C93/VLOOKUP(A93,'ADM & Population Analysis'!$A$10:$J$144,10,FALSE)","v":18765.576250450107},{"$f":"D93/VLOOKUP(A93, '2020-2022 Composite Index Data'!$A$5:$G$139, 7, FALSE)","v":20599.018124620561},null,1833.441874170454,9.7702401978008932E-2,{"$error":"#N/A"}]
[88,"SPOTSYLVANIA",3484814445.7950001,{"$f":"IF(VLOOKUP($A94,'2020-22 Comp Index Non-Res. AGI'!$A$5:$J$138,10,FALSE)=\"YES\",VLOOKUP($A94,'2020-22 Comp Index Non-Res. AGI'!$A$5:$J$138,4,FALSE),VLOOKUP($A94,'2020-2022 Composite Index'!$A$6:$K$140,4,FALSE))","v":4057966913.7841001},null,573152467.98909998,0.1644714451527548,{"$error":"#N/A"},null,{"$f":"C94/VLOOKUP(A94,'ADM & Population Analysis'!$A$10:$C$144,3,FALSE)","v":150899.64123356307},{"$f":"D94/VLOOKUP(A94, '2020-2022 Composite Index Data'!$A$5:$F$139, 6, FALSE)","v":175035.79738919775},null,24136.156155634671,0.15994839986581963,{"$error":"#N/A"},null,{"$f":"C94/VLOOKUP(A94,'ADM & Population Analysis'!$A$10:$J$144,10,FALSE)","v":27014.48430049303},{"$f":"D94/VLOOKUP(A94, '2020-2022 Composite Index Data'!$A$5:$G$139, 7, FALSE)","v":30847.569451566338},null,3833.0851510733082,0.14188999902557281,{"$error":"#N/A"}]
[89,"STAFFORD",4093702166.6272001,{"$f":"IF(VLOOKUP($A95,'2020-22 Comp Index Non-Res. AGI'!$A$5:$J$138,10,FALSE)=\"YES\",VLOOKUP($A95,'2020-22 Comp Index Non-Res. AGI'!$A$5:$J$138,4,FALSE),VLOOKUP($A95,'2020-2022 Composite Index'!$A$6:$K$140,4,FALSE))","v":4814474903.125},null,720772736.49779987,0.17606867992833106,{"$error":"#N/A"},null,{"$f":"C95/VLOOKUP(A95,'ADM & Population Analysis'!$A$10:$C$144,3,FALSE)","v":148761.55054053359},{"$f":"D95/VLOOKUP(A95, '2020-2022 Composite Index Data'!$A$5:$F$139, 6, FALSE)","v":169006.68704533912},null,20245.13650480553,0.13609119044029638,{"$error":"#N/A"},null,{"$f":"C95/VLOOKUP(A95,'ADM & Population Analysis'!$A$10:$J$144,10,FALSE)","v":29204.0161413309},{"$f":"D95/VLOOKUP(A95, '2020-2022 Composite Index Data'!$A$5:$G$139, 7, FALSE)","v":33043.980419392035},null,3839.9642780611357,0.13148754128466042,{"$error":"#N/A"}]
[90,"SURRY",139685880.43599999,{"$f":"IF(VLOOKUP($A96,'2020-22 Comp Index Non-Res. AGI'!$A$5:$J$138,10,FALSE)=\"YES\",VLOOKUP($A96,'2020-22 Comp Index Non-Res. AGI'!$A$5:$J$138,4,FALSE),VLOOKUP($A96,'2020-2022 Composite Index'!$A$6:$K$140,4,FALSE))","v":138772208},null,-913672.43599998951,-6.540907593152249E-3,{"$error":"#N/A"},null,{"$f":"C96/VLOOKUP(A96,'ADM & Population Analysis'!$A$10:$C$144,3,FALSE)","v":177792.0506523095},{"$f":"D96/VLOOKUP(A96, '2020-2022 Composite Index Data'!$A$5:$F$139, 6, FALSE)","v":189799.91520207893},null,12007.864549769438,6.7538815744085448E-2,{"$error":"#N/A"},null,{"$f":"C96/VLOOKUP(A96,'ADM & Population Analysis'!$A$10:$J$144,10,FALSE)","v":20484.804287432173},{"$f":"D96/VLOOKUP(A96, '2020-2022 Composite Index Data'!$A$5:$G$139, 7, FALSE)","v":20792.958945160324},null,308.15465772815151,1.5043085274542281E-2,{"$error":"#N/A"}]
[91,"SUSSEX",155001829.08579999,{"$f":"IF(VLOOKUP($A97,'2020-22 Comp Index Non-Res. AGI'!$A$5:$J$138,10,FALSE)=\"YES\",VLOOKUP($A97,'2020-22 Comp Index Non-Res. AGI'!$A$5:$J$138,4,FALSE),VLOOKUP($A97,'2020-2022 Composite Index'!$A$6:$K$140,4,FALSE))","v":163877638.54820001},null,8875809.4624000192,5.726261112368479E-2,{"$error":"#N/A"},null,{"$f":"C97/VLOOKUP(A97,'ADM & Population Analysis'!$A$10:$C$144,3,FALSE)","v":151524.34535979273},{"$f":"D97/VLOOKUP(A97, '2020-2022 Composite Index Data'!$A$5:$F$139, 6, FALSE)","v":160749.45417005083},null,9225.1088102580979,6.0882023864569014E-2,{"$error":"#N/A"},null,{"$f":"C97/VLOOKUP(A97,'ADM & Population Analysis'!$A$10:$J$144,10,FALSE)","v":13039.608739446454},{"$f":"D97/VLOOKUP(A97, '2020-2022 Composite Index Data'!$A$5:$G$139, 7, FALSE)","v":14060.71544815101},null,1021.1067087045558,7.8308078801136091E-2,{"$error":"#N/A"}]
[92,"TAZEWELL",764353137.02699995,{"$f":"IF(VLOOKUP($A98,'2020-22 Comp Index Non-Res. AGI'!$A$5:$J$138,10,FALSE)=\"YES\",VLOOKUP($A98,'2020-22 Comp Index Non-Res. AGI'!$A$5:$J$138,4,FALSE),VLOOKUP($A98,'2020-2022 Composite Index'!$A$6:$K$140,4,FALSE))","v":701695888.95200002},null,-62657248.074999928,-8.197421458713347E-2,{"$error":"#N/A"},null,{"$f":"C98/VLOOKUP(A98,'ADM & Population Analysis'!$A$10:$C$144,3,FALSE)","v":128763.30408752534},{"$f":"D98/VLOOKUP(A98, '2020-2022 Composite Index Data'!$A$5:$F$139, 6, FALSE)","v":124730.63552239815},null,-4032.6685651271837,-3.1318461371463602E-2,{"$error":"#N/A"},null,{"$f":"C98/VLOOKUP(A98,'ADM & Population Analysis'!$A$10:$J$144,10,FALSE)","v":17351.55018108556},{"$f":"D98/VLOOKUP(A98, '2020-2022 Composite Index Data'!$A$5:$G$139, 7, FALSE)","v":16481.793793207122},null,-869.75638787843855,-5.012557257428997E-2,{"$error":"#N/A"}]
[93,"WARREN",929848422.24300003,{"$f":"IF(VLOOKUP($A99,'2020-22 Comp Index Non-Res. AGI'!$A$5:$J$138,10,FALSE)=\"YES\",VLOOKUP($A99,'2020-22 Comp Index Non-Res. AGI'!$A$5:$J$138,4,FALSE),VLOOKUP($A99,'2020-2022 Composite Index'!$A$6:$K$140,4,FALSE))","v":1041222853.2539999},null,111374431.01099992,0.11977697477008152,{"$error":"#N/A"},null,{"$f":"C99/VLOOKUP(A99,'ADM & Population Analysis'!$A$10:$C$144,3,FALSE)","v":174372.84408020211},{"$f":"D99/VLOOKUP(A99, '2020-2022 Composite Index Data'!$A$5:$F$139, 6, FALSE)","v":197206.15341930767},null,22833.309339105559,0.13094532844003776,{"$error":"#N/A"},null,{"$f":"C99/VLOOKUP(A99,'ADM & Population Analysis'!$A$10:$J$144,10,FALSE)","v":23947.266791393031},{"$f":"D99/VLOOKUP(A99, '2020-2022 Composite Index Data'!$A$5:$G$139, 7, FALSE)","v":26535.407458243073},null,2588.1406668500422,0.10807666233460324,{"$error":"#N/A"}]
[94,"WASHINGTON",1058129363.1799999,{"$f":"IF(VLOOKUP($A100,'2020-22 Comp Index Non-Res. AGI'!$A$5:$J$138,10,FALSE)=\"YES\",VLOOKUP($A100,'2020-22 Comp Index Non-Res. AGI'!$A$5:$J$138,4,FALSE),VLOOKUP($A100,'2020-2022 Composite Index'!$A$6:$K$140,4,FALSE))","v":1105064375.8399999},null,46935012.659999967,4.4356592202437331E-2,{"$error":"#N/A"},null,{"$f":"C100/VLOOKUP(A100,'ADM & Population Analysis'!$A$10:$C$144,3,FALSE)","v":149251.55731306694},{"$f":"D100/VLOOKUP(A100, '2020-2022 Composite Index Data'!$A$5:$F$139, 6, FALSE)","v":158327.97855461424},null,9076.4212415473012,6.0812908119335665E-2,{"$error":"#N/A"},null,{"$f":"C100/VLOOKUP(A100,'ADM & Population Analysis'!$A$10:$J$144,10,FALSE)","v":19547.928379456862},{"$f":"D100/VLOOKUP(A100, '2020-2022 Composite Index Data'!$A$5:$G$139, 7, FALSE)","v":20544.430568331813},null,996.50218887495066,5.0977380801240611E-2,{"$error":"#N/A"}]
[95,"WESTMORELAND",280977821,{"$f":"IF(VLOOKUP($A101,'2020-22 Comp Index Non-Res. AGI'!$A$5:$J$138,10,FALSE)=\"YES\",VLOOKUP($A101,'2020-22 Comp Index Non-Res. AGI'!$A$5:$J$138,4,FALSE),VLOOKUP($A101,'2020-2022 Composite Index'!$A$6:$K$140,4,FALSE))","v":319318646},null,38340825,0.13645498731374958,{"$error":"#N/A"},null,{"$f":"C101/VLOOKUP(A101,'ADM & Population Analysis'!$A$10:$C$144,3,FALSE)","v":179885.67139143907},{"$f":"D101/VLOOKUP(A101, '2020-2022 Composite Index Data'!$A$5:$F$139, 6, FALSE)","v":210268.95865983592},null,30383.287268396845,0.16890332083360596,{"$error":"#N/A"},null,{"$f":"C101/VLOOKUP(A101,'ADM & Population Analysis'!$A$10:$J$144,10,FALSE)","v":19864.108943089432},{"$f":"D101/VLOOKUP(A101, '2020-2022 Composite Index Data'!$A$5:$G$139, 7, FALSE)","v":22501.490099358747},null,2637.3811562693154,0.1327711786028459,{"$error":"#N/A"}]
[96,"WISE",534973818.12,{"$f":"IF(VLOOKUP($A102,'2020-22 Comp Index Non-Res. AGI'!$A$5:$J$138,10,FALSE)=\"YES\",VLOOKUP($A102,'2020-22 Comp Index Non-Res. AGI'!$A$5:$J$138,4,FALSE),VLOOKUP($A102,'2020-2022 Composite Index'!$A$6:$K$140,4,FALSE))","v":512235823.92000002},null,-22737994.199999988,-4.2503003754287706E-2,{"$error":"#N/A"},null,{"$f":"C102/VLOOKUP(A102,'ADM & Population Analysis'!$A$10:$C$144,3,FALSE)","v":92978.933265666841},{"$f":"D102/VLOOKUP(A102, '2020-2022 Composite Index Data'!$A$5:$F$139, 6, FALSE)","v":91880.865277130055},null,-1098.0679885367863,-1.1809857888983288E-2,{"$error":"#N/A"},null,{"$f":"C102/VLOOKUP(A102,'ADM & Population Analysis'!$A$10:$J$144,10,FALSE)","v":13393.431092306537},{"$f":"D102/VLOOKUP(A102, '2020-2022 Composite Index Data'!$A$5:$G$139, 7, FALSE)","v":13089.612958883807},null,-303.81813342273017,-2.2684115170253094E-2,{"$error":"#N/A"}]
[97,"WYTHE",479021135.72799999,{"$f":"IF(VLOOKUP($A103,'2020-22 Comp Index Non-Res. AGI'!$A$5:$J$138,10,FALSE)=\"YES\",VLOOKUP($A103,'2020-22 Comp Index Non-Res. AGI'!$A$5:$J$138,4,FALSE),VLOOKUP($A103,'2020-2022 Composite Index'!$A$6:$K$140,4,FALSE))","v":522972560.72899997},null,43951425.000999987,9.1752579840144441E-2,{"$error":"#N/A"},null,{"$f":"C103/VLOOKUP(A103,'ADM & Population Analysis'!$A$10:$C$144,3,FALSE)","v":117367.73086684129},{"$f":"D103/VLOOKUP(A103, '2020-2022 Composite Index Data'!$A$5:$F$139, 6, FALSE)","v":130765.69726502821},null,13397.966398186923,0.11415374821710994,{"$error":"#N/A"},null,{"$f":"C103/VLOOKUP(A103,'ADM & Population Analysis'!$A$10:$J$144,10,FALSE)","v":16665.662447482864},{"$f":"D103/VLOOKUP(A103, '2020-2022 Composite Index Data'!$A$5:$G$139, 7, FALSE)","v":18207.449107997076},null,1541.7866605142117,9.2512773816985527E-2,{"$error":"#N/A"}]
[98,"YORK",1919888503.6645401,{"$f":"IF(VLOOKUP($A104,'2020-22 Comp Index Non-Res. AGI'!$A$5:$J$138,10,FALSE)=\"YES\",VLOOKUP($A104,'2020-22 Comp Index Non-Res. AGI'!$A$5:$J$138,4,FALSE),VLOOKUP($A104,'2020-2022 Composite Index'!$A$6:$K$140,4,FALSE))","v":2110103154.039},null,190214650.37445998,9.9075883839812806E-2,{"$error":"#N/A"},null,{"$f":"C104/VLOOKUP(A104,'ADM & Population Analysis'!$A$10:$C$144,3,FALSE)","v":153323.56134333136},{"$f":"D104/VLOOKUP(A104, '2020-2022 Composite Index Data'!$A$5:$F$139, 6, FALSE)","v":167339.41388381345},null,14015.852540482098,9.1413559779615058E-2,{"$error":"#N/A"},null,{"$f":"C104/VLOOKUP(A104,'ADM & Population Analysis'!$A$10:$J$144,10,FALSE)","v":27637.815674783924},{"$f":"D104/VLOOKUP(A104, '2020-2022 Composite Index Data'!$A$5:$G$139, 7, FALSE)","v":30630.035622572217},null,2992.2199477882932,0.10826542817268742,{"$error":"#N/A"}]
[101,"ALEXANDRIA",7404275401.6490002,{"$f":"IF(VLOOKUP($A105,'2020-22 Comp Index Non-Res. AGI'!$A$5:$J$138,10,FALSE)=\"YES\",VLOOKUP($A105,'2020-22 Comp Index Non-Res. AGI'!$A$5:$J$138,4,FALSE),VLOOKUP($A105,'2020-2022 Composite Index'!$A$6:$K$140,4,FALSE))","v":8517147154.3915997},null,1112871752.7425995,0.15030123710616608,{"$error":"#N/A"},null,{"$f":"C105/VLOOKUP(A105,'ADM & Population Analysis'!$A$10:$C$144,3,FALSE)","v":516303.35261489137},{"$f":"D105/VLOOKUP(A105, '2020-2022 Composite Index Data'!$A$5:$F$139, 6, FALSE)","v":568271.24654496787},null,51967.893930076505,0.10065379910255813,{"$error":"#N/A"},null,{"$f":"C105/VLOOKUP(A105,'ADM & Population Analysis'!$A$10:$J$144,10,FALSE)","v":46401.134301652557},{"$f":"D105/VLOOKUP(A105, '2020-2022 Composite Index Data'!$A$5:$G$139, 7, FALSE)","v":52994.027802509969},null,6592.8935008574117,0.14208474857526507,{"$error":"#N/A"}]
[102,"BRISTOL",246084095.13999999,{"$f":"IF(VLOOKUP($A106,'2020-22 Comp Index Non-Res. AGI'!$A$5:$J$138,10,FALSE)=\"YES\",VLOOKUP($A106,'2020-22 Comp Index Non-Res. AGI'!$A$5:$J$138,4,FALSE),VLOOKUP($A106,'2020-2022 Composite Index'!$A$6:$K$140,4,FALSE))","v":254390884.00999999},null,8306788.8700000048,3.3755894972709144E-2,{"$error":"#N/A"},null,{"$f":"C106/VLOOKUP(A106,'ADM & Population Analysis'!$A$10:$C$144,3,FALSE)","v":112202.19364222468},{"$f":"D106/VLOOKUP(A106, '2020-2022 Composite Index Data'!$A$5:$F$139, 6, FALSE)","v":117925.33168151604},null,5723.1380392913561,5.1007363167430861E-2,{"$error":"#N/A"},null,{"$f":"C106/VLOOKUP(A106,'ADM & Population Analysis'!$A$10:$J$144,10,FALSE)","v":13962.218163971631},{"$f":"D106/VLOOKUP(A106, '2020-2022 Composite Index Data'!$A$5:$G$139, 7, FALSE)","v":14824.643590326339},null,862.42542635470818,6.1768511007808696E-2,{"$error":"#N/A"}]
[103,"BUENA VISTA",91595349.567000002,{"$f":"IF(VLOOKUP($A107,'2020-22 Comp Index Non-Res. AGI'!$A$5:$J$138,10,FALSE)=\"YES\",VLOOKUP($A107,'2020-22 Comp Index Non-Res. AGI'!$A$5:$J$138,4,FALSE),VLOOKUP($A107,'2020-2022 Composite Index'!$A$6:$K$140,4,FALSE))","v":97911477.337799996},null,6316127.7707999945,6.8956860808527018E-2,{"$error":"#N/A"},null,{"$f":"C107/VLOOKUP(A107,'ADM & Population Analysis'!$A$10:$C$144,3,FALSE)","v":94880.098579833852},{"$f":"D107/VLOOKUP(A107, '2020-2022 Composite Index Data'!$A$5:$F$139, 6, FALSE)","v":109693.67496588579},null,14813.576386051936,0.15612943712940519,{"$error":"#N/A"},null,{"$f":"C107/VLOOKUP(A107,'ADM & Population Analysis'!$A$10:$J$144,10,FALSE)","v":13436.313564177792},{"$f":"D107/VLOOKUP(A107, '2020-2022 Composite Index Data'!$A$5:$G$139, 7, FALSE)","v":15241.512661550436},null,1805.1990973726442,0.1343522602944783,{"$error":"#N/A"}]
[104,"CHARLOTTESVILLE",1204365799.7047999,{"$f":"IF(VLOOKUP($A108,'2020-22 Comp Index Non-Res. AGI'!$A$5:$J$138,10,FALSE)=\"YES\",VLOOKUP($A108,'2020-22 Comp Index Non-Res. AGI'!$A$5:$J$138,4,FALSE),VLOOKUP($A108,'2020-2022 Composite Index'!$A$6:$K$140,4,FALSE))","v":1378955317.01},null,174589517.3052001,0.14496386176690956,{"$f":"IF(G108<$G$146,\"BELOW\", \"ABOVE\")","v":{"$error":"#N/A"}},null,{"$f":"C108/VLOOKUP(A108,'ADM & Population Analysis'!$A$10:$C$144,3,FALSE)","v":296223.02451824269},{"$f":"D108/VLOOKUP(A108, '2020-2022 Composite Index Data'!$A$5:$F$139, 6, FALSE)","v":329126.70404607448},null,32903.679527831788,0.11107738698348696,{"$f":"IF(N108<$N$146,\"BELOW\", \"ABOVE\")","v":{"$error":"#N/A"}},null,{"$f":"C108/VLOOKUP(A108,'ADM & Population Analysis'!$A$10:$J$144,10,FALSE)","v":24981.65940063887},{"$f":"D108/VLOOKUP(A108, '2020-2022 Composite Index Data'!$A$5:$G$139, 7, FALSE)","v":28066.337967312546},null,3084.678566673676,0.12347772888917018,{"$error":"#N/A"}]
[106,"COLONIAL HEIGHTS",372120230.81099999,{"$f":"IF(VLOOKUP($A109,'2020-22 Comp Index Non-Res. AGI'!$A$5:$J$138,10,FALSE)=\"YES\",VLOOKUP($A109,'2020-22 Comp Index Non-Res. AGI'!$A$5:$J$138,4,FALSE),VLOOKUP($A109,'2020-2022 Composite Index'!$A$6:$K$140,4,FALSE))","v":398659176.16900003},null,26538945.35800004,7.1318200841058763E-2,{"$error":"#N/A"},null,{"$f":"C109/VLOOKUP(A109,'ADM & Population Analysis'!$A$10:$C$144,3,FALSE)","v":134348.16371136031},{"$f":"D109/VLOOKUP(A109, '2020-2022 Composite Index Data'!$A$5:$F$139, 6, FALSE)","v":144486.22806625228},null,10138.064354891976,7.5461130802450371E-2,{"$error":"#N/A"},null,{"$f":"C109/VLOOKUP(A109,'ADM & Population Analysis'!$A$10:$J$144,10,FALSE)","v":21616.045937322102},{"$f":"D109/VLOOKUP(A109, '2020-2022 Composite Index Data'!$A$5:$G$139, 7, FALSE)","v":23017.273450866054},null,1401.2275135439522,6.4823488884458894E-2,{"$error":"#N/A"}]
[107,"COVINGTON",93695374.040000007,{"$f":"IF(VLOOKUP($A110,'2020-22 Comp Index Non-Res. AGI'!$A$5:$J$138,10,FALSE)=\"YES\",VLOOKUP($A110,'2020-22 Comp Index Non-Res. AGI'!$A$5:$J$138,4,FALSE),VLOOKUP($A110,'2020-2022 Composite Index'!$A$6:$K$140,4,FALSE))","v":98817773.386000007},null,5122399.3460000008,5.4670781759333917E-2,{"$error":"#N/A"},null,{"$f":"C110/VLOOKUP(A110,'ADM & Population Analysis'!$A$10:$C$144,3,FALSE)","v":99649.427322520613},{"$f":"D110/VLOOKUP(A110, '2020-2022 Composite Index Data'!$A$5:$F$139, 6, FALSE)","v":102776.73314681533},null,3127.3058242947154,3.1383078742369744E-2,{"$error":"#N/A"},null,{"$f":"C110/VLOOKUP(A110,'ADM & Population Analysis'!$A$10:$J$144,10,FALSE)","v":15117.033565666345},{"$f":"D110/VLOOKUP(A110, '2020-2022 Composite Index Data'!$A$5:$G$139, 7, FALSE)","v":16891.927074529915},null,1774.8935088635699,0.11741017185373526,{"$f":"IF(U110<$U$146,\"BELOW\", \"ABOVE\")","v":{"$error":"#N/A"}}]
[108,"DANVILLE",634868257.35000002,{"$f":"IF(VLOOKUP($A111,'2020-22 Comp Index Non-Res. AGI'!$A$5:$J$138,10,FALSE)=\"YES\",VLOOKUP($A111,'2020-22 Comp Index Non-Res. AGI'!$A$5:$J$138,4,FALSE),VLOOKUP($A111,'2020-2022 Composite Index'!$A$6:$K$140,4,FALSE))","v":671438106.35000002},null,36569849,5.7602264054980472E-2,{"$error":"#N/A"},null,{"$f":"C111/VLOOKUP(A111,'ADM & Population Analysis'!$A$10:$C$144,3,FALSE)","v":106967.33657559358},{"$f":"D111/VLOOKUP(A111, '2020-2022 Composite Index Data'!$A$5:$F$139, 6, FALSE)","v":121654.96926184955},null,14687.632686255965,0.13730951107561931,{"$error":"#N/A"},null,{"$f":"C111/VLOOKUP(A111,'ADM & Population Analysis'!$A$10:$J$144,10,FALSE)","v":14922.62733522941},{"$f":"D111/VLOOKUP(A111, '2020-2022 Composite Index Data'!$A$5:$G$139, 7, FALSE)","v":16234.781816093622},null,1312.154480864212,8.7930526668482265E-2,{"$error":"#N/A"}]
[109,"FALLS CHURCH",811736220.02999997,{"$f":"IF(VLOOKUP($A112,'2020-22 Comp Index Non-Res. AGI'!$A$5:$J$138,10,FALSE)=\"YES\",VLOOKUP($A112,'2020-22 Comp Index Non-Res. AGI'!$A$5:$J$138,4,FALSE),VLOOKUP($A112,'2020-2022 Composite Index'!$A$6:$K$140,4,FALSE))","v":990897780.42999995},null,179161560.39999998,0.22071401519249512,{"$error":"#N/A"},null,{"$f":"C112/VLOOKUP(A112,'ADM & Population Analysis'!$A$10:$C$144,3,FALSE)","v":330394.45311717753},{"$f":"D112/VLOOKUP(A112, '2020-2022 Composite Index Data'!$A$5:$F$139, 6, FALSE)","v":380047.47456372489},null,49653.021446547355,0.15028406493536814,{"$error":"#N/A"},null,{"$f":"C112/VLOOKUP(A112,'ADM & Population Analysis'!$A$10:$J$144,10,FALSE)","v":57233.040966650216},{"$f":"D112/VLOOKUP(A112, '2020-2022 Composite Index Data'!$A$5:$G$139, 7, FALSE)","v":69444.094220337793},null,12211.053253687576,0.21335670877252488,{"$error":"#N/A"}]
[110,"FREDERICKSBURG",714804932.46000004,{"$f":"IF(VLOOKUP($A113,'2020-22 Comp Index Non-Res. AGI'!$A$5:$J$138,10,FALSE)=\"YES\",VLOOKUP($A113,'2020-22 Comp Index Non-Res. AGI'!$A$5:$J$138,4,FALSE),VLOOKUP($A113,'2020-2022 Composite Index'!$A$6:$K$140,4,FALSE))","v":783702802.79999995},null,68897870.339999914,9.6386954274207376E-2,{"$error":"#N/A"},null,{"$f":"C113/VLOOKUP(A113,'ADM & Population Analysis'!$A$10:$C$144,3,FALSE)","v":216599.02260213991},{"$f":"D113/VLOOKUP(A113, '2020-2022 Composite Index Data'!$A$5:$F$139, 6, FALSE)","v":230486.58841659778},null,13887.565814457863,6.4116474985056834E-2,{"$error":"#N/A"},null,{"$f":"C113/VLOOKUP(A113,'ADM & Population Analysis'!$A$10:$J$144,10,FALSE)","v":26504.688066298342},{"$f":"D113/VLOOKUP(A113, '2020-2022 Composite Index Data'!$A$5:$G$139, 7, FALSE)","v":28348.808204015189},null,1844.1201377168472,6.9577130396856549E-2,{"$error":"#N/A"}]
[111,"GALAX",103509743,{"$f":"IF(VLOOKUP($A114,'2020-22 Comp Index Non-Res. AGI'!$A$5:$J$138,10,FALSE)=\"YES\",VLOOKUP($A114,'2020-22 Comp Index Non-Res. AGI'!$A$5:$J$138,4,FALSE),VLOOKUP($A114,'2020-2022 Composite Index'!$A$6:$K$140,4,FALSE))","v":107727650},null,4217907,4.0748888730213539E-2,{"$error":"#N/A"},null,{"$f":"C114/VLOOKUP(A114,'ADM & Population Analysis'!$A$10:$C$144,3,FALSE)","v":79318.418531942778},{"$f":"D114/VLOOKUP(A114, '2020-2022 Composite Index Data'!$A$5:$F$139, 6, FALSE)","v":87607.672039425524},null,8289.2535074827465,0.10450603606203436,{"$error":"#N/A"},null,{"$f":"C114/VLOOKUP(A114,'ADM & Population Analysis'!$A$10:$J$144,10,FALSE)","v":14696.825642481897},{"$f":"D114/VLOOKUP(A114, '2020-2022 Composite Index Data'!$A$5:$G$139, 7, FALSE)","v":15964.382039122704},null,1267.5563966408063,8.6246950700488142E-2,{"$error":"#N/A"}]
[112,"HAMPTON",2416216894.6589999,{"$f":"IF(VLOOKUP($A115,'2020-22 Comp Index Non-Res. AGI'!$A$5:$J$138,10,FALSE)=\"YES\",VLOOKUP($A115,'2020-22 Comp Index Non-Res. AGI'!$A$5:$J$138,4,FALSE),VLOOKUP($A115,'2020-2022 Composite Index'!$A$6:$K$140,4,FALSE))","v":2535376962.2313399},null,119160067.57234001,4.9316792642142768E-2,{"$error":"#N/A"},null,{"$f":"C115/VLOOKUP(A115,'ADM & Population Analysis'!$A$10:$C$144,3,FALSE)","v":122349.0165692587},{"$f":"D115/VLOOKUP(A115, '2020-2022 Composite Index Data'!$A$5:$F$139, 6, FALSE)","v":133347.75986620606},null,10998.743296947359,8.9896458552417111E-2,{"$error":"#N/A"},null,{"$f":"C115/VLOOKUP(A115,'ADM & Population Analysis'!$A$10:$J$144,10,FALSE)","v":17429.752677412605},{"$f":"D115/VLOOKUP(A115, '2020-2022 Composite Index Data'!$A$5:$G$139, 7, FALSE)","v":18541.182819093774},null,1111.4301416811686,6.376626004116985E-2,{"$error":"#N/A"}]
[113,"HARRISONBURG",649056986.59679997,{"$f":"IF(VLOOKUP($A116,'2020-22 Comp Index Non-Res. AGI'!$A$5:$J$138,10,FALSE)=\"YES\",VLOOKUP($A116,'2020-22 Comp Index Non-Res. AGI'!$A$5:$J$138,4,FALSE),VLOOKUP($A116,'2020-2022 Composite Index'!$A$6:$K$140,4,FALSE))","v":760802893.347},null,111745906.75020003,0.17216655710944159,{"$error":"#N/A"},null,{"$f":"C116/VLOOKUP(A116,'ADM & Population Analysis'!$A$10:$C$144,3,FALSE)","v":117528.2815572488},{"$f":"D116/VLOOKUP(A116, '2020-2022 Composite Index Data'!$A$5:$F$139, 6, FALSE)","v":129236.59198338685},null,11708.31042613805,9.9621216876508614E-2,{"$error":"#N/A"},null,{"$f":"C116/VLOOKUP(A116,'ADM & Population Analysis'!$A$10:$J$144,10,FALSE)","v":12047.461468154061},{"$f":"D116/VLOOKUP(A116, '2020-2022 Composite Index Data'!$A$5:$G$139, 7, FALSE)","v":13911.442764486459},null,1863.9812963323984,0.1547198388025226,{"$error":"#N/A"}]
[114,"HOPEWELL",330257480.22399998,{"$f":"IF(VLOOKUP($A117,'2020-22 Comp Index Non-Res. AGI'!$A$5:$J$138,10,FALSE)=\"YES\",VLOOKUP($A117,'2020-22 Comp Index Non-Res. AGI'!$A$5:$J$138,4,FALSE),VLOOKUP($A117,'2020-2022 Composite Index'!$A$6:$K$140,4,FALSE))","v":355172499.74110001},null,24915019.517100036,7.5441196669341778E-2,{"$error":"#N/A"},null,{"$f":"C117/VLOOKUP(A117,'ADM & Population Analysis'!$A$10:$C$144,3,FALSE)","v":82415.198546630592},{"$f":"D117/VLOOKUP(A117, '2020-2022 Composite Index Data'!$A$5:$F$139, 6, FALSE)","v":89311.803232548031},null,6896.6046859174385,8.3681223943364441E-2,{"$error":"#N/A"},null,{"$f":"C117/VLOOKUP(A117,'ADM & Population Analysis'!$A$10:$J$144,10,FALSE)","v":14369.016717020535},{"$f":"D117/VLOOKUP(A117, '2020-2022 Composite Index Data'!$A$5:$G$139, 7, FALSE)","v":15566.134888070299},null,1197.118171049764,8.3312462823690731E-2,{"$error":"#N/A"}]
[115,"LYNCHBURG",1414243907.7488,{"$f":"IF(VLOOKUP($A118,'2020-22 Comp Index Non-Res. AGI'!$A$5:$J$138,10,FALSE)=\"YES\",VLOOKUP($A118,'2020-22 Comp Index Non-Res. AGI'!$A$5:$J$138,4,FALSE),VLOOKUP($A118,'2020-2022 Composite Index'!$A$6:$K$140,4,FALSE))","v":1548042261.8278},null,133798354.079,9.4607693443757399E-2,{"$error":"#N/A"},null,{"$f":"C118/VLOOKUP(A118,'ADM & Population Analysis'!$A$10:$C$144,3,FALSE)","v":176578.96772168763},{"$f":"D118/VLOOKUP(A118, '2020-2022 Composite Index Data'!$A$5:$F$139, 6, FALSE)","v":194016.02992725853},null,17437.062205570895,9.8749372196206664E-2,{"$error":"#N/A"},null,{"$f":"C118/VLOOKUP(A118,'ADM & Population Analysis'!$A$10:$J$144,10,FALSE)","v":17975.772580219891},{"$f":"D118/VLOOKUP(A118, '2020-2022 Composite Index Data'!$A$5:$G$139, 7, FALSE)","v":19259.047795817369},null,1283.2752155974777,7.138915503468056E-2,{"$error":"#N/A"}]
[116,"MARTINSVILLE",210190843.13,{"$f":"IF(VLOOKUP($A119,'2020-22 Comp Index Non-Res. AGI'!$A$5:$J$138,10,FALSE)=\"YES\",VLOOKUP($A119,'2020-22 Comp Index Non-Res. AGI'!$A$5:$J$138,4,FALSE),VLOOKUP($A119,'2020-2022 Composite Index'!$A$6:$K$140,4,FALSE))","v":224114065},null,13923221.870000005,6.6240858367881864E-2,{"$error":"#N/A"},null,{"$f":"C119/VLOOKUP(A119,'ADM & Population Analysis'!$A$10:$C$144,3,FALSE)","v":102186.67778193716},{"$f":"D119/VLOOKUP(A119, '2020-2022 Composite Index Data'!$A$5:$F$139, 6, FALSE)","v":118330.3141021241},null,16143.636320186939,0.157981810061747,{"$error":"#N/A"},null,{"$f":"C119/VLOOKUP(A119,'ADM & Population Analysis'!$A$10:$J$144,10,FALSE)","v":15599.736019741724},{"$f":"D119/VLOOKUP(A119, '2020-2022 Composite Index Data'!$A$5:$G$139, 7, FALSE)","v":16747.426767299356},null,1147.6907475576318,7.3571164672607936E-2,{"$error":"#N/A"}]
[117,"NEWPORT NEWS",3302060424.9794998,{"$f":"IF(VLOOKUP($A120,'2020-22 Comp Index Non-Res. AGI'!$A$5:$J$138,10,FALSE)=\"YES\",VLOOKUP($A120,'2020-22 Comp Index Non-Res. AGI'!$A$5:$J$138,4,FALSE),VLOOKUP($A120,'2020-2022 Composite Index'!$A$6:$K$140,4,FALSE))","v":3558760525.165},null,256700100.18550014,7.7739370922351864E-2,{"$error":"#N/A"},null,{"$f":"C120/VLOOKUP(A120,'ADM & Population Analysis'!$A$10:$C$144,3,FALSE)","v":121163.01245583978},{"$f":"D120/VLOOKUP(A120, '2020-2022 Composite Index Data'!$A$5:$F$139, 6, FALSE)","v":132431.01978988975},null,11268.007334049966,9.299873868815213E-2,{"$error":"#N/A"},null,{"$f":"C120/VLOOKUP(A120,'ADM & Population Analysis'!$A$10:$J$144,10,FALSE)","v":17999.391809279165},{"$f":"D120/VLOOKUP(A120, '2020-2022 Composite Index Data'!$A$5:$G$139, 7, FALSE)","v":19536.99061329637},null,1537.5988040172051,8.5425042151953831E-2,{"$error":"#N/A"}]
[118,"NORFOLK",3685018805.3000002,{"$f":"IF(VLOOKUP($A121,'2020-22 Comp Index Non-Res. AGI'!$A$5:$J$138,10,FALSE)=\"YES\",VLOOKUP($A121,'2020-22 Comp Index Non-Res. AGI'!$A$5:$J$138,4,FALSE),VLOOKUP($A121,'2020-2022 Composite Index'!$A$6:$K$140,4,FALSE))","v":4082671515.46},null,397652710.15999985,0.10791063252867895,{"$error":"#N/A"},null,{"$f":"C121/VLOOKUP(A121,'ADM & Population Analysis'!$A$10:$C$144,3,FALSE)","v":124465.24314169612},{"$f":"D121/VLOOKUP(A121, '2020-2022 Composite Index Data'!$A$5:$F$139, 6, FALSE)","v":143596.41467073397},null,19131.171529037849,0.15370693895048412,{"$error":"#N/A"},null,{"$f":"C121/VLOOKUP(A121,'ADM & Population Analysis'!$A$10:$J$144,10,FALSE)","v":14907.69737043315},{"$f":"D121/VLOOKUP(A121, '2020-2022 Composite Index Data'!$A$5:$G$139, 7, FALSE)","v":16578.972757861739},null,1671.2753874285881,0.11210821805004406,{"$error":"#N/A"}]
[119,"NORTON",70354601,{"$f":"IF(VLOOKUP($A122,'2020-22 Comp Index Non-Res. AGI'!$A$5:$J$138,10,FALSE)=\"YES\",VLOOKUP($A122,'2020-22 Comp Index Non-Res. AGI'!$A$5:$J$138,4,FALSE),VLOOKUP($A122,'2020-2022 Composite Index'!$A$6:$K$140,4,FALSE))","v":61791085},null,-8563516,-0.12171934568998551,{"$error":"#N/A"},null,{"$f":"C122/VLOOKUP(A122,'ADM & Population Analysis'!$A$10:$C$144,3,FALSE)","v":86483.836508912107},{"$f":"D122/VLOOKUP(A122, '2020-2022 Composite Index Data'!$A$5:$F$139, 6, FALSE)","v":80641.94638755481},null,-5841.8901213572972,-6.7548924251935719E-2,{"$error":"#N/A"},null,{"$f":"C122/VLOOKUP(A122,'ADM & Population Analysis'!$A$10:$J$144,10,FALSE)","v":17829.346426761276},{"$f":"D122/VLOOKUP(A122, '2020-2022 Composite Index Data'!$A$5:$G$139, 7, FALSE)","v":15917.332560535806},null,-1912.0138662254703,-0.10723970584561636,{"$error":"#N/A"}]
[120,"PETERSBURG",432080808.20999998,{"$f":"IF(VLOOKUP($A123,'2020-22 Comp Index Non-Res. AGI'!$A$5:$J$138,10,FALSE)=\"YES\",VLOOKUP($A123,'2020-22 Comp Index Non-Res. AGI'!$A$5:$J$138,4,FALSE),VLOOKUP($A123,'2020-2022 Composite Index'!$A$6:$K$140,4,FALSE))","v":445740064.6358},null,13659256.425800025,3.161273578057499E-2,{"$error":"#N/A"},null,{"$f":"C123/VLOOKUP(A123,'ADM & Population Analysis'!$A$10:$C$144,3,FALSE)","v":111619.36859277399},{"$f":"D123/VLOOKUP(A123, '2020-2022 Composite Index Data'!$A$5:$F$139, 6, FALSE)","v":119216.89925801706},null,7597.5306652430736,6.8066418588708294E-2,{"$error":"#N/A"},null,{"$f":"C123/VLOOKUP(A123,'ADM & Population Analysis'!$A$10:$J$144,10,FALSE)","v":13478.516648781857},{"$f":"D123/VLOOKUP(A123, '2020-2022 Composite Index Data'!$A$5:$G$139, 7, FALSE)","v":14058.98327190664},null,580.46662312478293,4.3066061218037931E-2,{"$error":"#N/A"}]
[121,"PORTSMOUTH",1533444528.55,{"$f":"IF(VLOOKUP($A124,'2020-22 Comp Index Non-Res. AGI'!$A$5:$J$138,10,FALSE)=\"YES\",VLOOKUP($A124,'2020-22 Comp Index Non-Res. AGI'!$A$5:$J$138,4,FALSE),VLOOKUP($A124,'2020-2022 Composite Index'!$A$6:$K$140,4,FALSE))","v":1606991242.96},null,73546714.410000086,4.7961770406879115E-2,{"$error":"#N/A"},null,{"$f":"C124/VLOOKUP(A124,'ADM & Population Analysis'!$A$10:$C$144,3,FALSE)","v":109506.565529214},{"$f":"D124/VLOOKUP(A124, '2020-2022 Composite Index Data'!$A$5:$F$139, 6, FALSE)","v":119247.67758576678},null,9741.1120565527817,8.8954593813409866E-2,{"$error":"#N/A"},null,{"$f":"C124/VLOOKUP(A124,'ADM & Population Analysis'!$A$10:$J$144,10,FALSE)","v":15829.268209736358},{"$f":"D124/VLOOKUP(A124, '2020-2022 Composite Index Data'!$A$5:$G$139, 7, FALSE)","v":16837.712101424979},null,1008.4438916886211,6.3707549731726806E-2,{"$error":"#N/A"}]
[122,"RADFORD",217840185.8576,{"$f":"IF(VLOOKUP($A125,'2020-22 Comp Index Non-Res. AGI'!$A$5:$J$138,10,FALSE)=\"YES\",VLOOKUP($A125,'2020-22 Comp Index Non-Res. AGI'!$A$5:$J$138,4,FALSE),VLOOKUP($A125,'2020-2022 Composite Index'!$A$6:$K$140,4,FALSE))","v":{"$error":"#N/A"}},null,{"$error":"#N/A"},{"$error":"#N/A"},{"$error":"#N/A"},null,{"$f":"C125/VLOOKUP(A125,'ADM & Population Analysis'!$A$10:$C$144,3,FALSE)","v":136200.3400363884},{"$f":"D125/VLOOKUP(A125, '2020-2022 Composite Index Data'!$A$5:$F$139, 6, FALSE)","v":{"$error":"#N/A"}},null,{"$error":"#N/A"},{"$error":"#N/A"},{"$error":"#N/A"},null,{"$f":"C125/VLOOKUP(A125,'ADM & Population Analysis'!$A$10:$J$144,10,FALSE)","v":12505.177144523537},{"$f":"D125/VLOOKUP(A125, '2020-2022 Composite Index Data'!$A$5:$G$139, 7, FALSE)","v":{"$error":"#N/A"}},null,{"$error":"#N/A"},{"$error":"#N/A"},{"$error":"#N/A"}]
[123,"RICHMOND CITY",5229955158.3999996,{"$f":"IF(VLOOKUP($A126,'2020-22 Comp Index Non-Res. AGI'!$A$5:$J$138,10,FALSE)=\"YES\",VLOOKUP($A126,'2020-22 Comp Index Non-Res. AGI'!$A$5:$J$138,4,FALSE),VLOOKUP($A126,'2020-2022 Composite Index'!$A$6:$K$140,4,FALSE))","v":5947843102.2600002},null,717887943.86000061,0.13726464608534505,{"$error":"#N/A"},null,{"$f":"C126/VLOOKUP(A126,'ADM & Population Analysis'!$A$10:$C$144,3,FALSE)","v":240682.123764135},{"$f":"D126/VLOOKUP(A126, '2020-2022 Composite Index Data'!$A$5:$F$139, 6, FALSE)","v":259136.37094337188},null,18454.247179236874,7.6674772893901205E-2,{"$error":"#N/A"},null,{"$f":"C126/VLOOKUP(A126,'ADM & Population Analysis'!$A$10:$J$144,10,FALSE)","v":23997.444954069506},{"$f":"D126/VLOOKUP(A126, '2020-2022 Composite Index Data'!$A$5:$G$139, 7, FALSE)","v":26689.535713048514},null,2692.0907589790077,0.11218239125588579,{"$error":"#N/A"}]
[124,"ROANOKE CITY",1887591926.8740001,{"$f":"IF(VLOOKUP($A127,'2020-22 Comp Index Non-Res. AGI'!$A$5:$J$138,10,FALSE)=\"YES\",VLOOKUP($A127,'2020-22 Comp Index Non-Res. AGI'!$A$5:$J$138,4,FALSE),VLOOKUP($A127,'2020-2022 Composite Index'!$A$6:$K$140,4,FALSE))","v":1993403216.1700399},null,105811289.29603982,5.6056231110964534E-2,{"$error":"#N/A"},null,{"$f":"C127/VLOOKUP(A127,'ADM & Population Analysis'!$A$10:$C$144,3,FALSE)","v":147566.80458759921},{"$f":"D127/VLOOKUP(A127, '2020-2022 Composite Index Data'!$A$5:$F$139, 6, FALSE)","v":155457.35349919167},null,7890.5489115924574,5.3471029162987925E-2,{"$error":"#N/A"},null,{"$f":"C127/VLOOKUP(A127,'ADM & Population Analysis'!$A$10:$J$144,10,FALSE)","v":18936.326149155808},{"$f":"D127/VLOOKUP(A127, '2020-2022 Composite Index Data'!$A$5:$G$139, 7, FALSE)","v":19952.388358990669},null,1016.0622098348613,5.365677596761069E-2,{"$error":"#N/A"}]
[126,"STAUNTON",483079814.903,{"$f":"IF(VLOOKUP($A128,'2020-22 Comp Index Non-Res. AGI'!$A$5:$J$138,10,FALSE)=\"YES\",VLOOKUP($A128,'2020-22 Comp Index Non-Res. AGI'!$A$5:$J$138,4,FALSE),VLOOKUP($A128,'2020-2022 Composite Index'!$A$6:$K$140,4,FALSE))","v":551053906.50100005},null,67974091.59800005,0.14070985684145984,{"$error":"#N/A"},null,{"$f":"C128/VLOOKUP(A128,'ADM & Population Analysis'!$A$10:$C$144,3,FALSE)","v":190529.45615509612},{"$f":"D128/VLOOKUP(A128, '2020-2022 Composite Index Data'!$A$5:$F$139, 6, FALSE)","v":214979.1504281607},null,24449.694273064582,0.12832500951014036,{"$error":"#N/A"},null,{"$f":"C128/VLOOKUP(A128,'ADM & Population Analysis'!$A$10:$J$144,10,FALSE)","v":19683.799808613803},{"$f":"D128/VLOOKUP(A128, '2020-2022 Composite Index Data'!$A$5:$G$139, 7, FALSE)","v":22254.913230523809},null,2571.1134219100059,0.13062078698772703,{"$error":"#N/A"}]
[127,"SUFFOLK",2023485603.1343999,{"$f":"IF(VLOOKUP($A129,'2020-22 Comp Index Non-Res. AGI'!$A$5:$J$138,10,FALSE)=\"YES\",VLOOKUP($A129,'2020-22 Comp Index Non-Res. AGI'!$A$5:$J$138,4,FALSE),VLOOKUP($A129,'2020-2022 Composite Index'!$A$6:$K$140,4,FALSE))","v":2330568682.6696},null,307083079.53520012,0.15175945855978679,{"$error":"#N/A"},null,{"$f":"C129/VLOOKUP(A129,'ADM & Population Analysis'!$A$10:$C$144,3,FALSE)","v":146240.79371224434},{"$f":"D129/VLOOKUP(A129, '2020-2022 Composite Index Data'!$A$5:$F$139, 6, FALSE)","v":169089.1065472739},null,22848.312835029559,0.15623761506647602,{"$error":"#N/A"},null,{"$f":"C129/VLOOKUP(A129,'ADM & Population Analysis'!$A$10:$J$144,10,FALSE)","v":22377.254364169596},{"$f":"D129/VLOOKUP(A129, '2020-2022 Composite Index Data'!$A$5:$G$139, 7, FALSE)","v":25186.351708791459},null,2809.0973446218632,0.12553360206334263,{"$error":"#N/A"}]
[128,"VIRGINIA BEACH",11629428761.3701,{"$f":"IF(VLOOKUP($A130,'2020-22 Comp Index Non-Res. AGI'!$A$5:$J$138,10,FALSE)=\"YES\",VLOOKUP($A130,'2020-22 Comp Index Non-Res. AGI'!$A$5:$J$138,4,FALSE),VLOOKUP($A130,'2020-2022 Composite Index'!$A$6:$K$140,4,FALSE))","v":13104904539.4165},null,1475475778.0464001,0.12687431242947564,{"$error":"#N/A"},null,{"$f":"C130/VLOOKUP(A130,'ADM & Population Analysis'!$A$10:$C$144,3,FALSE)","v":171298.81757311858},{"$f":"D130/VLOOKUP(A130, '2020-2022 Composite Index Data'!$A$5:$F$139, 6, FALSE)","v":195330.46547591223},null,24031.647902793658,0.14029079851958579,{"$error":"#N/A"},null,{"$f":"C130/VLOOKUP(A130,'ADM & Population Analysis'!$A$10:$J$144,10,FALSE)","v":25643.723839845865},{"$f":"D130/VLOOKUP(A130, '2020-2022 Composite Index Data'!$A$5:$G$139, 7, FALSE)","v":28836.972633648955},null,3193.2487938030899,0.12452359937059294,{"$error":"#N/A"}]
[130,"WAYNESBORO",395184672.33099997,{"$f":"IF(VLOOKUP($A131,'2020-22 Comp Index Non-Res. AGI'!$A$5:$J$138,10,FALSE)=\"YES\",VLOOKUP($A131,'2020-22 Comp Index Non-Res. AGI'!$A$5:$J$138,4,FALSE),VLOOKUP($A131,'2020-2022 Composite Index'!$A$6:$K$140,4,FALSE))","v":456798300.37800002},null,61613628.047000051,0.15591097621163183,{"$error":"#N/A"},null,{"$f":"C131/VLOOKUP(A131,'ADM & Population Analysis'!$A$10:$C$144,3,FALSE)","v":129947.08276260062},{"$f":"D131/VLOOKUP(A131, '2020-2022 Composite Index Data'!$A$5:$F$139, 6, FALSE)","v":155690.24763907542},null,25743.164876474795,0.19810498496149234,{"$error":"#N/A"},null,{"$f":"C131/VLOOKUP(A131,'ADM & Population Analysis'!$A$10:$J$144,10,FALSE)","v":18131.895954622618},{"$f":"D131/VLOOKUP(A131, '2020-2022 Composite Index Data'!$A$5:$G$139, 7, FALSE)","v":20806.117074834892},null,2674.2211202122744,0.14748712031576036,{"$error":"#N/A"}]
[131,"WILLIAMSBURG",299518063.33999997,{"$f":"IF(VLOOKUP($A132,'2020-22 Comp Index Non-Res. AGI'!$A$5:$J$138,10,FALSE)=\"YES\",VLOOKUP($A132,'2020-22 Comp Index Non-Res. AGI'!$A$5:$J$138,4,FALSE),VLOOKUP($A132,'2020-2022 Composite Index'!$A$6:$K$140,4,FALSE))","v":318182469.89999998},null,18664406.560000002,6.2314794479733843E-2,{"$error":"#N/A"},null,{"$f":"C132/VLOOKUP(A132,'ADM & Population Analysis'!$A$10:$C$144,3,FALSE)","v":302583.23147484008},{"$f":"D132/VLOOKUP(A132, '2020-2022 Composite Index Data'!$A$5:$F$139, 6, FALSE)","v":318705.14633999759},null,16121.914865157509,5.328092633083685E-2,{"$error":"#N/A"},null,{"$f":"C132/VLOOKUP(A132,'ADM & Population Analysis'!$A$10:$J$144,10,FALSE)","v":20155.993495289367},{"$f":"D132/VLOOKUP(A132, '2020-2022 Composite Index Data'!$A$5:$G$139, 7, FALSE)","v":20655.834192417551},null,499.84069712818382,2.4798613734669094E-2,{"$error":"#N/A"}]
[132,"WINCHESTER",618568184.13999999,{"$f":"IF(VLOOKUP($A133,'2020-22 Comp Index Non-Res. AGI'!$A$5:$J$138,10,FALSE)=\"YES\",VLOOKUP($A133,'2020-22 Comp Index Non-Res. AGI'!$A$5:$J$138,4,FALSE),VLOOKUP($A133,'2020-2022 Composite Index'!$A$6:$K$140,4,FALSE))","v":728288876.90799999},null,109720692.76800001,0.17737849372344541,{"$error":"#N/A"},null,{"$f":"C133/VLOOKUP(A133,'ADM & Population Analysis'!$A$10:$C$144,3,FALSE)","v":146331.51355161963},{"$f":"D133/VLOOKUP(A133, '2020-2022 Composite Index Data'!$A$5:$F$139, 6, FALSE)","v":174655.47450226147},null,28323.960950641835,0.19356022679728743,{"$error":"#N/A"},null,{"$f":"C133/VLOOKUP(A133,'ADM & Population Analysis'!$A$10:$J$144,10,FALSE)","v":22481.126081773578},{"$f":"D133/VLOOKUP(A133, '2020-2022 Composite Index Data'!$A$5:$G$139, 7, FALSE)","v":26005.673162221032},null,3524.5470804474535,0.156778048734176,{"$error":"#N/A"}]
[134,"FAIRFAX CITY",1053344393.1799999,{"$f":"IF(VLOOKUP($A134,'2020-22 Comp Index Non-Res. AGI'!$A$5:$J$138,10,FALSE)=\"YES\",VLOOKUP($A134,'2020-22 Comp Index Non-Res. AGI'!$A$5:$J$138,4,FALSE),VLOOKUP($A134,'2020-2022 Composite Index'!$A$6:$K$140,4,FALSE))","v":1194362525.8699999},null,141018132.68999994,0.13387656838830503,{"$error":"#N/A"},null,{"$f":"C134/VLOOKUP(A134,'ADM & Population Analysis'!$A$10:$C$144,3,FALSE)","v":337073.44172264053},{"$f":"D134/VLOOKUP(A134, '2020-2022 Composite Index Data'!$A$5:$F$139, 6, FALSE)","v":387864.413969922},null,50790.972247281461,0.15068221331146758,{"$error":"#N/A"},null,{"$f":"C134/VLOOKUP(A134,'ADM & Population Analysis'!$A$10:$J$144,10,FALSE)","v":45416.478816022071},{"$f":"D134/VLOOKUP(A134, '2020-2022 Composite Index Data'!$A$5:$G$139, 7, FALSE)","v":50130.641169779636},null,4714.1623537575651,0.10379849950178212,{"$error":"#N/A"}]
[135,"FRANKLIN CITY",127027354.04000001,{"$f":"IF(VLOOKUP($A135,'2020-22 Comp Index Non-Res. AGI'!$A$5:$J$138,10,FALSE)=\"YES\",VLOOKUP($A135,'2020-22 Comp Index Non-Res. AGI'!$A$5:$J$138,4,FALSE),VLOOKUP($A135,'2020-2022 Composite Index'!$A$6:$K$140,4,FALSE))","v":131242490.97},null,4215136.9299999923,3.318290742852658E-2,{"$error":"#N/A"},null,{"$f":"C135/VLOOKUP(A135,'ADM & Population Analysis'!$A$10:$C$144,3,FALSE)","v":120157.92544245486},{"$f":"D135/VLOOKUP(A135, '2020-2022 Composite Index Data'!$A$5:$F$139, 6, FALSE)","v":127103.98521151314},null,6946.0597690582799,5.7807753783039768E-2,{"$error":"#N/A"},null,{"$f":"C135/VLOOKUP(A135,'ADM & Population Analysis'!$A$10:$J$144,10,FALSE)","v":14883.11119390744},{"$f":"D135/VLOOKUP(A135, '2020-2022 Composite Index Data'!$A$5:$G$139, 7, FALSE)","v":15487.667095822515},null,604.55590191507508,4.0620263736426056E-2,{"$error":"#N/A"}]
[136,"CHESAPEAKE",5428681494.7799997,{"$f":"IF(VLOOKUP($A136,'2020-22 Comp Index Non-Res. AGI'!$A$5:$J$138,10,FALSE)=\"YES\",VLOOKUP($A136,'2020-22 Comp Index Non-Res. AGI'!$A$5:$J$138,4,FALSE),VLOOKUP($A136,'2020-2022 Composite Index'!$A$6:$K$140,4,FALSE))","v":6280153505.5107002},null,851472010.73070049,0.15684692711286186,{"$error":"#N/A"},null,{"$f":"C136/VLOOKUP(A136,'ADM & Population Analysis'!$A$10:$C$144,3,FALSE)","v":139608.44835688779},{"$f":"D136/VLOOKUP(A136, '2020-2022 Composite Index Data'!$A$5:$F$139, 6, FALSE)","v":158536.8493366405},null,18928.400979752711,0.13558205970003426,{"$error":"#N/A"},null,{"$f":"C136/VLOOKUP(A136,'ADM & Population Analysis'!$A$10:$J$144,10,FALSE)","v":22782.496001729036},{"$f":"D136/VLOOKUP(A136, '2020-2022 Composite Index Data'!$A$5:$G$139, 7, FALSE)","v":25880.997735512148},null,3098.5017337831123,0.13600361143695394,{"$error":"#N/A"}]
[137,"LEXINGTON",145196468.13499999,{"$f":"IF(VLOOKUP($A137,'2020-22 Comp Index Non-Res. AGI'!$A$5:$J$138,10,FALSE)=\"YES\",VLOOKUP($A137,'2020-22 Comp Index Non-Res. AGI'!$A$5:$J$138,4,FALSE),VLOOKUP($A137,'2020-2022 Composite Index'!$A$6:$K$140,4,FALSE))","v":156027399.537},null,10830931.40200001,7.4595005933131134E-2,{"$error":"#N/A"},null,{"$f":"C137/VLOOKUP(A137,'ADM & Population Analysis'!$A$10:$C$144,3,FALSE)","v":222386.99362076886},{"$f":"D137/VLOOKUP(A137, '2020-2022 Composite Index Data'!$A$5:$F$139, 6, FALSE)","v":236480.39457554679},null,14093.400954777928,6.3373314802803005E-2,{"$error":"#N/A"},null,{"$f":"C137/VLOOKUP(A137,'ADM & Population Analysis'!$A$10:$J$144,10,FALSE)","v":19594.665065452089},{"$f":"D137/VLOOKUP(A137, '2020-2022 Composite Index Data'!$A$5:$G$139, 7, FALSE)","v":21420.565559719933},null,1825.9004942678439,9.3183552164264397E-2,{"$error":"#N/A"}]
[138,"EMPORIA",62802052.020000003,{"$f":"IF(VLOOKUP($A138,'2020-22 Comp Index Non-Res. AGI'!$A$5:$J$138,10,FALSE)=\"YES\",VLOOKUP($A138,'2020-22 Comp Index Non-Res. AGI'!$A$5:$J$138,4,FALSE),VLOOKUP($A138,'2020-2022 Composite Index'!$A$6:$K$140,4,FALSE))","v":66962658.159999996},null,4160606.1399999931,6.6249525392498357E-2,{"$error":"#N/A"},null,{"$f":"C138/VLOOKUP(A138,'ADM & Population Analysis'!$A$10:$C$144,3,FALSE)","v":61361.288955328877},{"$f":"D138/VLOOKUP(A138, '2020-2022 Composite Index Data'!$A$5:$F$139, 6, FALSE)","v":65529.527395852696},null,4168.238440523819,6.7929447237627352E-2,{"$error":"#N/A"},null,{"$f":"C138/VLOOKUP(A138,'ADM & Population Analysis'!$A$10:$J$144,10,FALSE)","v":10325.888197961198},{"$f":"D138/VLOOKUP(A138, '2020-2022 Composite Index Data'!$A$5:$G$139, 7, FALSE)","v":11551.260679661893},null,1225.3724817006951,0.11866993504177584,{"$error":"#N/A"}]
[139,"SALEM",603636329.05400002,{"$f":"IF(VLOOKUP($A139,'2020-22 Comp Index Non-Res. AGI'!$A$5:$J$138,10,FALSE)=\"YES\",VLOOKUP($A139,'2020-22 Comp Index Non-Res. AGI'!$A$5:$J$138,4,FALSE),VLOOKUP($A139,'2020-2022 Composite Index'!$A$6:$K$140,4,FALSE))","v":662425518.83099997},null,{"$f":"D139-C139","v":58789189.77699995},{"$f":"F139/C139","v":9.7391735631837353E-2},{"$f":"IF(G139<$G$146,\"BELOW\", \"ABOVE\")","v":{"$error":"#N/A"}},null,{"$f":"C139/VLOOKUP(A139,'ADM & Population Analysis'!$A$10:$C$144,3,FALSE)","v":162434.63154475833},{"$f":"D139/VLOOKUP(A139, '2020-2022 Composite Index Data'!$A$5:$F$139, 6, FALSE)","v":171073.017997872},null,{"$f":"K139-J139","v":8638.3864531136642},{"$f":"M139/J139","v":5.3180694110377472E-2},{"$f":"IF(N139<$N$146,\"BELOW\", \"ABOVE\")","v":{"$error":"#N/A"}},null,{"$f":"C139/VLOOKUP(A139,'ADM & Population Analysis'!$A$10:$J$144,10,FALSE)","v":23729.708666325969},{"$f":"D139/VLOOKUP(A139, '2020-2022 Composite Index Data'!$A$5:$G$139, 7, FALSE)","v":25796.390779664314},null,2066.6821133383455,8.7092603722990686E-2,{"$error":"#N/A"}]
[142,"POQUOSON",404246725.23000002,{"$f":"IF(VLOOKUP($A140,'2020-22 Comp Index Non-Res. AGI'!$A$5:$J$138,10,FALSE)=\"YES\",VLOOKUP($A140,'2020-22 Comp Index Non-Res. AGI'!$A$5:$J$138,4,FALSE),VLOOKUP($A140,'2020-2022 Composite Index'!$A$6:$K$140,4,FALSE))","v":435860588.70499998},null,31613863.474999964,7.8204377430671712E-2,{"$error":"#N/A"},null,{"$f":"C140/VLOOKUP(A140,'ADM & Population Analysis'!$A$10:$C$144,3,FALSE)","v":194506.48852438509},{"$f":"D140/VLOOKUP(A140, '2020-2022 Composite Index Data'!$A$5:$F$139, 6, FALSE)","v":208028.15421200841},null,13521.665687623317,6.95178129542353E-2,{"$error":"#N/A"},null,{"$f":"C140/VLOOKUP(A140,'ADM & Population Analysis'!$A$10:$J$144,10,FALSE)","v":32708.692064891984},{"$f":"D140/VLOOKUP(A140, '2020-2022 Composite Index Data'!$A$5:$G$139, 7, FALSE)","v":35404.157964828199},null,2695.4658999362146,8.240824471331902E-2,{"$error":"#N/A"}]
[143,"MANASSAS",1092374156.4960001,{"$f":"IF(VLOOKUP($A141,'2020-22 Comp Index Non-Res. AGI'!$A$5:$J$138,10,FALSE)=\"YES\",VLOOKUP($A141,'2020-22 Comp Index Non-Res. AGI'!$A$5:$J$138,4,FALSE),VLOOKUP($A141,'2020-2022 Composite Index'!$A$6:$K$140,4,FALSE))","v":1168033339.74},null,75659183.243999958,6.9261235075984695E-2,{"$error":"#N/A"},null,{"$f":"C141/VLOOKUP(A141,'ADM & Population Analysis'!$A$10:$C$144,3,FALSE)","v":151084.9155619485},{"$f":"D141/VLOOKUP(A141, '2020-2022 Composite Index Data'!$A$5:$F$139, 6, FALSE)","v":157407.13375451119},null,6322.2181925626937,4.1845462659509711E-2,{"$error":"#N/A"},null,{"$f":"C141/VLOOKUP(A141,'ADM & Population Analysis'!$A$10:$J$144,10,FALSE)","v":26273.520371743994},{"$f":"D141/VLOOKUP(A141, '2020-2022 Composite Index Data'!$A$5:$G$139, 7, FALSE)","v":27954.75049039083},null,1681.2301186468358,6.3989526141115222E-2,{"$error":"#N/A"}]
[144,"MANASSAS PARK",364366625.14999998,{"$f":"IF(VLOOKUP($A142,'2020-22 Comp Index Non-Res. AGI'!$A$5:$J$138,10,FALSE)=\"YES\",VLOOKUP($A142,'2020-22 Comp Index Non-Res. AGI'!$A$5:$J$138,4,FALSE),VLOOKUP($A142,'2020-2022 Composite Index'!$A$6:$K$140,4,FALSE))","v":451328424.671},null,86961799.521000028,0.23866565573946347,{"$error":"#N/A"},null,{"$f":"C142/VLOOKUP(A142,'ADM & Population Analysis'!$A$10:$C$144,3,FALSE)","v":109406.92207796106},{"$f":"D142/VLOOKUP(A142, '2020-2022 Composite Index Data'!$A$5:$F$139, 6, FALSE)","v":127455.74056101845},null,18048.818483057388,0.16496962111955019,{"$error":"#N/A"},null,{"$f":"C142/VLOOKUP(A142,'ADM & Population Analysis'!$A$10:$J$144,10,FALSE)","v":23208.065296178342},{"$f":"D142/VLOOKUP(A142, '2020-2022 Composite Index Data'!$A$5:$G$139, 7, FALSE)","v":27959.882584004459},null,4751.8172878261175,0.20474853147748581,{"$error":"#N/A"}]
[202,"COLONIAL BEACH",70737486,{"$f":"IF(VLOOKUP($A143,'2020-22 Comp Index Non-Res. AGI'!$A$5:$J$138,10,FALSE)=\"YES\",VLOOKUP($A143,'2020-22 Comp Index Non-Res. AGI'!$A$5:$J$138,4,FALSE),VLOOKUP($A143,'2020-2022 Composite Index'!$A$6:$K$140,4,FALSE))","v":80307818},null,9570332,0.13529364048928738,{"$error":"#N/A"},null,{"$f":"C143/VLOOKUP(A143,'ADM & Population Analysis'!$A$10:$C$144,3,FALSE)","v":123785.95852655525},{"$f":"D143/VLOOKUP(A143, '2020-2022 Composite Index Data'!$A$5:$F$139, 6, FALSE)","v":134186.30196497793},null,10400.343438422686,8.4018765635615666E-2,{"$error":"#N/A"},null,{"$f":"C143/VLOOKUP(A143,'ADM & Population Analysis'!$A$10:$J$144,10,FALSE)","v":19759.074301675977},{"$f":"D143/VLOOKUP(A143, '2020-2022 Composite Index Data'!$A$5:$G$139, 7, FALSE)","v":22501.490053236201},null,2742.4157515602237,0.13879272427897144,{"$error":"#N/A"}]
[207,"WEST POINT",78209007,{"$f":"IF(VLOOKUP($A144,'2020-22 Comp Index Non-Res. AGI'!$A$5:$J$138,10,FALSE)=\"YES\",VLOOKUP($A144,'2020-22 Comp Index Non-Res. AGI'!$A$5:$J$138,4,FALSE),VLOOKUP($A144,'2020-2022 Composite Index'!$A$6:$K$140,4,FALSE))","v":89052499},null,10843492,0.13864761126554132,{"$error":"#N/A"},null,{"$f":"C144/VLOOKUP(A144,'ADM & Population Analysis'!$A$10:$C$144,3,FALSE)","v":103209.42634308564},{"$f":"D144/VLOOKUP(A144, '2020-2022 Composite Index Data'!$A$5:$F$139, 6, FALSE)","v":112848.95898014269},null,9639.5326370570547,9.3397792998224927E-2,{"$error":"#N/A"},null,{"$f":"C144/VLOOKUP(A144,'ADM & Population Analysis'!$A$10:$J$144,10,FALSE)","v":23465.048604860487},{"$f":"D144/VLOOKUP(A144, '2020-2022 Composite Index Data'!$A$5:$G$139, 7, FALSE)","v":26879.715967401145},null,3414.6673625406584,0.14552142721039807,{"$error":"#N/A"}]
[]
[null," STATE TOTALS",{"$f":"SUM(C10:C144)","v":242888725210.17862},{"$f":"SUM(D10:D144)","v":{"$error":"#N/A"}},null,{"$f":"SUM(F10:F144)","v":{"$error":"#N/A"}},{"$f":"F146/C146","v":{"$error":"#N/A"}},null,null,{"$f":"C146/'ADM & Population Analysis'!C146","v":195912.55748911417},{"$f":"D146/'ADM & Population Analysis'!D146","v":{"$error":"#N/A"}},null,{"$f":"K146-J146","v":{"$error":"#N/A"}},{"$f":"M146/J146","v":{"$error":"#N/A"}},null,null,{"$f":"C146/'ADM & Population Analysis'!J146","v":28973.986404399791},{"$f":"D146/'ADM & Population Analysis'!K146","v":{"$error":"#N/A"}},null,{"$f":"R146-Q146","v":{"$error":"#N/A"}},{"$f":"T146/Q146","v":{"$error":"#N/A"}}]

{"sheet":"true value analysis","index":17,"n_rows":147,"n_cols":22,"rows_kept":147,"cut":false,"hidden":true,"merged":[[3,9,3,14],[3,16,3,21],[3,2,3,7]]}
["ANALYSIS OF TRUE VALUE OF PROPERTY ELEMENTS"]
[]
[]
[null,null,"TOTAL TRUE VALUE PROPERTY CHANGE",null,null,null,null,null,null,"TRUE VALUE PROPERTY PER ADM",null,null,null,null,null,null,"TRUE VALUE PROPERTY PER CAPITA"]
[]
[null,null,2013,2015]
[null,null,"TRUE","TRUE",null,"ABSOLUTE","ABSOLUTE","COMPARE",null,{"$f":"C6","v":2013},{"$f":"D6","v":2015},null,"PER ADM","PER ADM","COMPARE",null,{"$f":"C6","v":2013},{"$f":"D6","v":2015},null,"PER POP","PER POP","COMPARE"]
[null,null,"VALUE OF","VALUE OF",null,"$ CHANGE","% CHANGE","TO",null,"TRUE VALUE","TRUE VALUE",null,"$ CHANGE","% CHANGE","TO",null,"TRUE VALUE","TRUE VALUE",null,"$ CHANGE","% CHANGE","TO"]
[null,"DIVISION","PROPERTY","PROPERTY",null,{"$f":"C6&\" to \"&D6","v":"2013 to 2015"},{"$f":"F9","v":"2013 to 2015"},"STATE AVG",null,"PER ADM","PER ADM",null,{"$f":"F9","v":"2013 to 2015"},{"$f":"F9","v":"2013 to 2015"},"STATE AVG",null,"PER POP","PER POP",null,{"$f":"F9","v":"2013 to 2015"},{"$f":"F9","v":"2013 to 2015"},"STATE AVG"]
[1,"ACCOMACK",{"$f":"VLOOKUP(A10,'True Value of Property'!$B$6:$E$140,4,FALSE)","v":4012143667.4039736},{"$f":"VLOOKUP(A10, '2020-2022 Composite Index Data'!$A$5:$C$139, 3, FALSE)","v":4275437691.2961879},null,{"$f":"D10-C10","v":263294023.8922143},{"$f":"F10/C10","v":6.5624276127324382E-2},{"$f":"IF(G10<$G$146,\"BELOW\", \"ABOVE\")","v":"BELOW"},null,{"$f":"C10/VLOOKUP(A10,'ADM & Population Analysis'!$A$10:$C$144,3,FALSE)","v":786315.55512516969},{"$f":"D10/VLOOKUP(A10, '2020-2022 Composite Index Data'!$A$5:$F$139, 6, FALSE)","v":852098.37715218775},null,{"$f":"K10-J10","v":65782.822027018061},{"$f":"M10/J10","v":8.3659571018592421E-2},{"$f":"IF(N10<$N$146,\"BELOW\", \"ABOVE\")","v":"ABOVE"},null,{"$f":"C10/VLOOKUP(A10,'ADM & Population Analysis'!$A$10:$J$144,10,FALSE)","v":119708.30849158533},{"$f":"D10/VLOOKUP(A10, '2020-2022 Composite Index Data'!$A$5:$G$139, 7, FALSE)","v":129397.95076711322},null,{"$f":"R10-Q10","v":9689.6422755278909},{"$f":"T10/Q10","v":8.0943774058999482E-2},{"$f":"IF(U10<$U$146,\"BELOW\", \"ABOVE\")","v":"ABOVE"}]
[2,"ALBEMARLE",{"$f":"VLOOKUP(A11,'True Value of Property'!$B$6:$E$140,4,FALSE)","v":19166881073.970486},{"$f":"VLOOKUP(A11, '2020-2022 Composite Index Data'!$A$5:$C$139, 3, FALSE)","v":20330392876.497055},null,{"$f":"D11-C11","v":1163511802.5265694},{"$f":"F11/C11","v":6.0704284543543832E-2},"BELOW",null,{"$f":"C11/VLOOKUP(A11,'ADM & Population Analysis'!$A$10:$C$144,3,FALSE)","v":1443051.2644353441},{"$f":"D11/VLOOKUP(A11, '2020-2022 Composite Index Data'!$A$5:$F$139, 6, FALSE)","v":1504818.0542476836},null,61766.78981233947,4.280290751590754E-2,{"$f":"IF(N11<$N$146,\"BELOW\", \"ABOVE\")","v":"BELOW"},null,{"$f":"C11/VLOOKUP(A11,'ADM & Population Analysis'!$A$10:$J$144,10,FALSE)","v":182453.10443470775},{"$f":"D11/VLOOKUP(A11, '2020-2022 Composite Index Data'!$A$5:$G$139, 7, FALSE)","v":188773.99441485887},null,6320.8899801511143,3.464391575980607E-2,{"$f":"IF(U11<$U$146,\"BELOW\", \"ABOVE\")","v":"BELOW"}]
[3,"ALLEGHANY",{"$f":"VLOOKUP(A12,'True Value of Property'!$B$6:$E$140,4,FALSE)","v":1390193198.5934064},{"$f":"VLOOKUP(A12, '2020-2022 Composite Index Data'!$A$5:$C$139, 3, FALSE)","v":1375295243.7933462},null,-14897954.800060272,-1.0716463593070359E-2,"BELOW",null,{"$f":"C12/VLOOKUP(A12,'ADM & Population Analysis'!$A$10:$C$144,3,FALSE)","v":639022.38501190825},{"$f":"D12/VLOOKUP(A12, '2020-2022 Composite Index Data'!$A$5:$F$139, 6, FALSE)","v":664528.66948528017},null,25506.284473371925,3.9914539884070906E-2,"BELOW",null,{"$f":"C12/VLOOKUP(A12,'ADM & Population Analysis'!$A$10:$J$144,10,FALSE)","v":89603.171034057785},{"$f":"D12/VLOOKUP(A12, '2020-2022 Composite Index Data'!$A$5:$G$139, 7, FALSE)","v":89275.900278698231},null,-327.27075535955373,-3.652446130898197E-3,"BELOW"]
[4,"AMELIA",{"$f":"VLOOKUP(A13,'True Value of Property'!$B$6:$E$140,4,FALSE)","v":1341940045.9499416},{"$f":"VLOOKUP(A13, '2020-2022 Composite Index Data'!$A$5:$C$139, 3, FALSE)","v":1539511713.3606598},null,197571667.4107182,0.14722838625093704,"ABOVE",null,{"$f":"C13/VLOOKUP(A13,'ADM & Population Analysis'!$A$10:$C$144,3,FALSE)","v":759368.05868668819},{"$f":"D13/VLOOKUP(A13, '2020-2022 Composite Index Data'!$A$5:$F$139, 6, FALSE)","v":886029.50916851405},null,126661.45048182586,0.1667984965036379,"ABOVE",null,{"$f":"C13/VLOOKUP(A13,'ADM & Population Analysis'!$A$10:$J$144,10,FALSE)","v":103953.83422030689},{"$f":"D13/VLOOKUP(A13, '2020-2022 Composite Index Data'!$A$5:$G$139, 7, FALSE)","v":118899.57625584336},null,14945.742035536474,0.14377287906343422,"ABOVE"]
[5,"AMHERST",{"$f":"VLOOKUP(A14,'True Value of Property'!$B$6:$E$140,4,FALSE)","v":2806913895.0628037},{"$f":"VLOOKUP(A14, '2020-2022 Composite Index Data'!$A$5:$C$139, 3, FALSE)","v":2927837117.5589175},null,120923222.49611378,4.3080488756285187E-2,"BELOW",null,{"$f":"C14/VLOOKUP(A14,'ADM & Population Analysis'!$A$10:$C$144,3,FALSE)","v":701072.97053824773},{"$f":"D14/VLOOKUP(A14, '2020-2022 Composite Index Data'!$A$5:$F$139, 6, FALSE)","v":757085.03912571399},null,56012.068587466259,7.9894776922383809E-2,"ABOVE",null,{"$f":"C14/VLOOKUP(A14,'ADM & Population Analysis'!$A$10:$J$144,10,FALSE)","v":87639.374767790796},{"$f":"D14/VLOOKUP(A14, '2020-2022 Composite Index Data'!$A$5:$G$139, 7, FALSE)","v":91546.404776402895},null,3907.0300086120988,4.4580760861931773E-2,"BELOW"]
[6,"APPOMATTOX",{"$f":"VLOOKUP(A15,'True Value of Property'!$B$6:$E$140,4,FALSE)","v":1451769667.4928823},{"$f":"VLOOKUP(A15, '2020-2022 Composite Index Data'!$A$5:$C$139, 3, FALSE)","v":1518108117.1138613},null,66338449.620979071,4.5694886114779856E-2,"BELOW",null,{"$f":"C15/VLOOKUP(A15,'ADM & Population Analysis'!$A$10:$C$144,3,FALSE)","v":663326.5105376367},{"$f":"D15/VLOOKUP(A15, '2020-2022 Composite Index Data'!$A$5:$F$139, 6, FALSE)","v":696629.12285765621},null,33302.612320019514,5.0205459590371593E-2,"BELOW",null,{"$f":"C15/VLOOKUP(A15,'ADM & Population Analysis'!$A$10:$J$144,10,FALSE)","v":93935.274506171612},{"$f":"D15/VLOOKUP(A15, '2020-2022 Composite Index Data'!$A$5:$G$139, 7, FALSE)","v":97715.507023291793},null,3780.232517120181,4.0242949594742679E-2,"BELOW"]
[7,"ARLINGTON",{"$f":"VLOOKUP(A16,'True Value of Property'!$B$6:$E$140,4,FALSE)","v":75174841517.345078},{"$f":"VLOOKUP(A16, '2020-2022 Composite Index Data'!$A$5:$C$139, 3, FALSE)","v":79645130693.357285},null,4470289176.012207,5.9465229134946403E-2,"BELOW",null,{"$f":"C16/VLOOKUP(A16,'ADM & Population Analysis'!$A$10:$C$144,3,FALSE)","v":3105131.9778811322},{"$f":"D16/VLOOKUP(A16, '2020-2022 Composite Index Data'!$A$5:$F$139, 6, FALSE)","v":3092930.7045384119},null,-12201.273342720233,-3.9293896135925563E-3,"BELOW",null,{"$f":"C16/VLOOKUP(A16,'ADM & Population Analysis'!$A$10:$J$144,10,FALSE)","v":320331.86543836695},{"$f":"D16/VLOOKUP(A16, '2020-2022 Composite Index Data'!$A$5:$G$139, 7, FALSE)","v":333140.07668486447},null,12808.211246497522,3.9984193358252929E-2,"BELOW"]
[8,"AUGUSTA",{"$f":"VLOOKUP(A17,'True Value of Property'!$B$6:$E$140,4,FALSE)","v":8692275040.5000801},{"$f":"VLOOKUP(A17, '2020-2022 Composite Index Data'!$A$5:$C$139, 3, FALSE)","v":9526531504.9195671},null,834256464.419487,9.5976767938476426E-2,"ABOVE",null,{"$f":"C17/VLOOKUP(A17,'ADM & Population Analysis'!$A$10:$C$144,3,FALSE)","v":860151.18870677415},{"$f":"D17/VLOOKUP(A17, '2020-2022 Composite Index Data'!$A$5:$F$139, 6, FALSE)","v":958446.96237954113},null,98295.773672766984,0.11427732120041986,"ABOVE",null,{"$f":"C17/VLOOKUP(A17,'ADM & Population Analysis'!$A$10:$J$144,10,FALSE)","v":116081.18268319173},{"$f":"D17/VLOOKUP(A17, '2020-2022 Composite Index Data'!$A$5:$G$139, 7, FALSE)","v":126998.40700837944},null,10917.224325187708,9.4048183114940773E-2,"ABOVE"]
[9,"BATH",{"$f":"VLOOKUP(A18,'True Value of Property'!$B$6:$E$140,4,FALSE)","v":2448333187.6828942},{"$f":"VLOOKUP(A18, '2020-2022 Composite Index Data'!$A$5:$C$139, 3, FALSE)","v":2210598733.034523},null,-237734454.64837122,-9.7100531841159826E-2,"BELOW",null,{"$f":"C18/VLOOKUP(A18,'ADM & Population Analysis'!$A$10:$C$144,3,FALSE)","v":4513389.3516257312},{"$f":"D18/VLOOKUP(A18, '2020-2022 Composite Index Data'!$A$5:$F$139, 6, FALSE)","v":4278302.1734749814},null,-235087.17815074977,-5.2086616029718535E-2,"BELOW",null,{"$f":"C18/VLOOKUP(A18,'ADM & Population Analysis'!$A$10:$J$144,10,FALSE)","v":517946.51738584606},{"$f":"D18/VLOOKUP(A18, '2020-2022 Composite Index Data'!$A$5:$G$139, 7, FALSE)","v":485206.04324726143},null,-32740.474138584628,-6.3212075068736287E-2,"BELOW"]
[10,"BEDFORD COUNTY",{"$f":"VLOOKUP(A19,'True Value of Property'!$B$6:$E$140,4,FALSE)","v":9840655334.4935055},{"$f":"VLOOKUP(A19, '2020-2022 Composite Index Data'!$A$5:$C$139, 3, FALSE)","v":10557134172.444504},null,716478837.95099831,7.2808041090474299E-2,"BELOW",null,{"$f":"C19/VLOOKUP(A19,'ADM & Population Analysis'!$A$10:$C$144,3,FALSE)","v":1024054.876371664},{"$f":"D19/VLOOKUP(A19, '2020-2022 Composite Index Data'!$A$5:$F$139, 6, FALSE)","v":1115905.351927415},null,91850.475555751007,8.9692923372609742E-2,"ABOVE",null,{"$f":"C19/VLOOKUP(A19,'ADM & Population Analysis'!$A$10:$J$144,10,FALSE)","v":126853.43647429592},{"$f":"D19/VLOOKUP(A19, '2020-2022 Composite Index Data'!$A$5:$G$139, 7, FALSE)","v":135683.60394880286},null,8830.1674745069467,6.9609209808803155E-2,"ABOVE"]
[11,"BLAND",{"$f":"VLOOKUP(A20,'True Value of Property'!$B$6:$E$140,4,FALSE)","v":672296569.42880523},{"$f":"VLOOKUP(A20, '2020-2022 Composite Index Data'!$A$5:$C$139, 3, FALSE)","v":721512817.16380513},null,49216247.734999895,7.3206156290243851E-2,"ABOVE",null,{"$f":"C20/VLOOKUP(A20,'ADM & Population Analysis'!$A$10:$C$144,3,FALSE)","v":843343.49761509977},{"$f":"D20/VLOOKUP(A20, '2020-2022 Composite Index Data'!$A$5:$F$139, 6, FALSE)","v":998343.48101424507},null,154999.98339914531,0.18379223156100857,"ABOVE",null,{"$f":"C20/VLOOKUP(A20,'ADM & Population Analysis'!$A$10:$J$144,10,FALSE)","v":100582.96969311868},{"$f":"D20/VLOOKUP(A20, '2020-2022 Composite Index Data'!$A$5:$G$139, 7, FALSE)","v":110814.43974255954},null,10231.470049440861,0.1017216938479481,"ABOVE"]
[12,"BOTETOURT",{"$f":"VLOOKUP(A21,'True Value of Property'!$B$6:$E$140,4,FALSE)","v":4032528394.1390491},{"$f":"VLOOKUP(A21, '2020-2022 Composite Index Data'!$A$5:$C$139, 3, FALSE)","v":4369317736.1863489},null,336789342.04729986,8.3518157624580078E-2,"ABOVE",null,{"$f":"C21/VLOOKUP(A21,'ADM & Population Analysis'!$A$10:$C$144,3,FALSE)","v":864420.09644975013},{"$f":"D21/VLOOKUP(A21, '2020-2022 Composite Index Data'!$A$5:$F$139, 6, FALSE)","v":960735.14007294562},null,96315.043623195495,0.11142156923325812,"ABOVE",null,{"$f":"C21/VLOOKUP(A21,'ADM & Population Analysis'!$A$10:$J$144,10,FALSE)","v":120424.30849128141},{"$f":"D21/VLOOKUP(A21, '2020-2022 Composite Index Data'!$A$5:$G$139, 7, FALSE)","v":131014.02507305394},null,10589.716581772533,8.7936702435282968E-2,"ABOVE"]
[13,"BRUNSWICK",{"$f":"VLOOKUP(A22,'True Value of Property'!$B$6:$E$140,4,FALSE)","v":1814531068.7610474},{"$f":"VLOOKUP(A22, '2020-2022 Composite Index Data'!$A$5:$C$139, 3, FALSE)","v":2340978032.9505591},null,526446964.18951178,0.29012838261786672,"ABOVE",null,{"$f":"C22/VLOOKUP(A22,'ADM & Population Analysis'!$A$10:$C$144,3,FALSE)","v":1087261.710564472},{"$f":"D22/VLOOKUP(A22, '2020-2022 Composite Index Data'!$A$5:$F$139, 6, FALSE)","v":1501271.7211562397},null,414010.01059176773,0.38078229608290609,"ABOVE",null,{"$f":"C22/VLOOKUP(A22,'ADM & Population Analysis'!$A$10:$J$144,10,FALSE)","v":107178.44469941212},{"$f":"D22/VLOOKUP(A22, '2020-2022 Composite Index Data'!$A$5:$G$139, 7, FALSE)","v":141184.36963696757},null,34005.92493755545,0.31728324695256538,"ABOVE"]
[14,"BUCHANAN",{"$f":"VLOOKUP(A23,'True Value of Property'!$B$6:$E$140,4,FALSE)","v":2579513757.8121762},{"$f":"VLOOKUP(A23, '2020-2022 Composite Index Data'!$A$5:$C$139, 3, FALSE)","v":2465511602.061337},null,-114002155.75083923,-4.4195211367095234E-2,"BELOW",null,{"$f":"C23/VLOOKUP(A23,'ADM & Population Analysis'!$A$10:$C$144,3,FALSE)","v":892926.81044304313},{"$f":"D23/VLOOKUP(A23, '2020-2022 Composite Index Data'!$A$5:$F$139, 6, FALSE)","v":904177.64488093625},null,11250.834437893122,1.2599951425258247E-2,"BELOW",null,{"$f":"C23/VLOOKUP(A23,'ADM & Population Analysis'!$A$10:$J$144,10,FALSE)","v":112235.72892190647},{"$f":"D23/VLOOKUP(A23, '2020-2022 Composite Index Data'!$A$5:$G$139, 7, FALSE)","v":112048.33675974082},null,-187.39216216564819,-1.6696301967801671E-3,"BELOW"]
[15,"BUCKINGHAM",{"$f":"VLOOKUP(A24,'True Value of Property'!$B$6:$E$140,4,FALSE)","v":2062209218.5476191},{"$f":"VLOOKUP(A24, '2020-2022 Composite Index Data'!$A$5:$C$139, 3, FALSE)","v":2191369035.2052441},null,129159816.65762496,6.2631771546725098E-2,"BELOW",null,{"$f":"C24/VLOOKUP(A24,'ADM & Population Analysis'!$A$10:$C$144,3,FALSE)","v":1082484.7478295385},{"$f":"D24/VLOOKUP(A24, '2020-2022 Composite Index Data'!$A$5:$F$139, 6, FALSE)","v":1123692.554524136},null,41207.806694597472,3.8067794282757472E-2,"BELOW",null,{"$f":"C24/VLOOKUP(A24,'ADM & Population Analysis'!$A$10:$J$144,10,FALSE)","v":121392.11317092177},{"$f":"D24/VLOOKUP(A24, '2020-2022 Composite Index Data'!$A$5:$G$139, 7, FALSE)","v":129230.93915228189},null,7838.825981360118,6.4574425608053654E-2,"ABOVE"]
[16,"CAMPBELL",{"$f":"VLOOKUP(A25,'True Value of Property'!$B$6:$E$140,4,FALSE)","v":4481965191.8131008},{"$f":"VLOOKUP(A25, '2020-2022 Composite Index Data'!$A$5:$C$139, 3, FALSE)","v":4813934062.8777437},null,331968871.06464291,7.4067703977493557E-2,"ABOVE",null,{"$f":"C25/VLOOKUP(A25,'ADM & Population Analysis'!$A$10:$C$144,3,FALSE)","v":589823.83999266999},{"$f":"D25/VLOOKUP(A25, '2020-2022 Composite Index Data'!$A$5:$F$139, 6, FALSE)","v":631270.21107029484},null,41446.371077624848,7.0269067249197528E-2,"ABOVE",null,{"$f":"C25/VLOOKUP(A25,'ADM & Population Analysis'!$A$10:$J$144,10,FALSE)","v":79797.126280789453},{"$f":"D25/VLOOKUP(A25, '2020-2022 Composite Index Data'!$A$5:$G$139, 7, FALSE)","v":86732.862419648372},null,6935.7361388589197,8.691711671988675E-2,"ABOVE"]
[17,"CAROLINE",{"$f":"VLOOKUP(A26,'True Value of Property'!$B$6:$E$140,4,FALSE)","v":3459260771.3939471},{"$f":"VLOOKUP(A26, '2020-2022 Composite Index Data'!$A$5:$C$139, 3, FALSE)","v":3733516556.9680629},null,274255785.57411575,7.9281616419915449E-2,"ABOVE",null,{"$f":"C26/VLOOKUP(A26,'ADM & Population Analysis'!$A$10:$C$144,3,FALSE)","v":829485.33856563026},{"$f":"D26/VLOOKUP(A26, '2020-2022 Composite Index Data'!$A$5:$F$139, 6, FALSE)","v":907720.15962968371},null,78234.821064053453,9.4317304268860661E-2,"ABOVE",null,{"$f":"C26/VLOOKUP(A26,'ADM & Population Analysis'!$A$10:$J$144,10,FALSE)","v":116113.74769716525},{"$f":"D26/VLOOKUP(A26, '2020-2022 Composite Index Data'!$A$5:$G$139, 7, FALSE)","v":124492.049248685},null,8378.3015515197476,7.2155982540250851E-2,"ABOVE"]
[18,"CARROLL",{"$f":"VLOOKUP(A27,'True Value of Property'!$B$6:$E$140,4,FALSE)","v":2533602640.6190476},{"$f":"VLOOKUP(A27, '2020-2022 Composite Index Data'!$A$5:$C$139, 3, FALSE)","v":2572214998.7860894},null,38612358.167041779,1.5240100222506648E-2,"BELOW",null,{"$f":"C27/VLOOKUP(A27,'ADM & Population Analysis'!$A$10:$C$144,3,FALSE)","v":675353.62749473483},{"$f":"D27/VLOOKUP(A27, '2020-2022 Composite Index Data'!$A$5:$F$139, 6, FALSE)","v":712258.57332745078},null,36904.945832715952,5.4645365524454328E-2,"BELOW",null,{"$f":"C27/VLOOKUP(A27,'ADM & Population Analysis'!$A$10:$J$144,10,FALSE)","v":86521.27994464527},{"$f":"D27/VLOOKUP(A27, '2020-2022 Composite Index Data'!$A$5:$G$139, 7, FALSE)","v":88053.368437152181},null,1532.0884925069113,1.7707649418583653E-2,"BELOW"]
[19,"CHARLES CITY",{"$f":"VLOOKUP(A28,'True Value of Property'!$B$6:$E$140,4,FALSE)","v":951471670.03440404},{"$f":"VLOOKUP(A28, '2020-2022 Composite Index Data'!$A$5:$C$139, 3, FALSE)","v":1062603294.8681012},null,111131624.8336972,0.11679972019522013,"ABOVE",null,{"$f":"C28/VLOOKUP(A28,'ADM & Population Analysis'!$A$10:$C$144,3,FALSE)","v":1412727.0527608078},{"$f":"D28/VLOOKUP(A28, '2020-2022 Composite Index Data'!$A$5:$F$139, 6, FALSE)","v":1752458.637532945},null,339731.58477213723,0.24047928020364595,"ABOVE",null,{"$f":"C28/VLOOKUP(A28,'ADM & Population Analysis'!$A$10:$J$144,10,FALSE)","v":129787.43282422645},{"$f":"D28/VLOOKUP(A28, '2020-2022 Composite Index Data'!$A$5:$G$139, 7, FALSE)","v":148595.06290981697},null,18807.630085590528,0.14491102625523117,"ABOVE"]
[20,"CHARLOTTE",{"$f":"VLOOKUP(A29,'True Value of Property'!$B$6:$E$140,4,FALSE)","v":1061127011.9461316},{"$f":"VLOOKUP(A29, '2020-2022 Composite Index Data'!$A$5:$C$139, 3, FALSE)","v":1093540388.0940466},null,32413376.147915006,3.054617947051232E-2,"BELOW",null,{"$f":"C29/VLOOKUP(A29,'ADM & Population Analysis'!$A$10:$C$144,3,FALSE)","v":582147.60527662782},{"$f":"D29/VLOOKUP(A29, '2020-2022 Composite Index Data'!$A$5:$F$139, 6, FALSE)","v":616554.96811287955},null,34407.362836251734,5.9104190285042692E-2,"BELOW",null,{"$f":"C29/VLOOKUP(A29,'ADM & Population Analysis'!$A$10:$J$144,10,FALSE)","v":85203.710610738039},{"$f":"D29/VLOOKUP(A29, '2020-2022 Composite Index Data'!$A$5:$G$139, 7, FALSE)","v":89407.275618841188},null,4203.565008103149,4.9335468819046747E-2,"BELOW"]
[21,"CHESTERFIELD",{"$f":"VLOOKUP(A30,'True Value of Property'!$B$6:$E$140,4,FALSE)","v":35462878178.519089},{"$f":"VLOOKUP(A30, '2020-2022 Composite Index Data'!$A$5:$C$139, 3, FALSE)","v":39470600366.594589},null,4007722188.0755005,0.11301175747497832,"ABOVE",null,{"$f":"C30/VLOOKUP(A30,'ADM & Population Analysis'!$A$10:$C$144,3,FALSE)","v":602058.3117033639},{"$f":"D30/VLOOKUP(A30, '2020-2022 Composite Index Data'!$A$5:$F$139, 6, FALSE)","v":657176.96200377133},null,55118.650300407433,9.155035189940966E-2,"ABOVE",null,{"$f":"C30/VLOOKUP(A30,'ADM & Population Analysis'!$A$10:$J$144,10,FALSE)","v":106351.41154151774},{"$f":"D30/VLOOKUP(A30, '2020-2022 Composite Index Data'!$A$5:$G$139, 7, FALSE)","v":116083.17265629843},null,9731.7611147806892,9.1505707105557124E-2,"ABOVE"]
[22,"CLARKE",{"$f":"VLOOKUP(A31,'True Value of Property'!$B$6:$E$140,4,FALSE)","v":2575697595.0769229},{"$f":"VLOOKUP(A31, '2020-2022 Composite Index Data'!$A$5:$C$139, 3, FALSE)","v":2715153460.4986596},null,139455865.42173672,5.4142949734583216E-2,"BELOW",null,{"$f":"C31/VLOOKUP(A31,'ADM & Population Analysis'!$A$10:$C$144,3,FALSE)","v":1310240.8130331989},{"$f":"D31/VLOOKUP(A31, '2020-2022 Composite Index Data'!$A$5:$F$139, 6, FALSE)","v":1405941.1042350142},null,95700.291201815242,7.3040230658263261E-2,"ABOVE",null,{"$f":"C31/VLOOKUP(A31,'ADM & Population Analysis'!$A$10:$J$144,10,FALSE)","v":181310.54449365922},{"$f":"D31/VLOOKUP(A31, '2020-2022 Composite Index Data'!$A$5:$G$139, 7, FALSE)","v":189711.67275703323},null,8401.1282633740047,4.6335574617767522E-2,"BELOW"]
[23,"CRAIG",{"$f":"VLOOKUP(A32,'True Value of Property'!$B$6:$E$140,4,FALSE)","v":515609289.72638685},{"$f":"VLOOKUP(A32, '2020-2022 Composite Index Data'!$A$5:$C$139, 3, FALSE)","v":543813795.63784695},null,28204505.911460102,5.4701314490332595E-2,"BELOW",null,{"$f":"C32/VLOOKUP(A32,'ADM & Population Analysis'!$A$10:$C$144,3,FALSE)","v":858704.78761992976},{"$f":"D32/VLOOKUP(A32, '2020-2022 Composite Index Data'!$A$5:$F$139, 6, FALSE)","v":937302.94496259314},null,78598.157342663384,9.1531057559972068E-2,"ABOVE",null,{"$f":"C32/VLOOKUP(A32,'ADM & Population Analysis'!$A$10:$J$144,10,FALSE)","v":99308.414816330289},{"$f":"D32/VLOOKUP(A32, '2020-2022 Composite Index Data'!$A$5:$G$139, 7, FALSE)","v":106027.25592471182},null,6718.8411083815299,6.7656312114214537E-2,"ABOVE"]
[24,"CULPEPER",{"$f":"VLOOKUP(A33,'True Value of Property'!$B$6:$E$140,4,FALSE)","v":5696920903.6710148},{"$f":"VLOOKUP(A33, '2020-2022 Composite Index Data'!$A$5:$C$139, 3, FALSE)","v":6331241639.2254486},null,634320735.55443382,0.11134448700976111,"ABOVE",null,{"$f":"C33/VLOOKUP(A33,'ADM & Population Analysis'!$A$10:$C$144,3,FALSE)","v":721104.58296628017},{"$f":"D33/VLOOKUP(A33, '2020-2022 Composite Index Data'!$A$5:$F$139, 6, FALSE)","v":796163.27567946049},null,75058.692713180324,0.10408849768285298,"ABOVE",null,{"$f":"C33/VLOOKUP(A33,'ADM & Population Analysis'!$A$10:$J$144,10,FALSE)","v":116482.39354851998},{"$f":"D33/VLOOKUP(A33, '2020-2022 Composite Index Data'!$A$5:$G$139, 7, FALSE)","v":125939.72070387987},null,9457.3271553598897,8.1191044133382295E-2,"ABOVE"]
[25,"CUMBERLAND",{"$f":"VLOOKUP(A34,'True Value of Property'!$B$6:$E$140,4,FALSE)","v":950335785.31188607},{"$f":"VLOOKUP(A34, '2020-2022 Composite Index Data'!$A$5:$C$139, 3, FALSE)","v":1037409991.9240725},null,87074206.612186432,9.1624674097282338E-2,"ABOVE",null,{"$f":"C34/VLOOKUP(A34,'ADM & Population Analysis'!$A$10:$C$144,3,FALSE)","v":737494.78916024067},{"$f":"D34/VLOOKUP(A34, '2020-2022 Composite Index Data'!$A$5:$F$139, 6, FALSE)","v":837201.60104917316},null,99706.811888932483,0.13519663237548446,"ABOVE",null,{"$f":"C34/VLOOKUP(A34,'ADM & Population Analysis'!$A$10:$J$144,10,FALSE)","v":95138.230584831923},{"$f":"D34/VLOOKUP(A34, '2020-2022 Composite Index Data'!$A$5:$G$139, 7, FALSE)","v":105203.32541568528},null,10065.094830853355,0.10579442952618938,"ABOVE"]
[26,"DICKENSON",{"$f":"VLOOKUP(A35,'True Value of Property'!$B$6:$E$140,4,FALSE)","v":1508069625.890528},{"$f":"VLOOKUP(A35, '2020-2022 Composite Index Data'!$A$5:$C$139, 3, FALSE)","v":1459712435.3101735},null,-48357190.580354452,-3.2065622004553748E-2,"BELOW",null,{"$f":"C35/VLOOKUP(A35,'ADM & Population Analysis'!$A$10:$C$144,3,FALSE)","v":690982.64645614114},{"$f":"D35/VLOOKUP(A35, '2020-2022 Composite Index Data'!$A$5:$F$139, 6, FALSE)","v":730393.05655165226},null,39410.410095511121,5.703531094107242E-2,"BELOW",null,{"$f":"C35/VLOOKUP(A35,'ADM & Population Analysis'!$A$10:$J$144,10,FALSE)","v":98316.032719898823},{"$f":"D35/VLOOKUP(A35, '2020-2022 Composite Index Data'!$A$5:$G$139, 7, FALSE)","v":99421.906777698779},null,1105.8740577999561,1.1248155841993521E-2,"BELOW"]
[27,"DINWIDDIE",{"$f":"VLOOKUP(A36,'True Value of Property'!$B$6:$E$140,4,FALSE)","v":2734966557.7989073},{"$f":"VLOOKUP(A36, '2020-2022 Composite Index Data'!$A$5:$C$139, 3, FALSE)","v":2963784007.8823018},null,228817450.08339453,8.3663710413902137E-2,"ABOVE",null,{"$f":"C36/VLOOKUP(A36,'ADM & Population Analysis'!$A$10:$C$144,3,FALSE)","v":627039.98152075848},{"$f":"D36/VLOOKUP(A36, '2020-2022 Composite Index Data'!$A$5:$F$139, 6, FALSE)","v":695975.5423045659},null,68935.560783807421,0.10993806266805856,"ABOVE",null,{"$f":"C36/VLOOKUP(A36,'ADM & Population Analysis'!$A$10:$J$144,10,FALSE)","v":95119.34607863205},{"$f":"D36/VLOOKUP(A36, '2020-2022 Composite Index Data'!$A$5:$G$139, 7, FALSE)","v":103992.42132920357},null,8873.0752505715209,9.3283602299330776E-2,"ABOVE"]
[28,"ESSEX",{"$f":"VLOOKUP(A37,'True Value of Property'!$B$6:$E$140,4,FALSE)","v":1411183489.3206885},{"$f":"VLOOKUP(A37, '2020-2022 Composite Index Data'!$A$5:$C$139, 3, FALSE)","v":1593364500.3023257},null,182181010.98163724,0.1290980318011905,"ABOVE",null,{"$f":"C37/VLOOKUP(A37,'ADM & Population Analysis'!$A$10:$C$144,3,FALSE)","v":995607.12096054666},{"$f":"D37/VLOOKUP(A37, '2020-2022 Composite Index Data'!$A$5:$F$139, 6, FALSE)","v":1197595.2109422428},null,201988.0899816961,0.20287931426888656,"ABOVE",null,{"$f":"C37/VLOOKUP(A37,'ADM & Population Analysis'!$A$10:$J$144,10,FALSE)","v":129300.30138543967},{"$f":"D37/VLOOKUP(A37, '2020-2022 Composite Index Data'!$A$5:$G$139, 7, FALSE)","v":147356.37661170127},null,18056.075226261601,0.13964449450459573,"ABOVE"]
[29,"FAIRFAX COUNTY",{"$f":"VLOOKUP(A38,'True Value of Property'!$B$6:$E$140,4,FALSE)","v":249233574522.73746},{"$f":"VLOOKUP(A38, '2020-2022 Composite Index Data'!$A$5:$C$139, 3, FALSE)","v":262828932048.74387},null,13595357526.006409,5.4548660035231775E-2,"BELOW",null,{"$f":"C38/VLOOKUP(A38,'ADM & Population Analysis'!$A$10:$C$144,3,FALSE)","v":1397175.5098862776},{"$f":"D38/VLOOKUP(A38, '2020-2022 Composite Index Data'!$A$5:$F$139, 6, FALSE)","v":1457774.7612573879},null,60599.251371110324,4.3372683633742456E-2,"BELOW",null,{"$f":"C38/VLOOKUP(A38,'ADM & Population Analysis'!$A$10:$J$144,10,FALSE)","v":220691.53792313801},{"$f":"D38/VLOOKUP(A38, '2020-2022 Composite Index Data'!$A$5:$G$139, 7, FALSE)","v":229860.29919544095},null,9168.7612723029451,4.154559508075123E-2,"BELOW"]
[30,"FAUQUIER",{"$f":"VLOOKUP(A39,'True Value of Property'!$B$6:$E$140,4,FALSE)","v":14418202055.693708},{"$f":"VLOOKUP(A39, '2020-2022 Composite Index Data'!$A$5:$C$139, 3, FALSE)","v":15265896813.45751},null,847694757.76380157,5.8793374825056588E-2,"BELOW",null,{"$f":"C39/VLOOKUP(A39,'ADM & Population Analysis'!$A$10:$C$144,3,FALSE)","v":1322272.2492430569},{"$f":"D39/VLOOKUP(A39, '2020-2022 Composite Index Data'!$A$5:$F$139, 6, FALSE)","v":1393475.1780154675},null,71202.928772410611,5.3848917129714534E-2,"BELOW",null,{"$f":"C39/VLOOKUP(A39,'ADM & Population Analysis'!$A$10:$J$144,10,FALSE)","v":212350.90953627072},{"$f":"D39/VLOOKUP(A39, '2020-2022 Composite Index Data'!$A$5:$G$139, 7, FALSE)","v":220931.09516132899},null,8580.1856250582787,4.0405692840193533E-2,"BELOW"]
[31,"FLOYD",{"$f":"VLOOKUP(A40,'True Value of Property'!$B$6:$E$140,4,FALSE)","v":1729492812.0284672},{"$f":"VLOOKUP(A40, '2020-2022 Composite Index Data'!$A$5:$C$139, 3, FALSE)","v":1882566202.5297158},null,153073390.5012486,8.8507676607058966E-2,"ABOVE",null,{"$f":"C40/VLOOKUP(A40,'ADM & Population Analysis'!$A$10:$C$144,3,FALSE)","v":868306.46251052676},{"$f":"D40/VLOOKUP(A40, '2020-2022 Composite Index Data'!$A$5:$F$139, 6, FALSE)","v":954972.63397285889},null,86666.171462332131,9.9810579794321702E-2,"ABOVE",null,{"$f":"C40/VLOOKUP(A40,'ADM & Population Analysis'!$A$10:$J$144,10,FALSE)","v":112086.37796684816},{"$f":"D40/VLOOKUP(A40, '2020-2022 Composite Index Data'!$A$5:$G$139, 7, FALSE)","v":121065.3506449978},null,8978.9726781496429,8.0107617366361489E-2,"ABOVE"]
[32,"FLUVANNA",{"$f":"VLOOKUP(A41,'True Value of Property'!$B$6:$E$140,4,FALSE)","v":3362716420.1848741},{"$f":"VLOOKUP(A41, '2020-2022 Composite Index Data'!$A$5:$C$139, 3, FALSE)","v":3522241579.3013902},null,159525159.11651611,4.7439373168358279E-2,"BELOW",null,{"$f":"C41/VLOOKUP(A41,'ADM & Population Analysis'!$A$10:$C$144,3,FALSE)","v":975350.64541139721},{"$f":"D41/VLOOKUP(A41, '2020-2022 Composite Index Data'!$A$5:$F$139, 6, FALSE)","v":1014531.8637652019},null,39181.218353804667,4.0171417877391424E-2,"BELOW",null,{"$f":"C41/VLOOKUP(A41,'ADM & Population Analysis'!$A$10:$J$144,10,FALSE)","v":128534.37887718348},{"$f":"D41/VLOOKUP(A41, '2020-2022 Composite Index Data'!$A$5:$G$139, 7, FALSE)","v":133080.49946353535},null,4546.1205863518699,3.5368907727758622E-2,"BELOW"]
[33,"FRANKLIN COUNTY",{"$f":"VLOOKUP(A42,'True Value of Property'!$B$6:$E$140,4,FALSE)","v":7360330323.4396172},{"$f":"VLOOKUP(A42, '2020-2022 Composite Index Data'!$A$5:$C$139, 3, FALSE)","v":7625278760.3298216},null,264948436.89020443,3.5996813355842594E-2,"BELOW",null,{"$f":"C42/VLOOKUP(A42,'ADM & Population Analysis'!$A$10:$C$144,3,FALSE)","v":1058790.4902209574},{"$f":"D42/VLOOKUP(A42, '2020-2022 Composite Index Data'!$A$5:$F$139, 6, FALSE)","v":1111807.880837481},null,{"$f":"K42-J42","v":53017.390616523568},{"$f":"M42/J42","v":5.0073542505523871E-2},"BELOW",null,{"$f":"C42/VLOOKUP(A42,'ADM & Population Analysis'!$A$10:$J$144,10,FALSE)","v":130564.81513205997},{"$f":"D42/VLOOKUP(A42, '2020-2022 Composite Index Data'!$A$5:$G$139, 7, FALSE)","v":135135.28559607672},null,{"$f":"R42-Q42","v":4570.4704640167474},{"$f":"T42/Q42","v":3.5005376137468111E-2},"BELOW"]
[34,"FREDERICK",{"$f":"VLOOKUP(A43,'True Value of Property'!$B$6:$E$140,4,FALSE)","v":9724832257.9252014},{"$f":"VLOOKUP(A43, '2020-2022 Composite Index Data'!$A$5:$C$139, 3, FALSE)","v":11631668555.017563},null,1906836297.0923615,0.19607909386183964,"ABOVE",null,{"$f":"C43/VLOOKUP(A43,'ADM & Population Analysis'!$A$10:$C$144,3,FALSE)","v":745685.85556565004},{"$f":"D43/VLOOKUP(A43, '2020-2022 Composite Index Data'!$A$5:$F$139, 6, FALSE)","v":871713.07554544054},null,126027.21997979051,0.16900846253036522,"ABOVE",null,{"$f":"C43/VLOOKUP(A43,'ADM & Population Analysis'!$A$10:$J$144,10,FALSE)","v":117701.27274397203},{"$f":"D43/VLOOKUP(A43, '2020-2022 Composite Index Data'!$A$5:$G$139, 7, FALSE)","v":135535.63918687441},null,17834.366442902377,0.15152229051674165,"ABOVE"]
[35,"GILES",{"$f":"VLOOKUP(A44,'True Value of Property'!$B$6:$E$140,4,FALSE)","v":1362967284.1797621},{"$f":"VLOOKUP(A44, '2020-2022 Composite Index Data'!$A$5:$C$139, 3, FALSE)","v":1422595318.8879442},null,59628034.708182096,4.3748691109681645E-2,"BELOW",null,{"$f":"C44/VLOOKUP(A44,'ADM & Population Analysis'!$A$10:$C$144,3,FALSE)","v":570031.15137336147},{"$f":"D44/VLOOKUP(A44, '2020-2022 Composite Index Data'!$A$5:$F$139, 6, FALSE)","v":596053.66381387785},null,26022.512440516381,4.5651035698349128E-2,"BELOW",null,{"$f":"C44/VLOOKUP(A44,'ADM & Population Analysis'!$A$10:$J$144,10,FALSE)","v":79339.151532671414},{"$f":"D44/VLOOKUP(A44, '2020-2022 Composite Index Data'!$A$5:$G$139, 7, FALSE)","v":83421.997237315678},null,4082.8457046442636,5.146066759943823E-2,"BELOW"]
[36,"GLOUCESTER",{"$f":"VLOOKUP(A45,'True Value of Property'!$B$6:$E$140,4,FALSE)","v":4541962509.6699829},{"$f":"VLOOKUP(A45, '2020-2022 Composite Index Data'!$A$5:$C$139, 3, FALSE)","v":4714496645.2898397},null,172534135.61985683,3.798669303247796E-2,"BELOW",null,{"$f":"C45/VLOOKUP(A45,'ADM & Population Analysis'!$A$10:$C$144,3,FALSE)","v":844003.47669679788},{"$f":"D45/VLOOKUP(A45, '2020-2022 Composite Index Data'!$A$5:$F$139, 6, FALSE)","v":894515.01205586619},null,50511.535359068308,5.9847544179269074E-2,"BELOW",null,{"$f":"C45/VLOOKUP(A45,'ADM & Population Analysis'!$A$10:$J$144,10,FALSE)","v":122517.3314002477},{"$f":"D45/VLOOKUP(A45, '2020-2022 Composite Index Data'!$A$5:$G$139, 7, FALSE)","v":126839.48035432323},null,4322.1489540755283,3.5277857464554523E-2,"BELOW"]
[37,"GOOCHLAND",{"$f":"VLOOKUP(A46,'True Value of Property'!$B$6:$E$140,4,FALSE)","v":5249123022.8951159},{"$f":"VLOOKUP(A46, '2020-2022 Composite Index Data'!$A$5:$C$139, 3, FALSE)","v":5635699923.6241608},null,386576900.72904491,7.3645997444318087E-2,"ABOVE",null,{"$f":"C46/VLOOKUP(A46,'ADM & Population Analysis'!$A$10:$C$144,3,FALSE)","v":2103603.9846491865},{"$f":"D46/VLOOKUP(A46, '2020-2022 Composite Index Data'!$A$5:$F$139, 6, FALSE)","v":2209558.5053023449},null,105954.52065315843,5.0368092771429236E-2,"BELOW",null,{"$f":"C46/VLOOKUP(A46,'ADM & Population Analysis'!$A$10:$J$144,10,FALSE)","v":235629.70879809291},{"$f":"D46/VLOOKUP(A46, '2020-2022 Composite Index Data'!$A$5:$G$139, 7, FALSE)","v":248214.0464049399},null,12584.337606846995,5.3407262059769804E-2,"BELOW"]
[38,"GRAYSON",{"$f":"VLOOKUP(A47,'True Value of Property'!$B$6:$E$140,4,FALSE)","v":1670558004.2648437},{"$f":"VLOOKUP(A47, '2020-2022 Composite Index Data'!$A$5:$C$139, 3, FALSE)","v":1827586769.031553},null,157028764.76670933,9.3997792573393704E-2,"ABOVE",null,{"$f":"C47/VLOOKUP(A47,'ADM & Population Analysis'!$A$10:$C$144,3,FALSE)","v":1033786.7300334437},{"$f":"D47/VLOOKUP(A47, '2020-2022 Composite Index Data'!$A$5:$F$139, 6, FALSE)","v":1209633.4332972963},null,175846.70326385263,0.17009959419595555,"ABOVE",null,{"$f":"C47/VLOOKUP(A47,'ADM & Population Analysis'!$A$10:$J$144,10,FALSE)","v":103845.21689966082},{"$f":"D47/VLOOKUP(A47, '2020-2022 Composite Index Data'!$A$5:$G$139, 7, FALSE)","v":116637.10313558957},null,12791.886235928745,0.1231822381216532,"ABOVE"]
[39,"GREENE",{"$f":"VLOOKUP(A48,'True Value of Property'!$B$6:$E$140,4,FALSE)","v":2257170514.3919344},{"$f":"VLOOKUP(A48, '2020-2022 Composite Index Data'!$A$5:$C$139, 3, FALSE)","v":2392404008.0104222},null,135233493.61848783,5.991283899742008E-2,"BELOW",null,{"$f":"C48/VLOOKUP(A48,'ADM & Population Analysis'!$A$10:$C$144,3,FALSE)","v":735258.64503467025},{"$f":"D48/VLOOKUP(A48, '2020-2022 Composite Index Data'!$A$5:$F$139, 6, FALSE)","v":802114.92178367416},null,66856.276749003911,9.0928923040206319E-2,"ABOVE",null,{"$f":"C48/VLOOKUP(A48,'ADM & Population Analysis'!$A$10:$J$144,10,FALSE)","v":113768.67512056121},{"$f":"D48/VLOOKUP(A48, '2020-2022 Composite Index Data'!$A$5:$G$139, 7, FALSE)","v":119709.98288768687},null,5941.3077671256615,5.2222703312925368E-2,"BELOW"]
[40,"GREENSVILLE",{"$f":"VLOOKUP(A49,'True Value of Property'!$B$6:$E$140,4,FALSE)","v":716461134.26246715},{"$f":"VLOOKUP(A49, '2020-2022 Composite Index Data'!$A$5:$C$139, 3, FALSE)","v":949033753.81977665},null,232572619.55730951,0.32461302984246632,"ABOVE",null,{"$f":"C49/VLOOKUP(A49,'ADM & Population Analysis'!$A$10:$C$144,3,FALSE)","v":511896.89648795186},{"$f":"D49/VLOOKUP(A49, '2020-2022 Composite Index Data'!$A$5:$F$139, 6, FALSE)","v":779141.8692334278},null,267244.97274547594,0.52206796833308378,"ABOVE",null,{"$f":"C49/VLOOKUP(A49,'ADM & Population Analysis'!$A$10:$J$144,10,FALSE)","v":60696.470201835575},{"$f":"D49/VLOOKUP(A49, '2020-2022 Composite Index Data'!$A$5:$G$139, 7, FALSE)","v":82075.045733786785},null,21378.57553195121,0.35222106756555149,"ABOVE"]
[41,"HALIFAX",{"$f":"VLOOKUP(A50,'True Value of Property'!$B$6:$E$140,4,FALSE)","v":3666857551.2319984},{"$f":"VLOOKUP(A50, '2020-2022 Composite Index Data'!$A$5:$C$139, 3, FALSE)","v":3781125840.4999008},null,114268289.26790237,3.1162456591614877E-2,"BELOW",null,{"$f":"C50/VLOOKUP(A50,'ADM & Population Analysis'!$A$10:$C$144,3,FALSE)","v":727549.65788401174},{"$f":"D50/VLOOKUP(A50, '2020-2022 Composite Index Data'!$A$5:$F$139, 6, FALSE)","v":800636.47327240021},null,73086.815388388466,0.10045611951897886,"ABOVE",null,{"$f":"C50/VLOOKUP(A50,'ADM & Population Analysis'!$A$10:$J$144,10,FALSE)","v":102523.55732349154},{"$f":"D50/VLOOKUP(A50, '2020-2022 Composite Index Data'!$A$5:$G$139, 7, FALSE)","v":107372.59237540539},null,4849.0350519138592,4.7296788938114467E-2,"BELOW"]
[42,"HANOVER",{"$f":"VLOOKUP(A51,'True Value of Property'!$B$6:$E$140,4,FALSE)","v":14954590370.086966},{"$f":"VLOOKUP(A51, '2020-2022 Composite Index Data'!$A$5:$C$139, 3, FALSE)","v":16419664887.229683},null,1465074517.1427174,9.7968214500428169E-2,"ABOVE",null,{"$f":"C51/VLOOKUP(A51,'ADM & Population Analysis'!$A$10:$C$144,3,FALSE)","v":842349.35841056996},{"$f":"D51/VLOOKUP(A51, '2020-2022 Composite Index Data'!$A$5:$F$139, 6, FALSE)","v":932226.80071795883},null,89877.442307388876,0.10669853477063096,"ABOVE",null,{"$f":"C51/VLOOKUP(A51,'ADM & Population Analysis'!$A$10:$J$144,10,FALSE)","v":143776.16615314397},{"$f":"D51/VLOOKUP(A51, '2020-2022 Composite Index Data'!$A$5:$G$139, 7, FALSE)","v":154356.42667195943},null,10580.260518815456,7.358841734273143E-2,"ABOVE"]
[43,"HENRICO",{"$f":"VLOOKUP(A52,'True Value of Property'!$B$6:$E$140,4,FALSE)","v":36922193176.922699},{"$f":"VLOOKUP(A52, '2020-2022 Composite Index Data'!$A$5:$C$139, 3, FALSE)","v":40926624138.156441},null,4004430961.2337418,0.10845593440360991,"ABOVE",null,{"$f":"C52/VLOOKUP(A52,'ADM & Population Analysis'!$A$10:$C$144,3,FALSE)","v":733912.83249320742},{"$f":"D52/VLOOKUP(A52, '2020-2022 Composite Index Data'!$A$5:$F$139, 6, FALSE)","v":813913.19978904608},null,80000.36729583866,0.1090052711356278,"ABOVE",null,{"$f":"C52/VLOOKUP(A52,'ADM & Population Analysis'!$A$10:$J$144,10,FALSE)","v":115123.90418007995},{"$f":"D52/VLOOKUP(A52, '2020-2022 Composite Index Data'!$A$5:$G$139, 7, FALSE)","v":126162.9314205103},null,11039.027240430354,9.5888228592063793E-2,"ABOVE"]
[44,"HENRY",{"$f":"VLOOKUP(A53,'True Value of Property'!$B$6:$E$140,4,FALSE)","v":3118390249.73668},{"$f":"VLOOKUP(A53, '2020-2022 Composite Index Data'!$A$5:$C$139, 3, FALSE)","v":3232443251.3304853},null,114053001.59380531,3.6574319587946394E-2,"BELOW",null,{"$f":"C53/VLOOKUP(A53,'ADM & Population Analysis'!$A$10:$C$144,3,FALSE)","v":442662.03473236779},{"$f":"D53/VLOOKUP(A53, '2020-2022 Composite Index Data'!$A$5:$F$139, 6, FALSE)","v":458813.67101814924},null,16151.636285781453,3.6487511958297227E-2,"BELOW",null,{"$f":"C53/VLOOKUP(A53,'ADM & Population Analysis'!$A$10:$J$144,10,FALSE)","v":59035.823136887659},{"$f":"D53/VLOOKUP(A53, '2020-2022 Composite Index Data'!$A$5:$G$139, 7, FALSE)","v":62192.270347868885},null,3156.4472109812268,5.3466641833083334E-2,"BELOW"]
[45,"HIGHLAND",{"$f":"VLOOKUP(A54,'True Value of Property'!$B$6:$E$140,4,FALSE)","v":653594689.99574113},{"$f":"VLOOKUP(A54, '2020-2022 Composite Index Data'!$A$5:$C$139, 3, FALSE)","v":637887453.24902165},null,-15707236.74671948,-2.4032075209824345E-2,"BELOW",null,{"$f":"C54/VLOOKUP(A54,'ADM & Population Analysis'!$A$10:$C$144,3,FALSE)","v":3382470.0615625996},{"$f":"D54/VLOOKUP(A54, '2020-2022 Composite Index Data'!$A$5:$F$139, 6, FALSE)","v":3304602.6692691376},null,-77867.392293462064,-2.3020866667328214E-2,"BELOW",null,{"$f":"C54/VLOOKUP(A54,'ADM & Population Analysis'!$A$10:$J$144,10,FALSE)","v":287042.02459189337},{"$f":"D54/VLOOKUP(A54, '2020-2022 Composite Index Data'!$A$5:$G$139, 7, FALSE)","v":279285.2247149832},null,-7756.7998769101687,-2.7023220338340787E-2,"BELOW"]
[46,"ISLE OF WIGHT",{"$f":"VLOOKUP(A55,'True Value of Property'!$B$6:$E$140,4,FALSE)","v":4673046081.0904694},{"$f":"VLOOKUP(A55, '2020-2022 Composite Index Data'!$A$5:$C$139, 3, FALSE)","v":5005182812.2924986},null,332136731.20202923,7.1074995931673782E-2,"BELOW",null,{"$f":"C55/VLOOKUP(A55,'ADM & Population Analysis'!$A$10:$C$144,3,FALSE)","v":879345.84711058228},{"$f":"D55/VLOOKUP(A55, '2020-2022 Composite Index Data'!$A$5:$F$139, 6, FALSE)","v":937632.01063531823},null,58286.163524735952,6.6283548977068368E-2,"BELOW",null,{"$f":"C55/VLOOKUP(A55,'ADM & Population Analysis'!$A$10:$J$144,10,FALSE)","v":128246.50313108484},{"$f":"D55/VLOOKUP(A55, '2020-2022 Composite Index Data'!$A$5:$G$139, 7, FALSE)","v":134068.59379885084},null,5822.090667765995,4.5397656276171913E-2,"BELOW"]
[47,"JAMES CITY",{"$f":"VLOOKUP(A56,'True Value of Property'!$B$6:$E$140,4,FALSE)","v":12512468850.514198},{"$f":"VLOOKUP(A56, '2020-2022 Composite Index Data'!$A$5:$C$139, 3, FALSE)","v":13050045023.309473},null,537576172.79527473,4.2963237648594277E-2,"BELOW",null,{"$f":"C56/VLOOKUP(A56,'ADM & Population Analysis'!$A$10:$C$144,3,FALSE)","v":1217380.5748399473},{"$f":"D56/VLOOKUP(A56, '2020-2022 Composite Index Data'!$A$5:$F$139, 6, FALSE)","v":1252109.1512369425},null,34728.576396995224,2.8527296323551981E-2,"BELOW",null,{"$f":"C56/VLOOKUP(A56,'ADM & Population Analysis'!$A$10:$J$144,10,FALSE)","v":170643.96659412477},{"$f":"D56/VLOOKUP(A56, '2020-2022 Composite Index Data'!$A$5:$G$139, 7, FALSE)","v":174647.96209027426},null,4003.995496149495,2.3464032019795723E-2,"BELOW"]
[48,"KING GEORGE",{"$f":"VLOOKUP(A57,'True Value of Property'!$B$6:$E$140,4,FALSE)","v":3197353292.7142034},{"$f":"VLOOKUP(A57, '2020-2022 Composite Index Data'!$A$5:$C$139, 3, FALSE)","v":3480141112.3470144},null,282787819.63281107,8.8444345602094895E-2,"ABOVE",null,{"$f":"C57/VLOOKUP(A57,'ADM & Population Analysis'!$A$10:$C$144,3,FALSE)","v":757777.98935251229},{"$f":"D57/VLOOKUP(A57, '2020-2022 Composite Index Data'!$A$5:$F$139, 6, FALSE)","v":797659.63142903976},null,39881.642076527467,5.262971825112598E-2,"BELOW",null,{"$f":"C57/VLOOKUP(A57,'ADM & Population Analysis'!$A$10:$J$144,10,FALSE)","v":129973.71108594323},{"$f":"D57/VLOOKUP(A57, '2020-2022 Composite Index Data'!$A$5:$G$139, 7, FALSE)","v":137115.99670410994},null,7142.2856181667157,5.4951771081184125E-2,"BELOW"]
[49,"KING AND QUEEN",{"$f":"VLOOKUP(A58,'True Value of Property'!$B$6:$E$140,4,FALSE)","v":942198653.81307852},{"$f":"VLOOKUP(A58, '2020-2022 Composite Index Data'!$A$5:$C$139, 3, FALSE)","v":981207271.51116312},null,39008617.698084593,4.1401691182869654E-2,"BELOW",null,{"$f":"C58/VLOOKUP(A58,'ADM & Population Analysis'!$A$10:$C$144,3,FALSE)","v":1158402.9873771498},{"$f":"D58/VLOOKUP(A58, '2020-2022 Composite Index Data'!$A$5:$F$139, 6, FALSE)","v":1269021.3030408213},null,110618.31566367159,9.549208424792914E-2,"ABOVE",null,{"$f":"C58/VLOOKUP(A58,'ADM & Population Analysis'!$A$10:$J$144,10,FALSE)","v":131042.92820766043},{"$f":"D58/VLOOKUP(A58, '2020-2022 Composite Index Data'!$A$5:$G$139, 7, FALSE)","v":141486.26842266231},null,10443.340215001881,7.9694038875967294E-2,"ABOVE"]
[50,"KING WILLIAM",{"$f":"VLOOKUP(A59,'True Value of Property'!$B$6:$E$140,4,FALSE)","v":1532880856.1757441},{"$f":"VLOOKUP(A59, '2020-2022 Composite Index Data'!$A$5:$C$139, 3, FALSE)","v":1697241572.8793774},null,164360716.70363331,0.10722341272738123,"ABOVE",null,{"$f":"C59/VLOOKUP(A59,'ADM & Population Analysis'!$A$10:$C$144,3,FALSE)","v":693153.32684097567},{"$f":"D59/VLOOKUP(A59, '2020-2022 Composite Index Data'!$A$5:$F$139, 6, FALSE)","v":781228.14086773351},null,88074.814026757842,0.12706397072081588,"ABOVE",null,{"$f":"C59/VLOOKUP(A59,'ADM & Population Analysis'!$A$10:$J$144,10,FALSE)","v":118644.02911576966},{"$f":"D59/VLOOKUP(A59, '2020-2022 Composite Index Data'!$A$5:$G$139, 7, FALSE)","v":127477.96100941696},null,8833.9318936472991,7.4457450235674183E-2,"ABOVE"]
[51,"LANCASTER",{"$f":"VLOOKUP(A60,'True Value of Property'!$B$6:$E$140,4,FALSE)","v":2626641072.0150409},{"$f":"VLOOKUP(A60, '2020-2022 Composite Index Data'!$A$5:$C$139, 3, FALSE)","v":2617889478.9597521},null,-8751593.0552887917,-3.331857233380944E-3,"BELOW",null,{"$f":"C60/VLOOKUP(A60,'ADM & Population Analysis'!$A$10:$C$144,3,FALSE)","v":2320313.3089654255},{"$f":"D60/VLOOKUP(A60, '2020-2022 Composite Index Data'!$A$5:$F$139, 6, FALSE)","v":2464359.8597004162},null,144046.55073499074,6.2080646686122662E-2,"BELOW",null,{"$f":"C60/VLOOKUP(A60,'ADM & Population Analysis'!$A$10:$J$144,10,FALSE)","v":232507.84031291856},{"$f":"D60/VLOOKUP(A60, '2020-2022 Composite Index Data'!$A$5:$G$139, 7, FALSE)","v":234346.92319038152},null,1839.0828774629626,7.9097671501651284E-3,"BELOW"]
[52,"LEE",{"$f":"VLOOKUP(A61,'True Value of Property'!$B$6:$E$140,4,FALSE)","v":1154579892.7181141},{"$f":"VLOOKUP(A61, '2020-2022 Composite Index Data'!$A$5:$C$139, 3, FALSE)","v":1138485056.0939226},null,-16094836.624191523,-1.3939993867640487E-2,"BELOW",null,{"$f":"C61/VLOOKUP(A61,'ADM & Population Analysis'!$A$10:$C$144,3,FALSE)","v":376882.61554369645},{"$f":"D61/VLOOKUP(A61, '2020-2022 Composite Index Data'!$A$5:$F$139, 6, FALSE)","v":372850.81713659997},null,-4031.798407096474,-1.0697756385712145E-2,"BELOW",null,{"$f":"C61/VLOOKUP(A61,'ADM & Population Analysis'!$A$10:$J$144,10,FALSE)","v":45849.411989441433},{"$f":"D61/VLOOKUP(A61, '2020-2022 Composite Index Data'!$A$5:$G$139, 7, FALSE)","v":46730.084804577542},null,880.67281513610942,1.9207941321884733E-2,"BELOW"]
[53,"LOUDOUN",{"$f":"VLOOKUP(A62,'True Value of Property'!$B$6:$E$140,4,FALSE)","v":74057839092.188339},{"$f":"VLOOKUP(A62, '2020-2022 Composite Index Data'!$A$5:$C$139, 3, FALSE)","v":84918073098.409882},null,10860234006.221542,0.14664529966507064,"ABOVE",null,{"$f":"C62/VLOOKUP(A62,'ADM & Population Analysis'!$A$10:$C$144,3,FALSE)","v":980253.38147897541},{"$f":"D62/VLOOKUP(A62, '2020-2022 Composite Index Data'!$A$5:$F$139, 6, FALSE)","v":1057892.9625027471},null,77639.581023771665,7.9203583982165413E-2,"ABOVE",null,{"$f":"C62/VLOOKUP(A62,'ADM & Population Analysis'!$A$10:$J$144,10,FALSE)","v":197777.11661122108},{"$f":"D62/VLOOKUP(A62, '2020-2022 Composite Index Data'!$A$5:$G$139, 7, FALSE)","v":214402.76189545705},null,16625.645284235972,8.4062532456258388E-2,"ABOVE"]
[54,"LOUISA",{"$f":"VLOOKUP(A63,'True Value of Property'!$B$6:$E$140,4,FALSE)","v":7490954655.0249119},{"$f":"VLOOKUP(A63, '2020-2022 Composite Index Data'!$A$5:$C$139, 3, FALSE)","v":7695422724.5881872},null,204468069.56327534,2.7295328697006425E-2,"BELOW",null,{"$f":"C63/VLOOKUP(A63,'ADM & Population Analysis'!$A$10:$C$144,3,FALSE)","v":1597893.066801104},{"$f":"D63/VLOOKUP(A63, '2020-2022 Composite Index Data'!$A$5:$F$139, 6, FALSE)","v":1635862.1496935054},null,37969.082892401377,2.3761967356434831E-2,"BELOW",null,{"$f":"C63/VLOOKUP(A63,'ADM & Population Analysis'!$A$10:$J$144,10,FALSE)","v":218752.32610165028},{"$f":"D63/VLOOKUP(A63, '2020-2022 Composite Index Data'!$A$5:$G$139, 7, FALSE)","v":219649.57113138825},null,897.24502973796916,4.1016479492018542E-3,"BELOW"]
[55,"LUNENBURG",{"$f":"VLOOKUP(A64,'True Value of Property'!$B$6:$E$140,4,FALSE)","v":973149203.74825239},{"$f":"VLOOKUP(A64, '2020-2022 Composite Index Data'!$A$5:$C$139, 3, FALSE)","v":994576205.92197824},null,21427002.173725843,2.2018208606857038E-2,"BELOW",null,{"$f":"C64/VLOOKUP(A64,'ADM & Population Analysis'!$A$10:$C$144,3,FALSE)","v":656008.46933361131},{"$f":"D64/VLOOKUP(A64, '2020-2022 Composite Index Data'!$A$5:$F$139, 6, FALSE)","v":689925.71010910207},null,33917.240775490762,5.1702443430257365E-2,"BELOW",null,{"$f":"C64/VLOOKUP(A64,'ADM & Population Analysis'!$A$10:$J$144,10,FALSE)","v":78258.882488801959},{"$f":"D64/VLOOKUP(A64, '2020-2022 Composite Index Data'!$A$5:$G$139, 7, FALSE)","v":80298.418046340885},null,2039.5355575389258,2.6061393833866235E-2,"BELOW"]
[56,"MADISON",{"$f":"VLOOKUP(A65,'True Value of Property'!$B$6:$E$140,4,FALSE)","v":2183766360.5184622},{"$f":"VLOOKUP(A65, '2020-2022 Composite Index Data'!$A$5:$C$139, 3, FALSE)","v":2319775163.1593547},null,136008802.64089251,6.2281755548520203E-2,"BELOW",null,{"$f":"C65/VLOOKUP(A65,'ADM & Population Analysis'!$A$10:$C$144,3,FALSE)","v":1276720.3721350885},{"$f":"D65/VLOOKUP(A65, '2020-2022 Composite Index Data'!$A$5:$F$139, 6, FALSE)","v":1386438.5773040447},null,109718.20516895619,8.593753774404958E-2,"ABOVE",null,{"$f":"C65/VLOOKUP(A65,'ADM & Population Analysis'!$A$10:$J$144,10,FALSE)","v":166712.44831807484},{"$f":"D65/VLOOKUP(A65, '2020-2022 Composite Index Data'!$A$5:$G$139, 7, FALSE)","v":175873.78037599352},null,9161.3320579186839,5.4952897341172445E-2,"BELOW"]
[57,"MATHEWS",{"$f":"VLOOKUP(A66,'True Value of Property'!$B$6:$E$140,4,FALSE)","v":1544894655.6256881},{"$f":"VLOOKUP(A66, '2020-2022 Composite Index Data'!$A$5:$C$139, 3, FALSE)","v":1681978635.7777324},null,137083980.1520443,8.8733545457521684E-2,"ABOVE",null,{"$f":"C66/VLOOKUP(A66,'ADM & Population Analysis'!$A$10:$C$144,3,FALSE)","v":1409485.3938395251},{"$f":"D66/VLOOKUP(A66, '2020-2022 Composite Index Data'!$A$5:$F$139, 6, FALSE)","v":1563554.9814804064},null,154069.58764088131,0.10930910551771399,"ABOVE",null,{"$f":"C66/VLOOKUP(A66,'ADM & Population Analysis'!$A$10:$J$144,10,FALSE)","v":176822.09632891015},{"$f":"D66/VLOOKUP(A66, '2020-2022 Composite Index Data'!$A$5:$G$139, 7, FALSE)","v":194425.92021474193},null,17603.823885831778,9.9556697105810638E-2,"ABOVE"]
[58,"MECKLENBURG",{"$f":"VLOOKUP(A67,'True Value of Property'!$B$6:$E$140,4,FALSE)","v":3931843918.0273051},{"$f":"VLOOKUP(A67, '2020-2022 Composite Index Data'!$A$5:$C$139, 3, FALSE)","v":4379236370.896122},null,447392452.86881685,0.11378693106751901,"ABOVE",null,{"$f":"C67/VLOOKUP(A67,'ADM & Population Analysis'!$A$10:$C$144,3,FALSE)","v":913819.13890911546},{"$f":"D67/VLOOKUP(A67, '2020-2022 Composite Index Data'!$A$5:$F$139, 6, FALSE)","v":1067289.0447062789},null,153469.90579716349,0.16794341381421532,"ABOVE",null,{"$f":"C67/VLOOKUP(A67,'ADM & Population Analysis'!$A$10:$J$144,10,FALSE)","v":124393.94830509064},{"$f":"D67/VLOOKUP(A67, '2020-2022 Composite Index Data'!$A$5:$G$139, 7, FALSE)","v":140072.81124923626},null,15678.862944145614,0.12604200733054455,"ABOVE"]
[59,"MIDDLESEX",{"$f":"VLOOKUP(A68,'True Value of Property'!$B$6:$E$140,4,FALSE)","v":2258959159.1449738},{"$f":"VLOOKUP(A68, '2020-2022 Composite Index Data'!$A$5:$C$139, 3, FALSE)","v":2304976582.7809606},null,46017423.635986805,2.0371073753013138E-2,"BELOW",null,{"$f":"C68/VLOOKUP(A68,'ADM & Population Analysis'!$A$10:$C$144,3,FALSE)","v":1893257.5338973596},{"$f":"D68/VLOOKUP(A68, '2020-2022 Composite Index Data'!$A$5:$F$139, 6, FALSE)","v":1930045.8717372771},null,36788.337839917513,1.9431238054649115E-2,"BELOW",null,{"$f":"C68/VLOOKUP(A68,'ADM & Population Analysis'!$A$10:$J$144,10,FALSE)","v":203840.38613472061},{"$f":"D68/VLOOKUP(A68, '2020-2022 Composite Index Data'!$A$5:$G$139, 7, FALSE)","v":209467.15583251187},null,5626.7696977912565,2.7603802192919982E-2,"BELOW"]
[60,"MONTGOMERY",{"$f":"VLOOKUP(A69,'True Value of Property'!$B$6:$E$140,4,FALSE)","v":8144236258.0901146},{"$f":"VLOOKUP(A69, '2020-2022 Composite Index Data'!$A$5:$C$139, 3, FALSE)","v":9010770466.2197704},null,866534208.12965584,0.10639846152165344,"ABOVE",null,{"$f":"C69/VLOOKUP(A69,'ADM & Population Analysis'!$A$10:$C$144,3,FALSE)","v":858375.90568363643},{"$f":"D69/VLOOKUP(A69, '2020-2022 Composite Index Data'!$A$5:$F$139, 6, FALSE)","v":935023.05877064529},null,76647.153087008861,8.9293225240245716E-2,"ABOVE",null,{"$f":"C69/VLOOKUP(A69,'ADM & Population Analysis'!$A$10:$J$144,10,FALSE)","v":83001.96958948762},{"$f":"D69/VLOOKUP(A69, '2020-2022 Composite Index Data'!$A$5:$G$139, 7, FALSE)","v":91224.289971448234},null,8222.3203819606133,9.9061750252755307E-2,"ABOVE"]
[62,"NELSON",{"$f":"VLOOKUP(A70,'True Value of Property'!$B$6:$E$140,4,FALSE)","v":2908574135.0675497},{"$f":"VLOOKUP(A70, '2020-2022 Composite Index Data'!$A$5:$C$139, 3, FALSE)","v":3094695787.1193795},null,186121652.05182981,6.3990685266651207E-2,"BELOW",null,{"$f":"C70/VLOOKUP(A70,'ADM & Population Analysis'!$A$10:$C$144,3,FALSE)","v":1534049.9971347987},{"$f":"D70/VLOOKUP(A70, '2020-2022 Composite Index Data'!$A$5:$F$139, 6, FALSE)","v":1724612.1537866506},null,190562.15665185195,0.12422160751459983,"ABOVE",null,{"$f":"C70/VLOOKUP(A70,'ADM & Population Analysis'!$A$10:$J$144,10,FALSE)","v":193995.47355883077},{"$f":"D70/VLOOKUP(A70, '2020-2022 Composite Index Data'!$A$5:$G$139, 7, FALSE)","v":208284.81539368554},null,14289.341834854771,7.3658119814436845E-2,"ABOVE"]
[63,"NEW KENT",{"$f":"VLOOKUP(A71,'True Value of Property'!$B$6:$E$140,4,FALSE)","v":2755340472.0727825},{"$f":"VLOOKUP(A71, '2020-2022 Composite Index Data'!$A$5:$C$139, 3, FALSE)","v":3068018934.0543213},null,312678461.98153877,0.11348088018549576,"ABOVE",null,{"$f":"C71/VLOOKUP(A71,'ADM & Population Analysis'!$A$10:$C$144,3,FALSE)","v":923529.3136805495},{"$f":"D71/VLOOKUP(A71, '2020-2022 Composite Index Data'!$A$5:$F$139, 6, FALSE)","v":971426.96739797259},null,47897.653717423091,5.1863706985689657E-2,"BELOW",null,{"$f":"C71/VLOOKUP(A71,'ADM & Population Analysis'!$A$10:$J$144,10,FALSE)","v":134616.98612823835},{"$f":"D71/VLOOKUP(A71, '2020-2022 Composite Index Data'!$A$5:$G$139, 7, FALSE)","v":141324.74706593217},null,6707.7609376938199,4.9828488444273268E-2,"BELOW"]
[65,"NORTHAMPTON",{"$f":"VLOOKUP(A72,'True Value of Property'!$B$6:$E$140,4,FALSE)","v":2101162419.594682},{"$f":"VLOOKUP(A72, '2020-2022 Composite Index Data'!$A$5:$C$139, 3, FALSE)","v":2081349222.5888631},null,-19813197.005818844,-9.4296361009735003E-3,"BELOW",null,{"$f":"C72/VLOOKUP(A72,'ADM & Population Analysis'!$A$10:$C$144,3,FALSE)","v":1347011.237856156},{"$f":"D72/VLOOKUP(A72, '2020-2022 Composite Index Data'!$A$5:$F$139, 6, FALSE)","v":1361961.2763963244},null,14950.038540168433,1.109867395313068E-2,"BELOW",null,{"$f":"C72/VLOOKUP(A72,'ADM & Population Analysis'!$A$10:$J$144,10,FALSE)","v":172565.90174069334},{"$f":"D72/VLOOKUP(A72, '2020-2022 Composite Index Data'!$A$5:$G$139, 7, FALSE)","v":173445.76854907192},null,879.86680837857421,5.09872923621208E-3,"BELOW"]
[66,"NORTHUMBERLAND",{"$f":"VLOOKUP(A73,'True Value of Property'!$B$6:$E$140,4,FALSE)","v":2967245739.9950027},{"$f":"VLOOKUP(A73, '2020-2022 Composite Index Data'!$A$5:$C$139, 3, FALSE)","v":3006211990.3277965},null,38966250.332793713,1.3132127820616346E-2,"BELOW",null,{"$f":"C73/VLOOKUP(A73,'ADM & Population Analysis'!$A$10:$C$144,3,FALSE)","v":2321843.0323051424},{"$f":"D73/VLOOKUP(A73, '2020-2022 Composite Index Data'!$A$5:$F$139, 6, FALSE)","v":2468985.4469302446},null,147142.41462510219,6.3373110317030412E-2,"BELOW",null,{"$f":"C73/VLOOKUP(A73,'ADM & Population Analysis'!$A$10:$J$144,10,FALSE)","v":242818.80032692332},{"$f":"D73/VLOOKUP(A73, '2020-2022 Composite Index Data'!$A$5:$G$139, 7, FALSE)","v":249416.07818201248},null,6597.2778550891671,2.7169551312364641E-2,"BELOW"]
[67,"NOTTOWAY",{"$f":"VLOOKUP(A74,'True Value of Property'!$B$6:$E$140,4,FALSE)","v":1082405093.7497156},{"$f":"VLOOKUP(A74, '2020-2022 Composite Index Data'!$A$5:$C$139, 3, FALSE)","v":1206276137.4249439},null,123871043.67522836,0.11444055870626847,{"$f":"IF(G74<$G$146,\"BELOW\", \"ABOVE\")","v":"ABOVE"},null,{"$f":"C74/VLOOKUP(A74,'ADM & Population Analysis'!$A$10:$C$144,3,FALSE)","v":517204.26880242518},{"$f":"D74/VLOOKUP(A74, '2020-2022 Composite Index Data'!$A$5:$F$139, 6, FALSE)","v":616069.36467704305},null,{"$f":"K74-J74","v":98865.095874617866},{"$f":"M74/J74","v":0.19115290000126597},"ABOVE",null,{"$f":"C74/VLOOKUP(A74,'ADM & Population Analysis'!$A$10:$J$144,10,FALSE)","v":66564.485194619978},{"$f":"D74/VLOOKUP(A74, '2020-2022 Composite Index Data'!$A$5:$G$139, 7, FALSE)","v":76129.765694221773},null,{"$f":"R74-Q74","v":9565.2804996017949},{"$f":"T74/Q74","v":0.14369945882755661},"ABOVE"]
[68,"ORANGE",{"$f":"VLOOKUP(A75,'True Value of Property'!$B$6:$E$140,4,FALSE)","v":4579356935.234251},{"$f":"VLOOKUP(A75, '2020-2022 Composite Index Data'!$A$5:$C$139, 3, FALSE)","v":4660934258.5186081},null,{"$f":"D75-C75","v":81577323.284357071},{"$f":"F75/C75","v":1.7814143871749559E-2},"BELOW",null,{"$f":"C75/VLOOKUP(A75,'ADM & Population Analysis'!$A$10:$C$144,3,FALSE)","v":946095.34906818229},{"$f":"D75/VLOOKUP(A75, '2020-2022 Composite Index Data'!$A$5:$F$139, 6, FALSE)","v":982165.31597228744},null,36069.966904105153,3.812508637700289E-2,{"$f":"IF(N75<$N$146,\"BELOW\", \"ABOVE\")","v":"BELOW"},null,{"$f":"C75/VLOOKUP(A75,'ADM & Population Analysis'!$A$10:$J$144,10,FALSE)","v":134627.57416534619},{"$f":"D75/VLOOKUP(A75, '2020-2022 Composite Index Data'!$A$5:$G$139, 7, FALSE)","v":135017.35924563624},null,389.78508029005025,2.895284140018196E-3,{"$f":"IF(U75<$U$146,\"BELOW\", \"ABOVE\")","v":"BELOW"}]
[69,"PAGE",{"$f":"VLOOKUP(A76,'True Value of Property'!$B$6:$E$140,4,FALSE)","v":2307337792.8540144},{"$f":"VLOOKUP(A76, '2020-2022 Composite Index Data'!$A$5:$C$139, 3, FALSE)","v":2626726549.2020202},null,319388756.34800577,0.13842305939649363,"ABOVE",null,{"$f":"C76/VLOOKUP(A76,'ADM & Population Analysis'!$A$10:$C$144,3,FALSE)","v":703407.31986903795},{"$f":"D76/VLOOKUP(A76, '2020-2022 Composite Index Data'!$A$5:$F$139, 6, FALSE)","v":812400.54223469598},null,108993.22236565803,0.15495036700208159,"ABOVE",null,{"$f":"C76/VLOOKUP(A76,'ADM & Population Analysis'!$A$10:$J$144,10,FALSE)","v":97278.038401872531},{"$f":"D76/VLOOKUP(A76, '2020-2022 Composite Index Data'!$A$5:$G$139, 7, FALSE)","v":110996.26237912614},null,13718.223977253612,0.14102077100466642,"ABOVE"]
[70,"PATRICK",{"$f":"VLOOKUP(A77,'True Value of Property'!$B$6:$E$140,4,FALSE)","v":1649767603.0843568},{"$f":"VLOOKUP(A77, '2020-2022 Composite Index Data'!$A$5:$C$139, 3, FALSE)","v":1637838595.3285484},null,-11929007.755808353,-7.2307200926398562E-3,"BELOW",null,{"$f":"C77/VLOOKUP(A77,'ADM & Population Analysis'!$A$10:$C$144,3,FALSE)","v":589158.52849763294},{"$f":"D77/VLOOKUP(A77, '2020-2022 Composite Index Data'!$A$5:$F$139, 6, FALSE)","v":632765.89810172713},null,43607.369604094187,7.4016359765331635E-2,"ABOVE",null,{"$f":"C77/VLOOKUP(A77,'ADM & Population Analysis'!$A$10:$J$144,10,FALSE)","v":89418.298270154846},{"$f":"D77/VLOOKUP(A77, '2020-2022 Composite Index Data'!$A$5:$G$139, 7, FALSE)","v":91346.268562663041},null,1927.9702925081947,2.1561250099876857E-2,"BELOW"]
[71,"PITTSYLVANIA",{"$f":"VLOOKUP(A78,'True Value of Property'!$B$6:$E$140,4,FALSE)","v":4846648595.4674702},{"$f":"VLOOKUP(A78, '2020-2022 Composite Index Data'!$A$5:$C$139, 3, FALSE)","v":4917968784.6168776},null,71320189.149407387,1.4715362119734697E-2,"BELOW",null,{"$f":"C78/VLOOKUP(A78,'ADM & Population Analysis'!$A$10:$C$144,3,FALSE)","v":547526.97960181057},{"$f":"D78/VLOOKUP(A78, '2020-2022 Composite Index Data'!$A$5:$F$139, 6, FALSE)","v":570532.0070275045},null,23005.02742569393,4.2016244464198556E-2,"BELOW",null,{"$f":"C78/VLOOKUP(A78,'ADM & Population Analysis'!$A$10:$J$144,10,FALSE)","v":76620.798284206307},{"$f":"D78/VLOOKUP(A78, '2020-2022 Composite Index Data'!$A$5:$G$139, 7, FALSE)","v":79110.265814382103},null,2489.4675301757961,3.2490754285040453E-2,"BELOW"]
[72,"POWHATAN",{"$f":"VLOOKUP(A79,'True Value of Property'!$B$6:$E$140,4,FALSE)","v":3869102071.9114585},{"$f":"VLOOKUP(A79, '2020-2022 Composite Index Data'!$A$5:$C$139, 3, FALSE)","v":4252961337.0146441},null,383859265.10318565,9.9211459912079053E-2,"ABOVE",null,{"$f":"C79/VLOOKUP(A79,'ADM & Population Analysis'!$A$10:$C$144,3,FALSE)","v":917921.19037440862},{"$f":"D79/VLOOKUP(A79, '2020-2022 Composite Index Data'!$A$5:$F$139, 6, FALSE)","v":1007803.5788879805},null,89882.388513571932,9.7919504916222741E-2,"ABOVE",null,{"$f":"C79/VLOOKUP(A79,'ADM & Population Analysis'!$A$10:$J$144,10,FALSE)","v":136034.81020713938},{"$f":"D79/VLOOKUP(A79, '2020-2022 Composite Index Data'!$A$5:$G$139, 7, FALSE)","v":145819.15027822272},null,9784.3400710833375,7.1925267188484937E-2,"ABOVE"]
[73,"PRINCE EDWARD",{"$f":"VLOOKUP(A80,'True Value of Property'!$B$6:$E$140,4,FALSE)","v":1683097600.6877339},{"$f":"VLOOKUP(A80, '2020-2022 Composite Index Data'!$A$5:$C$139, 3, FALSE)","v":1735744005.9118435},null,52646405.22410965,3.1279472564513015E-2,"BELOW",null,{"$f":"C80/VLOOKUP(A80,'ADM & Population Analysis'!$A$10:$C$144,3,FALSE)","v":851882.13058789819},{"$f":"D80/VLOOKUP(A80, '2020-2022 Composite Index Data'!$A$5:$F$139, 6, FALSE)","v":881862.75557308889},null,29980.62498519069,3.5193395786457637E-2,"BELOW",null,{"$f":"C80/VLOOKUP(A80,'ADM & Population Analysis'!$A$10:$J$144,10,FALSE)","v":71224.137814215806},{"$f":"D80/VLOOKUP(A80, '2020-2022 Composite Index Data'!$A$5:$G$139, 7, FALSE)","v":74742.453856600943},null,3518.3160423851368,4.9397804597683836E-2,"BELOW"]
[74,"PRINCE GEORGE",{"$f":"VLOOKUP(A81,'True Value of Property'!$B$6:$E$140,4,FALSE)","v":3014849483.3194718},{"$f":"VLOOKUP(A81, '2020-2022 Composite Index Data'!$A$5:$C$139, 3, FALSE)","v":3250105232.5275345},null,235255749.20806265,7.8032336443223202E-2,"ABOVE",null,{"$f":"C81/VLOOKUP(A81,'ADM & Population Analysis'!$A$10:$C$144,3,FALSE)","v":479095.83560224826},{"$f":"D81/VLOOKUP(A81, '2020-2022 Composite Index Data'!$A$5:$F$139, 6, FALSE)","v":525119.3165797476},null,46023.480977499334,9.606320397180125E-2,"ABOVE",null,{"$f":"C81/VLOOKUP(A81,'ADM & Population Analysis'!$A$10:$J$144,10,FALSE)","v":81194.944475491415},{"$f":"D81/VLOOKUP(A81, '2020-2022 Composite Index Data'!$A$5:$G$139, 7, FALSE)","v":87781.370223566089},null,6586.4257480746746,8.1118668047895248E-2,"ABOVE"]
[75,"PRINCE WILLIAM",{"$f":"VLOOKUP(A82,'True Value of Property'!$B$6:$E$140,4,FALSE)","v":58784909112.445976},{"$f":"VLOOKUP(A82, '2020-2022 Composite Index Data'!$A$5:$C$139, 3, FALSE)","v":64496713588.881714},null,5711804476.4357376,9.7164468954268252E-2,"ABOVE",null,{"$f":"C82/VLOOKUP(A82,'ADM & Population Analysis'!$A$10:$C$144,3,FALSE)","v":692449.22458107234},{"$f":"D82/VLOOKUP(A82, '2020-2022 Composite Index Data'!$A$5:$F$139, 6, FALSE)","v":738681.51788670104},null,46232.2933056287,6.6766329810823255E-2,"BELOW",null,{"$f":"C82/VLOOKUP(A82,'ADM & Population Analysis'!$A$10:$J$144,10,FALSE)","v":132558.76840333009},{"$f":"D82/VLOOKUP(A82, '2020-2022 Composite Index Data'!$A$5:$G$139, 7, FALSE)","v":141443.26320507404},null,8884.4948017439456,6.7023063873915364E-2,"ABOVE"]
[77,"PULASKI",{"$f":"VLOOKUP(A83,'True Value of Property'!$B$6:$E$140,4,FALSE)","v":2955324153.6391053},{"$f":"VLOOKUP(A83, '2020-2022 Composite Index Data'!$A$5:$C$139, 3, FALSE)","v":3030751356.2835822},null,75427202.644476891,2.5522480351807736E-2,"BELOW",null,{"$f":"C83/VLOOKUP(A83,'ADM & Population Analysis'!$A$10:$C$144,3,FALSE)","v":704786.33452075138},{"$f":"D83/VLOOKUP(A83, '2020-2022 Composite Index Data'!$A$5:$F$139, 6, FALSE)","v":755067.75396463822},null,50281.419443886844,7.1342784303668111E-2,"ABOVE",null,{"$f":"C83/VLOOKUP(A83,'ADM & Population Analysis'!$A$10:$J$144,10,FALSE)","v":84823.172516262595},{"$f":"D83/VLOOKUP(A83, '2020-2022 Composite Index Data'!$A$5:$G$139, 7, FALSE)","v":87931.974244453595},null,3108.8017281909997,3.665038262504234E-2,"BELOW"]
[78,"RAPPAHANNOCK",{"$f":"VLOOKUP(A84,'True Value of Property'!$B$6:$E$140,4,FALSE)","v":1990142500.2665949},{"$f":"VLOOKUP(A84, '2020-2022 Composite Index Data'!$A$5:$C$139, 3, FALSE)","v":2116665131.3772788},null,126522631.11068392,6.357465914814403E-2,"BELOW",null,{"$f":"C84/VLOOKUP(A84,'ADM & Population Analysis'!$A$10:$C$144,3,FALSE)","v":2290732.4066698072},{"$f":"D84/VLOOKUP(A84, '2020-2022 Composite Index Data'!$A$5:$F$139, 6, FALSE)","v":2588622.849253105},null,297890.44258329784,0.13004157173310407,"ABOVE",null,{"$f":"C84/VLOOKUP(A84,'ADM & Population Analysis'!$A$10:$J$144,10,FALSE)","v":272323.82324392378},{"$f":"D84/VLOOKUP(A84, '2020-2022 Composite Index Data'!$A$5:$G$139, 7, FALSE)","v":290431.54931082309},null,18107.726066899311,6.6493360188616332E-2,"ABOVE"]
[79,"RICHMOND COUNTY",{"$f":"VLOOKUP(A85,'True Value of Property'!$B$6:$E$140,4,FALSE)","v":920660028.70180047},{"$f":"VLOOKUP(A85, '2020-2022 Composite Index Data'!$A$5:$C$139, 3, FALSE)","v":1002618539.3058923},null,81958510.604091883,8.9021471606255689E-2,"ABOVE",null,{"$f":"C85/VLOOKUP(A85,'ADM & Population Analysis'!$A$10:$C$144,3,FALSE)","v":738086.86241486063},{"$f":"D85/VLOOKUP(A85, '2020-2022 Composite Index Data'!$A$5:$F$139, 6, FALSE)","v":786028.41072940489},null,47941.548314544256,6.4953802534419694E-2,"BELOW",null,{"$f":"C85/VLOOKUP(A85,'ADM & Population Analysis'!$A$10:$J$144,10,FALSE)","v":100960.63479567941},{"$f":"D85/VLOOKUP(A85, '2020-2022 Composite Index Data'!$A$5:$G$139, 7, FALSE)","v":110250.55413524217},null,9289.9193395627663,9.2015262764179123E-2,"ABOVE"]
[80,"ROANOKE COUNTY",{"$f":"VLOOKUP(A86,'True Value of Property'!$B$6:$E$140,4,FALSE)","v":9060921998.5536594},{"$f":"VLOOKUP(A86, '2020-2022 Composite Index Data'!$A$5:$C$139, 3, FALSE)","v":9484304507.0225658},null,423382508.4689064,4.6726206067824932E-2,"BELOW",null,{"$f":"C86/VLOOKUP(A86,'ADM & Population Analysis'!$A$10:$C$144,3,FALSE)","v":648042.3744083395},{"$f":"D86/VLOOKUP(A86, '2020-2022 Composite Index Data'!$A$5:$F$139, 6, FALSE)","v":688317.87791114615},null,40275.503502806649,6.2149490671158727E-2,"BELOW",null,{"$f":"C86/VLOOKUP(A86,'ADM & Population Analysis'!$A$10:$J$144,10,FALSE)","v":96624.068233043552},{"$f":"D86/VLOOKUP(A86, '2020-2022 Composite Index Data'!$A$5:$G$139, 7, FALSE)","v":101182.10387819455},null,4558.0356451510015,4.7172880717024517E-2,"BELOW"]
[81,"ROCKBRIDGE",{"$f":"VLOOKUP(A87,'True Value of Property'!$B$6:$E$140,4,FALSE)","v":2929929490.7019277},{"$f":"VLOOKUP(A87, '2020-2022 Composite Index Data'!$A$5:$C$139, 3, FALSE)","v":3237676337.9390926},null,307746847.23716497,0.10503558130453085,"ABOVE",null,{"$f":"C87/VLOOKUP(A87,'ADM & Population Analysis'!$A$10:$C$144,3,FALSE)","v":1148424.5003260849},{"$f":"D87/VLOOKUP(A87, '2020-2022 Composite Index Data'!$A$5:$F$139, 6, FALSE)","v":1257550.2654555065},null,109125.7651294216,9.5022149996309133E-2,"ABOVE",null,{"$f":"C87/VLOOKUP(A87,'ADM & Population Analysis'!$A$10:$J$144,10,FALSE)","v":132199.13778378052},{"$f":"D87/VLOOKUP(A87, '2020-2022 Composite Index Data'!$A$5:$G$139, 7, FALSE)","v":143285.37519645478},null,11086.237412674265,8.3860134026036232E-2,"ABOVE"]
[82,"ROCKINGHAM",{"$f":"VLOOKUP(A88,'True Value of Property'!$B$6:$E$140,4,FALSE)","v":9657180438.8506355},{"$f":"VLOOKUP(A88, '2020-2022 Composite Index Data'!$A$5:$C$139, 3, FALSE)","v":10539136675.836027},null,881956236.98539162,9.132647386780722E-2,"ABOVE",null,{"$f":"C88/VLOOKUP(A88,'ADM & Population Analysis'!$A$10:$C$144,3,FALSE)","v":855580.07624953683},{"$f":"D88/VLOOKUP(A88, '2020-2022 Composite Index Data'!$A$5:$F$139, 6, FALSE)","v":936597.35596956674},null,81017.27972002991,9.4692807802598436E-2,"ABOVE",null,{"$f":"C88/VLOOKUP(A88,'ADM & Population Analysis'!$A$10:$J$144,10,FALSE)","v":122035.7929442545},{"$f":"D88/VLOOKUP(A88, '2020-2022 Composite Index Data'!$A$5:$G$139, 7, FALSE)","v":130651.53442387161},null,8615.741479617107,7.0600118799184972E-2,"ABOVE"]
[83,"RUSSELL",{"$f":"VLOOKUP(A89,'True Value of Property'!$B$6:$E$140,4,FALSE)","v":2003212219.6750271},{"$f":"VLOOKUP(A89, '2020-2022 Composite Index Data'!$A$5:$C$139, 3, FALSE)","v":2142651703.8957539},null,139439484.22072673,6.960794410656472E-2,"BELOW",null,{"$f":"C89/VLOOKUP(A89,'ADM & Population Analysis'!$A$10:$C$144,3,FALSE)","v":520317.56520164444},{"$f":"D89/VLOOKUP(A89, '2020-2022 Composite Index Data'!$A$5:$F$139, 6, FALSE)","v":590376.02399794827},null,70058.458796303836,0.13464557701247951,"ABOVE",null,{"$f":"C89/VLOOKUP(A89,'ADM & Population Analysis'!$A$10:$J$144,10,FALSE)","v":71522.858457405993},{"$f":"D89/VLOOKUP(A89, '2020-2022 Composite Index Data'!$A$5:$G$139, 7, FALSE)","v":78459.544615172796},null,6936.6861577668024,9.6985583453684354E-2,"ABOVE"]
[84,"SCOTT",{"$f":"VLOOKUP(A90,'True Value of Property'!$B$6:$E$140,4,FALSE)","v":1411693443.4263144},{"$f":"VLOOKUP(A90, '2020-2022 Composite Index Data'!$A$5:$C$139, 3, FALSE)","v":1449588768.8548353},null,37895325.428520918,2.6843877192306961E-2,"BELOW",null,{"$f":"C90/VLOOKUP(A90,'ADM & Population Analysis'!$A$10:$C$144,3,FALSE)","v":398774.44674310024},{"$f":"D90/VLOOKUP(A90, '2020-2022 Composite Index Data'!$A$5:$F$139, 6, FALSE)","v":422437.12464697124},null,23662.677903870994,5.9338500992554923E-2,"BELOW",null,{"$f":"C90/VLOOKUP(A90,'ADM & Population Analysis'!$A$10:$J$144,10,FALSE)","v":62027.920533692799},{"$f":"D90/VLOOKUP(A90, '2020-2022 Composite Index Data'!$A$5:$G$139, 7, FALSE)","v":64780.299810288925},null,2752.3792765961261,4.4373231488569212E-2,"BELOW"]
[85,"SHENANDOAH",{"$f":"VLOOKUP(A91,'True Value of Property'!$B$6:$E$140,4,FALSE)","v":5363197964.8146381},{"$f":"VLOOKUP(A91, '2020-2022 Composite Index Data'!$A$5:$C$139, 3, FALSE)","v":5560973201.7541246},null,197775236.9394865,3.6876363363238629E-2,"BELOW",null,{"$f":"C91/VLOOKUP(A91,'ADM & Population Analysis'!$A$10:$C$144,3,FALSE)","v":919536.72778647894},{"$f":"D91/VLOOKUP(A91, '2020-2022 Composite Index Data'!$A$5:$F$139, 6, FALSE)","v":956644.28036368906},null,37107.552577210125,4.0354617119574894E-2,"BELOW",null,{"$f":"C91/VLOOKUP(A91,'ADM & Population Analysis'!$A$10:$J$144,10,FALSE)","v":127005.72996150986},{"$f":"D91/VLOOKUP(A91, '2020-2022 Composite Index Data'!$A$5:$G$139, 7, FALSE)","v":130769.50503830981},null,3763.7750767999532,2.9634687174669966E-2,"BELOW"]
[86,"SMYTH",{"$f":"VLOOKUP(A92,'True Value of Property'!$B$6:$E$140,4,FALSE)","v":1911765583.545476},{"$f":"VLOOKUP(A92, '2020-2022 Composite Index Data'!$A$5:$C$139, 3, FALSE)","v":2050943352.2474034},null,139177768.70192742,7.2800645591607774E-2,"BELOW",null,{"$f":"C92/VLOOKUP(A92,'ADM & Population Analysis'!$A$10:$C$144,3,FALSE)","v":434238.54329300299},{"$f":"D92/VLOOKUP(A92, '2020-2022 Composite Index Data'!$A$5:$F$139, 6, FALSE)","v":486256.72794178117},null,52018.184648778173,0.11979172611971213,"ABOVE",null,{"$f":"C92/VLOOKUP(A92,'ADM & Population Analysis'!$A$10:$J$144,10,FALSE)","v":60851.309276680651},{"$f":"D92/VLOOKUP(A92, '2020-2022 Composite Index Data'!$A$5:$G$139, 7, FALSE)","v":66836.451549481964},null,5985.1422728013131,9.8356836425456021E-2,"ABOVE"]
[87,"SOUTHAMPTON",{"$f":"VLOOKUP(A93,'True Value of Property'!$B$6:$E$140,4,FALSE)","v":1916893450.3137805},{"$f":"VLOOKUP(A93, '2020-2022 Composite Index Data'!$A$5:$C$139, 3, FALSE)","v":2105916475.5673299},null,189023025.25354934,9.8609041218544385E-2,"ABOVE",null,{"$f":"C93/VLOOKUP(A93,'ADM & Population Analysis'!$A$10:$C$144,3,FALSE)","v":729128.51568789151},{"$f":"D93/VLOOKUP(A93, '2020-2022 Composite Index Data'!$A$5:$F$139, 6, FALSE)","v":798345.80266782793},null,69217.286979936413,9.4931531946235589E-2,"ABOVE",null,{"$f":"C93/VLOOKUP(A93,'ADM & Population Analysis'!$A$10:$J$144,10,FALSE)","v":103331.00373639051},{"$f":"D93/VLOOKUP(A93, '2020-2022 Composite Index Data'!$A$5:$G$139, 7, FALSE)","v":116226.97033872343},null,12895.966602332919,0.12480249040483569,"ABOVE"]
[88,"SPOTSYLVANIA",{"$f":"VLOOKUP(A94,'True Value of Property'!$B$6:$E$140,4,FALSE)","v":16138769357.51502},{"$f":"VLOOKUP(A94, '2020-2022 Composite Index Data'!$A$5:$C$139, 3, FALSE)","v":17549263472.548038},null,1410494115.0330181,8.7397873021601943E-2,"ABOVE",null,{"$f":"C94/VLOOKUP(A94,'ADM & Population Analysis'!$A$10:$C$144,3,FALSE)","v":698841.945211421},{"$f":"D94/VLOOKUP(A94, '2020-2022 Composite Index Data'!$A$5:$F$139, 6, FALSE)","v":756967.56301202218},null,58125.617800601176,8.3174197254311064E-2,"ABOVE",null,{"$f":"C94/VLOOKUP(A94,'ADM & Population Analysis'!$A$10:$J$144,10,FALSE)","v":125108.67887498271},{"$f":"D94/VLOOKUP(A94, '2020-2022 Composite Index Data'!$A$5:$G$139, 7, FALSE)","v":133404.76531595099},null,8296.0864409682836,6.63110386551065E-2,"ABOVE"]
[89,"STAFFORD",{"$f":"VLOOKUP(A95,'True Value of Property'!$B$6:$E$140,4,FALSE)","v":17965419467.794609},{"$f":"VLOOKUP(A95, '2020-2022 Composite Index Data'!$A$5:$C$139, 3, FALSE)","v":19587826223.531853},null,1622406755.7372437,9.0307201490375577E-2,"ABOVE",null,{"$f":"C95/VLOOKUP(A95,'ADM & Population Analysis'!$A$10:$C$144,3,FALSE)","v":652847.60526243609},{"$f":"D95/VLOOKUP(A95, '2020-2022 Composite Index Data'!$A$5:$F$139, 6, FALSE)","v":687608.448080217},null,34760.842817780911,5.3244957226744383E-2,"BELOW",null,{"$f":"C95/VLOOKUP(A95,'ADM & Population Analysis'!$A$10:$J$144,10,FALSE)","v":128163.30518629872},{"$f":"D95/VLOOKUP(A95, '2020-2022 Composite Index Data'!$A$5:$G$139, 7, FALSE)","v":134440.36145431234},null,6277.0562680136209,4.8977016150521913E-2,"BELOW"]
[90,"SURRY",{"$f":"VLOOKUP(A96,'True Value of Property'!$B$6:$E$140,4,FALSE)","v":2663022868.8000984},{"$f":"VLOOKUP(A96, '2020-2022 Composite Index Data'!$A$5:$C$139, 3, FALSE)","v":2840333103.9658718},null,177310235.16577339,6.6582317877602618E-2,"BELOW",null,{"$f":"C96/VLOOKUP(A96,'ADM & Population Analysis'!$A$10:$C$144,3,FALSE)","v":3389492.8771622926},{"$f":"D96/VLOOKUP(A96, '2020-2022 Composite Index Data'!$A$5:$F$139, 6, FALSE)","v":3884747.4580672528},null,495254.58090496017,0.14611465456732006,"ABOVE",null,{"$f":"C96/VLOOKUP(A96,'ADM & Population Analysis'!$A$10:$J$144,10,FALSE)","v":390529.82384515303},{"$f":"D96/VLOOKUP(A96, '2020-2022 Composite Index Data'!$A$5:$G$139, 7, FALSE)","v":425581.82558673539},null,35052.001741582353,8.9754993348422588E-2,"ABOVE"]
[91,"SUSSEX",{"$f":"VLOOKUP(A97,'True Value of Property'!$B$6:$E$140,4,FALSE)","v":985375129.81143045},{"$f":"VLOOKUP(A97, '2020-2022 Composite Index Data'!$A$5:$C$139, 3, FALSE)","v":1028597204.1583422},null,43222074.346911788,4.3863573414099785E-2,"BELOW",null,{"$f":"C97/VLOOKUP(A97,'ADM & Population Analysis'!$A$10:$C$144,3,FALSE)","v":963268.12631255726},{"$f":"D97/VLOOKUP(A97, '2020-2022 Composite Index Data'!$A$5:$F$139, 6, FALSE)","v":1008962.7882980619},null,45694.661985504674,4.7437116143795109E-2,"BELOW",null,{"$f":"C97/VLOOKUP(A97,'ADM & Population Analysis'!$A$10:$J$144,10,FALSE)","v":82895.190528428575},{"$f":"D97/VLOOKUP(A97, '2020-2022 Composite Index Data'!$A$5:$G$139, 7, FALSE)","v":88253.728370514131},null,5358.5378420855559,6.4642324939802959E-2,"ABOVE"]
[92,"TAZEWELL",{"$f":"VLOOKUP(A98,'True Value of Property'!$B$6:$E$140,4,FALSE)","v":2890893582.5284963},{"$f":"VLOOKUP(A98, '2020-2022 Composite Index Data'!$A$5:$C$139, 3, FALSE)","v":2929410024.421875},null,38516441.893378735,1.3323368983956389E-2,"BELOW",null,{"$f":"C98/VLOOKUP(A98,'ADM & Population Analysis'!$A$10:$C$144,3,FALSE)","v":487001.34979447757},{"$f":"D98/VLOOKUP(A98, '2020-2022 Composite Index Data'!$A$5:$F$139, 6, FALSE)","v":520720.12933913444},null,33718.779544656863,6.9237548435721441E-2,"ABOVE",null,{"$f":"C98/VLOOKUP(A98,'ADM & Population Analysis'!$A$10:$J$144,10,FALSE)","v":65626.0603057478},{"$f":"D98/VLOOKUP(A98, '2020-2022 Composite Index Data'!$A$5:$G$139, 7, FALSE)","v":68807.488711933926},null,3181.4284061861254,4.8478125783629936E-2,"BELOW"]
[93,"WARREN",{"$f":"VLOOKUP(A99,'True Value of Property'!$B$6:$E$140,4,FALSE)","v":5684050581.9539289},{"$f":"VLOOKUP(A99, '2020-2022 Composite Index Data'!$A$5:$C$139, 3, FALSE)","v":6023427519.9794588},null,339376938.02552986,5.9706882113787746E-2,"BELOW",null,{"$f":"C99/VLOOKUP(A99,'ADM & Population Analysis'!$A$10:$C$144,3,FALSE)","v":1065920.0383221339},{"$f":"D99/VLOOKUP(A99, '2020-2022 Composite Index Data'!$A$5:$F$139, 6, FALSE)","v":1140828.7552495534},null,74908.716927419417,7.0276112873657315E-2,"ABOVE",null,{"$f":"C99/VLOOKUP(A99,'ADM & Population Analysis'!$A$10:$J$144,10,FALSE)","v":146386.73625264439},{"$f":"D99/VLOOKUP(A99, '2020-2022 Composite Index Data'!$A$5:$G$139, 7, FALSE)","v":153506.14235784445},null,7119.4061052000616,4.863422935335409E-2,"BELOW"]
[94,"WASHINGTON",{"$f":"VLOOKUP(A100,'True Value of Property'!$B$6:$E$140,4,FALSE)","v":5232344009.2171783},{"$f":"VLOOKUP(A100, '2020-2022 Composite Index Data'!$A$5:$C$139, 3, FALSE)","v":5482514964.2722025},null,250170955.05502415,4.7812405800216631E-2,"BELOW",null,{"$f":"C100/VLOOKUP(A100,'ADM & Population Analysis'!$A$10:$C$144,3,FALSE)","v":738034.04285692621},{"$f":"D100/VLOOKUP(A100, '2020-2022 Composite Index Data'!$A$5:$F$139, 6, FALSE)","v":785506.7366811235},null,47472.693824197282,6.4323176259499779E-2,"BELOW",null,{"$f":"C100/VLOOKUP(A100,'ADM & Population Analysis'!$A$10:$J$144,10,FALSE)","v":96662.553283154964},{"$f":"D100/VLOOKUP(A100, '2020-2022 Composite Index Data'!$A$5:$G$139, 7, FALSE)","v":101926.32256171713},null,5263.7692785621621,5.4455102827078543E-2,"BELOW"]
[95,"WESTMORELAND",{"$f":"VLOOKUP(A101,'True Value of Property'!$B$6:$E$140,4,FALSE)","v":2163936548.5050507},{"$f":"VLOOKUP(A101, '2020-2022 Composite Index Data'!$A$5:$C$139, 3, FALSE)","v":2132048750.1497116},null,-31887798.35533905,-1.4736013575522186E-2,"BELOW",null,{"$f":"C101/VLOOKUP(A101,'ADM & Population Analysis'!$A$10:$C$144,3,FALSE)","v":1385380.4456555466},{"$f":"D101/VLOOKUP(A101, '2020-2022 Composite Index Data'!$A$5:$F$139, 6, FALSE)","v":1403938.2795891743},null,18557.833933627699,1.3395478470786657E-2,"BELOW",null,{"$f":"C101/VLOOKUP(A101,'ADM & Population Analysis'!$A$10:$J$144,10,FALSE)","v":152982.43538388482},{"$f":"D101/VLOOKUP(A101, '2020-2022 Composite Index Data'!$A$5:$G$139, 7, FALSE)","v":150239.50039811933},null,-2742.9349857654888,-1.7929738004775087E-2,"BELOW"]
[96,"WISE",{"$f":"VLOOKUP(A102,'True Value of Property'!$B$6:$E$140,4,FALSE)","v":3514761351.4171143},{"$f":"VLOOKUP(A102, '2020-2022 Composite Index Data'!$A$5:$C$139, 3, FALSE)","v":3462392703.2608471},null,-52368648.156267166,-1.4899631275151209E-2,"BELOW",null,{"$f":"C102/VLOOKUP(A102,'ADM & Population Analysis'!$A$10:$C$144,3,FALSE)","v":610868.70061527507},{"$f":"D102/VLOOKUP(A102, '2020-2022 Composite Index Data'!$A$5:$F$139, 6, FALSE)","v":621056.98713199049},null,10188.286516715423,1.6678357405533539E-2,"BELOW",null,{"$f":"C102/VLOOKUP(A102,'ADM & Population Analysis'!$A$10:$J$144,10,FALSE)","v":87994.425842253069},{"$f":"D102/VLOOKUP(A102, '2020-2022 Composite Index Data'!$A$5:$G$139, 7, FALSE)","v":88477.568887150162},null,483.1430448970932,5.4906096638805283E-3,"BELOW"]
[97,"WYTHE",{"$f":"VLOOKUP(A103,'True Value of Property'!$B$6:$E$140,4,FALSE)","v":2794606044.1296806},{"$f":"VLOOKUP(A103, '2020-2022 Composite Index Data'!$A$5:$C$139, 3, FALSE)","v":2999424650.148581},null,204818606.01890039,7.3290690274266088E-2,"ABOVE",null,{"$f":"C103/VLOOKUP(A103,'ADM & Population Analysis'!$A$10:$C$144,3,FALSE)","v":684722.54270739504},{"$f":"D103/VLOOKUP(A103, '2020-2022 Composite Index Data'!$A$5:$F$139, 6, FALSE)","v":749985.53504194005},null,65262.992334545008,9.531304764188854E-2,"ABOVE",null,{"$f":"C103/VLOOKUP(A103,'ADM & Population Analysis'!$A$10:$J$144,10,FALSE)","v":97227.361240290877},{"$f":"D103/VLOOKUP(A103, '2020-2022 Composite Index Data'!$A$5:$G$139, 7, FALSE)","v":104425.8834435324},null,7198.5222032415186,7.4038029124855659E-2,"ABOVE"]
[98,"YORK",{"$f":"VLOOKUP(A104,'True Value of Property'!$B$6:$E$140,4,FALSE)","v":9444497028.5649796},{"$f":"VLOOKUP(A104, '2020-2022 Composite Index Data'!$A$5:$C$139, 3, FALSE)","v":9947911300.6336079},null,503414272.06862831,5.3302390857453461E-2,"BELOW",null,{"$f":"C104/VLOOKUP(A104,'ADM & Population Analysis'!$A$10:$C$144,3,FALSE)","v":754243.75777662976},{"$f":"D104/VLOOKUP(A104, '2020-2022 Composite Index Data'!$A$5:$F$139, 6, FALSE)","v":788908.18357850995},null,34664.425801880192,4.5959181556986917E-2,"BELOW",null,{"$f":"C104/VLOOKUP(A104,'ADM & Population Analysis'!$A$10:$J$144,10,FALSE)","v":135958.55567565397},{"$f":"D104/VLOOKUP(A104, '2020-2022 Composite Index Data'!$A$5:$G$139, 7, FALSE)","v":144402.83496347233},null,8444.2792878183536,6.2109215899315902E-2,"BELOW"]
[101,"ALEXANDRIA",{"$f":"VLOOKUP(A105,'True Value of Property'!$B$6:$E$140,4,FALSE)","v":38423290440.087097},{"$f":"VLOOKUP(A105, '2020-2022 Composite Index Data'!$A$5:$C$139, 3, FALSE)","v":40241761138.620949},null,1818470698.5338516,4.7327302729821323E-2,"BELOW",null,{"$f":"C105/VLOOKUP(A105,'ADM & Population Analysis'!$A$10:$C$144,3,FALSE)","v":2679272.7980234977},{"$f":"D105/VLOOKUP(A105, '2020-2022 Composite Index Data'!$A$5:$F$139, 6, FALSE)","v":2684964.2668927801},null,5691.4688692823984,2.1242588188410678E-3,"BELOW",null,{"$f":"C105/VLOOKUP(A105,'ADM & Population Analysis'!$A$10:$J$144,10,FALSE)","v":240791.18661966835},{"$f":"D105/VLOOKUP(A105, '2020-2022 Composite Index Data'!$A$5:$G$139, 7, FALSE)","v":250385.83576690342},null,9594.6491472350608,3.984634687809354E-2,"BELOW"]
[102,"BRISTOL",{"$f":"VLOOKUP(A106,'True Value of Property'!$B$6:$E$140,4,FALSE)","v":1179371645.864876},{"$f":"VLOOKUP(A106, '2020-2022 Composite Index Data'!$A$5:$C$139, 3, FALSE)","v":1301914172.7526095},null,122542526.88773346,0.10390492879610361,{"$f":"IF(G106<$G$146,\"BELOW\", \"ABOVE\")","v":"ABOVE"},null,{"$f":"C106/VLOOKUP(A106,'ADM & Population Analysis'!$A$10:$C$144,3,FALSE)","v":537735.22303502436},{"$f":"D106/VLOOKUP(A106, '2020-2022 Composite Index Data'!$A$5:$F$139, 6, FALSE)","v":603514.78882664244},null,{"$f":"K106-J106","v":65779.565791618079},{"$f":"M106/J106","v":0.1223270542337779},"ABOVE",null,{"$f":"C106/VLOOKUP(A106,'ADM & Population Analysis'!$A$10:$J$144,10,FALSE)","v":66914.703311482328},{"$f":"D106/VLOOKUP(A106, '2020-2022 Composite Index Data'!$A$5:$G$139, 7, FALSE)","v":75869.124286282604},null,{"$f":"R106-Q106","v":8954.4209748002759},{"$f":"T106/Q106","v":0.133818436482012},"ABOVE"]
[103,"BUENA VISTA",{"$f":"VLOOKUP(A107,'True Value of Property'!$B$6:$E$140,4,FALSE)","v":345560427.11530399},{"$f":"VLOOKUP(A107, '2020-2022 Composite Index Data'!$A$5:$C$139, 3, FALSE)","v":340422447.9868319},null,-5137979.1284720898,-1.486854027633693E-2,"BELOW",null,{"$f":"C107/VLOOKUP(A107,'ADM & Population Analysis'!$A$10:$C$144,3,FALSE)","v":357952.75136765209},{"$f":"D107/VLOOKUP(A107, '2020-2022 Composite Index Data'!$A$5:$F$139, 6, FALSE)","v":381387.25281129288},null,23434.501443640795,6.5468141686586157E-2,{"$f":"IF(N107<$N$146,\"BELOW\", \"ABOVE\")","v":"BELOW"},null,{"$f":"C107/VLOOKUP(A107,'ADM & Population Analysis'!$A$10:$J$144,10,FALSE)","v":50690.982413862992},{"$f":"D107/VLOOKUP(A107, '2020-2022 Composite Index Data'!$A$5:$G$139, 7, FALSE)","v":52992.286423853038},null,2301.3040099900463,4.5398686322573316E-2,{"$f":"IF(U107<$U$146,\"BELOW\", \"ABOVE\")","v":"BELOW"}]
[104,"CHARLOTTESVILLE",{"$f":"VLOOKUP(A108,'True Value of Property'!$B$6:$E$140,4,FALSE)","v":6170868791},{"$f":"VLOOKUP(A108, '2020-2022 Composite Index Data'!$A$5:$C$139, 3, FALSE)","v":7637638791.5555553},null,1466770000.5555553,0.23769262485288764,"ABOVE",null,{"$f":"C108/VLOOKUP(A108,'ADM & Population Analysis'!$A$10:$C$144,3,FALSE)","v":1517772.6049870381},{"$f":"D108/VLOOKUP(A108, '2020-2022 Composite Index Data'!$A$5:$F$139, 6, FALSE)","v":1822938.6051534356},null,305166.00016639754,0.20106173952784165,"ABOVE",null,{"$f":"C108/VLOOKUP(A108,'ADM & Population Analysis'!$A$10:$J$144,10,FALSE)","v":127999.76749637004},{"$f":"D108/VLOOKUP(A108, '2020-2022 Composite Index Data'!$A$5:$G$139, 7, FALSE)","v":155451.41234949839},null,27451.644853128353,0.21446636497919308,"ABOVE"]
[106,"COLONIAL HEIGHTS",{"$f":"VLOOKUP(A109,'True Value of Property'!$B$6:$E$140,4,FALSE)","v":1696534293.2860086},{"$f":"VLOOKUP(A109, '2020-2022 Composite Index Data'!$A$5:$C$139, 3, FALSE)","v":1812640040.8409362},null,116105747.55492759,6.843701775697264E-2,"BELOW",null,{"$f":"C109/VLOOKUP(A109,'ADM & Population Analysis'!$A$10:$C$144,3,FALSE)","v":612507.05579640856},{"$f":"D109/VLOOKUP(A109, '2020-2022 Composite Index Data'!$A$5:$F$139, 6, FALSE)","v":656955.96137974958},null,44448.905583341024,7.2568805800198671E-2,"ABOVE",null,{"$f":"C109/VLOOKUP(A109,'ADM & Population Analysis'!$A$10:$J$144,10,FALSE)","v":98549.770158931671},{"$f":"D109/VLOOKUP(A109, '2020-2022 Composite Index Data'!$A$5:$G$139, 7, FALSE)","v":104655.89150351826},null,6106.1213445865869,6.195977255694475E-2,"BELOW"]
[107,"COVINGTON",{"$f":"VLOOKUP(A110,'True Value of Property'!$B$6:$E$140,4,FALSE)","v":557512650.10739708},{"$f":"VLOOKUP(A110, '2020-2022 Composite Index Data'!$A$5:$C$139, 3, FALSE)","v":580167623.31773269},null,22654973.210335612,4.0635801189392647E-2,"BELOW",null,{"$f":"C110/VLOOKUP(A110,'ADM & Population Analysis'!$A$10:$C$144,3,FALSE)","v":592940.86690496898},{"$f":"D110/VLOOKUP(A110, '2020-2022 Composite Index Data'!$A$5:$F$139, 6, FALSE)","v":603411.0156401929},null,10470.14873522392,1.7657998157347414E-2,"BELOW",null,{"$f":"C110/VLOOKUP(A110,'ADM & Population Analysis'!$A$10:$J$144,10,FALSE)","v":89950.411440367388},{"$f":"D110/VLOOKUP(A110, '2020-2022 Composite Index Data'!$A$5:$G$139, 7, FALSE)","v":99173.952703885923},null,9223.5412635185348,0.10254028987553081,"ABOVE"]
[108,"DANVILLE",{"$f":"VLOOKUP(A111,'True Value of Property'!$B$6:$E$140,4,FALSE)","v":2328316143.3940949},{"$f":"VLOOKUP(A111, '2020-2022 Composite Index Data'!$A$5:$C$139, 3, FALSE)","v":2314741875.1414142},null,-13574268.252680779,-5.8300795152727561E-3,"BELOW",null,{"$f":"C111/VLOOKUP(A111,'ADM & Population Analysis'!$A$10:$C$144,3,FALSE)","v":392292.06009511033},{"$f":"D111/VLOOKUP(A111, '2020-2022 Composite Index Data'!$A$5:$F$139, 6, FALSE)","v":419398.07855149556},null,27106.018456385238,6.9096525812460868E-2,"ABOVE",null,{"$f":"C111/VLOOKUP(A111,'ADM & Population Analysis'!$A$10:$J$144,10,FALSE)","v":54727.250455859699},{"$f":"D111/VLOOKUP(A111, '2020-2022 Composite Index Data'!$A$5:$G$139, 7, FALSE)","v":55968.41905172915},null,1241.1685958694507,2.2679169618991111E-2,"BELOW"]
[109,"FALLS CHURCH",{"$f":"VLOOKUP(A112,'True Value of Property'!$B$6:$E$140,4,FALSE)","v":4024378159.3447037},{"$f":"VLOOKUP(A112, '2020-2022 Composite Index Data'!$A$5:$C$139, 3, FALSE)","v":4429390875.1606121},null,405012715.81590843,0.10063982552818976,"ABOVE",null,{"$f":"C112/VLOOKUP(A112,'ADM & Population Analysis'!$A$10:$C$144,3,FALSE)","v":1638010.2159840381},{"$f":"D112/VLOOKUP(A112, '2020-2022 Composite Index Data'!$A$5:$F$139, 6, FALSE)","v":1698842.0493079475},null,60831.833323909435,3.7137639759691352E-2,"BELOW",null,{"$f":"C112/VLOOKUP(A112,'ADM & Population Analysis'!$A$10:$J$144,10,FALSE)","v":283746.60927481519},{"$f":"D112/VLOOKUP(A112, '2020-2022 Composite Index Data'!$A$5:$G$139, 7, FALSE)","v":310420.55330861395},null,26673.944033798762,9.4006212451210047E-2,"ABOVE"]
[110,"FREDERICKSBURG",{"$f":"VLOOKUP(A113,'True Value of Property'!$B$6:$E$140,4,FALSE)","v":4271986394.4661479},{"$f":"VLOOKUP(A113, '2020-2022 Composite Index Data'!$A$5:$C$139, 3, FALSE)","v":4256115976.0956955},null,-15870418.370452404,-3.7149974051908616E-3,"BELOW",null,{"$f":"C113/VLOOKUP(A113,'ADM & Population Analysis'!$A$10:$C$144,3,FALSE)","v":1294490.3365825431},{"$f":"D113/VLOOKUP(A113, '2020-2022 Composite Index Data'!$A$5:$F$139, 6, FALSE)","v":1251721.5042881749},null,-42768.832294368185,-3.3039128285250845E-2,"BELOW",null,{"$f":"C113/VLOOKUP(A113,'ADM & Population Analysis'!$A$10:$J$144,10,FALSE)","v":158403.58910104743},{"$f":"D113/VLOOKUP(A113, '2020-2022 Composite Index Data'!$A$5:$G$139, 7, FALSE)","v":153956.08522682928},null,-4447.5038742181496,-2.8077039790942091E-2,"BELOW"]
[111,"GALAX",{"$f":"VLOOKUP(A114,'True Value of Property'!$B$6:$E$140,4,FALSE)","v":453336162.24122763},{"$f":"VLOOKUP(A114, '2020-2022 Composite Index Data'!$A$5:$C$139, 3, FALSE)","v":517853296.76590931},null,64517134.524681687,0.14231632042261622,"ABOVE",null,{"$f":"C114/VLOOKUP(A114,'ADM & Population Analysis'!$A$10:$C$144,3,FALSE)","v":347386.69433576323},{"$f":"D114/VLOOKUP(A114, '2020-2022 Composite Index Data'!$A$5:$F$139, 6, FALSE)","v":421135.35185816349},null,73748.657522400259,0.21229557356367601,"ABOVE",null,{"$f":"C114/VLOOKUP(A114,'ADM & Population Analysis'!$A$10:$J$144,10,FALSE)","v":64366.912145566894},{"$f":"D114/VLOOKUP(A114, '2020-2022 Composite Index Data'!$A$5:$G$139, 7, FALSE)","v":76741.745223163802},null,12374.833077596908,0.19225457094494461,"ABOVE"]
[112,"HAMPTON",{"$f":"VLOOKUP(A115,'True Value of Property'!$B$6:$E$140,4,FALSE)","v":10887152456.34535},{"$f":"VLOOKUP(A115, '2020-2022 Composite Index Data'!$A$5:$C$139, 3, FALSE)","v":11298695163.44898},null,411542707.10363007,3.7800766431241715E-2,"BELOW",null,{"$f":"C115/VLOOKUP(A115,'ADM & Population Analysis'!$A$10:$C$144,3,FALSE)","v":551288.42084411974},{"$f":"D115/VLOOKUP(A115, '2020-2022 Composite Index Data'!$A$5:$F$139, 6, FALSE)","v":594253.12760240503},null,42964.706758285291,7.7935079232207979E-2,"ABOVE",null,{"$f":"C115/VLOOKUP(A115,'ADM & Population Analysis'!$A$10:$J$144,10,FALSE)","v":78536.150912133002},{"$f":"D115/VLOOKUP(A115, '2020-2022 Composite Index Data'!$A$5:$G$139, 7, FALSE)","v":82627.228914452513},null,4091.0780023195111,5.2091654031996656E-2,"BELOW"]
[113,"HARRISONBURG",{"$f":"VLOOKUP(A116,'True Value of Property'!$B$6:$E$140,4,FALSE)","v":4097626380.4441514},{"$f":"VLOOKUP(A116, '2020-2022 Composite Index Data'!$A$5:$C$139, 3, FALSE)","v":4478527081.7577124},null,380900701.31356096,9.2956425488522509E-2,"ABOVE",null,{"$f":"C116/VLOOKUP(A116,'ADM & Population Analysis'!$A$10:$C$144,3,FALSE)","v":741979.51320477296},{"$f":"D116/VLOOKUP(A116, '2020-2022 Composite Index Data'!$A$5:$F$139, 6, FALSE)","v":760761.53523207677},null,18782.022027303814,2.5313397058875822E-2,"BELOW",null,{"$f":"C116/VLOOKUP(A116,'ADM & Population Analysis'!$A$10:$J$144,10,FALSE)","v":76058.030263464534},{"$f":"D116/VLOOKUP(A116, '2020-2022 Composite Index Data'!$A$5:$G$139, 7, FALSE)","v":81890.820489636171},null,5832.7902261716372,7.6688683705939911E-2,"ABOVE"]
[114,"HOPEWELL",{"$f":"VLOOKUP(A117,'True Value of Property'!$B$6:$E$140,4,FALSE)","v":1607070138.8651245},{"$f":"VLOOKUP(A117, '2020-2022 Composite Index Data'!$A$5:$C$139, 3, FALSE)","v":1743092657.5218105},null,136022518.65668607,8.4640063533718571E-2,"ABOVE",null,{"$f":"C117/VLOOKUP(A117,'ADM & Population Analysis'!$A$10:$C$144,3,FALSE)","v":401041.64933099202},{"$f":"D117/VLOOKUP(A117, '2020-2022 Composite Index Data'!$A$5:$F$139, 6, FALSE)","v":438318.70023205027},null,37277.050901058246,9.2950572498499653E-2,"ABOVE",null,{"$f":"C117/VLOOKUP(A117,'ADM & Population Analysis'!$A$10:$J$144,10,FALSE)","v":69921.255606731836},{"$f":"D117/VLOOKUP(A117, '2020-2022 Composite Index Data'!$A$5:$G$139, 7, FALSE)","v":76394.471557251629},null,6473.2159505197924,9.2578657152955476E-2,"ABOVE"]
[115,"LYNCHBURG",{"$f":"VLOOKUP(A118,'True Value of Property'!$B$6:$E$140,4,FALSE)","v":5439315296.7653093},{"$f":"VLOOKUP(A118, '2020-2022 Composite Index Data'!$A$5:$C$139, 3, FALSE)","v":5751276306.7575245},null,311961009.99221516,5.7352992605104972E-2,"BELOW",null,{"$f":"C118/VLOOKUP(A118,'ADM & Population Analysis'!$A$10:$C$144,3,FALSE)","v":679139.34431895963},{"$f":"D118/VLOOKUP(A118, '2020-2022 Composite Index Data'!$A$5:$F$139, 6, FALSE)","v":720807.06293787458},null,41667.718618914951,6.1353710350413149E-2,"BELOW",null,{"$f":"C118/VLOOKUP(A118,'ADM & Population Analysis'!$A$10:$J$144,10,FALSE)","v":69136.514734862532},{"$f":"D118/VLOOKUP(A118, '2020-2022 Composite Index Data'!$A$5:$G$139, 7, FALSE)","v":71551.086175137156},null,2414.5714402746235,3.4924691381023006E-2,"BELOW"]
[116,"MARTINSVILLE",{"$f":"VLOOKUP(A119,'True Value of Property'!$B$6:$E$140,4,FALSE)","v":682772063.3787204},{"$f":"VLOOKUP(A119, '2020-2022 Composite Index Data'!$A$5:$C$139, 3, FALSE)","v":679090524.71235728},null,-3681538.6663631201,-5.3920464292942843E-3,"BELOW",null,{"$f":"C119/VLOOKUP(A119,'ADM & Population Analysis'!$A$10:$C$144,3,FALSE)","v":331937.43266845273},{"$f":"D119/VLOOKUP(A119, '2020-2022 Composite Index Data'!$A$5:$F$139, 6, FALSE)","v":358554.00281543913},null,26616.5701469864,8.0185503433629568E-2,"ABOVE",null,{"$f":"C119/VLOOKUP(A119,'ADM & Population Analysis'!$A$10:$J$144,10,FALSE)","v":50673.301423387296},{"$f":"D119/VLOOKUP(A119, '2020-2022 Composite Index Data'!$A$5:$G$139, 7, FALSE)","v":50746.564393390916},null,73.262970003619557,1.4457903461132381E-3,"BELOW"]
[117,"NEWPORT NEWS",{"$f":"VLOOKUP(A120,'True Value of Property'!$B$6:$E$140,4,FALSE)","v":14918461774.952984},{"$f":"VLOOKUP(A120, '2020-2022 Composite Index Data'!$A$5:$C$139, 3, FALSE)","v":15940670477.786209},null,1022208702.8332253,6.8519711901493724E-2,"BELOW",null,{"$f":"C120/VLOOKUP(A120,'ADM & Population Analysis'!$A$10:$C$144,3,FALSE)","v":547405.41880659864},{"$f":"D120/VLOOKUP(A120, '2020-2022 Composite Index Data'!$A$5:$F$139, 6, FALSE)","v":593195.08367592108},null,45789.664869322442,8.3648541457899198E-2,"ABOVE",null,{"$f":"C120/VLOOKUP(A120,'ADM & Population Analysis'!$A$10:$J$144,10,FALSE)","v":81319.904580728602},{"$f":"D120/VLOOKUP(A120, '2020-2022 Composite Index Data'!$A$5:$G$139, 7, FALSE)","v":87511.572439879281},null,6191.6678591506789,7.6139635075494122E-2,"ABOVE"]
[118,"NORFOLK",{"$f":"VLOOKUP(A121,'True Value of Property'!$B$6:$E$140,4,FALSE)","v":18988098325.460701},{"$f":"VLOOKUP(A121, '2020-2022 Composite Index Data'!$A$5:$C$139, 3, FALSE)","v":20271901551.44326},null,1283803225.9825592,6.7610942600878424E-2,"BELOW",null,{"$f":"C121/VLOOKUP(A121,'ADM & Population Analysis'!$A$10:$C$144,3,FALSE)","v":641342.25623971981},{"$f":"D121/VLOOKUP(A121, '2020-2022 Composite Index Data'!$A$5:$F$139, 6, FALSE)","v":713006.75803141575},null,71664.501791695948,0.11174143149692808,"ABOVE",null,{"$f":"C121/VLOOKUP(A121,'ADM & Population Analysis'!$A$10:$J$144,10,FALSE)","v":76816.113684106909},{"$f":"D121/VLOOKUP(A121, '2020-2022 Composite Index Data'!$A$5:$G$139, 7, FALSE)","v":82320.437071353634},null,5504.3233872467245,7.1655843068061345E-2,"ABOVE"]
[119,"NORTON",{"$f":"VLOOKUP(A122,'True Value of Property'!$B$6:$E$140,4,FALSE)","v":261967543.05828512},{"$f":"VLOOKUP(A122, '2020-2022 Composite Index Data'!$A$5:$C$139, 3, FALSE)","v":268221468.51461154},null,6253925.4563264251,2.3872901899663922E-2,"BELOW",null,{"$f":"C122/VLOOKUP(A122,'ADM & Population Analysis'!$A$10:$C$144,3,FALSE)","v":322025.252683817},{"$f":"D122/VLOOKUP(A122, '2020-2022 Composite Index Data'!$A$5:$F$139, 6, FALSE)","v":350048.89918904199},null,28023.646505224984,8.7023133346440434E-2,"ABOVE",null,{"$f":"C122/VLOOKUP(A122,'ADM & Population Analysis'!$A$10:$J$144,10,FALSE)","v":66388.125458257753},{"$f":"D122/VLOOKUP(A122, '2020-2022 Composite Index Data'!$A$5:$G$139, 7, FALSE)","v":69093.629189750529},null,2705.5037314927758,4.0752826093785256E-2,"BELOW"]
[120,"PETERSBURG",{"$f":"VLOOKUP(A123,'True Value of Property'!$B$6:$E$140,4,FALSE)","v":1948638534.539422},{"$f":"VLOOKUP(A123, '2020-2022 Composite Index Data'!$A$5:$C$139, 3, FALSE)","v":2049675300.2709107},null,101036765.7314887,5.1849926982671331E-2,"BELOW",null,{"$f":"C123/VLOOKUP(A123,'ADM & Population Analysis'!$A$10:$C$144,3,FALSE)","v":503391.49230420461},{"$f":"D123/VLOOKUP(A123, '2020-2022 Composite Index Data'!$A$5:$F$139, 6, FALSE)","v":548202.76024256088},null,44811.267938356264,8.901872324706743E-2,"ABOVE",null,{"$f":"C123/VLOOKUP(A123,'ADM & Population Analysis'!$A$10:$J$144,10,FALSE)","v":60786.67793428649},{"$f":"D123/VLOOKUP(A123, '2020-2022 Composite Index Data'!$A$5:$G$139, 7, FALSE)","v":64648.329924961705},null,3861.6519906752146,6.3527932795568426E-2,"ABOVE"]
[121,"PORTSMOUTH",{"$f":"VLOOKUP(A124,'True Value of Property'!$B$6:$E$140,4,FALSE)","v":7517722515.0845079},{"$f":"VLOOKUP(A124, '2020-2022 Composite Index Data'!$A$5:$C$139, 3, FALSE)","v":7493264463.627615},null,-24458051.456892967,-3.2533857704666862E-3,"BELOW",null,{"$f":"C124/VLOOKUP(A124,'ADM & Population Analysis'!$A$10:$C$144,3,FALSE)","v":536856.70260729373},{"$f":"D124/VLOOKUP(A124, '2020-2022 Composite Index Data'!$A$5:$F$139, 6, FALSE)","v":556041.85071828123},null,19185.148110987502,3.5736068894759207E-2,"BELOW",null,{"$f":"C124/VLOOKUP(A124,'ADM & Population Analysis'!$A$10:$J$144,10,FALSE)","v":77603.09799414195},{"$f":"D124/VLOOKUP(A124, '2020-2022 Composite Index Data'!$A$5:$G$139, 7, FALSE)","v":78512.829669191269},null,909.73167504931916,1.1722878320115421E-2,"BELOW"]
[122,"RADFORD",{"$f":"VLOOKUP(A125,'True Value of Property'!$B$6:$E$140,4,FALSE)","v":871874958.59416163},{"$f":"VLOOKUP(A125, '2020-2022 Composite Index Data'!$A$5:$C$139, 3, FALSE)","v":925257385.2163589},null,53382426.62219727,6.122715889016099E-2,"BELOW",null,{"$f":"C125/VLOOKUP(A125,'ADM & Population Analysis'!$A$10:$C$144,3,FALSE)","v":545122.86317714758},{"$f":"D125/VLOOKUP(A125, '2020-2022 Composite Index Data'!$A$5:$F$139, 6, FALSE)","v":588410.19874233461},null,43287.335565187037,7.9408402195598304E-2,"ABOVE",null,{"$f":"C125/VLOOKUP(A125,'ADM & Population Analysis'!$A$10:$J$144,10,FALSE)","v":50050.227244211346},{"$f":"D125/VLOOKUP(A125, '2020-2022 Composite Index Data'!$A$5:$G$139, 7, FALSE)","v":53769.025175288174},null,3718.7979310768278,7.4301319611029981E-2,"ABOVE"]
[123,"RICHMOND CITY",{"$f":"VLOOKUP(A126,'True Value of Property'!$B$6:$E$140,4,FALSE)","v":22953530783.923157},{"$f":"VLOOKUP(A126, '2020-2022 Composite Index Data'!$A$5:$C$139, 3, FALSE)","v":25285469456.353184},null,2331938672.430027,0.10159389831490918,"ABOVE",null,{"$f":"C126/VLOOKUP(A126,'ADM & Population Analysis'!$A$10:$C$144,3,FALSE)","v":1056319.6757216915},{"$f":"D126/VLOOKUP(A126, '2020-2022 Composite Index Data'!$A$5:$F$139, 6, FALSE)","v":1101640.4904879099},null,45320.81476621842,4.2904450052257757E-2,"BELOW",null,{"$f":"C126/VLOOKUP(A126,'ADM & Population Analysis'!$A$10:$J$144,10,FALSE)","v":105321.37940112856},{"$f":"D126/VLOOKUP(A126, '2020-2022 Composite Index Data'!$A$5:$G$139, 7, FALSE)","v":113462.54910794643},null,8141.1697068178619,7.7298358159659894E-2,"ABOVE"]
[124,"ROANOKE CITY",{"$f":"VLOOKUP(A127,'True Value of Property'!$B$6:$E$140,4,FALSE)","v":7708082338.1303196},{"$f":"VLOOKUP(A127, '2020-2022 Composite Index Data'!$A$5:$C$139, 3, FALSE)","v":8006183886.744957},null,298101548.61463737,3.8673892615286358E-2,"BELOW",null,{"$f":"C127/VLOOKUP(A127,'ADM & Population Analysis'!$A$10:$C$144,3,FALSE)","v":602596.91935625067},{"$f":"D127/VLOOKUP(A127, '2020-2022 Composite Index Data'!$A$5:$F$139, 6, FALSE)","v":624369.49462364835},null,21772.575267397682,3.6131242241757802E-2,"BELOW",null,{"$f":"C127/VLOOKUP(A127,'ADM & Population Analysis'!$A$10:$J$144,10,FALSE)","v":77327.49810024297},{"$f":"D127/VLOOKUP(A127, '2020-2022 Composite Index Data'!$A$5:$G$139, 7, FALSE)","v":80135.563585948636},null,2808.0654857056652,3.6313931715021334E-2,"BELOW"]
[126,"STAUNTON",{"$f":"VLOOKUP(A128,'True Value of Property'!$B$6:$E$140,4,FALSE)","v":1921277548.7354288},{"$f":"VLOOKUP(A128, '2020-2022 Composite Index Data'!$A$5:$C$139, 3, FALSE)","v":2061468017.9821334},null,140190469.24670458,7.2967317678269306E-2,"BELOW",null,{"$f":"C128/VLOOKUP(A128,'ADM & Population Analysis'!$A$10:$C$144,3,FALSE)","v":757762.91037343466},{"$f":"D128/VLOOKUP(A128, '2020-2022 Composite Index Data'!$A$5:$F$139, 6, FALSE)","v":804227.38667186839},null,46464.476298433729,6.1317960621133434E-2,"BELOW",null,{"$f":"C128/VLOOKUP(A128,'ADM & Population Analysis'!$A$10:$J$144,10,FALSE)","v":78285.288433519221},{"$f":"D128/VLOOKUP(A128, '2020-2022 Composite Index Data'!$A$5:$G$139, 7, FALSE)","v":83254.635030173798},null,4969.3465966545773,6.3477400365901493E-2,"ABOVE"]
[127,"SUFFOLK",{"$f":"VLOOKUP(A129,'True Value of Property'!$B$6:$E$140,4,FALSE)","v":10098793805.731142},{"$f":"VLOOKUP(A129, '2020-2022 Composite Index Data'!$A$5:$C$139, 3, FALSE)","v":10800133373.296234},null,701339567.56509209,6.9447854967300798E-2,"BELOW",null,{"$f":"C129/VLOOKUP(A129,'ADM & Population Analysis'!$A$10:$C$144,3,FALSE)","v":729857.24207711406},{"$f":"D129/VLOOKUP(A129, '2020-2022 Composite Index Data'!$A$5:$F$139, 6, FALSE)","v":783579.09649339877},null,53721.85441628471,7.3605975688336947E-2,"ABOVE",null,{"$f":"C129/VLOOKUP(A129,'ADM & Population Analysis'!$A$10:$J$144,10,FALSE)","v":111680.20044822442},{"$f":"D129/VLOOKUP(A129, '2020-2022 Composite Index Data'!$A$5:$G$139, 7, FALSE)","v":116716.55920910632},null,5036.3587608818925,4.5096254668854904E-2,"BELOW"]
[128,"VIRGINIA BEACH",{"$f":"VLOOKUP(A130,'True Value of Property'!$B$6:$E$140,4,FALSE)","v":57617510275.98877},{"$f":"VLOOKUP(A130, '2020-2022 Composite Index Data'!$A$5:$C$139, 3, FALSE)","v":61362089466.21727},null,3744579190.2285004,6.499029847509738E-2,"BELOW",null,{"$f":"C130/VLOOKUP(A130,'ADM & Population Analysis'!$A$10:$C$144,3,FALSE)","v":848692.70746718009},{"$f":"D130/VLOOKUP(A130, '2020-2022 Composite Index Data'!$A$5:$F$139, 6, FALSE)","v":914610.66823951586},null,65917.960772335762,7.7669997859484238E-2,"ABOVE",null,{"$f":"C130/VLOOKUP(A130,'ADM & Population Analysis'!$A$10:$J$144,10,FALSE)","v":127050.73930758273},{"$f":"D130/VLOOKUP(A130, '2020-2022 Composite Index Data'!$A$5:$G$139, 7, FALSE)","v":135025.54630280531},null,7974.8069952225778,6.2768678393252134E-2,"ABOVE"]
[130,"WAYNESBORO",{"$f":"VLOOKUP(A131,'True Value of Property'!$B$6:$E$140,4,FALSE)","v":1960997755.8064194},{"$f":"VLOOKUP(A131, '2020-2022 Composite Index Data'!$A$5:$C$139, 3, FALSE)","v":2102741411.6239665},null,141743655.81754708,7.2281396242219548E-2,"BELOW",null,{"$f":"C131/VLOOKUP(A131,'ADM & Population Analysis'!$A$10:$C$144,3,FALSE)","v":644827.4832319736},{"$f":"D131/VLOOKUP(A131, '2020-2022 Composite Index Data'!$A$5:$F$139, 6, FALSE)","v":716675.89574166725},null,71848.412509693648,0.11142268959998178,"ABOVE",null,{"$f":"C131/VLOOKUP(A131,'ADM & Population Analysis'!$A$10:$J$144,10,FALSE)","v":89974.661886048154},{"$f":"D131/VLOOKUP(A131, '2020-2022 Composite Index Data'!$A$5:$G$139, 7, FALSE)","v":95775.058602776888},null,5800.3967167287337,6.4467002099711887E-2,"ABOVE"]
[131,"WILLIAMSBURG",{"$f":"VLOOKUP(A132,'True Value of Property'!$B$6:$E$140,4,FALSE)","v":1847992755.7282796},{"$f":"VLOOKUP(A132, '2020-2022 Composite Index Data'!$A$5:$C$139, 3, FALSE)","v":1966889776.7903092},null,118897021.0620296,6.433846707108612E-2,"BELOW",null,{"$f":"C132/VLOOKUP(A132,'ADM & Population Analysis'!$A$10:$C$144,3,FALSE)","v":1866904.4982960182},{"$f":"D132/VLOOKUP(A132, '2020-2022 Composite Index Data'!$A$5:$F$139, 6, FALSE)","v":1970120.7748610813},null,103216.27656506305,5.5287389718794801E-2,"BELOW",null,{"$f":"C132/VLOOKUP(A132,'ADM & Population Analysis'!$A$10:$J$144,10,FALSE)","v":124360.21236394883},{"$f":"D132/VLOOKUP(A132, '2020-2022 Composite Index Data'!$A$5:$G$139, 7, FALSE)","v":127686.94993445268},null,3326.7375705038576,2.6750819311629415E-2,"BELOW"]
[132,"WINCHESTER",{"$f":"VLOOKUP(A133,'True Value of Property'!$B$6:$E$140,4,FALSE)","v":3146782686.7224503},{"$f":"VLOOKUP(A133, '2020-2022 Composite Index Data'!$A$5:$C$139, 3, FALSE)","v":3368957279.7845116},null,222174593.06206131,7.0603729326307096E-2,"BELOW",null,{"$f":"C133/VLOOKUP(A133,'ADM & Population Analysis'!$A$10:$C$144,3,FALSE)","v":744418.29562625824},{"$f":"D133/VLOOKUP(A133, '2020-2022 Composite Index Data'!$A$5:$F$139, 6, FALSE)","v":807930.54917539482},null,63512.253549136571,8.5317964271291166E-2,"ABOVE",null,{"$f":"C133/VLOOKUP(A133,'ADM & Population Analysis'!$A$10:$J$144,10,FALSE)","v":114366.07983726877},{"$f":"D133/VLOOKUP(A133, '2020-2022 Composite Index Data'!$A$5:$G$139, 7, FALSE)","v":120298.42098855603},null,5932.3411512872553,5.1871509102422414E-2,"BELOW"]
[134,"FAIRFAX CITY",{"$f":"VLOOKUP(A134,'True Value of Property'!$B$6:$E$140,4,FALSE)","v":6093747493.0518646},{"$f":"VLOOKUP(A134, '2020-2022 Composite Index Data'!$A$5:$C$139, 3, FALSE)","v":6355389025.1897068},null,261641532.13784218,4.2936063963294795E-2,"BELOW",null,{"$f":"C134/VLOOKUP(A134,'ADM & Population Analysis'!$A$10:$C$144,3,FALSE)","v":1950017.9179486092},{"$f":"D134/VLOOKUP(A134, '2020-2022 Composite Index Data'!$A$5:$F$139, 6, FALSE)","v":2063886.9576140612},null,113869.03966545197,5.8393842752604327E-2,"BELOW",null,{"$f":"C134/VLOOKUP(A134,'ADM & Population Analysis'!$A$10:$J$144,10,FALSE)","v":262740.80511584808},{"$f":"D134/VLOOKUP(A134, '2020-2022 Composite Index Data'!$A$5:$G$139, 7, FALSE)","v":266752.94964070123},null,4012.1445248531527,1.5270351794362935E-2,"BELOW"]
[135,"FRANKLIN CITY",{"$f":"VLOOKUP(A135,'True Value of Property'!$B$6:$E$140,4,FALSE)","v":546080260.40340698},{"$f":"VLOOKUP(A135, '2020-2022 Composite Index Data'!$A$5:$C$139, 3, FALSE)","v":559805775.87078476},null,13725515.467377782,2.5134612002342484E-2,"BELOW",null,{"$f":"C135/VLOOKUP(A135,'ADM & Population Analysis'!$A$10:$C$144,3,FALSE)","v":516549.14574137266},{"$f":"D135/VLOOKUP(A135, '2020-2022 Composite Index Data'!$A$5:$F$139, 6, FALSE)","v":542153.26554465096},null,25604.1198032783,4.9567635556787552E-2,"BELOW",null,{"$f":"C135/VLOOKUP(A135,'ADM & Population Analysis'!$A$10:$J$144,10,FALSE)","v":63981.28417145952},{"$f":"D135/VLOOKUP(A135, '2020-2022 Composite Index Data'!$A$5:$G$139, 7, FALSE)","v":66061.5737397669},null,2080.2895683073803,3.2514032740145381E-2,"BELOW"]
[136,"CHESAPEAKE",{"$f":"VLOOKUP(A136,'True Value of Property'!$B$6:$E$140,4,FALSE)","v":26309889889.600494},{"$f":"VLOOKUP(A136, '2020-2022 Composite Index Data'!$A$5:$C$139, 3, FALSE)","v":28351072450.137012},null,2041182560.5365181,7.7582330032606325E-2,"ABOVE",null,{"$f":"C136/VLOOKUP(A136,'ADM & Population Analysis'!$A$10:$C$144,3,FALSE)","v":676606.81649118348},{"$f":"D136/VLOOKUP(A136, '2020-2022 Composite Index Data'!$A$5:$F$139, 6, FALSE)","v":715697.42644277029},null,39090.609951586812,5.7774484381205138E-2,"BELOW",null,{"$f":"C136/VLOOKUP(A136,'ADM & Population Analysis'!$A$10:$J$144,10,FALSE)","v":110414.46468946796},{"$f":"D136/VLOOKUP(A136, '2020-2022 Composite Index Data'!$A$5:$G$139, 7, FALSE)","v":116836.95967582375},null,6422.4949863557849,5.8167152323914707E-2,"BELOW"]
[137,"LEXINGTON",{"$f":"VLOOKUP(A137,'True Value of Property'!$B$6:$E$140,4,FALSE)","v":559234885.19368243},{"$f":"VLOOKUP(A137, '2020-2022 Composite Index Data'!$A$5:$C$139, 3, FALSE)","v":552281823.07528639},null,-6953062.1183960438,-1.2433169500840344E-2,"BELOW",null,{"$f":"C137/VLOOKUP(A137,'ADM & Population Analysis'!$A$10:$C$144,3,FALSE)","v":856539.87623477168},{"$f":"D137/VLOOKUP(A137, '2020-2022 Composite Index Data'!$A$5:$F$139, 6, FALSE)","v":837056.97733413114},null,-19482.898900640546,-2.2746050056985809E-2,"BELOW",null,{"$f":"C137/VLOOKUP(A137,'ADM & Population Analysis'!$A$10:$J$144,10,FALSE)","v":75470.29489793285},{"$f":"D137/VLOOKUP(A137, '2020-2022 Composite Index Data'!$A$5:$G$139, 7, FALSE)","v":75821.227769808669},null,350.93287187581882,4.6499470069704335E-3,"BELOW"]
[138,"EMPORIA",{"$f":"VLOOKUP(A138,'True Value of Property'!$B$6:$E$140,4,FALSE)","v":349136294.45275486},{"$f":"VLOOKUP(A138, '2020-2022 Composite Index Data'!$A$5:$C$139, 3, FALSE)","v":365347587.28288037},null,{"$f":"D138-C138","v":16211292.830125511},{"$f":"F138/C138","v":4.6432562548489854E-2},{"$f":"IF(G138<$G$146,\"BELOW\", \"ABOVE\")","v":"BELOW"},null,{"$f":"C138/VLOOKUP(A138,'ADM & Population Analysis'!$A$10:$C$144,3,FALSE)","v":341126.64092386258},{"$f":"D138/VLOOKUP(A138, '2020-2022 Composite Index Data'!$A$5:$F$139, 6, FALSE)","v":357528.44029365806},null,{"$f":"K138-J138","v":16401.799369795481},{"$f":"M138/J138","v":4.8081261918960658E-2},{"$f":"IF(N138<$N$146,\"BELOW\", \"ABOVE\")","v":"BELOW"},null,{"$f":"C138/VLOOKUP(A138,'ADM & Population Analysis'!$A$10:$J$144,10,FALSE)","v":57404.849466089254},{"$f":"D138/VLOOKUP(A138, '2020-2022 Composite Index Data'!$A$5:$G$139, 7, FALSE)","v":63023.561718626937},null,{"$f":"R138-Q138","v":5618.7122525376835},{"$f":"T138/Q138","v":9.7878703712250367E-2},{"$f":"IF(U138<$U$146,\"BELOW\", \"ABOVE\")","v":"ABOVE"}]
[139,"SALEM",{"$f":"VLOOKUP(A139,'True Value of Property'!$B$6:$E$140,4,FALSE)","v":2252842869.9508963},{"$f":"VLOOKUP(A139, '2020-2022 Composite Index Data'!$A$5:$C$139, 3, FALSE)","v":2426210430.4134278},null,173367560.46253157,7.6955016603670337E-2,"ABOVE",null,{"$f":"C139/VLOOKUP(A139,'ADM & Population Analysis'!$A$10:$C$144,3,FALSE)","v":606225.4438565668},{"$f":"D139/VLOOKUP(A139, '2020-2022 Composite Index Data'!$A$5:$F$139, 6, FALSE)","v":626574.80551354226},null,20349.361656975467,3.3567317015796738E-2,"BELOW",null,{"$f":"C139/VLOOKUP(A139,'ADM & Population Analysis'!$A$10:$J$144,10,FALSE)","v":88562.106688847241},{"$f":"D139/VLOOKUP(A139, '2020-2022 Composite Index Data'!$A$5:$G$139, 7, FALSE)","v":94482.278531618358},null,5920.1718427711166,6.6847685360184109E-2,"ABOVE"]
[142,"POQUOSON",{"$f":"VLOOKUP(A140,'True Value of Property'!$B$6:$E$140,4,FALSE)","v":1527109407.5634611},{"$f":"VLOOKUP(A140, '2020-2022 Composite Index Data'!$A$5:$C$139, 3, FALSE)","v":1591617690.1021671},null,64508282.538706064,4.2242083127253173E-2,"BELOW",null,{"$f":"C140/VLOOKUP(A140,'ADM & Population Analysis'!$A$10:$C$144,3,FALSE)","v":734780.69188741909},{"$f":"D140/VLOOKUP(A140, '2020-2022 Composite Index Data'!$A$5:$F$139, 6, FALSE)","v":759649.52754017152},null,24868.83565275243,3.3845249238752123E-2,"BELOW",null,{"$f":"C140/VLOOKUP(A140,'ADM & Population Analysis'!$A$10:$J$144,10,FALSE)","v":123562.53803410156},{"$f":"D140/VLOOKUP(A140, '2020-2022 Composite Index Data'!$A$5:$G$139, 7, FALSE)","v":129284.1921941489},null,5721.6541600473429,4.6305735144969627E-2,"BELOW"]
[143,"MANASSAS",{"$f":"VLOOKUP(A141,'True Value of Property'!$B$6:$E$140,4,FALSE)","v":4993679524.8490257},{"$f":"VLOOKUP(A141, '2020-2022 Composite Index Data'!$A$5:$C$139, 3, FALSE)","v":5514335180.9101801},null,520655656.06115437,0.10426292946319886,"ABOVE",null,{"$f":"C141/VLOOKUP(A141,'ADM & Population Analysis'!$A$10:$C$144,3,FALSE)","v":690669.62530068681},{"$f":"D141/VLOOKUP(A141, '2020-2022 Composite Index Data'!$A$5:$F$139, 6, FALSE)","v":743125.78747276857},null,52456.162172081764,7.5949716406371118E-2,"ABOVE",null,{"$f":"C141/VLOOKUP(A141,'ADM & Population Analysis'!$A$10:$J$144,10,FALSE)","v":120106.77838345781},{"$f":"D141/VLOOKUP(A141, '2020-2022 Composite Index Data'!$A$5:$G$139, 7, FALSE)","v":131975.56855444034},null,11868.790170982524,9.8818653957145855E-2,"ABOVE"]
[144,"MANASSAS PARK",{"$f":"VLOOKUP(A142,'True Value of Property'!$B$6:$E$140,4,FALSE)","v":1520648019.9699478},{"$f":"VLOOKUP(A142, '2020-2022 Composite Index Data'!$A$5:$C$139, 3, FALSE)","v":1675033514.0426958},null,154385494.07274795,0.10152612047316448,"ABOVE",null,{"$f":"C142/VLOOKUP(A142,'ADM & Population Analysis'!$A$10:$C$144,3,FALSE)","v":456598.9526630438},{"$f":"D142/VLOOKUP(A142, '2020-2022 Composite Index Data'!$A$5:$F$139, 6, FALSE)","v":473031.66680109792},null,16432.714138054114,3.5989382021603011E-2,"BELOW",null,{"$f":"C142/VLOOKUP(A142,'ADM & Population Analysis'!$A$10:$J$144,10,FALSE)","v":96856.561781525335},{"$f":"D142/VLOOKUP(A142, '2020-2022 Composite Index Data'!$A$5:$G$139, 7, FALSE)","v":103768.64787775342},null,6912.0860962280858,7.1364148892868448E-2,"ABOVE"]
[202,"COLONIAL BEACH",{"$f":"VLOOKUP(A143,'True Value of Property'!$B$6:$E$140,4,FALSE)","v":529185628.89695674},{"$f":"VLOOKUP(A143, '2020-2022 Composite Index Data'!$A$5:$C$139, 3, FALSE)","v":516947893.90109891},null,-12237734.995857835,-2.3125599652746374E-2,"BELOW",null,{"$f":"C143/VLOOKUP(A143,'ADM & Population Analysis'!$A$10:$C$144,3,FALSE)","v":926040.12406502175},{"$f":"D143/VLOOKUP(A143, '2020-2022 Composite Index Data'!$A$5:$F$139, 6, FALSE)","v":863768.03552516189},null,-62272.088539859862,-6.7245561959567351E-2,"BELOW",null,{"$f":"C143/VLOOKUP(A143,'ADM & Population Analysis'!$A$10:$J$144,10,FALSE)","v":147817.21477568624},{"$f":"D143/VLOOKUP(A143, '2020-2022 Composite Index Data'!$A$5:$G$139, 7, FALSE)","v":144843.90414712773},null,-2973.3106285585091,-2.0114779141729405E-2,"BELOW"]
[207,"WEST POINT",{"$f":"VLOOKUP(A144,'True Value of Property'!$B$6:$E$140,4,FALSE)","v":337396232.27027029},{"$f":"VLOOKUP(A144, '2020-2022 Composite Index Data'!$A$5:$C$139, 3, FALSE)","v":391995669.25919694},null,54599436.988926649,0.16182586456742032,"ABOVE",null,{"$f":"C144/VLOOKUP(A144,'ADM & Population Analysis'!$A$10:$C$144,3,FALSE)","v":445248.86478782521},{"$f":"D144/VLOOKUP(A144, '2020-2022 Composite Index Data'!$A$5:$F$139, 6, FALSE)","v":496744.09699187323},null,51495.232204048021,0.11565494328343114,"ABOVE",null,{"$f":"C144/VLOOKUP(A144,'ADM & Population Analysis'!$A$10:$J$144,10,FALSE)","v":101228.99258033912},{"$f":"D144/VLOOKUP(A144, '2020-2022 Composite Index Data'!$A$5:$G$139, 7, FALSE)","v":118320.45555665468},null,17091.462976315554,0.16883960356269601,"ABOVE"]
[]
[null," STATE TOTALS",{"$f":"SUM(C10:C144)","v":1170092111098.9373},{"$f":"SUM(D10:D144)","v":1255682912828.5125},null,85590801729.575195,7.314877257756168E-2,null,null,{"$f":"C146/'ADM & Population Analysis'!C146","v":943789.12724279484},{"$f":"D146/'ADM & Population Analysis'!D146","v":1007019.0453883801},null,{"$f":"K146-J146","v":63229.918145585223},{"$f":"M146/J146","v":6.6995811162082808E-2},null,null,{"$f":"C146/'ADM & Population Analysis'!J146","v":139579.27808110268},{"$f":"D146/'ADM & Population Analysis'!K146","v":148250.28899914198},null,{"$f":"R146-Q146","v":8671.0109180393047},{"$f":"T146/Q146","v":6.2122480050376856E-2}]
[null,null,{"$f":"C146-'True Value of Property'!E141","v":0},{"$f":"D146-'True Value of Property'!D141","v":0}]

{"sheet":"taxable retail analysis","index":18,"n_rows":148,"n_cols":22,"rows_kept":148,"cut":false,"hidden":true,"merged":[[3,2,3,7],[3,16,3,21],[3,9,3,14]]}
["ANALYSIS OF TAXABLE RETAIL SALES ELEMENTS"]
[]
[]
[null,null,"TOTAL TAXABLE RETAIL SALES CHANGE",null,null,null,null,null,null,"TAXABLE RETAIL SALES PER ADM",null,null,null,null,null,null,"TAXABLE RETAIL SALES PER CAPITA"]
[]
[null,null,2013,2015,null,null,null,null,null,{"$f":"C6","v":2013},{"$f":"D6","v":2015},null,null,null,null,null,{"$f":"J6","v":2013},{"$f":"K6","v":2015}]
[null,null,"TAXABLE","TAXABLE",null,"ABSOLUTE","ABSOLUTE","COMPARE",null,"TAXABLE","TAXABLE",null,"PER ADM","PER ADM","COMPARE",null,"TAXABLE","TAXABLE",null,"PER POP","PER POP","COMPARE"]
["Div",null,"RETAIL","RETAIL",null,"$ CHANGE","% CHANGE","TO",null,"RETAIL SALES","RETAIL SALES",null,"$ CHANGE","% CHANGE","TO",null,"RETAIL SALES","RETAIL SALES",null,"$ CHANGE","% CHANGE","TO"]
["Num","DIVISION","SALES","SALES",null,{"$f":"C6&\" to \"&D6","v":"2013 to 2015"},{"$f":"F9","v":"2013 to 2015"},"STATE AVG",null,"PER ADM","PER ADM",null,{"$f":"F9","v":"2013 to 2015"},{"$f":"G9","v":"2013 to 2015"},"STATE AVG",null,"PER POP","PER POP",null,{"$f":"M9","v":"2013 to 2015"},{"$f":"N9","v":"2013 to 2015"},"STATE AVG"]
[1,"ACCOMACK",{"$f":"VLOOKUP(A10,'Taxable Sales'!$B$6:$E$140,4,FALSE)","v":502574536.38},{"$f":"VLOOKUP(A10, '2020-2022 Composite Index Data'!$A$5:$E$139, 5, FALSE)","v":342140946.14999998},null,{"$f":"D10-C10","v":-160433590.23000002},{"$f":"F10/C10","v":-0.31922347555765362},{"$f":"IF(G10<$G$146,\"BELOW\", \"ABOVE\")","v":"BELOW"},null,{"$f":"C10/VLOOKUP(A10,'ADM & Population Analysis'!$A$10:$C$144,3,FALSE)","v":98496.516656671491},{"$f":"D10/VLOOKUP(A10, '2020-2022 Composite Index Data'!$A$5:$F$139, 6, FALSE)","v":68188.982280161188},null,{"$f":"K10-J10","v":-30307.534376510303},{"$f":"M10/J10","v":-0.30770158585559965},{"$f":"IF(N10<$N$146,\"BELOW\", \"ABOVE\")","v":"BELOW"},null,{"$f":"C10/VLOOKUP(A10,'ADM & Population Analysis'!$A$10:$J$144,10,FALSE)","v":14995.063145363409},{"$f":"D10/VLOOKUP(A10, '2020-2022 Composite Index Data'!$A$5:$G$139, 7, FALSE)","v":10355.042103749885},null,{"$f":"R10-Q10","v":-4640.0210416135233},{"$f":"T10/Q10","v":-0.30943657900155319},{"$f":"IF(U10<$U$146,\"BELOW\", \"ABOVE\")","v":"BELOW"}]
[2,"ALBEMARLE",{"$f":"VLOOKUP(A11,'Taxable Sales'!$B$6:$E$140,4,FALSE)","v":1329772736.6799998},{"$f":"VLOOKUP(A11, '2020-2022 Composite Index Data'!$A$5:$E$139, 5, FALSE)","v":1490607721.02},null,160834984.34000015,0.12094922681416345,"ABOVE",null,{"$f":"C11/VLOOKUP(A11,'ADM & Population Analysis'!$A$10:$C$144,3,FALSE)","v":100116.97895301903},{"$f":"D11/VLOOKUP(A11, '2020-2022 Composite Index Data'!$A$5:$F$139, 6, FALSE)","v":110332.02476795309},null,{"$f":"K11-J11","v":10215.045814934056},{"$f":"M11/J11","v":0.10203110323302479},{"$f":"IF(N11<$N$146,\"BELOW\", \"ABOVE\")","v":"ABOVE"},null,{"$f":"C11/VLOOKUP(A11,'ADM & Population Analysis'!$A$10:$J$144,10,FALSE)","v":12658.35391076715},{"$f":"D11/VLOOKUP(A11, '2020-2022 Composite Index Data'!$A$5:$G$139, 7, FALSE)","v":13840.754348031978},null,{"$f":"R11-Q11","v":1182.4004372648287},{"$f":"T11/Q11","v":9.3408704291249367E-2},{"$f":"IF(U11<$U$146,\"BELOW\", \"ABOVE\")","v":"ABOVE"}]
[3,"ALLEGHANY",{"$f":"VLOOKUP(A12,'Taxable Sales'!$B$6:$E$140,4,FALSE)","v":76488688.870000005},{"$f":"VLOOKUP(A12, '2020-2022 Composite Index Data'!$A$5:$E$139, 5, FALSE)","v":70845093.010000005},null,-5643595.8599999994,-7.378340436181148E-2,"BELOW",null,{"$f":"C12/VLOOKUP(A12,'ADM & Population Analysis'!$A$10:$C$144,3,FALSE)","v":35159.130714778214},{"$f":"D12/VLOOKUP(A12, '2020-2022 Composite Index Data'!$A$5:$F$139, 6, FALSE)","v":34231.628161269437},null,-927.50255350877705,-2.6380133258497366E-2,"BELOW",null,{"$f":"C12/VLOOKUP(A12,'ADM & Population Analysis'!$A$10:$J$144,10,FALSE)","v":4929.9831691911058},{"$f":"D12/VLOOKUP(A12, '2020-2022 Composite Index Data'!$A$5:$G$139, 7, FALSE)","v":4598.8375858487507},null,{"$f":"R12-Q12","v":-331.14558334235517},{"$f":"T12/Q12","v":-6.7169718836319753E-2},{"$f":"IF(U12<$U$146,\"BELOW\", \"ABOVE\")","v":"BELOW"}]
[4,"AMELIA",{"$f":"VLOOKUP(A13,'Taxable Sales'!$B$6:$E$140,4,FALSE)","v":61389169.649999999},{"$f":"VLOOKUP(A13, '2020-2022 Composite Index Data'!$A$5:$E$139, 5, FALSE)","v":64025091.090000004},null,2635921.4400000051,4.2937890429668078E-2,"ABOVE",null,{"$f":"C13/VLOOKUP(A13,'ADM & Population Analysis'!$A$10:$C$144,3,FALSE)","v":34738.492768139069},{"$f":"D13/VLOOKUP(A13, '2020-2022 Composite Index Data'!$A$5:$F$139, 6, FALSE)","v":36848.124987050658},null,2109.632218911589,6.0728950820988697E-2,"ABOVE",null,{"$f":"C13/VLOOKUP(A13,'ADM & Population Analysis'!$A$10:$J$144,10,FALSE)","v":4755.5325470601902},{"$f":"D13/VLOOKUP(A13, '2020-2022 Composite Index Data'!$A$5:$G$139, 7, FALSE)","v":4944.7861515291943},null,189.25360446900413,3.9796511241627038E-2,"ABOVE"]
[5,"AMHERST",{"$f":"VLOOKUP(A14,'Taxable Sales'!$B$6:$E$140,4,FALSE)","v":233613015.50999999},{"$f":"VLOOKUP(A14, '2020-2022 Composite Index Data'!$A$5:$E$139, 5, FALSE)","v":247735438.91999999},null,14122423.409999996,6.0452211445365618E-2,"ABOVE",null,{"$f":"C14/VLOOKUP(A14,'ADM & Population Analysis'!$A$10:$C$144,3,FALSE)","v":58348.697845014911},{"$f":"D14/VLOOKUP(A14, '2020-2022 Composite Index Data'!$A$5:$F$139, 6, FALSE)","v":64059.845864632487},null,5711.1480196175762,9.7879613951068062E-2,"ABOVE",null,{"$f":"C14/VLOOKUP(A14,'ADM & Population Analysis'!$A$10:$J$144,10,FALSE)","v":7294.0244632821277},{"$f":"D14/VLOOKUP(A14, '2020-2022 Composite Index Data'!$A$5:$G$139, 7, FALSE)","v":7746.0896416734413},null,452.06517839131357,6.1977469456949916E-2,"ABOVE"]
[6,"APPOMATTOX",{"$f":"VLOOKUP(A15,'Taxable Sales'!$B$6:$E$140,4,FALSE)","v":111243954.83},{"$f":"VLOOKUP(A15, '2020-2022 Composite Index Data'!$A$5:$E$139, 5, FALSE)","v":117292203.81999999},null,6048248.9899999946,5.4369237404789904E-2,"ABOVE",null,{"$f":"C15/VLOOKUP(A15,'ADM & Population Analysis'!$A$10:$C$144,3,FALSE)","v":50828.355232977861},{"$f":"D15/VLOOKUP(A15, '2020-2022 Composite Index Data'!$A$5:$F$139, 6, FALSE)","v":53823.020998338856},null,2994.6657653609946,5.8917227434068735E-2,"ABOVE",null,{"$f":"C15/VLOOKUP(A15,'ADM & Population Analysis'!$A$10:$J$144,10,FALSE)","v":7197.9265499838239},{"$f":"D15/VLOOKUP(A15, '2020-2022 Composite Index Data'!$A$5:$G$139, 7, FALSE)","v":7549.7041593717813},null,351.77760938795745,4.8872075443552286E-2,"ABOVE"]
[7,"ARLINGTON",{"$f":"VLOOKUP(A16,'Taxable Sales'!$B$6:$E$140,4,FALSE)","v":3179231834.8800001},{"$f":"VLOOKUP(A16, '2020-2022 Composite Index Data'!$A$5:$E$139, 5, FALSE)","v":3258772638.29},null,79540803.409999847,2.5018874854403975E-2,"BELOW",null,{"$f":"C16/VLOOKUP(A16,'ADM & Population Analysis'!$A$10:$C$144,3,FALSE)","v":131319.65743227868},{"$f":"D16/VLOOKUP(A16, '2020-2022 Composite Index Data'!$A$5:$F$139, 6, FALSE)","v":126550.83699821752},null,-4768.8204340611555,-3.631459697129067E-2,"BELOW",null,{"$f":"C16/VLOOKUP(A16,'ADM & Population Analysis'!$A$10:$J$144,10,FALSE)","v":13547.208664127018},{"$f":"D16/VLOOKUP(A16, '2020-2022 Composite Index Data'!$A$5:$G$139, 7, FALSE)","v":13630.81154073634},null,83.602876609322266,6.1712252820540457E-3,"BELOW"]
[8,"AUGUSTA",{"$f":"VLOOKUP(A17,'Taxable Sales'!$B$6:$E$140,4,FALSE)","v":435582346.36000001},{"$f":"VLOOKUP(A17, '2020-2022 Composite Index Data'!$A$5:$E$139, 5, FALSE)","v":471863459.75},null,36281113.389999986,8.3293351287506909E-2,"ABOVE",null,{"$f":"C17/VLOOKUP(A17,'ADM & Population Analysis'!$A$10:$C$144,3,FALSE)","v":43103.407480268208},{"$f":"D17/VLOOKUP(A17, '2020-2022 Composite Index Data'!$A$5:$F$139, 6, FALSE)","v":47473.322207745827},null,4369.9147274776187,0.10138211763137449,"ABOVE",null,{"$f":"C17/VLOOKUP(A17,'ADM & Population Analysis'!$A$10:$J$144,10,FALSE)","v":5816.9942490084268},{"$f":"D17/VLOOKUP(A17, '2020-2022 Composite Index Data'!$A$5:$G$139, 7, FALSE)","v":6290.4224567741594},null,473.42820776573262,8.1387085408659965E-2,"ABOVE"]
[9,"BATH",{"$f":"VLOOKUP(A18,'Taxable Sales'!$B$6:$E$140,4,FALSE)","v":77422215.200000003},{"$f":"VLOOKUP(A18, '2020-2022 Composite Index Data'!$A$5:$E$139, 5, FALSE)","v":74264255.150000006},null,-3157960.049999997,-4.0788810315517773E-2,"BELOW",null,{"$f":"C18/VLOOKUP(A18,'ADM & Population Analysis'!$A$10:$C$144,3,FALSE)","v":142724.28418685248},{"$f":"D18/VLOOKUP(A18, '2020-2022 Composite Index Data'!$A$5:$F$139, 6, FALSE)","v":143727.99525837041},null,1003.7110715179297,7.0325178173875876E-3,"BELOW",null,{"$f":"C18/VLOOKUP(A18,'ADM & Population Analysis'!$A$10:$J$144,10,FALSE)","v":16378.721218531839},{"$f":"D18/VLOOKUP(A18, '2020-2022 Composite Index Data'!$A$5:$G$139, 7, FALSE)","v":16300.319392010537},null,-78.4018265213017,-4.7868100003187865E-3,"BELOW"]
[10,"BEDFORD COUNTY",{"$f":"VLOOKUP(A19,'Taxable Sales'!$B$6:$E$140,4,FALSE)","v":482777476.19},{"$f":"VLOOKUP(A19, '2020-2022 Composite Index Data'!$A$5:$E$139, 5, FALSE)","v":504850970.55000001},null,22073494.360000014,4.5721881091471753E-2,"ABOVE",null,{"$f":"C19/VLOOKUP(A19,'ADM & Population Analysis'!$A$10:$C$144,3,FALSE)","v":50239.604161506839},{"$f":"D19/VLOOKUP(A19, '2020-2022 Composite Index Data'!$A$5:$F$139, 6, FALSE)","v":53363.525627338648},null,3123.9214658318087,6.2180455399075997E-2,"ABOVE",null,{"$f":"C19/VLOOKUP(A19,'ADM & Population Analysis'!$A$10:$J$144,10,FALSE)","v":6223.3641790525298},{"$f":"D19/VLOOKUP(A19, '2020-2022 Composite Index Data'!$A$5:$G$139, 7, FALSE)","v":6488.5032265734444},null,265.13904752091457,4.2603813611512033E-2,"ABOVE"]
[11,"BLAND",{"$f":"VLOOKUP(A20,'Taxable Sales'!$B$6:$E$140,4,FALSE)","v":20270739},{"$f":"VLOOKUP(A20, '2020-2022 Composite Index Data'!$A$5:$E$139, 5, FALSE)","v":30921905},null,10651166,0.52544537226787835,"ABOVE",null,{"$f":"C20/VLOOKUP(A20,'ADM & Population Analysis'!$A$10:$C$144,3,FALSE)","v":25428.057653227628},{"$f":"D20/VLOOKUP(A20, '2020-2022 Composite Index Data'!$A$5:$F$139, 6, FALSE)","v":42786.048345809519},null,17357.99069258189,0.68263140383349763,"ABOVE",null,{"$f":"C20/VLOOKUP(A20,'ADM & Population Analysis'!$A$10:$J$144,10,FALSE)","v":3032.725763016158},{"$f":"D20/VLOOKUP(A20, '2020-2022 Composite Index Data'!$A$5:$G$139, 7, FALSE)","v":4749.1790815542927},null,1716.4533185381347,0.56597709541368435,"ABOVE"]
[12,"BOTETOURT",{"$f":"VLOOKUP(A21,'Taxable Sales'!$B$6:$E$140,4,FALSE)","v":212364970.66},{"$f":"VLOOKUP(A21, '2020-2022 Composite Index Data'!$A$5:$E$139, 5, FALSE)","v":215688997.53},null,3324026.8700000048,1.5652425443185871E-2,"BELOW",null,{"$f":"C21/VLOOKUP(A21,'ADM & Population Analysis'!$A$10:$C$144,3,FALSE)","v":45522.940070868011},{"$f":"D21/VLOOKUP(A21, '2020-2022 Composite Index Data'!$A$5:$F$139, 6, FALSE)","v":47426.168515509387},null,1903.228444641376,4.1808117878118542E-2,"ABOVE",null,{"$f":"C21/VLOOKUP(A21,'ADM & Population Analysis'!$A$10:$J$144,10,FALSE)","v":6341.9032031296656},{"$f":"D21/VLOOKUP(A21, '2020-2022 Composite Index Data'!$A$5:$G$139, 7, FALSE)","v":6467.4362077961023},null,125.53300466643668,1.979421644349403E-2,"BELOW"]
[13,"BRUNSWICK",{"$f":"VLOOKUP(A22,'Taxable Sales'!$B$6:$E$140,4,FALSE)","v":66583183.200000003},{"$f":"VLOOKUP(A22, '2020-2022 Composite Index Data'!$A$5:$E$139, 5, FALSE)","v":69549513.510000005},null,2966330.3100000024,4.4550743407533608E-2,"ABOVE",null,{"$f":"C22/VLOOKUP(A22,'ADM & Population Analysis'!$A$10:$C$144,3,FALSE)","v":39896.448678770445},{"$f":"D22/VLOOKUP(A22, '2020-2022 Composite Index Data'!$A$5:$F$139, 6, FALSE)","v":44602.177544201681},null,4705.728865431236,0.11794856487903976,"ABOVE",null,{"$f":"C22/VLOOKUP(A22,'ADM & Population Analysis'!$A$10:$J$144,10,FALSE)","v":3932.8519314825753},{"$f":"D22/VLOOKUP(A22, '2020-2022 Composite Index Data'!$A$5:$G$139, 7, FALSE)","v":4194.5306983897235},null,261.6787669071482,6.6536643500967663E-2,"ABOVE"]
[14,"BUCHANAN",{"$f":"VLOOKUP(A23,'Taxable Sales'!$B$6:$E$140,4,FALSE)","v":141875222.57999998},{"$f":"VLOOKUP(A23, '2020-2022 Composite Index Data'!$A$5:$E$139, 5, FALSE)","v":140412697.74000001},null,-1462524.8399999738,-1.0308528955260611E-2,"BELOW",null,{"$f":"C23/VLOOKUP(A23,'ADM & Population Analysis'!$A$10:$C$144,3,FALSE)","v":49111.655092199951},{"$f":"D23/VLOOKUP(A23, '2020-2022 Composite Index Data'!$A$5:$F$139, 6, FALSE)","v":51493.581392107968},null,2381.9262999080165,4.8500224548252306E-2,"ABOVE",null,{"$f":"C23/VLOOKUP(A23,'ADM & Population Analysis'!$A$10:$J$144,10,FALSE)","v":6173.0506278553703},{"$f":"D23/VLOOKUP(A23, '2020-2022 Composite Index Data'!$A$5:$G$139, 7, FALSE)","v":6381.2351272495916},null,208.18449939422135,3.3724735458155221E-2,"ABOVE"]
[15,"BUCKINGHAM",{"$f":"VLOOKUP(A24,'Taxable Sales'!$B$6:$E$140,4,FALSE)","v":55434369.219999999},{"$f":"VLOOKUP(A24, '2020-2022 Composite Index Data'!$A$5:$E$139, 5, FALSE)","v":57962895.840000004},null,2528526.6200000048,4.5612977212118169E-2,"ABOVE",null,{"$f":"C24/VLOOKUP(A24,'ADM & Population Analysis'!$A$10:$C$144,3,FALSE)","v":29098.337184460415},{"$f":"D24/VLOOKUP(A24, '2020-2022 Composite Index Data'!$A$5:$F$139, 6, FALSE)","v":29722.27564033536},null,623.93845587494434,2.1442409300561356E-2,"BELOW",null,{"$f":"C24/VLOOKUP(A24,'ADM & Population Analysis'!$A$10:$J$144,10,FALSE)","v":3263.1486472804331},{"$f":"D24/VLOOKUP(A24, '2020-2022 Composite Index Data'!$A$5:$G$139, 7, FALSE)","v":3418.2282148965032},null,155.07956761607011,4.7524518303913681E-2,"ABOVE"]
[16,"CAMPBELL",{"$f":"VLOOKUP(A25,'Taxable Sales'!$B$6:$E$140,4,FALSE)","v":462416719.18000001},{"$f":"VLOOKUP(A25, '2020-2022 Composite Index Data'!$A$5:$E$139, 5, FALSE)","v":485915056.01999998},null,23498336.839999974,5.0816365121203647E-2,"ABOVE",null,{"$f":"C25/VLOOKUP(A25,'ADM & Population Analysis'!$A$10:$C$144,3,FALSE)","v":60853.753501201507},{"$f":"D25/VLOOKUP(A25, '2020-2022 Composite Index Data'!$A$5:$F$139, 6, FALSE)","v":63719.962917940305},null,2866.2094167387986,4.7099961002113166E-2,"ABOVE",null,{"$f":"C25/VLOOKUP(A25,'ADM & Population Analysis'!$A$10:$J$144,10,FALSE)","v":8232.8897605355451},{"$f":"D25/VLOOKUP(A25, '2020-2022 Composite Index Data'!$A$5:$G$139, 7, FALSE)","v":8754.7530047024484},null,521.86324416690331,6.3387614719252167E-2,"ABOVE"]
[17,"CAROLINE",{"$f":"VLOOKUP(A26,'Taxable Sales'!$B$6:$E$140,4,FALSE)","v":137726350.05000001},{"$f":"VLOOKUP(A26, '2020-2022 Composite Index Data'!$A$5:$E$139, 5, FALSE)","v":151212078.53},null,13485728.479999989,9.7916836357778647E-2,"ABOVE",null,{"$f":"C26/VLOOKUP(A26,'ADM & Population Analysis'!$A$10:$C$144,3,FALSE)","v":33024.971417404216},{"$f":"D26/VLOOKUP(A26, '2020-2022 Composite Index Data'!$A$5:$F$139, 6, FALSE)","v":36763.798945799615},null,3738.827528395399,0.11321213517917023,"ABOVE",null,{"$f":"C26/VLOOKUP(A26,'ADM & Population Analysis'!$A$10:$J$144,10,FALSE)","v":4622.9306542024706},{"$f":"D26/VLOOKUP(A26, '2020-2022 Composite Index Data'!$A$5:$G$139, 7, FALSE)","v":5042.083312104035},null,419.15265790156445,9.0668169015369962E-2,"ABOVE"]
[18,"CARROLL",{"$f":"VLOOKUP(A27,'Taxable Sales'!$B$6:$E$140,4,FALSE)","v":162406342.17000002},{"$f":"VLOOKUP(A27, '2020-2022 Composite Index Data'!$A$5:$E$139, 5, FALSE)","v":167345734.18000001},null,4939392.0099999905,3.0413787688350534E-2,"BELOW",null,{"$f":"C27/VLOOKUP(A27,'ADM & Population Analysis'!$A$10:$C$144,3,FALSE)","v":43290.810703394898},{"$f":"D27/VLOOKUP(A27, '2020-2022 Composite Index Data'!$A$5:$F$139, 6, FALSE)","v":46338.830127237743},null,3048.0194238428448,7.0408000550653049E-2,"ABOVE",null,{"$f":"C27/VLOOKUP(A27,'ADM & Population Analysis'!$A$10:$J$144,10,FALSE)","v":5546.0964440118842},{"$f":"D27/VLOOKUP(A27, '2020-2022 Composite Index Data'!$A$5:$G$139, 7, FALSE)","v":5728.6640483363008},null,182.56760432441661,3.2918216653360706E-2,"ABOVE"]
[19,"CHARLES CITY",{"$f":"VLOOKUP(A28,'Taxable Sales'!$B$6:$E$140,4,FALSE)","v":56799976},{"$f":"VLOOKUP(A28, '2020-2022 Composite Index Data'!$A$5:$E$139, 5, FALSE)","v":58539334},null,1739358,3.0622512939089973E-2,"BELOW",null,{"$f":"C28/VLOOKUP(A28,'ADM & Population Analysis'!$A$10:$C$144,3,FALSE)","v":84335.524870081659},{"$f":"D28/VLOOKUP(A28, '2020-2022 Composite Index Data'!$A$5:$F$139, 6, FALSE)","v":96543.801434814872},null,12208.276564733213,0.14475841092517044,"ABOVE",null,{"$f":"C28/VLOOKUP(A28,'ADM & Population Analysis'!$A$10:$J$144,10,FALSE)","v":7747.9165188923753},{"$f":"D28/VLOOKUP(A28, '2020-2022 Composite Index Data'!$A$5:$G$139, 7, FALSE)","v":8186.1745210460076},null,438.25800215363233,5.6564626255973742E-2,"ABOVE"]
[20,"CHARLOTTE",{"$f":"VLOOKUP(A29,'Taxable Sales'!$B$6:$E$140,4,FALSE)","v":50781692.710000001},{"$f":"VLOOKUP(A29, '2020-2022 Composite Index Data'!$A$5:$E$139, 5, FALSE)","v":54357115.82},null,3575423.1099999994,7.0407718199120256E-2,"ABOVE",null,{"$f":"C29/VLOOKUP(A29,'ADM & Population Analysis'!$A$10:$C$144,3,FALSE)","v":27859.474379793504},{"$f":"D29/VLOOKUP(A29, '2020-2022 Composite Index Data'!$A$5:$F$139, 6, FALSE)","v":30647.381821462197},null,2787.9074416686926,0.10007035321853609,"ABOVE",null,{"$f":"C29/VLOOKUP(A29,'ADM & Population Analysis'!$A$10:$J$144,10,FALSE)","v":4077.5407668219045},{"$f":"D29/VLOOKUP(A29, '2020-2022 Composite Index Data'!$A$5:$G$139, 7, FALSE)","v":4444.208635434552},null,366.66786861264745,8.9923777487682557E-2,"ABOVE"]
[21,"CHESTERFIELD",{"$f":"VLOOKUP(A30,'Taxable Sales'!$B$6:$E$140,4,FALSE)","v":4073926473.7600002},{"$f":"VLOOKUP(A30, '2020-2022 Composite Index Data'!$A$5:$E$139, 5, FALSE)","v":4394824320.29},null,320897846.52999973,7.8768688781422569E-2,"ABOVE",null,{"$f":"C30/VLOOKUP(A30,'ADM & Population Analysis'!$A$10:$C$144,3,FALSE)","v":69163.627454279282},{"$f":"D30/VLOOKUP(A30, '2020-2022 Composite Index Data'!$A$5:$F$139, 6, FALSE)","v":73172.87470987752},null,4009.2472555982386,5.7967567682139828E-2,"ABOVE",null,{"$f":"C30/VLOOKUP(A30,'ADM & Population Analysis'!$A$10:$J$144,10,FALSE)","v":12217.503295126706},{"$f":"D30/VLOOKUP(A30, '2020-2022 Composite Index Data'!$A$5:$G$139, 7, FALSE)","v":12925.193577701311},null,707.69028257460559,5.7924296435990133E-2,"ABOVE"]
[22,"CLARKE",{"$f":"VLOOKUP(A31,'Taxable Sales'!$B$6:$E$140,4,FALSE)","v":83134365.680000007},{"$f":"VLOOKUP(A31, '2020-2022 Composite Index Data'!$A$5:$E$139, 5, FALSE)","v":85971890.569999993},null,2837524.8899999857,3.4131792151060117E-2,"BELOW",null,{"$f":"C31/VLOOKUP(A31,'ADM & Population Analysis'!$A$10:$C$144,3,FALSE)","v":42289.917530597922},{"$f":"D31/VLOOKUP(A31, '2020-2022 Composite Index Data'!$A$5:$F$139, 6, FALSE)","v":44517.341844449045},null,2227.4243138511229,5.267033950206973E-2,"ABOVE",null,{"$f":"C31/VLOOKUP(A31,'ADM & Population Analysis'!$A$10:$J$144,10,FALSE)","v":5852.0600929184857},{"$f":"D31/VLOOKUP(A31, '2020-2022 Composite Index Data'!$A$5:$G$139, 7, FALSE)","v":6006.9794976243711},null,154.91940470588543,2.647262711696206E-2,"ABOVE"]
[23,"CRAIG",{"$f":"VLOOKUP(A32,'Taxable Sales'!$B$6:$E$140,4,FALSE)","v":12891098},{"$f":"VLOOKUP(A32, '2020-2022 Composite Index Data'!$A$5:$E$139, 5, FALSE)","v":12876065},null,-15033,-1.1661535735745705E-3,"BELOW",null,{"$f":"C32/VLOOKUP(A32,'ADM & Population Analysis'!$A$10:$C$144,3,FALSE)","v":21469.061537180445},{"$f":"D32/VLOOKUP(A32, '2020-2022 Composite Index Data'!$A$5:$F$139, 6, FALSE)","v":22192.84200003447},null,723.78046285402525,3.3712720120559127E-2,"ABOVE",null,{"$f":"C32/VLOOKUP(A32,'ADM & Population Analysis'!$A$10:$J$144,10,FALSE)","v":2482.8771186440677},{"$f":"D32/VLOOKUP(A32, '2020-2022 Composite Index Data'!$A$5:$G$139, 7, FALSE)","v":2510.4435562487815},null,27.566437604713883,1.1102618570091895E-2,"BELOW"]
[24,"CULPEPER",{"$f":"VLOOKUP(A33,'Taxable Sales'!$B$6:$E$140,4,FALSE)","v":599375784.63},{"$f":"VLOOKUP(A33, '2020-2022 Composite Index Data'!$A$5:$E$139, 5, FALSE)","v":703603206.82000005},null,104227422.19000006,0.17389328174867888,"ABOVE",null,{"$f":"C33/VLOOKUP(A33,'ADM & Population Analysis'!$A$10:$C$144,3,FALSE)","v":75867.759536066485},{"$f":"D33/VLOOKUP(A33, '2020-2022 Composite Index Data'!$A$5:$F$139, 6, FALSE)","v":88479.174519220498},null,12611.414983154013,0.16622891014935956,"ABOVE",null,{"$f":"C33/VLOOKUP(A33,'ADM & Population Analysis'!$A$10:$J$144,10,FALSE)","v":12255.168574261879},{"$f":"D33/VLOOKUP(A33, '2020-2022 Composite Index Data'!$A$5:$G$139, 7, FALSE)","v":13995.926297342457},null,1740.7577230805782,0.1420427399698517,"ABOVE"]
[25,"CUMBERLAND",{"$f":"VLOOKUP(A34,'Taxable Sales'!$B$6:$E$140,4,FALSE)","v":32060124.59},{"$f":"VLOOKUP(A34, '2020-2022 Composite Index Data'!$A$5:$E$139, 5, FALSE)","v":33660951.32},null,1600826.7300000004,4.9932018370861871E-2,"ABOVE",null,{"$f":"C34/VLOOKUP(A34,'ADM & Population Analysis'!$A$10:$C$144,3,FALSE)","v":24879.811105075278},{"$f":"D34/VLOOKUP(A34, '2020-2022 Composite Index Data'!$A$5:$F$139, 6, FALSE)","v":27164.768565295282},null,2284.9574602200046,9.1839823484587954E-2,"ABOVE",null,{"$f":"C34/VLOOKUP(A34,'ADM & Population Analysis'!$A$10:$J$144,10,FALSE)","v":3209.5429562518771},{"$f":"D34/VLOOKUP(A34, '2020-2022 Composite Index Data'!$A$5:$G$139, 7, FALSE)","v":3413.5433850522259},null,204.0004288003488,6.3560585286131108E-2,"ABOVE"]
[26,"DICKENSON",{"$f":"VLOOKUP(A35,'Taxable Sales'!$B$6:$E$140,4,FALSE)","v":60520561.030000001},{"$f":"VLOOKUP(A35, '2020-2022 Composite Index Data'!$A$5:$E$139, 5, FALSE)","v":58585686.920000002},null,-1934874.1099999994,-3.1970525009523354E-2,"BELOW",null,{"$f":"C35/VLOOKUP(A35,'ADM & Population Analysis'!$A$10:$C$144,3,FALSE)","v":27729.924870561284},{"$f":"D35/VLOOKUP(A35, '2020-2022 Composite Index Data'!$A$5:$F$139, 6, FALSE)","v":29314.389536309187},null,1584.4646657479025,5.7139161867330049E-2,"ABOVE",null,{"$f":"C35/VLOOKUP(A35,'ADM & Population Analysis'!$A$10:$J$144,10,FALSE)","v":3945.5349781602454},{"$f":"D35/VLOOKUP(A35, '2020-2022 Composite Index Data'!$A$5:$G$139, 7, FALSE)","v":3990.3069690777825},null,44.771990917537096,1.1347508301247838E-2,"BELOW"]
[27,"DINWIDDIE",{"$f":"VLOOKUP(A36,'Taxable Sales'!$B$6:$E$140,4,FALSE)","v":131364126.45},{"$f":"VLOOKUP(A36, '2020-2022 Composite Index Data'!$A$5:$E$139, 5, FALSE)","v":136670242.28},null,5306115.8299999982,4.0392426558095516E-2,"ABOVE",null,{"$f":"C36/VLOOKUP(A36,'ADM & Population Analysis'!$A$10:$C$144,3,FALSE)","v":30117.574632426273},{"$f":"D36/VLOOKUP(A36, '2020-2022 Composite Index Data'!$A$5:$F$139, 6, FALSE)","v":32093.81848837373},null,1976.2438559474576,6.5617629575647249E-2,"ABOVE",null,{"$f":"C36/VLOOKUP(A36,'ADM & Population Analysis'!$A$10:$J$144,10,FALSE)","v":4568.7102719716204},{"$f":"D36/VLOOKUP(A36, '2020-2022 Composite Index Data'!$A$5:$G$139, 7, FALSE)","v":4795.4470975438599},null,226.73682557223947,4.9628190906137612E-2,"ABOVE"]
[28,"ESSEX",{"$f":"VLOOKUP(A37,'Taxable Sales'!$B$6:$E$140,4,FALSE)","v":181036123.17000002},{"$f":"VLOOKUP(A37, '2020-2022 Composite Index Data'!$A$5:$E$139, 5, FALSE)","v":191246470.50999999},null,10210347.339999974,5.639950282415216E-2,"ABOVE",null,{"$f":"C37/VLOOKUP(A37,'ADM & Population Analysis'!$A$10:$C$144,3,FALSE)","v":127723.18748280314},{"$f":"D37/VLOOKUP(A37, '2020-2022 Composite Index Data'!$A$5:$F$139, 6, FALSE)","v":143743.542139244},null,16020.354656440861,0.12543027599117715,"ABOVE",null,{"$f":"C37/VLOOKUP(A37,'ADM & Population Analysis'!$A$10:$J$144,10,FALSE)","v":16587.513576140736},{"$f":"D37/VLOOKUP(A37, '2020-2022 Composite Index Data'!$A$5:$G$139, 7, FALSE)","v":17686.716961990198},null,1099.2033858494615,6.6266917027910766E-2,"ABOVE"]
[29,"FAIRFAX COUNTY",{"$f":"VLOOKUP(A38,'Taxable Sales'!$B$6:$E$140,4,FALSE)","v":15019492203.389999},{"$f":"VLOOKUP(A38, '2020-2022 Composite Index Data'!$A$5:$E$139, 5, FALSE)","v":14939828530.33},null,-79663673.059999466,-5.3040190694342414E-3,"BELOW",null,{"$f":"C38/VLOOKUP(A38,'ADM & Population Analysis'!$A$10:$C$144,3,FALSE)","v":84197.591426792118},{"$f":"D38/VLOOKUP(A38, '2020-2022 Composite Index Data'!$A$5:$F$139, 6, FALSE)","v":82863.422984913414},null,-1334.1684418787045,-1.5845684173029267E-2,"BELOW",null,{"$f":"C38/VLOOKUP(A38,'ADM & Population Analysis'!$A$10:$J$144,10,FALSE)","v":13299.471548077177},{"$f":"D38/VLOOKUP(A38, '2020-2022 Composite Index Data'!$A$5:$G$139, 7, FALSE)","v":13065.81215828005},null,-233.65938979712701,-1.7569073248696804E-2,"BELOW"]
[30,"FAUQUIER",{"$f":"VLOOKUP(A39,'Taxable Sales'!$B$6:$E$140,4,FALSE)","v":744459400.08999991},{"$f":"VLOOKUP(A39, '2020-2022 Composite Index Data'!$A$5:$E$139, 5, FALSE)","v":861595287.27999997},null,117135887.19000006,0.1573435531552683,"ABOVE",null,{"$f":"C39/VLOOKUP(A39,'ADM & Population Analysis'!$A$10:$C$144,3,FALSE)","v":68273.284118557116},{"$f":"D39/VLOOKUP(A39, '2020-2022 Composite Index Data'!$A$5:$F$139, 6, FALSE)","v":78646.650176581679},null,10373.366058024563,0.15193887612043283,"ABOVE",null,{"$f":"C39/VLOOKUP(A39,'ADM & Population Analysis'!$A$10:$J$144,10,FALSE)","v":10964.378922648677},{"$f":"D39/VLOOKUP(A39, '2020-2022 Composite Index Data'!$A$5:$G$139, 7, FALSE)","v":12469.178373903731},null,1504.799451255054,0.13724438583079707,"ABOVE"]
[31,"FLOYD",{"$f":"VLOOKUP(A40,'Taxable Sales'!$B$6:$E$140,4,FALSE)","v":71712184.689999998},{"$f":"VLOOKUP(A40, '2020-2022 Composite Index Data'!$A$5:$E$139, 5, FALSE)","v":74718941.379999995},null,3006756.6899999976,4.1928114489855707E-2,"ABOVE",null,{"$f":"C40/VLOOKUP(A40,'ADM & Population Analysis'!$A$10:$C$144,3,FALSE)","v":36003.707545938349},{"$f":"D40/VLOOKUP(A40, '2020-2022 Composite Index Data'!$A$5:$F$139, 6, FALSE)","v":37902.807434574628},null,1899.0998886362795,5.2747342373369567E-2,"ABOVE",null,{"$f":"C40/VLOOKUP(A40,'ADM & Population Analysis'!$A$10:$J$144,10,FALSE)","v":4647.5816390149057},{"$f":"D40/VLOOKUP(A40, '2020-2022 Composite Index Data'!$A$5:$G$139, 7, FALSE)","v":4805.07661607717},null,157.4949770622643,3.3887511677072268E-2,"ABOVE"]
[32,"FLUVANNA",{"$f":"VLOOKUP(A41,'Taxable Sales'!$B$6:$E$140,4,FALSE)","v":115253863.33},{"$f":"VLOOKUP(A41, '2020-2022 Composite Index Data'!$A$5:$E$139, 5, FALSE)","v":130487206.62},null,15233343.290000007,0.13217208386657911,"ABOVE",null,{"$f":"C41/VLOOKUP(A41,'ADM & Population Analysis'!$A$10:$C$144,3,FALSE)","v":33429.203042608118},{"$f":"D41/VLOOKUP(A41, '2020-2022 Composite Index Data'!$A$5:$F$139, 6, FALSE)","v":37584.994086623905},null,4155.7910440157866,0.12431618662039019,"ABOVE",null,{"$f":"C41/VLOOKUP(A41,'ADM & Population Analysis'!$A$10:$J$144,10,FALSE)","v":4405.3919169023775},{"$f":"D41/VLOOKUP(A41, '2020-2022 Composite Index Data'!$A$5:$G$139, 7, FALSE)","v":4930.1850085011529},null,524.79309159877539,0.11912517694175555,"ABOVE"]
[33,"FRANKLIN COUNTY",{"$f":"VLOOKUP(A42,'Taxable Sales'!$B$6:$E$140,4,FALSE)","v":404044020.85000002},{"$f":"VLOOKUP(A42, '2020-2022 Composite Index Data'!$A$5:$E$139, 5, FALSE)","v":424098901.08999997},null,20054880.23999995,4.9635384277707841E-2,"ABOVE",null,{"$f":"C42/VLOOKUP(A42,'ADM & Population Analysis'!$A$10:$C$144,3,FALSE)","v":58122.115191523153},{"$f":"D42/VLOOKUP(A42, '2020-2022 Composite Index Data'!$A$5:$F$139, 6, FALSE)","v":61835.968927381546},null,3713.8537358583926,6.3897429121781882E-2,"ABOVE",null,{"$f":"C42/VLOOKUP(A42,'ADM & Population Analysis'!$A$10:$J$144,10,FALSE)","v":7167.3322485941853},{"$f":"D42/VLOOKUP(A42, '2020-2022 Composite Index Data'!$A$5:$G$139, 7, FALSE)","v":7515.8860313325176},null,348.5537827383323,4.863089510140936E-2,"ABOVE"]
[34,"FREDERICK",{"$f":"VLOOKUP(A43,'Taxable Sales'!$B$6:$E$140,4,FALSE)","v":1159781255.6500001},{"$f":"VLOOKUP(A43, '2020-2022 Composite Index Data'!$A$5:$E$139, 5, FALSE)","v":1249749135.8199999},null,89967880.169999838,7.7573145566641605E-2,"ABOVE",null,{"$f":"C43/VLOOKUP(A43,'ADM & Population Analysis'!$A$10:$C$144,3,FALSE)","v":88930.323418543645},{"$f":"D43/VLOOKUP(A43, '2020-2022 Composite Index Data'!$A$5:$F$139, 6, FALSE)","v":93660.050378237735},null,4729.7269596940896,5.3184636891895669E-2,"ABOVE",null,{"$f":"C43/VLOOKUP(A43,'ADM & Population Analysis'!$A$10:$J$144,10,FALSE)","v":14037.026683248007},{"$f":"D43/VLOOKUP(A43, '2020-2022 Composite Index Data'!$A$5:$G$139, 7, FALSE)","v":14562.446234211138},null,525.41955096313177,3.7430971873137146E-2,"ABOVE"]
[35,"GILES",{"$f":"VLOOKUP(A44,'Taxable Sales'!$B$6:$E$140,4,FALSE)","v":156312262.80000001},{"$f":"VLOOKUP(A44, '2020-2022 Composite Index Data'!$A$5:$E$139, 5, FALSE)","v":137678547.06},null,-18633715.74000001,-0.11920827839234638,"BELOW",null,{"$f":"C44/VLOOKUP(A44,'ADM & Population Analysis'!$A$10:$C$144,3,FALSE)","v":65374.173079496795},{"$f":"D44/VLOOKUP(A44, '2020-2022 Composite Index Data'!$A$5:$F$139, 6, FALSE)","v":57685.978095186219},null,-7688.1949843105758,-0.11760294046031786,"BELOW",null,{"$f":"C44/VLOOKUP(A44,'ADM & Population Analysis'!$A$10:$J$144,10,FALSE)","v":9099.0315385063168},{"$f":"D44/VLOOKUP(A44, '2020-2022 Composite Index Data'!$A$5:$G$139, 7, FALSE)","v":8073.567528294142},null,-1025.4640102121748,-0.11270034683059395,"BELOW"]
[36,"GLOUCESTER",{"$f":"VLOOKUP(A45,'Taxable Sales'!$B$6:$E$140,4,FALSE)","v":373293033.47000003},{"$f":"VLOOKUP(A45, '2020-2022 Composite Index Data'!$A$5:$E$139, 5, FALSE)","v":405650909.30000001},null,32357875.829999983,8.6682238693855634E-2,"ABOVE",null,{"$f":"C45/VLOOKUP(A45,'ADM & Population Analysis'!$A$10:$C$144,3,FALSE)","v":69366.626740005027},{"$f":"D45/VLOOKUP(A45, '2020-2022 Composite Index Data'!$A$5:$F$139, 6, FALSE)","v":76967.034940090511},null,7600.4082000854833,0.1095686579739964,"ABOVE",null,{"$f":"C45/VLOOKUP(A45,'ADM & Population Analysis'!$A$10:$J$144,10,FALSE)","v":10069.406384063444},{"$f":"D45/VLOOKUP(A45, '2020-2022 Composite Index Data'!$A$5:$G$139, 7, FALSE)","v":10913.689076918938},null,844.28269285549322,8.3846322280895808E-2,"ABOVE"]
[37,"GOOCHLAND",{"$f":"VLOOKUP(A46,'Taxable Sales'!$B$6:$E$140,4,FALSE)","v":201116705.23000002},{"$f":"VLOOKUP(A46, '2020-2022 Composite Index Data'!$A$5:$E$139, 5, FALSE)","v":227534841.06},null,26418135.829999983,0.13135724255122325,"ABOVE",null,{"$f":"C46/VLOOKUP(A46,'ADM & Population Analysis'!$A$10:$C$144,3,FALSE)","v":80598.2067206348},{"$f":"D46/VLOOKUP(A46, '2020-2022 Composite Index Data'!$A$5:$F$139, 6, FALSE)","v":89208.35923312162},null,8610.1525124868203,0.10682809038581803,"ABOVE",null,{"$f":"C46/VLOOKUP(A46,'ADM & Population Analysis'!$A$10:$J$144,10,FALSE)","v":9027.9977209678145},{"$f":"D46/VLOOKUP(A46, '2020-2022 Composite Index Data'!$A$5:$G$139, 7, FALSE)","v":10021.353933494825},null,993.35621252701094,0.11003062287221332,"ABOVE"]
[38,"GRAYSON",{"$f":"VLOOKUP(A47,'Taxable Sales'!$B$6:$E$140,4,FALSE)","v":33295047},{"$f":"VLOOKUP(A47, '2020-2022 Composite Index Data'!$A$5:$E$139, 5, FALSE)","v":34104091},null,809044,2.4299229852416188E-2,"BELOW",null,{"$f":"C47/VLOOKUP(A47,'ADM & Population Analysis'!$A$10:$C$144,3,FALSE)","v":20603.880665363002},{"$f":"D47/VLOOKUP(A47, '2020-2022 Composite Index Data'!$A$5:$F$139, 6, FALSE)","v":22572.634790781412},null,1968.7541254184107,9.5552588242663702E-2,"ABOVE",null,{"$f":"C47/VLOOKUP(A47,'ADM & Population Analysis'!$A$10:$J$144,10,FALSE)","v":2069.6865170634674},{"$f":"D47/VLOOKUP(A47, '2020-2022 Composite Index Data'!$A$5:$G$139, 7, FALSE)","v":2176.5327078945688},null,106.84619083110147,5.1624335352340227E-2,"ABOVE"]
[39,"GREENE",{"$f":"VLOOKUP(A48,'Taxable Sales'!$B$6:$E$140,4,FALSE)","v":164467431.91},{"$f":"VLOOKUP(A48, '2020-2022 Composite Index Data'!$A$5:$E$139, 5, FALSE)","v":175413564.53999999},null,10946132.629999995,6.6555016411941947E-2,"ABOVE",null,{"$f":"C48/VLOOKUP(A48,'ADM & Population Analysis'!$A$10:$C$144,3,FALSE)","v":53574.198478777806},{"$f":"D48/VLOOKUP(A48, '2020-2022 Composite Index Data'!$A$5:$F$139, 6, FALSE)","v":58811.905150505263},null,5237.7066717274574,9.7765469581448897E-2,"ABOVE",null,{"$f":"C48/VLOOKUP(A48,'ADM & Population Analysis'!$A$10:$J$144,10,FALSE)","v":8289.6891083669361},{"$f":"D48/VLOOKUP(A48, '2020-2022 Composite Index Data'!$A$5:$G$139, 7, FALSE)","v":8777.2611728796601},null,487.57206451272395,5.8816688797244332E-2,"ABOVE"]
[40,"GREENSVILLE",{"$f":"VLOOKUP(A49,'Taxable Sales'!$B$6:$E$140,4,FALSE)","v":42405153},{"$f":"VLOOKUP(A49, '2020-2022 Composite Index Data'!$A$5:$E$139, 5, FALSE)","v":47788891},null,5383738,0.12695952305607763,"ABOVE",null,{"$f":"C49/VLOOKUP(A49,'ADM & Population Analysis'!$A$10:$C$144,3,FALSE)","v":30297.618639344968},{"$f":"D49/VLOOKUP(A49, '2020-2022 Composite Index Data'!$A$5:$F$139, 6, FALSE)","v":39233.932104593412},null,8936.3134652484441,0.29495101815175684,"ABOVE",null,{"$f":"C49/VLOOKUP(A49,'ADM & Population Analysis'!$A$10:$J$144,10,FALSE)","v":3592.4392578786851},{"$f":"D49/VLOOKUP(A49, '2020-2022 Composite Index Data'!$A$5:$G$139, 7, FALSE)","v":4132.9145550462681},null,540.47529716758299,0.15044799880255472,"ABOVE"]
[41,"HALIFAX",{"$f":"VLOOKUP(A50,'Taxable Sales'!$B$6:$E$140,4,FALSE)","v":304313162.63},{"$f":"VLOOKUP(A50, '2020-2022 Composite Index Data'!$A$5:$E$139, 5, FALSE)","v":294706517.64999998},null,-9606644.9800000191,-3.1568286093757586E-2,"BELOW",null,{"$f":"C50/VLOOKUP(A50,'ADM & Population Analysis'!$A$10:$C$144,3,FALSE)","v":60379.475959373092},{"$f":"D50/VLOOKUP(A50, '2020-2022 Composite Index Data'!$A$5:$F$139, 6, FALSE)","v":62402.786073496871},null,2023.3101141237785,3.3509898553693677E-2,"ABOVE",null,{"$f":"C50/VLOOKUP(A50,'ADM & Population Analysis'!$A$10:$J$144,10,FALSE)","v":8508.4483204719563},{"$f":"D50/VLOOKUP(A50, '2020-2022 Composite Index Data'!$A$5:$G$139, 7, FALSE)","v":8368.7780107908548},null,-139.67030968110157,-1.6415485458734523E-2,"BELOW"]
[42,"HANOVER",{"$f":"VLOOKUP(A51,'Taxable Sales'!$B$6:$E$140,4,FALSE)","v":1793204650.54},{"$f":"VLOOKUP(A51, '2020-2022 Composite Index Data'!$A$5:$E$139, 5, FALSE)","v":1915809188.3199999},null,122604537.77999997,6.8371748725433668E-2,"ABOVE",null,{"$f":"C51/VLOOKUP(A51,'ADM & Population Analysis'!$A$10:$C$144,3,FALSE)","v":101006.09575389093},{"$f":"D51/VLOOKUP(A51, '2020-2022 Composite Index Data'!$A$5:$F$139, 6, FALSE)","v":108770.10479078972},null,7764.0090368987876,7.6866737387972991E-2,"ABOVE",null,{"$f":"C51/VLOOKUP(A51,'ADM & Population Analysis'!$A$10:$J$144,10,FALSE)","v":17240.197384365416},{"$f":"D51/VLOOKUP(A51, '2020-2022 Composite Index Data'!$A$5:$G$139, 7, FALSE)","v":18009.957116991773},null,769.75973262635671,4.4649125266073071E-2,"ABOVE"]
[43,"HENRICO",{"$f":"VLOOKUP(A52,'Taxable Sales'!$B$6:$E$140,4,FALSE)","v":5430593997.3500004},{"$f":"VLOOKUP(A52, '2020-2022 Composite Index Data'!$A$5:$E$139, 5, FALSE)","v":5656612709.1000004},null,226018711.75,4.1619519312305744E-2,"ABOVE",null,{"$f":"C52/VLOOKUP(A52,'ADM & Population Analysis'!$A$10:$C$144,3,FALSE)","v":107945.44635032238},{"$f":"D52/VLOOKUP(A52, '2020-2022 Composite Index Data'!$A$5:$F$139, 6, FALSE)","v":112493.80683071299},null,4548.3604803906055,4.2135732762913547E-2,"ABOVE",null,{"$f":"C52/VLOOKUP(A52,'ADM & Population Analysis'!$A$10:$J$144,10,FALSE)","v":16932.66648587384},{"$f":"D52/VLOOKUP(A52, '2020-2022 Composite Index Data'!$A$5:$G$139, 7, FALSE)","v":17437.422614713545},null,504.75612883970462,2.9809606730328026E-2,"ABOVE"]
[44,"HENRY",{"$f":"VLOOKUP(A53,'Taxable Sales'!$B$6:$E$140,4,FALSE)","v":377770857.46000004},{"$f":"VLOOKUP(A53, '2020-2022 Composite Index Data'!$A$5:$E$139, 5, FALSE)","v":371100551.52999997},null,-6670305.9300000668,-1.7657015617480093E-2,"BELOW",null,{"$f":"C53/VLOOKUP(A53,'ADM & Population Analysis'!$A$10:$C$144,3,FALSE)","v":53625.365343531179},{"$f":"D53/VLOOKUP(A53, '2020-2022 Composite Index Data'!$A$5:$F$139, 6, FALSE)","v":52674.089883637411},null,-951.27545989376813,-1.7739281658964406E-2,"BELOW",null,{"$f":"C53/VLOOKUP(A53,'ADM & Population Analysis'!$A$10:$J$144,10,FALSE)","v":7151.7711835977443},{"$f":"D53/VLOOKUP(A53, '2020-2022 Composite Index Data'!$A$5:$G$139, 7, FALSE)","v":7139.9817514189508},null,-11.789432178793504,-1.6484632793946233E-3,"BELOW"]
[45,"HIGHLAND",{"$f":"VLOOKUP(A54,'Taxable Sales'!$B$6:$E$140,4,FALSE)","v":10412003.07},{"$f":"VLOOKUP(A54, '2020-2022 Composite Index Data'!$A$5:$E$139, 5, FALSE)","v":10023126.42},null,-388876.65000000037,-3.7348879690639616E-2,"BELOW",null,{"$f":"C54/VLOOKUP(A54,'ADM & Population Analysis'!$A$10:$C$144,3,FALSE)","v":53883.988355845373},{"$f":"D54/VLOOKUP(A54, '2020-2022 Composite Index Data'!$A$5:$F$139, 6, FALSE)","v":51925.226234264104},null,-1958.7621215812687,-3.6351468800820137E-2,"BELOW",null,{"$f":"C54/VLOOKUP(A54,'ADM & Population Analysis'!$A$10:$J$144,10,FALSE)","v":4572.6847035573128},{"$f":"D54/VLOOKUP(A54, '2020-2022 Composite Index Data'!$A$5:$G$139, 7, FALSE)","v":4388.4091155866899},null,-184.27558797062284,-4.0299211495440725E-2,"BELOW"]
[46,"ISLE OF WIGHT",{"$f":"VLOOKUP(A55,'Taxable Sales'!$B$6:$E$140,4,FALSE)","v":220426281.04000002},{"$f":"VLOOKUP(A55, '2020-2022 Composite Index Data'!$A$5:$E$139, 5, FALSE)","v":236926649.00999999},null,16500367.969999969,7.4856627313898666E-2,"ABOVE",null,{"$f":"C55/VLOOKUP(A55,'ADM & Population Analysis'!$A$10:$C$144,3,FALSE)","v":41478.498491785271},{"$f":"D55/VLOOKUP(A55, '2020-2022 Composite Index Data'!$A$5:$F$139, 6, FALSE)","v":44383.995273608074},null,2905.4967818228033,7.0048263256159829E-2,"ABOVE",null,{"$f":"C55/VLOOKUP(A55,'ADM & Population Analysis'!$A$10:$J$144,10,FALSE)","v":6049.3518041604921},{"$f":"D55/VLOOKUP(A55, '2020-2022 Composite Index Data'!$A$5:$G$139, 7, FALSE)","v":6346.3061905017003},null,296.95438634120819,4.9088628989468815E-2,"ABOVE"]
[47,"JAMES CITY",{"$f":"VLOOKUP(A56,'Taxable Sales'!$B$6:$E$140,4,FALSE)","v":1002337084.74},{"$f":"VLOOKUP(A56, '2020-2022 Composite Index Data'!$A$5:$E$139, 5, FALSE)","v":982030979.61000001},null,-20306105.129999995,-2.0258758694204428E-2,"BELOW",null,{"$f":"C56/VLOOKUP(A56,'ADM & Population Analysis'!$A$10:$C$144,3,FALSE)","v":97520.777952149161},{"$f":"D56/VLOOKUP(A56, '2020-2022 Composite Index Data'!$A$5:$F$139, 6, FALSE)","v":94222.661620828105},null,-3298.1163313210564,-3.3819626961336932E-2,"BELOW",null,{"$f":"C56/VLOOKUP(A56,'ADM & Population Analysis'!$A$10:$J$144,10,FALSE)","v":13669.786358540743},{"$f":"D56/VLOOKUP(A56, '2020-2022 Composite Index Data'!$A$5:$G$139, 7, FALSE)","v":13142.461117341612},null,-527.32524119913069,-3.8575968004771581E-2,"BELOW"]
[48,"KING GEORGE",{"$f":"VLOOKUP(A57,'Taxable Sales'!$B$6:$E$140,4,FALSE)","v":174808750.68000001},{"$f":"VLOOKUP(A57, '2020-2022 Composite Index Data'!$A$5:$E$139, 5, FALSE)","v":187620362.83000001},null,12811612.150000006,7.3289306743302474E-2,"ABOVE",null,{"$f":"C57/VLOOKUP(A57,'ADM & Population Analysis'!$A$10:$C$144,3,FALSE)","v":41429.961435092358},{"$f":"D57/VLOOKUP(A57, '2020-2022 Composite Index Data'!$A$5:$F$139, 6, FALSE)","v":43003.195741862146},null,1573.2343067697875,3.7973347120647163E-2,"ABOVE",null,{"$f":"C57/VLOOKUP(A57,'ADM & Population Analysis'!$A$10:$J$144,10,FALSE)","v":7106.046775609756},{"$f":"D57/VLOOKUP(A57, '2020-2022 Composite Index Data'!$A$5:$G$139, 7, FALSE)","v":7392.1580249005165},null,286.1112492907605,4.0263068668895702E-2,"ABOVE"]
[49,"KING AND QUEEN",{"$f":"VLOOKUP(A58,'Taxable Sales'!$B$6:$E$140,4,FALSE)","v":11317609},{"$f":"VLOOKUP(A58, '2020-2022 Composite Index Data'!$A$5:$E$139, 5, FALSE)","v":12379939},null,1062330,9.3865232488593658E-2,"ABOVE",null,{"$f":"C58/VLOOKUP(A58,'ADM & Population Analysis'!$A$10:$C$144,3,FALSE)","v":13914.636815186386},{"$f":"D58/VLOOKUP(A58, '2020-2022 Composite Index Data'!$A$5:$F$139, 6, FALSE)","v":16011.302379720641},null,2096.6655645342544,0.15068058134625267,"ABOVE",null,{"$f":"C58/VLOOKUP(A58,'ADM & Population Analysis'!$A$10:$J$144,10,FALSE)","v":1574.0763560500695},{"$f":"D58/VLOOKUP(A58, '2020-2022 Composite Index Data'!$A$5:$G$139, 7, FALSE)","v":1785.1390050468638},null,211.06264899679422,0.13408666497375465,"ABOVE"]
[50,"KING WILLIAM",{"$f":"VLOOKUP(A59,'Taxable Sales'!$B$6:$E$140,4,FALSE)","v":81254590.299999997},{"$f":"VLOOKUP(A59, '2020-2022 Composite Index Data'!$A$5:$E$139, 5, FALSE)","v":83516987.5},null,2262397.200000003,2.7843315579427676E-2,"BELOW",null,{"$f":"C59/VLOOKUP(A59,'ADM & Population Analysis'!$A$10:$C$144,3,FALSE)","v":36742.509609036562},{"$f":"D59/VLOOKUP(A59, '2020-2022 Composite Index Data'!$A$5:$F$139, 6, FALSE)","v":38442.27122295204},null,1699.7616139154779,4.6261445720556703E-2,"ABOVE",null,{"$f":"C59/VLOOKUP(A59,'ADM & Population Analysis'!$A$10:$J$144,10,FALSE)","v":6289.0549767801858},{"$f":"D59/VLOOKUP(A59, '2020-2022 Composite Index Data'!$A$5:$G$139, 7, FALSE)","v":6272.8697235992186},null,-16.185253180967266,-2.5735588638873129E-3,"BELOW"]
[51,"LANCASTER",{"$f":"VLOOKUP(A60,'Taxable Sales'!$B$6:$E$140,4,FALSE)","v":158447138.17000002},{"$f":"VLOOKUP(A60, '2020-2022 Composite Index Data'!$A$5:$E$139, 5, FALSE)","v":166354409.81999999},null,7907271.6499999762,4.9904793114762099E-2,"ABOVE",null,{"$f":"C60/VLOOKUP(A60,'ADM & Population Analysis'!$A$10:$C$144,3,FALSE)","v":139968.49717319483},{"$f":"D60/VLOOKUP(A60, '2020-2022 Composite Index Data'!$A$5:$F$139, 6, FALSE)","v":156598.33363456652},null,16629.836461371684,0.11881128108987399,"ABOVE",null,{"$f":"C60/VLOOKUP(A60,'ADM & Population Analysis'!$A$10:$J$144,10,FALSE)","v":14025.594243604499},{"$f":"D60/VLOOKUP(A60, '2020-2022 Composite Index Data'!$A$5:$G$139, 7, FALSE)","v":14891.630992749082},null,866.03674914458315,6.1746884595601743E-2,"ABOVE"]
[52,"LEE",{"$f":"VLOOKUP(A61,'Taxable Sales'!$B$6:$E$140,4,FALSE)","v":122560574},{"$f":"VLOOKUP(A61, '2020-2022 Composite Index Data'!$A$5:$E$139, 5, FALSE)","v":114151983},null,-8408591,-6.8607633968816112E-2,"BELOW",null,{"$f":"C61/VLOOKUP(A61,'ADM & Population Analysis'!$A$10:$C$144,3,FALSE)","v":40006.715847886408},{"$f":"D61/VLOOKUP(A61, '2020-2022 Composite Index Data'!$A$5:$F$139, 6, FALSE)","v":37384.469749071548},null,-2622.2460988148596,-6.5545147689332145E-2,"BELOW",null,{"$f":"C61/VLOOKUP(A61,'ADM & Population Analysis'!$A$10:$J$144,10,FALSE)","v":4866.9912636009849},{"$f":"D61/VLOOKUP(A61, '2020-2022 Composite Index Data'!$A$5:$G$139, 7, FALSE)","v":4685.4649673685508},null,-181.52629623243411,-3.7297436218968388E-2,"BELOW"]
[53,"LOUDOUN",{"$f":"VLOOKUP(A62,'Taxable Sales'!$B$6:$E$140,4,FALSE)","v":5335423939.3999996},{"$f":"VLOOKUP(A62, '2020-2022 Composite Index Data'!$A$5:$E$139, 5, FALSE)","v":5697354606.2299995},null,361930666.82999992,6.7835409320951015E-2,"ABOVE",null,{"$f":"C62/VLOOKUP(A62,'ADM & Population Analysis'!$A$10:$C$144,3,FALSE)","v":70621.387584780285},{"$f":"D62/VLOOKUP(A62, '2020-2022 Composite Index Data'!$A$5:$F$139, 6, FALSE)","v":70976.543895768016},null,355.15631098773156,5.0290191560080841E-3,"BELOW",null,{"$f":"C62/VLOOKUP(A62,'ADM & Population Analysis'!$A$10:$J$144,10,FALSE)","v":14248.657205882744},{"$f":"D62/VLOOKUP(A62, '2020-2022 Composite Index Data'!$A$5:$G$139, 7, FALSE)","v":14384.788991360068},null,136.13178547732423,9.5540080381132653E-3,"BELOW"]
[54,"LOUISA",{"$f":"VLOOKUP(A63,'Taxable Sales'!$B$6:$E$140,4,FALSE)","v":278391164.80000001},{"$f":"VLOOKUP(A63, '2020-2022 Composite Index Data'!$A$5:$E$139, 5, FALSE)","v":300831730.06},null,22440565.25999999,8.0608036810800365E-2,"ABOVE",null,{"$f":"C63/VLOOKUP(A63,'ADM & Population Analysis'!$A$10:$C$144,3,FALSE)","v":59383.527544677709},{"$f":"D63/VLOOKUP(A63, '2020-2022 Composite Index Data'!$A$5:$F$139, 6, FALSE)","v":63949.604621402155},null,4566.0770767244467,7.6891307497506264E-2,"ABOVE",null,{"$f":"C63/VLOOKUP(A63,'ADM & Population Analysis'!$A$10:$J$144,10,FALSE)","v":8129.6333605887166},{"$f":"D63/VLOOKUP(A63, '2020-2022 Composite Index Data'!$A$5:$G$139, 7, FALSE)","v":8586.6056817468252},null,456.97232115810857,5.621069252316397E-2,"ABOVE"]
[55,"LUNENBURG",{"$f":"VLOOKUP(A64,'Taxable Sales'!$B$6:$E$140,4,FALSE)","v":38493332},{"$f":"VLOOKUP(A64, '2020-2022 Composite Index Data'!$A$5:$E$139, 5, FALSE)","v":39312051.57},null,818719.5700000003,2.1269127078944485E-2,"BELOW",null,{"$f":"C64/VLOOKUP(A64,'ADM & Population Analysis'!$A$10:$C$144,3,FALSE)","v":25948.69492530874},{"$f":"D64/VLOOKUP(A64, '2020-2022 Composite Index Data'!$A$5:$F$139, 6, FALSE)","v":27270.303606484598},null,1321.6086811758578,5.0931605037555977E-2,"ABOVE",null,{"$f":"C64/VLOOKUP(A64,'ADM & Population Analysis'!$A$10:$J$144,10,FALSE)","v":3095.5634901487738},{"$f":"D64/VLOOKUP(A64, '2020-2022 Composite Index Data'!$A$5:$G$139, 7, FALSE)","v":3173.9101865008879},null,78.346696352114122,2.530934887991871E-2,"ABOVE"]
[56,"MADISON",{"$f":"VLOOKUP(A65,'Taxable Sales'!$B$6:$E$140,4,FALSE)","v":82288335.870000005},{"$f":"VLOOKUP(A65, '2020-2022 Composite Index Data'!$A$5:$E$139, 5, FALSE)","v":87685702.239999995},null,5397366.3699999899,6.5590904384393037E-2,"ABOVE",null,{"$f":"C65/VLOOKUP(A65,'ADM & Population Analysis'!$A$10:$C$144,3,FALSE)","v":48109.173533280715},{"$f":"D65/VLOOKUP(A65, '2020-2022 Composite Index Data'!$A$5:$F$139, 6, FALSE)","v":52406.303073769261},null,4297.1295404885459,8.9320377485094388E-2,"ABOVE",null,{"$f":"C65/VLOOKUP(A65,'ADM & Population Analysis'!$A$10:$J$144,10,FALSE)","v":6282.0319009084669},{"$f":"D65/VLOOKUP(A65, '2020-2022 Composite Index Data'!$A$5:$G$139, 7, FALSE)","v":6647.8925125094765},null,365.86061160100962,5.8239215809792563E-2,"ABOVE"]
[57,"MATHEWS",{"$f":"VLOOKUP(A66,'Taxable Sales'!$B$6:$E$140,4,FALSE)","v":40782888.590000004},{"$f":"VLOOKUP(A66, '2020-2022 Composite Index Data'!$A$5:$E$139, 5, FALSE)","v":40043459.710000001},null,-739428.88000000268,-1.8130860896923107E-2,"BELOW",null,{"$f":"C66/VLOOKUP(A66,'ADM & Population Analysis'!$A$10:$C$144,3,FALSE)","v":37208.288330124909},{"$f":"D66/VLOOKUP(A66, '2020-2022 Composite Index Data'!$A$5:$F$139, 6, FALSE)","v":37224.105927082754},null,15.817596957844216,4.2510950295549692E-4,"BELOW",null,{"$f":"C66/VLOOKUP(A66,'ADM & Population Analysis'!$A$10:$J$144,10,FALSE)","v":4667.8366246995538},{"$f":"D66/VLOOKUP(A66, '2020-2022 Composite Index Data'!$A$5:$G$139, 7, FALSE)","v":4628.7665830539827},null,-39.070041645571109,-8.3700533645146291E-3,"BELOW"]
[58,"MECKLENBURG",{"$f":"VLOOKUP(A67,'Taxable Sales'!$B$6:$E$140,4,FALSE)","v":494498439.25999999},{"$f":"VLOOKUP(A67, '2020-2022 Composite Index Data'!$A$5:$E$139, 5, FALSE)","v":499432508.49000001},null,4934069.2300000191,9.9779268007067629E-3,"BELOW",null,{"$f":"C67/VLOOKUP(A67,'ADM & Population Analysis'!$A$10:$C$144,3,FALSE)","v":114928.80881782158},{"$f":"D67/VLOOKUP(A67, '2020-2022 Composite Index Data'!$A$5:$F$139, 6, FALSE)","v":121719.58755733413},null,6790.7787395125488,5.9086827831626561E-2,"ABOVE",null,{"$f":"C67/VLOOKUP(A67,'ADM & Population Analysis'!$A$10:$J$144,10,FALSE)","v":15644.724097064034},{"$f":"D67/VLOOKUP(A67, '2020-2022 Composite Index Data'!$A$5:$G$139, 7, FALSE)","v":15974.683613421188},null,329.95951635715392,2.1090785258339951E-2,"BELOW"]
[59,"MIDDLESEX",{"$f":"VLOOKUP(A68,'Taxable Sales'!$B$6:$E$140,4,FALSE)","v":93051922.590000004},{"$f":"VLOOKUP(A68, '2020-2022 Composite Index Data'!$A$5:$E$139, 5, FALSE)","v":97303967.329999998},null,4252044.7399999946,4.5695399102446362E-2,"ABOVE",null,{"$f":"C68/VLOOKUP(A68,'ADM & Population Analysis'!$A$10:$C$144,3,FALSE)","v":77987.799280901134},{"$f":"D68/VLOOKUP(A68, '2020-2022 Composite Index Data'!$A$5:$F$139, 6, FALSE)","v":81476.368068929718},null,3488.5687880285841,4.4732237865351833E-2,"ABOVE",null,{"$f":"C68/VLOOKUP(A68,'ADM & Population Analysis'!$A$10:$J$144,10,FALSE)","v":8396.672314564159},{"$f":"D68/VLOOKUP(A68, '2020-2022 Composite Index Data'!$A$5:$G$139, 7, FALSE)","v":8842.5997210105415},null,445.92740644638252,5.3107634755844228E-2,"ABOVE"]
[60,"MONTGOMERY",{"$f":"VLOOKUP(A69,'Taxable Sales'!$B$6:$E$140,4,FALSE)","v":1045664373.0799999},{"$f":"VLOOKUP(A69, '2020-2022 Composite Index Data'!$A$5:$E$139, 5, FALSE)","v":1089716202.6300001},null,44051829.550000191,4.2128077310548233E-2,"ABOVE",null,{"$f":"C69/VLOOKUP(A69,'ADM & Population Analysis'!$A$10:$C$144,3,FALSE)","v":110209.61018806993},{"$f":"D69/VLOOKUP(A69, '2020-2022 Composite Index Data'!$A$5:$F$139, 6, FALSE)","v":113076.87625545428},null,2867.2660673843493,2.6016479529248238E-2,"BELOW",null,{"$f":"C69/VLOOKUP(A69,'ADM & Population Analysis'!$A$10:$J$144,10,FALSE)","v":10656.886630588762},{"$f":"D69/VLOOKUP(A69, '2020-2022 Composite Index Data'!$A$5:$G$139, 7, FALSE)","v":11032.19610664534},null,375.30947605657821,3.5217553593872047E-2,"ABOVE"]
[62,"NELSON",{"$f":"VLOOKUP(A70,'Taxable Sales'!$B$6:$E$140,4,FALSE)","v":97899344.25},{"$f":"VLOOKUP(A70, '2020-2022 Composite Index Data'!$A$5:$E$139, 5, FALSE)","v":102746557.27},null,4847213.0199999958,4.9512211313917927E-2,"ABOVE",null,{"$f":"C70/VLOOKUP(A70,'ADM & Population Analysis'!$A$10:$C$144,3,FALSE)","v":51634.402903993119},{"$f":"D70/VLOOKUP(A70, '2020-2022 Composite Index Data'!$A$5:$F$139, 6, FALSE)","v":57258.604275452366},null,5624.2013714592467,0.1089235287937125,"ABOVE",null,{"$f":"C70/VLOOKUP(A70,'ADM & Population Analysis'!$A$10:$J$144,10,FALSE)","v":6529.6701293937167},{"$f":"D70/VLOOKUP(A70, '2020-2022 Composite Index Data'!$A$5:$G$139, 7, FALSE)","v":6915.2347065553904},null,385.5645771616737,5.9048094240784194E-2,"ABOVE"]
[63,"NEW KENT",{"$f":"VLOOKUP(A71,'Taxable Sales'!$B$6:$E$140,4,FALSE)","v":118286363.76000001},{"$f":"VLOOKUP(A71, '2020-2022 Composite Index Data'!$A$5:$E$139, 5, FALSE)","v":129697269.95999999},null,11410906.199999988,9.64684840862335E-2,"ABOVE",null,{"$f":"C71/VLOOKUP(A71,'ADM & Population Analysis'!$A$10:$C$144,3,FALSE)","v":39646.978458114492},{"$f":"D71/VLOOKUP(A71, '2020-2022 Composite Index Data'!$A$5:$F$139, 6, FALSE)","v":41066.052180631101},null,1419.0737225166085,3.5792733209563631E-2,"ABOVE",null,{"$f":"C71/VLOOKUP(A71,'ADM & Population Analysis'!$A$10:$J$144,10,FALSE)","v":5779.0875395739695},{"$f":"D71/VLOOKUP(A71, '2020-2022 Composite Index Data'!$A$5:$G$139, 7, FALSE)","v":5974.3548740153847},null,195.26733444141519,3.3788609898061893E-2,"ABOVE"]
[65,"NORTHAMPTON",{"$f":"VLOOKUP(A72,'Taxable Sales'!$B$6:$E$140,4,FALSE)","v":113442883.09999999},{"$f":"VLOOKUP(A72, '2020-2022 Composite Index Data'!$A$5:$E$139, 5, FALSE)","v":125938193.58},null,12495310.480000004,0.11014627042743068,"ABOVE",null,{"$f":"C72/VLOOKUP(A72,'ADM & Population Analysis'!$A$10:$C$144,3,FALSE)","v":72725.85734708661},{"$f":"D72/VLOOKUP(A72, '2020-2022 Composite Index Data'!$A$5:$F$139, 6, FALSE)","v":82409.497173144875},null,9683.6398260582646,0.13315263895539611,"ABOVE",null,{"$f":"C72/VLOOKUP(A72,'ADM & Population Analysis'!$A$10:$J$144,10,FALSE)","v":9316.9253531537452},{"$f":"D72/VLOOKUP(A72, '2020-2022 Composite Index Data'!$A$5:$G$139, 7, FALSE)","v":10494.849464999999},null,1177.9241118462542,0.12642841572703287,"ABOVE"]
[66,"NORTHUMBERLAND",{"$f":"VLOOKUP(A73,'Taxable Sales'!$B$6:$E$140,4,FALSE)","v":60339664.850000001},{"$f":"VLOOKUP(A73, '2020-2022 Composite Index Data'!$A$5:$E$139, 5, FALSE)","v":59190236.479999997},null,-1149428.3700000048,-1.9049299873597238E-2,"BELOW",null,{"$f":"C73/VLOOKUP(A73,'ADM & Population Analysis'!$A$10:$C$144,3,FALSE)","v":47215.243589442631},{"$f":"D73/VLOOKUP(A73, '2020-2022 Composite Index Data'!$A$5:$F$139, 6, FALSE)","v":48612.617120705654},null,1397.3735312630233,2.9595813238067828E-2,"ABOVE",null,{"$f":"C73/VLOOKUP(A73,'ADM & Population Analysis'!$A$10:$J$144,10,FALSE)","v":4937.7794476268409},{"$f":"D73/VLOOKUP(A73, '2020-2022 Composite Index Data'!$A$5:$G$139, 7, FALSE)","v":4910.8302065875714},null,-26.949241039269509,-5.4577652414632763E-3,"BELOW"]
[67,"NOTTOWAY",{"$f":"VLOOKUP(A74,'Taxable Sales'!$B$6:$E$140,4,FALSE)","v":125684762.78},{"$f":"VLOOKUP(A74, '2020-2022 Composite Index Data'!$A$5:$E$139, 5, FALSE)","v":138347448.74000001},null,{"$f":"D74-C74","v":12662685.960000008},{"$f":"F74/C74","v":0.10074957122817596},{"$f":"IF(G74<$G$146,\"BELOW\", \"ABOVE\")","v":"ABOVE"},null,{"$f":"C74/VLOOKUP(A74,'ADM & Population Analysis'!$A$10:$C$144,3,FALSE)","v":60055.792612767582},{"$f":"D74/VLOOKUP(A74, '2020-2022 Composite Index Data'!$A$5:$F$139, 6, FALSE)","v":70656.810829307156},null,10601.018216539574,0.17651949554464538,"ABOVE",null,{"$f":"C74/VLOOKUP(A74,'ADM & Population Analysis'!$A$10:$J$144,10,FALSE)","v":7729.2148564048948},{"$f":"D74/VLOOKUP(A74, '2020-2022 Composite Index Data'!$A$5:$G$139, 7, FALSE)","v":8731.3000151467349},null,1002.0851587418401,0.12964902352422664,"ABOVE"]
[68,"ORANGE",{"$f":"VLOOKUP(A75,'Taxable Sales'!$B$6:$E$140,4,FALSE)","v":253300185.09999999},{"$f":"VLOOKUP(A75, '2020-2022 Composite Index Data'!$A$5:$E$139, 5, FALSE)","v":296990638.50999999},null,43690453.409999996,0.17248488544432572,"ABOVE",null,{"$f":"C75/VLOOKUP(A75,'ADM & Population Analysis'!$A$10:$C$144,3,FALSE)","v":52331.829649998857},{"$f":"D75/VLOOKUP(A75, '2020-2022 Composite Index Data'!$A$5:$F$139, 6, FALSE)","v":62582.711562573095},null,{"$f":"K75-J75","v":10250.881912574238},{"$f":"M75/J75","v":0.19588235269306051},{"$f":"IF(N75<$N$146,\"BELOW\", \"ABOVE\")","v":"ABOVE"},null,{"$f":"C75/VLOOKUP(A75,'ADM & Population Analysis'!$A$10:$J$144,10,FALSE)","v":7446.7201264148171},{"$f":"D75/VLOOKUP(A75, '2020-2022 Composite Index Data'!$A$5:$G$139, 7, FALSE)","v":8603.1875817618256},null,1156.4674553470086,0.15529890149151926,"ABOVE"]
[69,"PAGE",{"$f":"VLOOKUP(A76,'Taxable Sales'!$B$6:$E$140,4,FALSE)","v":170782160.44999999},{"$f":"VLOOKUP(A76, '2020-2022 Composite Index Data'!$A$5:$E$139, 5, FALSE)","v":179912536.83000001},null,9130376.380000025,5.3462120141483584E-2,"ABOVE",null,{"$f":"C76/VLOOKUP(A76,'ADM & Population Analysis'!$A$10:$C$144,3,FALSE)","v":52064.08100956335},{"$f":"D76/VLOOKUP(A76, '2020-2022 Composite Index Data'!$A$5:$F$139, 6, FALSE)","v":55643.798369462689},null,3579.7173598993395,6.875598859109415E-2,"ABOVE",null,{"$f":"C76/VLOOKUP(A76,'ADM & Population Analysis'!$A$10:$J$144,10,FALSE)","v":7200.225998144947},{"$f":"D76/VLOOKUP(A76, '2020-2022 Composite Index Data'!$A$5:$G$139, 7, FALSE)","v":7602.473561377562},null,{"$f":"R76-Q76","v":402.24756323261499},{"$f":"T76/Q76","v":5.5865963559511789E-2},{"$f":"IF(U76<$U$146,\"BELOW\", \"ABOVE\")","v":"ABOVE"}]
[70,"PATRICK",{"$f":"VLOOKUP(A77,'Taxable Sales'!$B$6:$E$140,4,FALSE)","v":97894919.280000001},{"$f":"VLOOKUP(A77, '2020-2022 Composite Index Data'!$A$5:$E$139, 5, FALSE)","v":97099828.709999993},null,-795090.57000000775,-8.1218777833186821E-3,"BELOW",null,{"$f":"C77/VLOOKUP(A77,'ADM & Population Analysis'!$A$10:$C$144,3,FALSE)","v":34959.849182739868},{"$f":"D77/VLOOKUP(A77, '2020-2022 Composite Index Data'!$A$5:$F$139, 6, FALSE)","v":37513.745551271444},null,2553.8963685315757,7.3052270768732816E-2,"ABOVE",null,{"$f":"C77/VLOOKUP(A77,'ADM & Population Analysis'!$A$10:$J$144,10,FALSE)","v":5305.9576845528454},{"$f":"D77/VLOOKUP(A77, '2020-2022 Composite Index Data'!$A$5:$G$139, 7, FALSE)","v":5415.495187395426},null,109.53750284258058,2.0644247345107079E-2,"BELOW"]
[71,"PITTSYLVANIA",{"$f":"VLOOKUP(A78,'Taxable Sales'!$B$6:$E$140,4,FALSE)","v":169037178.22},{"$f":"VLOOKUP(A78, '2020-2022 Composite Index Data'!$A$5:$E$139, 5, FALSE)","v":173524846.33000001},null,4487668.1100000143,2.6548408801283729E-2,"BELOW",null,{"$f":"C78/VLOOKUP(A78,'ADM & Population Analysis'!$A$10:$C$144,3,FALSE)","v":19096.167961870291},{"$f":"D78/VLOOKUP(A78, '2020-2022 Composite Index Data'!$A$5:$F$139, 6, FALSE)","v":20130.562673651999},null,1034.3947117817079,5.4167658864705474E-2,"ABOVE",null,{"$f":"C78/VLOOKUP(A78,'ADM & Population Analysis'!$A$10:$J$144,10,FALSE)","v":2672.3133067741678},{"$f":"D78/VLOOKUP(A78, '2020-2022 Composite Index Data'!$A$5:$G$139, 7, FALSE)","v":2791.3143250329763},null,119.00101825880847,4.4531087712337998E-2,"ABOVE"]
[72,"POWHATAN",{"$f":"VLOOKUP(A79,'Taxable Sales'!$B$6:$E$140,4,FALSE)","v":213906196.55000001},{"$f":"VLOOKUP(A79, '2020-2022 Composite Index Data'!$A$5:$E$139, 5, FALSE)","v":253911712.52000001},null,40005515.969999999,0.18702364220967677,"ABOVE",null,{"$f":"C79/VLOOKUP(A79,'ADM & Population Analysis'!$A$10:$C$144,3,FALSE)","v":50747.958290135168},{"$f":"D79/VLOOKUP(A79, '2020-2022 Composite Index Data'!$A$5:$F$139, 6, FALSE)","v":60168.224519730909},null,9420.2662295957416,0.18562847742047853,"ABOVE",null,{"$f":"C79/VLOOKUP(A79,'ADM & Population Analysis'!$A$10:$J$144,10,FALSE)","v":7520.7860400112513},{"$f":"D79/VLOOKUP(A79, '2020-2022 Composite Index Data'!$A$5:$G$139, 7, FALSE)","v":8705.7434176781189},null,1184.9573776668676,0.15755765040552794,"ABOVE"]
[73,"PRINCE EDWARD",{"$f":"VLOOKUP(A80,'Taxable Sales'!$B$6:$E$140,4,FALSE)","v":289134327.81},{"$f":"VLOOKUP(A80, '2020-2022 Composite Index Data'!$A$5:$E$139, 5, FALSE)","v":292525761.44999999},null,3391433.6399999857,1.1729612549598787E-2,"BELOW",null,{"$f":"C80/VLOOKUP(A80,'ADM & Population Analysis'!$A$10:$C$144,3,FALSE)","v":146342.29595493333},{"$f":"D80/VLOOKUP(A80, '2020-2022 Composite Index Data'!$A$5:$F$139, 6, FALSE)","v":148620.74890640003},null,2278.4529514666938,1.5569339927319112E-2,"BELOW",null,{"$f":"C80/VLOOKUP(A80,'ADM & Population Analysis'!$A$10:$J$144,10,FALSE)","v":12235.382667259109},{"$f":"D80/VLOOKUP(A80, '2020-2022 Composite Index Data'!$A$5:$G$139, 7, FALSE)","v":12596.381236274383},null,360.99856901527346,2.9504477206199389E-2,"ABOVE"]
[74,"PRINCE GEORGE",{"$f":"VLOOKUP(A81,'Taxable Sales'!$B$6:$E$140,4,FALSE)","v":171835968.26999998},{"$f":"VLOOKUP(A81, '2020-2022 Composite Index Data'!$A$5:$E$139, 5, FALSE)","v":203313121.75999999},null,31477153.49000001,0.18318140146619963,"ABOVE",null,{"$f":"C81/VLOOKUP(A81,'ADM & Population Analysis'!$A$10:$C$144,3,FALSE)","v":27306.801636476026},{"$f":"D81/VLOOKUP(A81, '2020-2022 Composite Index Data'!$A$5:$F$139, 6, FALSE)","v":32849.28945739966},null,5542.487820923634,0.20297096286516617,"ABOVE",null,{"$f":"C81/VLOOKUP(A81,'ADM & Population Analysis'!$A$10:$J$144,10,FALSE)","v":4627.830337723196},{"$f":"D81/VLOOKUP(A81, '2020-2022 Composite Index Data'!$A$5:$G$139, 7, FALSE)","v":5491.2389401755572},null,863.40860245236127,0.18656876753116705,"ABOVE"]
[75,"PRINCE WILLIAM",{"$f":"VLOOKUP(A82,'Taxable Sales'!$B$6:$E$140,4,FALSE)","v":5265015359.8800001},{"$f":"VLOOKUP(A82, '2020-2022 Composite Index Data'!$A$5:$E$139, 5, FALSE)","v":5540880713.7700005},null,275865353.89000034,5.2395925754011065E-2,"ABOVE",null,{"$f":"C82/VLOOKUP(A82,'ADM & Population Analysis'!$A$10:$C$144,3,FALSE)","v":62018.566642377613},{"$f":"D82/VLOOKUP(A82, '2020-2022 Composite Index Data'!$A$5:$F$139, 6, FALSE)","v":63459.763270517018},null,1441.1966281394052,2.3238147963816822E-2,"BELOW",null,{"$f":"C82/VLOOKUP(A82,'ADM & Population Analysis'!$A$10:$J$144,10,FALSE)","v":11872.502012298659},{"$f":"D82/VLOOKUP(A82, '2020-2022 Composite Index Data'!$A$5:$G$139, 7, FALSE)","v":12151.320673194588},null,278.8186608959295,2.3484406286653207E-2,"BELOW"]
[77,"PULASKI",{"$f":"VLOOKUP(A83,'Taxable Sales'!$B$6:$E$140,4,FALSE)","v":357070665.13},{"$f":"VLOOKUP(A83, '2020-2022 Composite Index Data'!$A$5:$E$139, 5, FALSE)","v":376119737.45999998},null,19049072.329999983,5.3348186200243362E-2,"ABOVE",null,{"$f":"C83/VLOOKUP(A83,'ADM & Population Analysis'!$A$10:$C$144,3,FALSE)","v":85154.288382197919},{"$f":"D83/VLOOKUP(A83, '2020-2022 Composite Index Data'!$A$5:$F$139, 6, FALSE)","v":93704.778782624286},null,8550.4904004263663,0.10041174159132429,"ABOVE",null,{"$f":"C83/VLOOKUP(A83,'ADM & Population Analysis'!$A$10:$J$144,10,FALSE)","v":10248.576824143967},{"$f":"D83/VLOOKUP(A83, '2020-2022 Composite Index Data'!$A$5:$G$139, 7, FALSE)","v":10912.459380276787},null,663.88255613281945,6.4778024063674958E-2,"ABOVE"]
[78,"RAPPAHANNOCK",{"$f":"VLOOKUP(A84,'Taxable Sales'!$B$6:$E$140,4,FALSE)","v":39861848},{"$f":"VLOOKUP(A84, '2020-2022 Composite Index Data'!$A$5:$E$139, 5, FALSE)","v":40244653},null,382805,9.6032928528551921E-3,"BELOW",null,{"$f":"C84/VLOOKUP(A84,'ADM & Population Analysis'!$A$10:$C$144,3,FALSE)","v":45882.557149105647},{"$f":"D84/VLOOKUP(A84, '2020-2022 Composite Index Data'!$A$5:$F$139, 6, FALSE)","v":49218.096321299287},null,3335.5391721936394,7.2697325071792704E-2,"ABOVE",null,{"$f":"C84/VLOOKUP(A84,'ADM & Population Analysis'!$A$10:$J$144,10,FALSE)","v":5454.5495347564311},{"$f":"D84/VLOOKUP(A84, '2020-2022 Composite Index Data'!$A$5:$G$139, 7, FALSE)","v":5522.0434961580677},null,67.493961401636625,1.2373883667489788E-2,"BELOW"]
[79,"RICHMOND COUNTY",{"$f":"VLOOKUP(A85,'Taxable Sales'!$B$6:$E$140,4,FALSE)","v":63749860.739999995},{"$f":"VLOOKUP(A85, '2020-2022 Composite Index Data'!$A$5:$E$139, 5, FALSE)","v":70063437.129999995},null,6313576.3900000006,9.9036708734934267E-2,"ABOVE",null,{"$f":"C85/VLOOKUP(A85,'ADM & Population Analysis'!$A$10:$C$144,3,FALSE)","v":51107.828325423296},{"$f":"D85/VLOOKUP(A85, '2020-2022 Composite Index Data'!$A$5:$F$139, 6, FALSE)","v":54928.020955666179},null,3820.1926302428838,7.4747700213717572E-2,"ABOVE",null,{"$f":"C85/VLOOKUP(A85,'ADM & Population Analysis'!$A$10:$J$144,10,FALSE)","v":6990.8828533830456},{"$f":"D85/VLOOKUP(A85, '2020-2022 Composite Index Data'!$A$5:$G$139, 7, FALSE)","v":7704.3586023751923},null,713.47574899214669,0.10205803243389777,"ABOVE"]
[80,"ROANOKE COUNTY",{"$f":"VLOOKUP(A86,'Taxable Sales'!$B$6:$E$140,4,FALSE)","v":1032343545.6900001},{"$f":"VLOOKUP(A86, '2020-2022 Composite Index Data'!$A$5:$E$139, 5, FALSE)","v":1060806738.78},null,28463193.089999914,2.7571435118505655E-2,"BELOW",null,{"$f":"C86/VLOOKUP(A86,'ADM & Population Analysis'!$A$10:$C$144,3,FALSE)","v":73833.806610503947},{"$f":"D86/VLOOKUP(A86, '2020-2022 Composite Index Data'!$A$5:$F$139, 6, FALSE)","v":76987.431473783217},null,3153.6248632792704,4.2712478308420586E-2,"ABOVE",null,{"$f":"C86/VLOOKUP(A86,'ADM & Population Analysis'!$A$10:$J$144,10,FALSE)","v":11008.728826339644},{"$f":"D86/VLOOKUP(A86, '2020-2022 Composite Index Data'!$A$5:$G$139, 7, FALSE)","v":11317.082613538167},null,308.3537871985227,2.8009935757591826E-2,"ABOVE"]
[81,"ROCKBRIDGE",{"$f":"VLOOKUP(A87,'Taxable Sales'!$B$6:$E$140,4,FALSE)","v":250483351},{"$f":"VLOOKUP(A87, '2020-2022 Composite Index Data'!$A$5:$E$139, 5, FALSE)","v":253206596},null,2723245,1.0871960108837732E-2,"BELOW",null,{"$f":"C87/VLOOKUP(A87,'ADM & Population Analysis'!$A$10:$C$144,3,FALSE)","v":98180.252502684933},{"$f":"D87/VLOOKUP(A87, '2020-2022 Composite Index Data'!$A$5:$F$139, 6, FALSE)","v":98348.317984611131},null,168.06548192619812,1.7118053543567942E-3,"BELOW",null,{"$f":"C87/VLOOKUP(A87,'ADM & Population Analysis'!$A$10:$J$144,10,FALSE)","v":11301.870279294319},{"$f":"D87/VLOOKUP(A87, '2020-2022 Composite Index Data'!$A$5:$G$139, 7, FALSE)","v":11205.815011506462},null,-96.055267787856792,-8.4990594843258466E-3,"BELOW"]
[82,"ROCKINGHAM",{"$f":"VLOOKUP(A88,'Taxable Sales'!$B$6:$E$140,4,FALSE)","v":538710543.17000008},{"$f":"VLOOKUP(A88, '2020-2022 Composite Index Data'!$A$5:$E$139, 5, FALSE)","v":618300799.61000001},null,79590256.439999938,0.14774215476024899,"ABOVE",null,{"$f":"C88/VLOOKUP(A88,'ADM & Population Analysis'!$A$10:$C$144,3,FALSE)","v":47727.181916119815},{"$f":"D88/VLOOKUP(A88, '2020-2022 Composite Index Data'!$A$5:$F$139, 6, FALSE)","v":54947.469790039264},null,7220.2878739194493,0.15128250996694198,"ABOVE",null,{"$f":"C88/VLOOKUP(A88,'ADM & Population Analysis'!$A$10:$J$144,10,FALSE)","v":6807.5737757474672},{"$f":"D88/VLOOKUP(A88, '2020-2022 Composite Index Data'!$A$5:$G$139, 7, FALSE)","v":7664.9492922668787},null,857.37551651941158,0.1259443591450865,"ABOVE"]
[83,"RUSSELL",{"$f":"VLOOKUP(A89,'Taxable Sales'!$B$6:$E$140,4,FALSE)","v":172010922},{"$f":"VLOOKUP(A89, '2020-2022 Composite Index Data'!$A$5:$E$139, 5, FALSE)","v":155743996},null,-16266926,-9.4569146022018297E-2,"BELOW",null,{"$f":"C89/VLOOKUP(A89,'ADM & Population Analysis'!$A$10:$C$144,3,FALSE)","v":44678.393653993007},{"$f":"D89/VLOOKUP(A89, '2020-2022 Composite Index Data'!$A$5:$F$139, 6, FALSE)","v":42912.957319593304},null,-1765.4363343997029,-3.9514319786694521E-2,"BELOW",null,{"$f":"C89/VLOOKUP(A89,'ADM & Population Analysis'!$A$10:$J$144,10,FALSE)","v":6141.492502142245},{"$f":"D89/VLOOKUP(A89, '2020-2022 Composite Index Data'!$A$5:$G$139, 7, FALSE)","v":5703.0281592149113},null,-438.46434292733375,-7.1393776476058671E-2,"BELOW"]
[84,"SCOTT",{"$f":"VLOOKUP(A90,'Taxable Sales'!$B$6:$E$140,4,FALSE)","v":126156437.54000001},{"$f":"VLOOKUP(A90, '2020-2022 Composite Index Data'!$A$5:$E$139, 5, FALSE)","v":125014352.54000001},null,-1142085,-9.0529268444020771E-3,"BELOW",null,{"$f":"C90/VLOOKUP(A90,'ADM & Population Analysis'!$A$10:$C$144,3,FALSE)","v":35636.606387426276},{"$f":"D90/VLOOKUP(A90, '2020-2022 Composite Index Data'!$A$5:$F$139, 6, FALSE)","v":36431.507170354576},null,794.90078292830003,2.2305737372590177E-2,"BELOW",null,{"$f":"C90/VLOOKUP(A90,'ADM & Population Analysis'!$A$10:$J$144,10,FALSE)","v":5543.1450213102507},{"$f":"D90/VLOOKUP(A90, '2020-2022 Composite Index Data'!$A$5:$G$139, 7, FALSE)","v":5586.7342601778619},null,43.58923886761113,7.8636295280089582E-3,"BELOW"]
[85,"SHENANDOAH",{"$f":"VLOOKUP(A91,'Taxable Sales'!$B$6:$E$140,4,FALSE)","v":365285841.97000003},{"$f":"VLOOKUP(A91, '2020-2022 Composite Index Data'!$A$5:$E$139, 5, FALSE)","v":378819979.47000003},null,13534137.5,3.7050813212496536E-2,"ABOVE",null,{"$f":"C91/VLOOKUP(A91,'ADM & Population Analysis'!$A$10:$C$144,3,FALSE)","v":62629.37710587227},{"$f":"D91/VLOOKUP(A91, '2020-2022 Composite Index Data'!$A$5:$F$139, 6, FALSE)","v":65167.723975572},null,2538.3468696997297,4.0529652169600271E-2,"ABOVE",null,{"$f":"C91/VLOOKUP(A91,'ADM & Population Analysis'!$A$10:$J$144,10,FALSE)","v":8650.3230550819371},{"$f":"D91/VLOOKUP(A91, '2020-2022 Composite Index Data'!$A$5:$G$139, 7, FALSE)","v":8908.1711809523822},null,257.84812587044507,2.980791864402834E-2,"ABOVE"]
[86,"SMYTH",{"$f":"VLOOKUP(A92,'Taxable Sales'!$B$6:$E$140,4,FALSE)","v":207381453.43000001},{"$f":"VLOOKUP(A92, '2020-2022 Composite Index Data'!$A$5:$E$139, 5, FALSE)","v":205033051.61000001},null,-2348401.8199999928,-1.1324068672286924E-2,"BELOW",null,{"$f":"C92/VLOOKUP(A92,'ADM & Population Analysis'!$A$10:$C$144,3,FALSE)","v":47104.63511766991},{"$f":"D92/VLOOKUP(A92, '2020-2022 Composite Index Data'!$A$5:$F$139, 6, FALSE)","v":48611.143104731833},null,1506.5079870619229,3.1982160212017031E-2,"ABOVE",null,{"$f":"C92/VLOOKUP(A92,'ADM & Population Analysis'!$A$10:$J$144,10,FALSE)","v":6600.9311337810741},{"$f":"D92/VLOOKUP(A92, '2020-2022 Composite Index Data'!$A$5:$G$139, 7, FALSE)","v":6681.6480352603794},null,80.716901479305307,1.2228108405225844E-2,"BELOW"]
[87,"SOUTHAMPTON",{"$f":"VLOOKUP(A93,'Taxable Sales'!$B$6:$E$140,4,FALSE)","v":45382014.920000002},{"$f":"VLOOKUP(A93, '2020-2022 Composite Index Data'!$A$5:$E$139, 5, FALSE)","v":43903421.399999999},null,-1478593.5200000033,-3.2581046095165385E-2,"BELOW",null,{"$f":"C93/VLOOKUP(A93,'ADM & Population Analysis'!$A$10:$C$144,3,FALSE)","v":17261.951190938071},{"$f":"D93/VLOOKUP(A93, '2020-2022 Composite Index Data'!$A$5:$F$139, 6, FALSE)","v":16643.638341831414},null,-618.31284910665636,-3.5819406639919671E-2,"BELOW",null,{"$f":"C93/VLOOKUP(A93,'ADM & Population Analysis'!$A$10:$J$144,10,FALSE)","v":2446.3379289526174},{"$f":"D93/VLOOKUP(A93, '2020-2022 Composite Index Data'!$A$5:$G$139, 7, FALSE)","v":2423.0598487775264},null,-23.278080175090963,-9.5154802202888269E-3,"BELOW"]
[88,"SPOTSYLVANIA",{"$f":"VLOOKUP(A94,'Taxable Sales'!$B$6:$E$140,4,FALSE)","v":1547887315.25},{"$f":"VLOOKUP(A94, '2020-2022 Composite Index Data'!$A$5:$E$139, 5, FALSE)","v":1634908083.1900001},null,87020767.940000057,5.6219058766526095E-2,"ABOVE",null,{"$f":"C94/VLOOKUP(A94,'ADM & Population Analysis'!$A$10:$C$144,3,FALSE)","v":67026.708071373912},{"$f":"D94/VLOOKUP(A94, '2020-2022 Composite Index Data'!$A$5:$F$139, 6, FALSE)","v":70519.904690980373},null,3493.1966196064604,5.2116487891464142E-2,"ABOVE",null,{"$f":"C94/VLOOKUP(A94,'ADM & Population Analysis'!$A$10:$J$144,10,FALSE)","v":11999.31251065908},{"$f":"D94/VLOOKUP(A94, '2020-2022 Composite Index Data'!$A$5:$G$139, 7, FALSE)","v":12428.130074648991},null,428.81756398991092,3.5736844390792312E-2,"ABOVE"]
[89,"STAFFORD",{"$f":"VLOOKUP(A95,'Taxable Sales'!$B$6:$E$140,4,FALSE)","v":1094482580.3600001},{"$f":"VLOOKUP(A95, '2020-2022 Composite Index Data'!$A$5:$E$139, 5, FALSE)","v":1165726180.8699999},null,71243600.509999752,6.5093407413177942E-2,"ABOVE",null,{"$f":"C95/VLOOKUP(A95,'ADM & Population Analysis'!$A$10:$C$144,3,FALSE)","v":39772.538173704655},{"$f":"D95/VLOOKUP(A95, '2020-2022 Composite Index Data'!$A$5:$F$139, 6, FALSE)","v":40921.49690155717},null,1148.9587278525141,2.8888242506286421E-2,"BELOW",null,{"$f":"C95/VLOOKUP(A95,'ADM & Population Analysis'!$A$10:$J$144,10,FALSE)","v":7807.9170497089381},{"$f":"D95/VLOOKUP(A95, '2020-2022 Composite Index Data'!$A$5:$G$139, 7, FALSE)","v":8000.9209457168536},null,193.0038960079155,2.4718999289972E-2,"ABOVE"]
[90,"SURRY",{"$f":"VLOOKUP(A96,'Taxable Sales'!$B$6:$E$140,4,FALSE)","v":29802533},{"$f":"VLOOKUP(A96, '2020-2022 Composite Index Data'!$A$5:$E$139, 5, FALSE)","v":20421222},null,-9381311,-0.31478233746104733,"BELOW",null,{"$f":"C96/VLOOKUP(A96,'ADM & Population Analysis'!$A$10:$C$144,3,FALSE)","v":37932.634566675581},{"$f":"D96/VLOOKUP(A96, '2020-2022 Composite Index Data'!$A$5:$F$139, 6, FALSE)","v":27930.276960951927},null,-10002.357605723653,-0.26368739529921509,"BELOW",null,{"$f":"C96/VLOOKUP(A96,'ADM & Population Analysis'!$A$10:$J$144,10,FALSE)","v":4370.5137116879305},{"$f":"D96/VLOOKUP(A96, '2020-2022 Composite Index Data'!$A$5:$G$139, 7, FALSE)","v":3059.8175007491759},null,-1310.6962109387546,-0.29989522912000022,"BELOW"]
[91,"SUSSEX",{"$f":"VLOOKUP(A97,'Taxable Sales'!$B$6:$E$140,4,FALSE)","v":81299438.939999998},{"$f":"VLOOKUP(A97, '2020-2022 Composite Index Data'!$A$5:$E$139, 5, FALSE)","v":90499076.510000005},null,9199637.5700000077,0.1131574545894401,"ABOVE",null,{"$f":"C97/VLOOKUP(A97,'ADM & Population Analysis'!$A$10:$C$144,3,FALSE)","v":79475.476748619185},{"$f":"D97/VLOOKUP(A97, '2020-2022 Composite Index Data'!$A$5:$F$139, 6, FALSE)","v":88771.581533360804},null,9296.1047847416194,0.11696821667575755,"ABOVE",null,{"$f":"C97/VLOOKUP(A97,'ADM & Population Analysis'!$A$10:$J$144,10,FALSE)","v":6839.3571918902999},{"$f":"D97/VLOOKUP(A97, '2020-2022 Composite Index Data'!$A$5:$G$139, 7, FALSE)","v":7764.8285293865301},null,925.47133749623026,0.13531554377560492,"ABOVE"]
[92,"TAZEWELL",{"$f":"VLOOKUP(A98,'Taxable Sales'!$B$6:$E$140,4,FALSE)","v":531489881.39999998},{"$f":"VLOOKUP(A98, '2020-2022 Composite Index Data'!$A$5:$E$139, 5, FALSE)","v":511172039.33999997},null,-20317842.060000002,-3.8228088193289177E-2,"BELOW",null,{"$f":"C98/VLOOKUP(A98,'ADM & Population Analysis'!$A$10:$C$144,3,FALSE)","v":89535.045913906579},{"$f":"D98/VLOOKUP(A98, '2020-2022 Composite Index Data'!$A$5:$F$139, 6, FALSE)","v":90863.883246321784},null,1328.8373324152053,1.4841532931059907E-2,"BELOW",null,{"$f":"C98/VLOOKUP(A98,'ADM & Population Analysis'!$A$10:$J$144,10,FALSE)","v":12065.330671267395},{"$f":"D98/VLOOKUP(A98, '2020-2022 Composite Index Data'!$A$5:$G$139, 7, FALSE)","v":12006.671662047258},null,-58.659009220136795,-4.8617821440922844E-3,"BELOW"]
[93,"WARREN",{"$f":"VLOOKUP(A99,'Taxable Sales'!$B$6:$E$140,4,FALSE)","v":369480595.10000002},{"$f":"VLOOKUP(A99, '2020-2022 Composite Index Data'!$A$5:$E$139, 5, FALSE)","v":404670592.17000002},null,35189997.069999993,9.5241800345362684E-2,"ABOVE",null,{"$f":"C99/VLOOKUP(A99,'ADM & Population Analysis'!$A$10:$C$144,3,FALSE)","v":69288.048093494086},{"$f":"D99/VLOOKUP(A99, '2020-2022 Composite Index Data'!$A$5:$F$139, 6, FALSE)","v":76644.044677236379},null,7355.9965837422933,0.106165446799951,"ABOVE",null,{"$f":"C99/VLOOKUP(A99,'ADM & Population Analysis'!$A$10:$J$144,10,FALSE)","v":9515.5835870097108},{"$f":"D99/VLOOKUP(A99, '2020-2022 Composite Index Data'!$A$5:$G$139, 7, FALSE)","v":10312.969040240578},null,797.38545323086691,8.3797850750785816E-2,"ABOVE"]
[94,"WASHINGTON",{"$f":"VLOOKUP(A100,'Taxable Sales'!$B$6:$E$140,4,FALSE)","v":644170449.15999997},{"$f":"VLOOKUP(A100, '2020-2022 Composite Index Data'!$A$5:$E$139, 5, FALSE)","v":659752986.01999998},null,15582536.860000014,2.4190083354987311E-2,"BELOW",null,{"$f":"C100/VLOOKUP(A100,'ADM & Population Analysis'!$A$10:$C$144,3,FALSE)","v":90861.709406917478},{"$f":"D100/VLOOKUP(A100, '2020-2022 Composite Index Data'!$A$5:$F$139, 6, FALSE)","v":94526.037492173607},null,3664.3280852561293,4.0328628078585949E-2,"ABOVE",null,{"$f":"C100/VLOOKUP(A100,'ADM & Population Analysis'!$A$10:$J$144,10,FALSE)","v":11900.433200812857},{"$f":"D100/VLOOKUP(A100, '2020-2022 Composite Index Data'!$A$5:$G$139, 7, FALSE)","v":12265.574485861422},null,365.1412850485649,3.0683024633390992E-2,"ABOVE"]
[95,"WESTMORELAND",{"$f":"VLOOKUP(A101,'Taxable Sales'!$B$6:$E$140,4,FALSE)","v":67041385.469999999},{"$f":"VLOOKUP(A101, '2020-2022 Composite Index Data'!$A$5:$E$139, 5, FALSE)","v":67126856.730000004},null,85471.260000005364,1.2749029483922652E-3,"BELOW",null,{"$f":"C101/VLOOKUP(A101,'ADM & Population Analysis'!$A$10:$C$144,3,FALSE)","v":42920.770733300044},{"$f":"D101/VLOOKUP(A101, '2020-2022 Composite Index Data'!$A$5:$F$139, 6, FALSE)","v":44202.536994113085},null,1281.7662608130413,2.986354249735278E-2,"ABOVE",null,{"$f":"C101/VLOOKUP(A101,'ADM & Population Analysis'!$A$10:$J$144,10,FALSE)","v":4739.5818642629902},{"$f":"D101/VLOOKUP(A101, '2020-2022 Composite Index Data'!$A$5:$G$139, 7, FALSE)","v":4730.2414720597562},null,-9.3403922032339324,-1.9707207240498574E-3,"BELOW"]
[96,"WISE",{"$f":"VLOOKUP(A102,'Taxable Sales'!$B$6:$E$140,4,FALSE)","v":285000504.39999998},{"$f":"VLOOKUP(A102, '2020-2022 Composite Index Data'!$A$5:$E$139, 5, FALSE)","v":269251707.95999998},null,-15748796.439999998,-5.5258837078745883E-2,"BELOW",null,{"$f":"C102/VLOOKUP(A102,'ADM & Population Analysis'!$A$10:$C$144,3,FALSE)","v":49533.345337182436},{"$f":"D102/VLOOKUP(A102, '2020-2022 Composite Index Data'!$A$5:$F$139, 6, FALSE)","v":48296.270486098649},null,-1237.0748510837875,-2.4974587172798351E-2,"BELOW",null,{"$f":"C102/VLOOKUP(A102,'ADM & Population Analysis'!$A$10:$J$144,10,FALSE)","v":7135.1802418446277},{"$f":"D102/VLOOKUP(A102, '2020-2022 Composite Index Data'!$A$5:$G$139, 7, FALSE)","v":6880.4259310556299},null,-254.75431078899783,-3.5703976935996404E-2,"BELOW"]
[97,"WYTHE",{"$f":"VLOOKUP(A103,'Taxable Sales'!$B$6:$E$140,4,FALSE)","v":379537280.75999999},{"$f":"VLOOKUP(A103, '2020-2022 Composite Index Data'!$A$5:$E$139, 5, FALSE)","v":389415463.48000002},null,9878182.7200000286,2.602691018974362E-2,"BELOW",null,{"$f":"C103/VLOOKUP(A103,'ADM & Population Analysis'!$A$10:$C$144,3,FALSE)","v":92992.617861159364},{"$f":"D103/VLOOKUP(A103, '2020-2022 Composite Index Data'!$A$5:$F$139, 6, FALSE)","v":97370.66230924835},null,4378.0444480889855,4.7079483821237625E-2,"ABOVE",null,{"$f":"C103/VLOOKUP(A103,'ADM & Population Analysis'!$A$10:$J$144,10,FALSE)","v":13204.511733639494},{"$f":"D103/VLOOKUP(A103, '2020-2022 Composite Index Data'!$A$5:$G$139, 7, FALSE)","v":13557.618058002299},null,353.10632436280503,2.6741338982132896E-2,"ABOVE"]
[98,"YORK",{"$f":"VLOOKUP(A104,'Taxable Sales'!$B$6:$E$140,4,FALSE)","v":922303789.76999998},{"$f":"VLOOKUP(A104, '2020-2022 Composite Index Data'!$A$5:$E$139, 5, FALSE)","v":949567169.16999996},null,27263379.399999976,2.9560086061013364E-2,"BELOW",null,{"$f":"C104/VLOOKUP(A104,'ADM & Population Analysis'!$A$10:$C$144,3,FALSE)","v":73655.78856171752},{"$f":"D104/VLOOKUP(A104, '2020-2022 Composite Index Data'!$A$5:$F$139, 6, FALSE)","v":75304.381791982698},null,1648.5932302651781,2.2382398755853277E-2,"BELOW",null,{"$f":"C104/VLOOKUP(A104,'ADM & Population Analysis'!$A$10:$J$144,10,FALSE)","v":13277.0533753203},{"$f":"D104/VLOOKUP(A104, '2020-2022 Composite Index Data'!$A$5:$G$139, 7, FALSE)","v":13783.817232834954},null,506.76385751465386,3.8168398001369674E-2,"ABOVE"]
[101,"ALEXANDRIA",{"$f":"VLOOKUP(A105,'Taxable Sales'!$B$6:$E$140,4,FALSE)","v":2088861531.45},{"$f":"VLOOKUP(A105, '2020-2022 Composite Index Data'!$A$5:$E$139, 5, FALSE)","v":2166848199.3800001},null,77986667.930000067,3.7334532115139769E-2,"ABOVE",null,{"$f":"C105/VLOOKUP(A105,'ADM & Population Analysis'!$A$10:$C$144,3,FALSE)","v":145657.22549916533},{"$f":"D105/VLOOKUP(A105, '2020-2022 Composite Index Data'!$A$5:$F$139, 6, FALSE)","v":144573.94066515344},null,-1083.2848340118944,-7.4372200232394377E-3,"BELOW",null,{"$f":"C105/VLOOKUP(A105,'ADM & Population Analysis'!$A$10:$J$144,10,FALSE)","v":13090.483430259885},{"$f":"D105/VLOOKUP(A105, '2020-2022 Composite Index Data'!$A$5:$G$139, 7, FALSE)","v":13482.215540041938},null,391.73210978205316,2.9924953640484163E-2,"ABOVE"]
[102,"BRISTOL",{"$f":"VLOOKUP(A106,'Taxable Sales'!$B$6:$E$140,4,FALSE)","v":335454753.24000001},{"$f":"VLOOKUP(A106, '2020-2022 Composite Index Data'!$A$5:$E$139, 5, FALSE)","v":357990921.17000002},null,22536167.930000007,6.7180946796352531E-2,{"$f":"IF(G106<$G$146,\"BELOW\", \"ABOVE\")","v":"ABOVE"},null,{"$f":"C106/VLOOKUP(A106,'ADM & Population Analysis'!$A$10:$C$144,3,FALSE)","v":152950.79984680063},{"$f":"D106/VLOOKUP(A106, '2020-2022 Composite Index Data'!$A$5:$F$139, 6, FALSE)","v":165950.12153141547},null,12999.321684614843,8.4990217100108595E-2,"ABOVE",null,{"$f":"C106/VLOOKUP(A106,'ADM & Population Analysis'!$A$10:$J$144,10,FALSE)","v":19032.893800851063},{"$f":"D106/VLOOKUP(A106, '2020-2022 Composite Index Data'!$A$5:$G$139, 7, FALSE)","v":20861.941793123544},null,1829.0479922724808,9.6099311613386626E-2,"ABOVE"]
[103,"BUENA VISTA",{"$f":"VLOOKUP(A107,'Taxable Sales'!$B$6:$E$140,4,FALSE)","v":33497023},{"$f":"VLOOKUP(A107, '2020-2022 Composite Index Data'!$A$5:$E$139, 5, FALSE)","v":30887490},null,-2609533,-7.7903430403352555E-2,"BELOW",null,{"$f":"C107/VLOOKUP(A107,'ADM & Population Analysis'!$A$10:$C$144,3,FALSE)","v":34698.277362282213},{"$f":"D107/VLOOKUP(A107, '2020-2022 Composite Index Data'!$A$5:$F$139, 6, FALSE)","v":34604.342419251836},null,-93.934943030377326,-2.7071932721503536E-3,{"$f":"IF(N107<$N$146,\"BELOW\", \"ABOVE\")","v":"BELOW"},null,{"$f":"C107/VLOOKUP(A107,'ADM & Population Analysis'!$A$10:$J$144,10,FALSE)","v":4913.7484230599966},{"$f":"D107/VLOOKUP(A107, '2020-2022 Composite Index Data'!$A$5:$G$139, 7, FALSE)","v":4808.1397882938982},null,-105.60863476609848,-2.1492478994342076E-2,"BELOW"]
[104,"CHARLOTTESVILLE",{"$f":"VLOOKUP(A108,'Taxable Sales'!$B$6:$E$140,4,FALSE)","v":959435495.89999998},{"$f":"VLOOKUP(A108, '2020-2022 Composite Index Data'!$A$5:$E$139, 5, FALSE)","v":971359089.53999996},null,11923593.639999986,1.2427717851750982E-2,"BELOW",null,{"$f":"C108/VLOOKUP(A108,'ADM & Population Analysis'!$A$10:$C$144,3,FALSE)","v":235980.5339003478},{"$f":"D108/VLOOKUP(A108, '2020-2022 Composite Index Data'!$A$5:$F$139, 6, FALSE)","v":231842.33139526559},null,-4138.2025050822122,-1.7536202824380988E-2,"BELOW",null,{"$f":"C108/VLOOKUP(A108,'ADM & Population Analysis'!$A$10:$J$144,10,FALSE)","v":19901.171870981125},{"$f":"D108/VLOOKUP(A108, '2020-2022 Composite Index Data'!$A$5:$G$139, 7, FALSE)","v":19770.395862981357},null,-130.7760079997679,-6.5712717244786377E-3,{"$f":"IF(U108<$U$146,\"BELOW\", \"ABOVE\")","v":"BELOW"}]
[106,"COLONIAL HEIGHTS",{"$f":"VLOOKUP(A109,'Taxable Sales'!$B$6:$E$140,4,FALSE)","v":720733536.39999998},{"$f":"VLOOKUP(A109, '2020-2022 Composite Index Data'!$A$5:$E$139, 5, FALSE)","v":717236556.60000002},null,-3496979.7999999523,-4.8519731959012977E-3,"BELOW",null,{"$f":"C109/VLOOKUP(A109,'ADM & Population Analysis'!$A$10:$C$144,3,FALSE)","v":260209.52134073692},{"$f":"D109/VLOOKUP(A109, '2020-2022 Composite Index Data'!$A$5:$F$139, 6, FALSE)","v":259948.37417320552},null,-261.1471675313951,-1.0036034276756168E-3,"BELOW",null,{"$f":"C109/VLOOKUP(A109,'ADM & Population Analysis'!$A$10:$J$144,10,FALSE)","v":41866.601010746439},{"$f":"D109/VLOOKUP(A109, '2020-2022 Composite Index Data'!$A$5:$G$139, 7, FALSE)","v":41410.886639722863},null,-455.71437102357595,-1.0884914466942322E-2,"BELOW"]
[107,"COVINGTON",{"$f":"VLOOKUP(A110,'Taxable Sales'!$B$6:$E$140,4,FALSE)","v":112746567.90000001},{"$f":"VLOOKUP(A110, '2020-2022 Composite Index Data'!$A$5:$E$139, 5, FALSE)","v":110735625.84999999},null,-2010942.0500000119,-1.7835949133135534E-2,"BELOW",null,{"$f":"C110/VLOOKUP(A110,'ADM & Population Analysis'!$A$10:$C$144,3,FALSE)","v":119911.2660462643},{"$f":"D110/VLOOKUP(A110, '2020-2022 Composite Index Data'!$A$5:$F$139, 6, FALSE)","v":115172.05334484336},null,-4739.21270142094,-3.9522664197311132E-2,"BELOW",null,{"$f":"C110/VLOOKUP(A110,'ADM & Population Analysis'!$A$10:$J$144,10,FALSE)","v":18190.798305905133},{"$f":"D110/VLOOKUP(A110, '2020-2022 Composite Index Data'!$A$5:$G$139, 7, FALSE)","v":18929.16681196581},null,738.36850606067674,4.0590220046636774E-2,"ABOVE"]
[108,"DANVILLE",{"$f":"VLOOKUP(A111,'Taxable Sales'!$B$6:$E$140,4,FALSE)","v":770375644.50999999},{"$f":"VLOOKUP(A111, '2020-2022 Composite Index Data'!$A$5:$E$139, 5, FALSE)","v":793761923.86000001},null,23386279.350000024,3.0356981709715063E-2,"BELOW",null,{"$f":"C111/VLOOKUP(A111,'ADM & Population Analysis'!$A$10:$C$144,3,FALSE)","v":129798.63129384886},{"$f":"D111/VLOOKUP(A111, '2020-2022 Composite Index Data'!$A$5:$F$139, 6, FALSE)","v":143818.29320553705},null,14019.661911688192,0.10801086091539228,"ABOVE",null,{"$f":"C111/VLOOKUP(A111,'ADM & Population Analysis'!$A$10:$J$144,10,FALSE)","v":18107.738917591199},{"$f":"D111/VLOOKUP(A111, '2020-2022 Composite Index Data'!$A$5:$G$139, 7, FALSE)","v":19192.463945548625},null,1084.7250279574255,5.990394675414959E-2,"ABOVE"]
[109,"FALLS CHURCH",{"$f":"VLOOKUP(A112,'Taxable Sales'!$B$6:$E$140,4,FALSE)","v":322397956.84000003},{"$f":"VLOOKUP(A112, '2020-2022 Composite Index Data'!$A$5:$E$139, 5, FALSE)","v":362455075.37},null,40057118.529999971,0.12424743296335329,"ABOVE",null,{"$f":"C112/VLOOKUP(A112,'ADM & Population Analysis'!$A$10:$C$144,3,FALSE)","v":131223.04266811025},{"$f":"D112/VLOOKUP(A112, '2020-2022 Composite Index Data'!$A$5:$F$139, 6, FALSE)","v":139015.48550991446},null,7792.442841804208,5.938318974597228E-2,"ABOVE",null,{"$f":"C112/VLOOKUP(A112,'ADM & Population Analysis'!$A$10:$J$144,10,FALSE)","v":22731.294989776496},{"$f":"D112/VLOOKUP(A112, '2020-2022 Composite Index Data'!$A$5:$G$139, 7, FALSE)","v":25401.575118788984},null,2670.280129012488,0.11747153561701869,"ABOVE"]
[110,"FREDERICKSBURG",{"$f":"VLOOKUP(A113,'Taxable Sales'!$B$6:$E$140,4,FALSE)","v":916785104.69000006},{"$f":"VLOOKUP(A113, '2020-2022 Composite Index Data'!$A$5:$E$139, 5, FALSE)","v":945058833.03999996},null,28273728.349999905,3.0840082594448703E-2,"BELOW",null,{"$f":"C113/VLOOKUP(A113,'ADM & Population Analysis'!$A$10:$C$144,3,FALSE)","v":277802.72434419254},{"$f":"D113/VLOOKUP(A113, '2020-2022 Composite Index Data'!$A$5:$F$139, 6, FALSE)","v":277941.31334241119},null,138.58899821864907,4.988755907481304E-4,"BELOW",null,{"$f":"C113/VLOOKUP(A113,'ADM & Population Analysis'!$A$10:$J$144,10,FALSE)","v":33994.034064666841},{"$f":"D113/VLOOKUP(A113, '2020-2022 Composite Index Data'!$A$5:$G$139, 7, FALSE)","v":34185.524797974314},null,191.49073330747342,5.6330688185815382E-3,"BELOW"]
[111,"GALAX",{"$f":"VLOOKUP(A114,'Taxable Sales'!$B$6:$E$140,4,FALSE)","v":203878778.90000001},{"$f":"VLOOKUP(A114, '2020-2022 Composite Index Data'!$A$5:$E$139, 5, FALSE)","v":208254312.55000001},null,4375533.650000006,2.1461447207049199E-2,"BELOW",null,{"$f":"C114/VLOOKUP(A114,'ADM & Population Analysis'!$A$10:$C$144,3,FALSE)","v":156230.14651453268},{"$f":"D114/VLOOKUP(A114, '2020-2022 Composite Index Data'!$A$5:$F$139, 6, FALSE)","v":169359.26398354015},null,13129.117469007469,8.4037029740519298E-2,"ABOVE",null,{"$f":"C114/VLOOKUP(A114,'ADM & Population Analysis'!$A$10:$J$144,10,FALSE)","v":28947.718145676557},{"$f":"D114/VLOOKUP(A114, '2020-2022 Composite Index Data'!$A$5:$G$139, 7, FALSE)","v":30861.634936277416},null,1913.9167906008588,6.6116326715952536E-2,"ABOVE"]
[112,"HAMPTON",{"$f":"VLOOKUP(A115,'Taxable Sales'!$B$6:$E$140,4,FALSE)","v":1396275489.76},{"$f":"VLOOKUP(A115, '2020-2022 Composite Index Data'!$A$5:$E$139, 5, FALSE)","v":1354676659.3900001},null,-41598830.369999886,-2.979270973033419E-2,"BELOW",null,{"$f":"C115/VLOOKUP(A115,'ADM & Population Analysis'!$A$10:$C$144,3,FALSE)","v":70702.648180930657},{"$f":"D115/VLOOKUP(A115, '2020-2022 Composite Index Data'!$A$5:$F$139, 6, FALSE)","v":71249.009738461609},null,546.36155753095227,7.7275967957069038E-3,"BELOW",null,{"$f":"C115/VLOOKUP(A115,'ADM & Population Analysis'!$A$10:$J$144,10,FALSE)","v":10072.248277812243},{"$f":"D115/VLOOKUP(A115, '2020-2022 Composite Index Data'!$A$5:$G$139, 7, FALSE)","v":9906.7349655192593},null,-165.51331229298376,-1.6432608463155786E-2,"BELOW"]
[113,"HARRISONBURG",{"$f":"VLOOKUP(A116,'Taxable Sales'!$B$6:$E$140,4,FALSE)","v":1194530338.3800001},{"$f":"VLOOKUP(A116, '2020-2022 Composite Index Data'!$A$5:$E$139, 5, FALSE)","v":1238467780.28},null,43937441.899999857,3.6782190027577703E-2,"ABOVE",null,{"$f":"C116/VLOOKUP(A116,'ADM & Population Analysis'!$A$10:$C$144,3,FALSE)","v":216300.11052482907},{"$f":"D116/VLOOKUP(A116, '2020-2022 Composite Index Data'!$A$5:$F$139, 6, FALSE)","v":210376.90130289286},null,-5923.2092219362094,-2.7384217269072014E-2,"BELOW",null,{"$f":"C116/VLOOKUP(A116,'ADM & Population Analysis'!$A$10:$J$144,10,FALSE)","v":22172.256860881673},{"$f":"D116/VLOOKUP(A116, '2020-2022 Composite Index Data'!$A$5:$G$139, 7, FALSE)","v":22645.646844520834},null,473.38998363916107,2.1350554731952392E-2,"BELOW"]
[114,"HOPEWELL",{"$f":"VLOOKUP(A117,'Taxable Sales'!$B$6:$E$140,4,FALSE)","v":171716894.99000001},{"$f":"VLOOKUP(A117, '2020-2022 Composite Index Data'!$A$5:$E$139, 5, FALSE)","v":169710176.56},null,-2006718.4300000072,-1.1686202630887712E-2,"BELOW",null,{"$f":"C117/VLOOKUP(A117,'ADM & Population Analysis'!$A$10:$C$144,3,FALSE)","v":42851.66223884769},{"$f":"D117/VLOOKUP(A117, '2020-2022 Composite Index Data'!$A$5:$F$139, 6, FALSE)","v":42675.381417582612},null,-176.28082126507798,-4.113745233090829E-3,"BELOW",null,{"$f":"C117/VLOOKUP(A117,'ADM & Population Analysis'!$A$10:$J$144,10,FALSE)","v":7471.1492773233558},{"$f":"D117/VLOOKUP(A117, '2020-2022 Composite Index Data'!$A$5:$G$139, 7, FALSE)","v":7437.8830065302191},null,-33.266270793136755,-4.4526309886629466E-3,"BELOW"]
[115,"LYNCHBURG",{"$f":"VLOOKUP(A118,'Taxable Sales'!$B$6:$E$140,4,FALSE)","v":1353815268.71},{"$f":"VLOOKUP(A118, '2020-2022 Composite Index Data'!$A$5:$E$139, 5, FALSE)","v":1373101288.8099999},null,19286020.099999905,1.4245680740753377E-2,"BELOW",null,{"$f":"C118/VLOOKUP(A118,'ADM & Population Analysis'!$A$10:$C$144,3,FALSE)","v":169033.99853791861},{"$f":"D118/VLOOKUP(A118, '2020-2022 Composite Index Data'!$A$5:$F$139, 6, FALSE)","v":172090.68984225974},null,3056.6913043411332,1.8083292892438086E-2,"BELOW",null,{"$f":"C118/VLOOKUP(A118,'ADM & Population Analysis'!$A$10:$J$144,10,FALSE)","v":17207.693278805211},{"$f":"D118/VLOOKUP(A118, '2020-2022 Composite Index Data'!$A$5:$G$139, 7, FALSE)","v":17082.623647797958},null,-125.06963100725261,-7.2682392102665734E-3,"BELOW"]
[116,"MARTINSVILLE",{"$f":"VLOOKUP(A119,'Taxable Sales'!$B$6:$E$140,4,FALSE)","v":155265380},{"$f":"VLOOKUP(A119, '2020-2022 Composite Index Data'!$A$5:$E$139, 5, FALSE)","v":156627539},null,1362159,8.7731018981823256E-3,"BELOW",null,{"$f":"C119/VLOOKUP(A119,'ADM & Population Analysis'!$A$10:$C$144,3,FALSE)","v":75484.036889928204},{"$f":"D119/VLOOKUP(A119, '2020-2022 Composite Index Data'!$A$5:$F$139, 6, FALSE)","v":82698.004192252251},null,7213.9673023240466,9.5569442223175566E-2,"ABOVE",null,{"$f":"C119/VLOOKUP(A119,'ADM & Population Analysis'!$A$10:$J$144,10,FALSE)","v":11523.332343773192},{"$f":"D119/VLOOKUP(A119, '2020-2022 Composite Index Data'!$A$5:$G$139, 7, FALSE)","v":11704.344567329248},null,181.01222355605569,1.5708322745188234E-2,"BELOW"]
[117,"NEWPORT NEWS",{"$f":"VLOOKUP(A120,'Taxable Sales'!$B$6:$E$140,4,FALSE)","v":2082466487.9000001},{"$f":"VLOOKUP(A120, '2020-2022 Composite Index Data'!$A$5:$E$139, 5, FALSE)","v":2188701990.54},null,106235502.63999987,5.1014267579945462E-2,"ABOVE",null,{"$f":"C120/VLOOKUP(A120,'ADM & Population Analysis'!$A$10:$C$144,3,FALSE)","v":76412.264022655829},{"$f":"D120/VLOOKUP(A120, '2020-2022 Composite Index Data'!$A$5:$F$139, 6, FALSE)","v":81447.468739115284},null,5035.2047164594551,6.5895243137496146E-2,"ABOVE",null,{"$f":"C120/VLOOKUP(A120,'ADM & Population Analysis'!$A$10:$J$144,10,FALSE)","v":11351.436806501903},{"$f":"D120/VLOOKUP(A120, '2020-2022 Composite Index Data'!$A$5:$G$139, 7, FALSE)","v":12015.602045181302},null,664.16523867939941,5.8509354366398557E-2,"ABOVE"]
[118,"NORFOLK",{"$f":"VLOOKUP(A121,'Taxable Sales'!$B$6:$E$140,4,FALSE)","v":2671631729.8900003},{"$f":"VLOOKUP(A121, '2020-2022 Composite Index Data'!$A$5:$E$139, 5, FALSE)","v":2800002003.8600001},null,128370273.96999979,4.8049389642218845E-2,"ABOVE",null,{"$f":"C121/VLOOKUP(A121,'ADM & Population Analysis'!$A$10:$C$144,3,FALSE)","v":90237.068089740176},{"$f":"D121/VLOOKUP(A121, '2020-2022 Composite Index Data'!$A$5:$F$139, 6, FALSE)","v":98482.145159764317},null,8245.077070024141,9.1371287261067316E-2,"ABOVE",null,{"$f":"C121/VLOOKUP(A121,'ADM & Population Analysis'!$A$10:$J$144,10,FALSE)","v":10808.052663710765},{"$f":"D121/VLOOKUP(A121, '2020-2022 Composite Index Data'!$A$5:$G$139, 7, FALSE)","v":11370.289470550972},null,562.23680684020655,5.2020176467864464E-2,"ABOVE"]
[119,"NORTON",{"$f":"VLOOKUP(A122,'Taxable Sales'!$B$6:$E$140,4,FALSE)","v":150625617.25999999},{"$f":"VLOOKUP(A122, '2020-2022 Composite Index Data'!$A$5:$E$139, 5, FALSE)","v":140897761.55000001},null,-9727855.7099999785,-6.4583009762598328E-2,"BELOW",null,{"$f":"C122/VLOOKUP(A122,'ADM & Population Analysis'!$A$10:$C$144,3,FALSE)","v":185157.48894898585},{"$f":"D122/VLOOKUP(A122, '2020-2022 Composite Index Data'!$A$5:$F$139, 6, FALSE)","v":183882.02332167467},null,-1275.4656273111759,-6.8885446359806118E-3,"BELOW",null,{"$f":"C122/VLOOKUP(A122,'ADM & Population Analysis'!$A$10:$J$144,10,FALSE)","v":38171.722569690821},{"$f":"D122/VLOOKUP(A122, '2020-2022 Composite Index Data'!$A$5:$G$139, 7, FALSE)","v":36295.147230808863},null,-1876.5753388819576,-4.9161400443898211E-2,"BELOW"]
[120,"PETERSBURG",{"$f":"VLOOKUP(A123,'Taxable Sales'!$B$6:$E$140,4,FALSE)","v":302220885.73000002},{"$f":"VLOOKUP(A123, '2020-2022 Composite Index Data'!$A$5:$E$139, 5, FALSE)","v":293004412.83999997},null,-9216472.8900000453,-3.0495817215736423E-2,"BELOW",null,{"$f":"C123/VLOOKUP(A123,'ADM & Population Analysis'!$A$10:$C$144,3,FALSE)","v":78072.674832473102},{"$f":"D123/VLOOKUP(A123, '2020-2022 Composite Index Data'!$A$5:$F$139, 6, FALSE)","v":78366.474856241126},null,293.8000237680244,3.7631607268286253E-3,"BELOW",null,{"$f":"C123/VLOOKUP(A123,'ADM & Population Analysis'!$A$10:$J$144,10,FALSE)","v":9427.609749196743},{"$f":"D123/VLOOKUP(A123, '2020-2022 Composite Index Data'!$A$5:$G$139, 7, FALSE)","v":9241.5837514587602},null,-186.02599773798283,-1.9732042658409013E-2,"BELOW"]
[121,"PORTSMOUTH",{"$f":"VLOOKUP(A124,'Taxable Sales'!$B$6:$E$140,4,FALSE)","v":619199125.87},{"$f":"VLOOKUP(A124, '2020-2022 Composite Index Data'!$A$5:$E$139, 5, FALSE)","v":609799751.41999996},null,-9399374.4500000477,-1.5179889727385425E-2,"BELOW",null,{"$f":"C124/VLOOKUP(A124,'ADM & Population Analysis'!$A$10:$C$144,3,FALSE)","v":44218.338772796546},{"$f":"D124/VLOOKUP(A124, '2020-2022 Composite Index Data'!$A$5:$F$139, 6, FALSE)","v":45250.529190981353},null,1032.1904181848076,2.3343039264510292E-2,"BELOW",null,{"$f":"C124/VLOOKUP(A124,'ADM & Population Analysis'!$A$10:$J$144,10,FALSE)","v":6391.7988920659827},{"$f":"D124/VLOOKUP(A124, '2020-2022 Composite Index Data'!$A$5:$G$139, 7, FALSE)","v":6389.3519637468562},null,-2.4469283191265276,-3.828231082432604E-4,"BELOW"]
[122,"RADFORD",{"$f":"VLOOKUP(A125,'Taxable Sales'!$B$6:$E$140,4,FALSE)","v":79433243.930000007},{"$f":"VLOOKUP(A125, '2020-2022 Composite Index Data'!$A$5:$E$139, 5, FALSE)","v":69825230.849999994},null,-9608013.0800000131,-0.12095707797691112,"BELOW",null,{"$f":"C125/VLOOKUP(A125,'ADM & Population Analysis'!$A$10:$C$144,3,FALSE)","v":49664.091089839378},{"$f":"D125/VLOOKUP(A125, '2020-2022 Composite Index Data'!$A$5:$F$139, 6, FALSE)","v":44404.809535317043},null,-5259.2815545223348,-0.10589706645408266,"BELOW",null,{"$f":"C125/VLOOKUP(A125,'ADM & Population Analysis'!$A$10:$J$144,10,FALSE)","v":4559.8877112514356},{"$f":"D125/VLOOKUP(A125, '2020-2022 Composite Index Data'!$A$5:$G$139, 7, FALSE)","v":4057.7191335425382},null,-502.16857770889737,-0.11012739995105714,"BELOW"]
[123,"RICHMOND CITY",{"$f":"VLOOKUP(A126,'Taxable Sales'!$B$6:$E$140,4,FALSE)","v":2672449738.96},{"$f":"VLOOKUP(A126, '2020-2022 Composite Index Data'!$A$5:$E$139, 5, FALSE)","v":2699889889.6100001},null,27440150.650000095,1.0267789230969259E-2,"BELOW",null,{"$f":"C126/VLOOKUP(A126,'ADM & Population Analysis'!$A$10:$C$144,3,FALSE)","v":122985.92613986743},{"$f":"D126/VLOOKUP(A126, '2020-2022 Composite Index Data'!$A$5:$F$139, 6, FALSE)","v":117629.13982623289},null,-5356.7863136345404,-4.3556091999847703E-2,"BELOW",null,{"$f":"C126/VLOOKUP(A126,'ADM & Population Analysis'!$A$10:$J$144,10,FALSE)","v":12262.431237140838},{"$f":"D126/VLOOKUP(A126, '2020-2022 Composite Index Data'!$A$5:$G$139, 7, FALSE)","v":12115.115747196583},null,-147.3154899442543,-1.2013562979098346E-2,"BELOW"]
[124,"ROANOKE CITY",{"$f":"VLOOKUP(A127,'Taxable Sales'!$B$6:$E$140,4,FALSE)","v":1843019507.3299999},{"$f":"VLOOKUP(A127, '2020-2022 Composite Index Data'!$A$5:$E$139, 5, FALSE)","v":1837473382.29},null,-5546125.0399999619,-3.0092600853881828E-3,"BELOW",null,{"$f":"C127/VLOOKUP(A127,'ADM & Population Analysis'!$A$10:$C$144,3,FALSE)","v":144082.25401753047},{"$f":"D127/VLOOKUP(A127, '2020-2022 Composite Index Data'!$A$5:$F$139, 6, FALSE)","v":143297.02431444541},null,-785.22970308506046,-5.4498710367865402E-3,"BELOW",null,{"$f":"C127/VLOOKUP(A127,'ADM & Population Analysis'!$A$10:$J$144,10,FALSE)","v":18489.175543283072},{"$f":"D127/VLOOKUP(A127, '2020-2022 Composite Index Data'!$A$5:$G$139, 7, FALSE)","v":18391.654144713135},null,-97.521398569937446,-5.2745130977657883E-3,"BELOW"]
[126,"STAUNTON",{"$f":"VLOOKUP(A128,'Taxable Sales'!$B$6:$E$140,4,FALSE)","v":364671682.99000001},{"$f":"VLOOKUP(A128, '2020-2022 Composite Index Data'!$A$5:$E$139, 5, FALSE)","v":361530282.13999999},null,-3141400.8500000238,-8.6143262461268952E-3,"BELOW",null,{"$f":"C128/VLOOKUP(A128,'ADM & Population Analysis'!$A$10:$C$144,3,FALSE)","v":143828.60821704936},{"$f":"D128/VLOOKUP(A128, '2020-2022 Composite Index Data'!$A$5:$F$139, 6, FALSE)","v":141041.50608787924},null,-2787.1021291701181,-1.9377939922523263E-2,"BELOW",null,{"$f":"C128/VLOOKUP(A128,'ADM & Population Analysis'!$A$10:$J$144,10,FALSE)","v":14859.085770923315},{"$f":"D128/VLOOKUP(A128, '2020-2022 Composite Index Data'!$A$5:$G$139, 7, FALSE)","v":14600.794884697709},null,-258.2908862256063,-1.738269030864855E-2,"BELOW"]
[127,"SUFFOLK",{"$f":"VLOOKUP(A129,'Taxable Sales'!$B$6:$E$140,4,FALSE)","v":821340720.88},{"$f":"VLOOKUP(A129, '2020-2022 Composite Index Data'!$A$5:$E$139, 5, FALSE)","v":895475059.50999999},null,74134338.629999995,9.02601523890975E-2,"ABOVE",null,{"$f":"C129/VLOOKUP(A129,'ADM & Population Analysis'!$A$10:$C$144,3,FALSE)","v":59359.710167258454},{"$f":"D129/VLOOKUP(A129, '2020-2022 Composite Index Data'!$A$5:$F$139, 6, FALSE)","v":64969.154899340348},null,5609.4447320818945,9.4499193413783614E-2,"ABOVE",null,{"$f":"C129/VLOOKUP(A129,'ADM & Population Analysis'!$A$10:$J$144,10,FALSE)","v":9083.0150717713932},{"$f":"D129/VLOOKUP(A129, '2020-2022 Composite Index Data'!$A$5:$G$139, 7, FALSE)","v":9677.358990954579},null,594.34391918318579,6.5434650772551811E-2,"ABOVE"]
[128,"VIRGINIA BEACH",{"$f":"VLOOKUP(A130,'Taxable Sales'!$B$6:$E$140,4,FALSE)","v":5374616764.1099997},{"$f":"VLOOKUP(A130, '2020-2022 Composite Index Data'!$A$5:$E$139, 5, FALSE)","v":5597203814.4899998},null,222587050.38000011,4.1414497097982207E-2,"ABOVE",null,{"$f":"C130/VLOOKUP(A130,'ADM & Population Analysis'!$A$10:$C$144,3,FALSE)","v":79166.871863810899},{"$f":"D130/VLOOKUP(A130, '2020-2022 Composite Index Data'!$A$5:$F$139, 6, FALSE)","v":83427.118691286771},null,4260.2468274758721,5.3813504653874474E-2,"ABOVE",null,{"$f":"C130/VLOOKUP(A130,'ADM & Population Analysis'!$A$10:$J$144,10,FALSE)","v":11851.415135854464},{"$f":"D130/VLOOKUP(A130, '2020-2022 Composite Index Data'!$A$5:$G$139, 7, FALSE)","v":12316.489047129704},null,465.07391127523988,3.9242057251731646E-2,"ABOVE"]
[130,"WAYNESBORO",{"$f":"VLOOKUP(A131,'Taxable Sales'!$B$6:$E$140,4,FALSE)","v":507989002.38999999},{"$f":"VLOOKUP(A131, '2020-2022 Composite Index Data'!$A$5:$E$139, 5, FALSE)","v":490439867.54000002},null,-17549134.849999964,-3.4546288930339702E-2,"BELOW",null,{"$f":"C131/VLOOKUP(A131,'ADM & Population Analysis'!$A$10:$C$144,3,FALSE)","v":167040.10443191981},{"$f":"D131/VLOOKUP(A131, '2020-2022 Composite Index Data'!$A$5:$F$139, 6, FALSE)","v":167156.27962317911},null,116.17519125930266,6.9549280787627827E-4,"BELOW",null,{"$f":"C131/VLOOKUP(A131,'ADM & Population Analysis'!$A$10:$J$144,10,FALSE)","v":23307.593594402384},{"$f":"D131/VLOOKUP(A131, '2020-2022 Composite Index Data'!$A$5:$G$139, 7, FALSE)","v":22338.413461170578},null,-969.18013323180639,-4.1582162023992363E-2,"BELOW"]
[131,"WILLIAMSBURG",{"$f":"VLOOKUP(A132,'Taxable Sales'!$B$6:$E$140,4,FALSE)","v":389879512.15999997},{"$f":"VLOOKUP(A132, '2020-2022 Composite Index Data'!$A$5:$E$139, 5, FALSE)","v":400643946.56999999},null,10764434.410000026,2.7609643682898845E-2,"BELOW",null,{"$f":"C132/VLOOKUP(A132,'ADM & Population Analysis'!$A$10:$C$144,3,FALSE)","v":393869.40927596547},{"$f":"D132/VLOOKUP(A132, '2020-2022 Composite Index Data'!$A$5:$F$139, 6, FALSE)","v":401302.08198445447},null,7432.6727084890008,1.8870906278688128E-2,"BELOW",null,{"$f":"C132/VLOOKUP(A132,'ADM & Population Analysis'!$A$10:$J$144,10,FALSE)","v":26236.844694481828},{"$f":"D132/VLOOKUP(A132, '2020-2022 Composite Index Data'!$A$5:$G$139, 7, FALSE)","v":26009.085079849388},null,-227.75961463243948,-8.6809072235863108E-3,"BELOW"]
[132,"WINCHESTER",{"$f":"VLOOKUP(A133,'Taxable Sales'!$B$6:$E$140,4,FALSE)","v":779790232.77999997},{"$f":"VLOOKUP(A133, '2020-2022 Composite Index Data'!$A$5:$E$139, 5, FALSE)","v":833496389.77999997},null,53706157,6.8872569496714858E-2,"ABOVE",null,{"$f":"C133/VLOOKUP(A133,'ADM & Population Analysis'!$A$10:$C$144,3,FALSE)","v":184470.98952254109},{"$f":"D133/VLOOKUP(A133, '2020-2022 Composite Index Data'!$A$5:$F$139, 6, FALSE)","v":199885.9409620467},null,15414.951439505618,8.3563011611763577E-2,"ABOVE",null,{"$f":"C133/VLOOKUP(A133,'ADM & Population Analysis'!$A$10:$J$144,10,FALSE)","v":28340.549982918408},{"$f":"D133/VLOOKUP(A133, '2020-2022 Composite Index Data'!$A$5:$G$139, 7, FALSE)","v":29762.413489733975},null,1421.8635068155672,5.0170639160939418E-2,"ABOVE"]
[134,"FAIRFAX CITY",{"$f":"VLOOKUP(A134,'Taxable Sales'!$B$6:$E$140,4,FALSE)","v":807668396.45000005},{"$f":"VLOOKUP(A134, '2020-2022 Composite Index Data'!$A$5:$E$139, 5, FALSE)","v":814715859.09000003},null,7047462.6399999857,8.7256882539618712E-3,"BELOW",null,{"$f":"C134/VLOOKUP(A134,'ADM & Population Analysis'!$A$10:$C$144,3,FALSE)","v":258456.36804513328},{"$f":"D134/VLOOKUP(A134, '2020-2022 Composite Index Data'!$A$5:$F$139, 6, FALSE)","v":264575.68987084855},null,6119.3218257152766,2.3676421177003779E-2,"BELOW",null,{"$f":"C134/VLOOKUP(A134,'ADM & Population Analysis'!$A$10:$J$144,10,FALSE)","v":34823.800131505195},{"$f":"D134/VLOOKUP(A134, '2020-2022 Composite Index Data'!$A$5:$G$139, 7, FALSE)","v":34195.838786568733},null,-627.96134493646241,-1.8032533570865057E-2,"BELOW"]
[135,"FRANKLIN CITY",{"$f":"VLOOKUP(A135,'Taxable Sales'!$B$6:$E$140,4,FALSE)","v":162315899.40000001},{"$f":"VLOOKUP(A135, '2020-2022 Composite Index Data'!$A$5:$E$139, 5, FALSE)","v":164268774.81},null,1952875.4099999964,1.2031325441431134E-2,"BELOW",null,{"$f":"C135/VLOOKUP(A135,'ADM & Population Analysis'!$A$10:$C$144,3,FALSE)","v":153538.12480490367},{"$f":"D135/VLOOKUP(A135, '2020-2022 Composite Index Data'!$A$5:$F$139, 6, FALSE)","v":159088.84211087009},null,5550.7173059664201,3.6152045708644359E-2,"ABOVE",null,{"$f":"C135/VLOOKUP(A135,'ADM & Population Analysis'!$A$10:$J$144,10,FALSE)","v":19017.680070298771},{"$f":"D135/VLOOKUP(A135, '2020-2022 Composite Index Data'!$A$5:$G$139, 7, FALSE)","v":19385.03360986547},null,367.3535395666986,1.9316422308545408E-2,"BELOW"]
[136,"CHESAPEAKE",{"$f":"VLOOKUP(A136,'Taxable Sales'!$B$6:$E$140,4,FALSE)","v":3343105779.54},{"$f":"VLOOKUP(A136, '2020-2022 Composite Index Data'!$A$5:$E$139, 5, FALSE)","v":3514278566.1500001},null,171172786.61000013,5.1201726148657173E-2,"ABOVE",null,{"$f":"C136/VLOOKUP(A136,'ADM & Population Analysis'!$A$10:$C$144,3,FALSE)","v":85974.06405649471},{"$f":"D136/VLOOKUP(A136, '2020-2022 Composite Index Data'!$A$5:$F$139, 6, FALSE)","v":88714.814228637377},null,2740.750172142667,3.1878802080842462E-2,"ABOVE",null,{"$f":"C136/VLOOKUP(A136,'ADM & Population Analysis'!$A$10:$J$144,10,FALSE)","v":14029.980231657315},{"$f":"D136/VLOOKUP(A136, '2020-2022 Composite Index Data'!$A$5:$G$139, 7, FALSE)","v":14482.613447693227},null,452.63321603591248,3.2261857006369028E-2,"ABOVE"]
[137,"LEXINGTON",{"$f":"VLOOKUP(A137,'Taxable Sales'!$B$6:$E$140,4,FALSE)","v":81886514.780000001},{"$f":"VLOOKUP(A137, '2020-2022 Composite Index Data'!$A$5:$E$139, 5, FALSE)","v":86631192.849999994},null,{"$f":"D137-C137","v":4744678.0699999928},{"$f":"F137/C137","v":5.794211760931893E-2},{"$f":"IF(G137<$G$146,\"BELOW\", \"ABOVE\")","v":"ABOVE"},null,{"$f":"C137/VLOOKUP(A137,'ADM & Population Analysis'!$A$10:$C$144,3,FALSE)","v":125419.68874253333},{"$f":"D137/VLOOKUP(A137, '2020-2022 Composite Index Data'!$A$5:$F$139, 6, FALSE)","v":131301.16074811682},null,5881.4720055834914,4.6894327872693244E-2,"ABOVE",null,{"$f":"C137/VLOOKUP(A137,'ADM & Population Analysis'!$A$10:$J$144,10,FALSE)","v":11050.81171120108},{"$f":"D137/VLOOKUP(A137, '2020-2022 Composite Index Data'!$A$5:$G$139, 7, FALSE)","v":11893.354317682591},null,842.54260648151103,7.6242599050666257E-2,"ABOVE"]
[138,"EMPORIA",{"$f":"VLOOKUP(A138,'Taxable Sales'!$B$6:$E$140,4,FALSE)","v":135239179.63999999},{"$f":"VLOOKUP(A138, '2020-2022 Composite Index Data'!$A$5:$E$139, 5, FALSE)","v":143228126.77000001},null,7988947.130000025,5.9072726936574206E-2,"ABOVE",null,{"$f":"C138/VLOOKUP(A138,'ADM & Population Analysis'!$A$10:$C$144,3,FALSE)","v":132136.61199046389},{"$f":"D138/VLOOKUP(A138, '2020-2022 Composite Index Data'!$A$5:$F$139, 6, FALSE)","v":140162.7670545177},null,{"$f":"K138-J138","v":8026.1550640538044},{"$f":"M138/J138","v":6.0741341428014219E-2},{"$f":"IF(N138<$N$146,\"BELOW\", \"ABOVE\")","v":"ABOVE"},null,{"$f":"C138/VLOOKUP(A138,'ADM & Population Analysis'!$A$10:$J$144,10,FALSE)","v":22235.971660637944},{"$f":"D138/VLOOKUP(A138, '2020-2022 Composite Index Data'!$A$5:$G$139, 7, FALSE)","v":24707.284245299295},null,2471.3125846613511,0.11114030105714075,"ABOVE"]
[139,"SALEM",{"$f":"VLOOKUP(A139,'Taxable Sales'!$B$6:$E$140,4,FALSE)","v":563709737.99000001},{"$f":"VLOOKUP(A139, '2020-2022 Composite Index Data'!$A$5:$E$139, 5, FALSE)","v":590842044.02999997},null,27132306.039999962,4.8131696530105496E-2,"ABOVE",null,{"$f":"C139/VLOOKUP(A139,'ADM & Population Analysis'!$A$10:$C$144,3,FALSE)","v":151690.64415340484},{"$f":"D139/VLOOKUP(A139, '2020-2022 Composite Index Data'!$A$5:$F$139, 6, FALSE)","v":152586.40973043608},null,895.76557703124126,5.9052130870072186E-3,"BELOW",null,{"$f":"C139/VLOOKUP(A139,'ADM & Population Analysis'!$A$10:$J$144,10,FALSE)","v":22160.143800220143},{"$f":"D139/VLOOKUP(A139, '2020-2022 Composite Index Data'!$A$5:$G$139, 7, FALSE)","v":23008.763738073911},null,{"$f":"R139-Q139","v":848.61993785376762},{"$f":"T139/Q139","v":3.8294875047035444E-2},{"$f":"IF(U139<$U$146,\"BELOW\", \"ABOVE\")","v":"ABOVE"}]
[142,"POQUOSON",{"$f":"VLOOKUP(A140,'Taxable Sales'!$B$6:$E$140,4,FALSE)","v":52684184.060000002},{"$f":"VLOOKUP(A140, '2020-2022 Composite Index Data'!$A$5:$E$139, 5, FALSE)","v":52879880.060000002},null,195696,3.714511356522658E-3,"BELOW",null,{"$f":"C140/VLOOKUP(A140,'ADM & Population Analysis'!$A$10:$C$144,3,FALSE)","v":25349.409167019516},{"$f":"D140/VLOOKUP(A140, '2020-2022 Composite Index Data'!$A$5:$F$139, 6, FALSE)","v":25238.583457426503},null,-110.82570959301302,-4.3719247601715786E-3,"BELOW",null,{"$f":"C140/VLOOKUP(A140,'ADM & Population Analysis'!$A$10:$J$144,10,FALSE)","v":4262.819326806376},{"$f":"D140/VLOOKUP(A140, '2020-2022 Composite Index Data'!$A$5:$G$139, 7, FALSE)","v":4295.3358833563479},null,32.516556549971938,7.6279462151947995E-3,"BELOW"]
[143,"MANASSAS",{"$f":"VLOOKUP(A141,'Taxable Sales'!$B$6:$E$140,4,FALSE)","v":550309242.04999995},{"$f":"VLOOKUP(A141, '2020-2022 Composite Index Data'!$A$5:$E$139, 5, FALSE)","v":607443814.72000003},null,57134572.670000076,0.10382266606529016,"ABOVE",null,{"$f":"C141/VLOOKUP(A141,'ADM & Population Analysis'!$A$10:$C$144,3,FALSE)","v":76112.58914691156},{"$f":"D141/VLOOKUP(A141, '2020-2022 Composite Index Data'!$A$5:$F$139, 6, FALSE)","v":81860.668303582264},null,5748.0791566707048,7.5520741326718432E-2,"ABOVE",null,{"$f":"C141/VLOOKUP(A141,'ADM & Population Analysis'!$A$10:$J$144,10,FALSE)","v":13235.905477788199},{"$f":"D141/VLOOKUP(A141, '2020-2022 Composite Index Data'!$A$5:$G$139, 7, FALSE)","v":14538.061286169017},null,1302.1558083808177,9.8380561161155705E-2,"ABOVE"]
[144,"MANASSAS PARK",{"$f":"VLOOKUP(A142,'Taxable Sales'!$B$6:$E$140,4,FALSE)","v":167092520},{"$f":"VLOOKUP(A142, '2020-2022 Composite Index Data'!$A$5:$E$139, 5, FALSE)","v":181950241},null,14857721,8.8919126960321143E-2,"ABOVE",null,{"$f":"C142/VLOOKUP(A142,'ADM & Population Analysis'!$A$10:$C$144,3,FALSE)","v":50172.208576799043},{"$f":"D142/VLOOKUP(A142, '2020-2022 Composite Index Data'!$A$5:$F$139, 6, FALSE)","v":51382.987297588857},null,1210.7787207898145,2.4132458090547575E-2,"BELOW",null,{"$f":"C142/VLOOKUP(A142,'ADM & Population Analysis'!$A$10:$J$144,10,FALSE)","v":10642.835668789809},{"$f":"D142/VLOOKUP(A142, '2020-2022 Composite Index Data'!$A$5:$G$139, 7, FALSE)","v":11271.852372692356},null,629.01670390254731,5.910235988582848E-2,"ABOVE"]
[202,"COLONIAL BEACH",{"$f":"VLOOKUP(A143,'Taxable Sales'!$B$6:$E$140,4,FALSE)","v":16967703.07},{"$f":"VLOOKUP(A143, '2020-2022 Composite Index Data'!$A$5:$E$139, 5, FALSE)","v":16882231.809999999},null,-85471.260000001639,-5.0372911199230239E-3,"BELOW",null,{"$f":"C143/VLOOKUP(A143,'ADM & Population Analysis'!$A$10:$C$144,3,FALSE)","v":29692.366908740922},{"$f":"D143/VLOOKUP(A143, '2020-2022 Composite Index Data'!$A$5:$F$139, 6, FALSE)","v":28208.514586953614},null,-1483.852321787308,-4.9974201327496311E-2,"BELOW",null,{"$f":"C143/VLOOKUP(A143,'ADM & Population Analysis'!$A$10:$J$144,10,FALSE)","v":4739.5818631284919},{"$f":"D143/VLOOKUP(A143, '2020-2022 Composite Index Data'!$A$5:$G$139, 7, FALSE)","v":4730.2414710002795},null,-9.3403921282124429,-1.9707207086928674E-3,"BELOW"]
[207,"WEST POINT",{"$f":"VLOOKUP(A144,'Taxable Sales'!$B$6:$E$140,4,FALSE)","v":20961420.239999998},{"$f":"VLOOKUP(A144, '2020-2022 Composite Index Data'!$A$5:$E$139, 5, FALSE)","v":20782017.399999999},null,{"$f":"D144-C144","v":-179402.83999999985},{"$f":"F144/C144","v":-8.558715866859596E-3},"BELOW",null,{"$f":"C144/VLOOKUP(A144,'ADM & Population Analysis'!$A$10:$C$144,3,FALSE)","v":27661.982184567874},{"$f":"D144/VLOOKUP(A144, '2020-2022 Composite Index Data'!$A$5:$F$139, 6, FALSE)","v":26335.353363831051},null,-1326.6288207368234,-4.7958559581349376E-2,"BELOW",null,{"$f":"C144/VLOOKUP(A144,'ADM & Population Analysis'!$A$10:$J$144,10,FALSE)","v":6289.054977497749},{"$f":"D144/VLOOKUP(A144, '2020-2022 Composite Index Data'!$A$5:$G$139, 7, FALSE)","v":6272.8697253244791},null,-16.185252173269873,-2.5735587033633412E-3,"BELOW"]
[]
[null," STATE TOTALS",{"$f":"SUM(C10:C144)","v":100207273998.17998},{"$f":"SUM(D10:D144)","v":103736609467.58997},null,{"$f":"SUM(F10:F145)","v":3529335469.4099998},{"$f":"F146/C146","v":3.5220352062207597E-2},null,null,{"$f":"C146/'ADM & Population Analysis'!C146","v":80826.573201402542},{"$f":"D146/'ADM & Population Analysis'!D146","v":83193.567715726575},null,{"$f":"K146-J146","v":2366.9945143240329},{"$f":"M146/J146","v":2.9284855469821645E-2},null,null,{"$f":"C146/'ADM & Population Analysis'!J146","v":11953.639231021662},{"$f":"D146/'ADM & Population Analysis'!K146","v":12247.50466558402},null,{"$f":"R146-Q146","v":293.86543456235813},{"$f":"T146/Q146","v":2.4583763060184127E-2}]
[]
[null,"check",{"$f":"C146-'Taxable Sales'!E141","v":0},{"$f":"D146-'Taxable Sales'!D141","v":0},null,null,null,null,null,null," "]

{"sheet":"ADM & Population Analysis","index":19,"n_rows":148,"n_cols":15,"rows_kept":148,"cut":false,"hidden":true,"merged":[[3,2,3,7],[3,9,3,14]]}
["ANALYSIS OF ADM and POPULATION ELEMENTS"]
[]
[]
[null,null,"AVERAGE DAILY MEMBERSHIP",null,null,null,null,null,null,"POPULATION"]
[]
[null,null,2014,2016]
[null,null,"MARCH 31,","MARCH 31,",null,"ABSOLUTE","ABSOLUTE","COMPARE",null,2013,2015,null,"ABSOLUTE","ABSOLUTE","COMPARE"]
["Div",null,2014,2016,null,"CHANGE","% CHANGE","TO",null,"TOTAL","TOTAL",null,"CHANGE","% CHANGE","TO"]
["Num","DIVISION","ADM","ADM",null,{"$f":"C6&\" to \"&D6","v":"2014 to 2016"},{"$f":"F9","v":"2014 to 2016"},"STATE AVG",null,"POPULATION","POPULATION",null,{"$f":"J7&\" to \"&K7","v":"2013 to 2015"},{"$f":"M9","v":"2013 to 2015"},"STATE AVG"]
[1,"ACCOMACK",{"$f":"VLOOKUP(A10,'March 31 ADM'!$B$6:$E$140,4,FALSE)","v":5102.46},{"$f":"VLOOKUP(A10, '2020-2022 Composite Index Data'!$A$5:$F$139, 6, FALSE)","v":5017.54},null,{"$f":"D10-C10","v":-84.920000000000073},{"$f":"F10/C10","v":-1.6642952615013164E-2},{"$f":"IF(G10<$G$146,\"BELOW\", \"ABOVE\")","v":"BELOW"},null,{"$f":"VLOOKUP(A10,Population!$B$6:$E$140,4,FALSE)","v":33516},{"$f":"VLOOKUP(A10, '2020-2022 Composite Index Data'!$A$5:$G$139, 7, FALSE)","v":33041},null,{"$f":"K10-J10","v":-475},{"$f":"M10/J10","v":-1.417233560090703E-2},{"$f":"IF(N10<$N$146,\"BELOW\", \"ABOVE\")","v":"BELOW"}]
[2,"ALBEMARLE",{"$f":"VLOOKUP(A11,'March 31 ADM'!$B$6:$E$140,4,FALSE)","v":13282.19},{"$f":"VLOOKUP(A11, '2020-2022 Composite Index Data'!$A$5:$F$139, 6, FALSE)","v":13510.2},null,{"$f":"D11-C11","v":228.01000000000022},{"$f":"F11/C11","v":1.7166596773574253E-2},{"$f":"IF(G11<$G$146,\"BELOW\", \"ABOVE\")","v":"ABOVE"},null,{"$f":"VLOOKUP(A11,Population!$B$6:$E$140,4,FALSE)","v":105051},{"$f":"VLOOKUP(A11, '2020-2022 Composite Index Data'!$A$5:$G$139, 7, FALSE)","v":107697},null,{"$f":"K11-J11","v":2646},{"$f":"M11/J11","v":2.5187765942256617E-2},{"$f":"IF(N11<$N$146,\"BELOW\", \"ABOVE\")","v":"ABOVE"}]
[3,"ALLEGHANY",{"$f":"VLOOKUP(A12,'March 31 ADM'!$B$6:$E$140,4,FALSE)","v":2175.5},{"$f":"VLOOKUP(A12, '2020-2022 Composite Index Data'!$A$5:$F$139, 6, FALSE)","v":2069.58},null,{"$f":"D12-C12","v":-105.92000000000007},{"$f":"F12/C12","v":-4.8687658009652988E-2},{"$f":"IF(G12<$G$146,\"BELOW\", \"ABOVE\")","v":"BELOW"},null,{"$f":"VLOOKUP(A12,Population!$B$6:$E$140,4,FALSE)","v":15515},{"$f":"VLOOKUP(A12, '2020-2022 Composite Index Data'!$A$5:$G$139, 7, FALSE)","v":15405},null,{"$f":"K12-J12","v":-110},{"$f":"M12/J12","v":-7.0899129874315179E-3},{"$f":"IF(N12<$N$146,\"BELOW\", \"ABOVE\")","v":"BELOW"}]
[4,"AMELIA",{"$f":"VLOOKUP(A13,'March 31 ADM'!$B$6:$E$140,4,FALSE)","v":1767.18},{"$f":"VLOOKUP(A13, '2020-2022 Composite Index Data'!$A$5:$F$139, 6, FALSE)","v":1737.54},null,{"$f":"D13-C13","v":-29.6400000000001},{"$f":"F13/C13","v":-1.6772484976063616E-2},"BELOW",null,{"$f":"VLOOKUP(A13,Population!$B$6:$E$140,4,FALSE)","v":12909},{"$f":"VLOOKUP(A13, '2020-2022 Composite Index Data'!$A$5:$G$139, 7, FALSE)","v":12948},null,39,3.0211480362537764E-3,"BELOW"]
[5,"AMHERST",{"$f":"VLOOKUP(A14,'March 31 ADM'!$B$6:$E$140,4,FALSE)","v":4003.74},{"$f":"VLOOKUP(A14, '2020-2022 Composite Index Data'!$A$5:$F$139, 6, FALSE)","v":3867.25},null,{"$f":"D14-C14","v":-136.48999999999978},{"$f":"F14/C14","v":-3.4090625265376817E-2},"BELOW",null,{"$f":"VLOOKUP(A14,Population!$B$6:$E$140,4,FALSE)","v":32028},{"$f":"VLOOKUP(A14, '2020-2022 Composite Index Data'!$A$5:$G$139, 7, FALSE)","v":31982},null,-46,-1.4362432871237666E-3,"BELOW"]
[6,"APPOMATTOX",{"$f":"VLOOKUP(A15,'March 31 ADM'!$B$6:$E$140,4,FALSE)","v":2188.62},{"$f":"VLOOKUP(A15, '2020-2022 Composite Index Data'!$A$5:$F$139, 6, FALSE)","v":2179.2199999999998},null,{"$f":"D15-C15","v":-9.4000000000000909},{"$f":"F15/C15","v":-4.294943845893801E-3},"BELOW",null,{"$f":"VLOOKUP(A15,Population!$B$6:$E$140,4,FALSE)","v":15455},{"$f":"VLOOKUP(A15, '2020-2022 Composite Index Data'!$A$5:$G$139, 7, FALSE)","v":15536},null,81,5.2410223228728566E-3,"BELOW"]
[7,"ARLINGTON",{"$f":"VLOOKUP(A16,'March 31 ADM'!$B$6:$E$140,4,FALSE)","v":24209.87},{"$f":"VLOOKUP(A16, '2020-2022 Composite Index Data'!$A$5:$F$139, 6, FALSE)","v":25750.7},null,1540.8300000000017,6.3644703585769014E-2,"ABOVE",null,{"$f":"VLOOKUP(A16,Population!$B$6:$E$140,4,FALSE)","v":234678},{"$f":"VLOOKUP(A16, '2020-2022 Composite Index Data'!$A$5:$G$139, 7, FALSE)","v":239074},null,4396,1.8732049872591382E-2,"ABOVE"]
[8,"AUGUSTA",{"$f":"VLOOKUP(A17,'March 31 ADM'!$B$6:$E$140,4,FALSE)","v":10105.52},{"$f":"VLOOKUP(A17, '2020-2022 Composite Index Data'!$A$5:$F$139, 6, FALSE)","v":9939.5499999999993},null,-165.97000000000116,-1.6423697147697612E-2,"BELOW",null,{"$f":"VLOOKUP(A17,Population!$B$6:$E$140,4,FALSE)","v":74881},{"$f":"VLOOKUP(A17, '2020-2022 Composite Index Data'!$A$5:$G$139, 7, FALSE)","v":75013},null,132,1.762796971194295E-3,"BELOW"]
[9,"BATH",{"$f":"VLOOKUP(A18,'March 31 ADM'!$B$6:$E$140,4,FALSE)","v":542.46},{"$f":"VLOOKUP(A18, '2020-2022 Composite Index Data'!$A$5:$F$139, 6, FALSE)","v":516.70000000000005},null,-25.759999999999991,-4.7487372340817735E-2,"BELOW",null,{"$f":"VLOOKUP(A18,Population!$B$6:$E$140,4,FALSE)","v":4727},{"$f":"VLOOKUP(A18, '2020-2022 Composite Index Data'!$A$5:$G$139, 7, FALSE)","v":4556},null,-171,-3.6175163951766447E-2,"BELOW"]
[10,"BEDFORD COUNTY",{"$f":"VLOOKUP(A19,'March 31 ADM'!$B$6:$E$140,4,FALSE)","v":9609.5},{"$f":"VLOOKUP(A19, '2020-2022 Composite Index Data'!$A$5:$F$139, 6, FALSE)","v":9460.6},null,-148.89999999999964,-1.5495082990790325E-2,"BELOW",null,{"$f":"VLOOKUP(A19,Population!$B$6:$E$140,4,FALSE)","v":77575},{"$f":"VLOOKUP(A19, '2020-2022 Composite Index Data'!$A$5:$G$139, 7, FALSE)","v":77807},null,232,2.9906542056074765E-3,"BELOW"]
[11,"BLAND",{"$f":"VLOOKUP(A20,'March 31 ADM'!$B$6:$E$140,4,FALSE)","v":797.18},{"$f":"VLOOKUP(A20, '2020-2022 Composite Index Data'!$A$5:$F$139, 6, FALSE)","v":722.71},null,-74.469999999999914,-9.341679419955333E-2,"BELOW",null,{"$f":"VLOOKUP(A20,Population!$B$6:$E$140,4,FALSE)","v":6684},{"$f":"VLOOKUP(A20, '2020-2022 Composite Index Data'!$A$5:$G$139, 7, FALSE)","v":6511},null,-173,-2.5882704967085578E-2,"BELOW"]
[12,"BOTETOURT",{"$f":"VLOOKUP(A21,'March 31 ADM'!$B$6:$E$140,4,FALSE)","v":4665.01},{"$f":"VLOOKUP(A21, '2020-2022 Composite Index Data'!$A$5:$F$139, 6, FALSE)","v":4547.8900000000003},null,-117.11999999999989,-2.5106055506847764E-2,"BELOW",null,{"$f":"VLOOKUP(A21,Population!$B$6:$E$140,4,FALSE)","v":33486},{"$f":"VLOOKUP(A21, '2020-2022 Composite Index Data'!$A$5:$G$139, 7, FALSE)","v":33350},null,-136,-4.0613987935256522E-3,"BELOW"]
[13,"BRUNSWICK",{"$f":"VLOOKUP(A22,'March 31 ADM'!$B$6:$E$140,4,FALSE)","v":1668.9},{"$f":"VLOOKUP(A22, '2020-2022 Composite Index Data'!$A$5:$F$139, 6, FALSE)","v":1559.33},null,-109.57000000000016,-6.5654023608364892E-2,"BELOW",null,{"$f":"VLOOKUP(A22,Population!$B$6:$E$140,4,FALSE)","v":16930},{"$f":"VLOOKUP(A22, '2020-2022 Composite Index Data'!$A$5:$G$139, 7, FALSE)","v":16581},null,-349,-2.0614294152392205E-2,"BELOW"]
[14,"BUCHANAN",{"$f":"VLOOKUP(A23,'March 31 ADM'!$B$6:$E$140,4,FALSE)","v":2888.83},{"$f":"VLOOKUP(A23, '2020-2022 Composite Index Data'!$A$5:$F$139, 6, FALSE)","v":2726.8},null,-162.02999999999975,-5.6088451033809446E-2,"BELOW",null,{"$f":"VLOOKUP(A23,Population!$B$6:$E$140,4,FALSE)","v":22983},{"$f":"VLOOKUP(A23, '2020-2022 Composite Index Data'!$A$5:$G$139, 7, FALSE)","v":22004},null,-979,-4.2596701910107469E-2,"BELOW"]
[15,"BUCKINGHAM",{"$f":"VLOOKUP(A24,'March 31 ADM'!$B$6:$E$140,4,FALSE)","v":1905.07},{"$f":"VLOOKUP(A24, '2020-2022 Composite Index Data'!$A$5:$F$139, 6, FALSE)","v":1950.15},null,45.080000000000155,2.3663172481851142E-2,"ABOVE",null,{"$f":"VLOOKUP(A24,Population!$B$6:$E$140,4,FALSE)","v":16988},{"$f":"VLOOKUP(A24, '2020-2022 Composite Index Data'!$A$5:$G$139, 7, FALSE)","v":16957},null,-31,-1.8248175182481751E-3,"BELOW"]
[16,"CAMPBELL",{"$f":"VLOOKUP(A25,'March 31 ADM'!$B$6:$E$140,4,FALSE)","v":7598.82},{"$f":"VLOOKUP(A25, '2020-2022 Composite Index Data'!$A$5:$F$139, 6, FALSE)","v":7625.79},null,26.970000000000255,3.5492352760034132E-3,"BELOW",null,{"$f":"VLOOKUP(A25,Population!$B$6:$E$140,4,FALSE)","v":56167},{"$f":"VLOOKUP(A25, '2020-2022 Composite Index Data'!$A$5:$G$139, 7, FALSE)","v":55503},null,-664,-1.1821888297398829E-2,"BELOW"]
[17,"CAROLINE",{"$f":"VLOOKUP(A26,'March 31 ADM'!$B$6:$E$140,4,FALSE)","v":4170.37},{"$f":"VLOOKUP(A26, '2020-2022 Composite Index Data'!$A$5:$F$139, 6, FALSE)","v":4113.07},null,-57.300000000000182,-1.3739788076357777E-2,"BELOW",null,{"$f":"VLOOKUP(A26,Population!$B$6:$E$140,4,FALSE)","v":29792},{"$f":"VLOOKUP(A26, '2020-2022 Composite Index Data'!$A$5:$G$139, 7, FALSE)","v":29990},null,198,6.6460794844253488E-3,"BELOW"]
[18,"CARROLL",{"$f":"VLOOKUP(A27,'March 31 ADM'!$B$6:$E$140,4,FALSE)","v":3751.52},{"$f":"VLOOKUP(A27, '2020-2022 Composite Index Data'!$A$5:$F$139, 6, FALSE)","v":3611.35},null,-140.17000000000007,-3.7363521985755127E-2,"BELOW",null,{"$f":"VLOOKUP(A27,Population!$B$6:$E$140,4,FALSE)","v":29283},{"$f":"VLOOKUP(A27, '2020-2022 Composite Index Data'!$A$5:$G$139, 7, FALSE)","v":29212},null,-71,-2.4246149643137658E-3,"BELOW"]
[19,"CHARLES CITY",{"$f":"VLOOKUP(A28,'March 31 ADM'!$B$6:$E$140,4,FALSE)","v":673.5},{"$f":"VLOOKUP(A28, '2020-2022 Composite Index Data'!$A$5:$F$139, 6, FALSE)","v":606.35},null,-67.149999999999977,-9.9703043801039309E-2,"BELOW",null,{"$f":"VLOOKUP(A28,Population!$B$6:$E$140,4,FALSE)","v":7331},{"$f":"VLOOKUP(A28, '2020-2022 Composite Index Data'!$A$5:$G$139, 7, FALSE)","v":7151},null,-180,-2.4553266948574546E-2,"BELOW"]
[20,"CHARLOTTE",{"$f":"VLOOKUP(A29,'March 31 ADM'!$B$6:$E$140,4,FALSE)","v":1822.78},{"$f":"VLOOKUP(A29, '2020-2022 Composite Index Data'!$A$5:$F$139, 6, FALSE)","v":1773.63},null,-49.149999999999864,-2.696430726692188E-2,"BELOW",null,{"$f":"VLOOKUP(A29,Population!$B$6:$E$140,4,FALSE)","v":12454},{"$f":"VLOOKUP(A29, '2020-2022 Composite Index Data'!$A$5:$G$139, 7, FALSE)","v":12231},null,-223,-1.7905893688774689E-2,"BELOW"]
[21,"CHESTERFIELD",{"$f":"VLOOKUP(A30,'March 31 ADM'!$B$6:$E$140,4,FALSE)","v":58902.73},{"$f":"VLOOKUP(A30, '2020-2022 Composite Index Data'!$A$5:$F$139, 6, FALSE)","v":60060.84},null,1158.1099999999933,1.9661397697525958E-2,"ABOVE",null,{"$f":"VLOOKUP(A30,Population!$B$6:$E$140,4,FALSE)","v":333450},{"$f":"VLOOKUP(A30, '2020-2022 Composite Index Data'!$A$5:$G$139, 7, FALSE)","v":340020},null,6570,1.970310391363023E-2,"ABOVE"]
[22,"CLARKE",{"$f":"VLOOKUP(A31,'March 31 ADM'!$B$6:$E$140,4,FALSE)","v":1965.82},{"$f":"VLOOKUP(A31, '2020-2022 Composite Index Data'!$A$5:$F$139, 6, FALSE)","v":1931.2},null,-34.619999999999891,-1.7610971502985975E-2,"BELOW",null,{"$f":"VLOOKUP(A31,Population!$B$6:$E$140,4,FALSE)","v":14206},{"$f":"VLOOKUP(A31, '2020-2022 Composite Index Data'!$A$5:$G$139, 7, FALSE)","v":14312},null,106,7.4616359284809235E-3,"BELOW"]
[23,"CRAIG",{"$f":"VLOOKUP(A32,'March 31 ADM'!$B$6:$E$140,4,FALSE)","v":600.45000000000005},{"$f":"VLOOKUP(A32, '2020-2022 Composite Index Data'!$A$5:$F$139, 6, FALSE)","v":580.19000000000005},null,-20.259999999999991,-3.3741360646182016E-2,"BELOW",null,{"$f":"VLOOKUP(A32,Population!$B$6:$E$140,4,FALSE)","v":5192},{"$f":"VLOOKUP(A32, '2020-2022 Composite Index Data'!$A$5:$G$139, 7, FALSE)","v":5129},null,-63,-1.2134052388289676E-2,"BELOW"]
[24,"CULPEPER",{"$f":"VLOOKUP(A33,'March 31 ADM'!$B$6:$E$140,4,FALSE)","v":7900.27},{"$f":"VLOOKUP(A33, '2020-2022 Composite Index Data'!$A$5:$F$139, 6, FALSE)","v":7952.19},null,51.919999999999163,6.5719272885609173E-3,"ABOVE",null,{"$f":"VLOOKUP(A33,Population!$B$6:$E$140,4,FALSE)","v":48908},{"$f":"VLOOKUP(A33, '2020-2022 Composite Index Data'!$A$5:$G$139, 7, FALSE)","v":50272},null,1364,2.7889097898094382E-2,"ABOVE"]
[25,"CUMBERLAND",{"$f":"VLOOKUP(A34,'March 31 ADM'!$B$6:$E$140,4,FALSE)","v":1288.5999999999999},{"$f":"VLOOKUP(A34, '2020-2022 Composite Index Data'!$A$5:$F$139, 6, FALSE)","v":1239.1400000000001},null,-49.459999999999809,-3.8382740959180359E-2,"BELOW",null,{"$f":"VLOOKUP(A34,Population!$B$6:$E$140,4,FALSE)","v":9989},{"$f":"VLOOKUP(A34, '2020-2022 Composite Index Data'!$A$5:$G$139, 7, FALSE)","v":9861},null,-128,-1.2814095505055561E-2,"BELOW"]
[26,"DICKENSON",{"$f":"VLOOKUP(A35,'March 31 ADM'!$B$6:$E$140,4,FALSE)","v":2182.5},{"$f":"VLOOKUP(A35, '2020-2022 Composite Index Data'!$A$5:$F$139, 6, FALSE)","v":1998.53},null,-183.97000000000003,-8.429324169530357E-2,"BELOW",null,{"$f":"VLOOKUP(A35,Population!$B$6:$E$140,4,FALSE)","v":15339},{"$f":"VLOOKUP(A35, '2020-2022 Composite Index Data'!$A$5:$G$139, 7, FALSE)","v":14682},null,-657,-4.2831996870721686E-2,"BELOW"]
[27,"DINWIDDIE",{"$f":"VLOOKUP(A36,'March 31 ADM'!$B$6:$E$140,4,FALSE)","v":4361.71},{"$f":"VLOOKUP(A36, '2020-2022 Composite Index Data'!$A$5:$F$139, 6, FALSE)","v":4258.46},null,-103.25,-2.3671908494604179E-2,"BELOW",null,{"$f":"VLOOKUP(A36,Population!$B$6:$E$140,4,FALSE)","v":28753},{"$f":"VLOOKUP(A36, '2020-2022 Composite Index Data'!$A$5:$G$139, 7, FALSE)","v":28500},null,-253,-8.7990818349389637E-3,"BELOW"]
[28,"ESSEX",{"$f":"VLOOKUP(A37,'March 31 ADM'!$B$6:$E$140,4,FALSE)","v":1417.41},{"$f":"VLOOKUP(A37, '2020-2022 Composite Index Data'!$A$5:$F$139, 6, FALSE)","v":1330.47},null,-86.940000000000055,-6.1337227760492767E-2,"BELOW",null,{"$f":"VLOOKUP(A37,Population!$B$6:$E$140,4,FALSE)","v":10914},{"$f":"VLOOKUP(A37, '2020-2022 Composite Index Data'!$A$5:$G$139, 7, FALSE)","v":10813},null,-101,-9.2541689573025464E-3,"BELOW"]
[29,"FAIRFAX COUNTY",{"$f":"VLOOKUP(A38,'March 31 ADM'!$B$6:$E$140,4,FALSE)","v":178383.87},{"$f":"VLOOKUP(A38, '2020-2022 Composite Index Data'!$A$5:$F$139, 6, FALSE)","v":180294.61},null,1910.7399999999907,1.0711394477538752E-2,"ABOVE",null,{"$f":"VLOOKUP(A38,Population!$B$6:$E$140,4,FALSE)","v":1129330},{"$f":"VLOOKUP(A38, '2020-2022 Composite Index Data'!$A$5:$G$139, 7, FALSE)","v":1143429},null,14099,1.2484393401397289E-2,"ABOVE"]
[30,"FAUQUIER",{"$f":"VLOOKUP(A39,'March 31 ADM'!$B$6:$E$140,4,FALSE)","v":10904.11},{"$f":"VLOOKUP(A39, '2020-2022 Composite Index Data'!$A$5:$F$139, 6, FALSE)","v":10955.27},null,51.159999999999854,4.6918088683991499E-3,"BELOW",null,{"$f":"VLOOKUP(A39,Population!$B$6:$E$140,4,FALSE)","v":67898},{"$f":"VLOOKUP(A39, '2020-2022 Composite Index Data'!$A$5:$G$139, 7, FALSE)","v":69098},null,1200,1.7673569177295356E-2,"ABOVE"]
[31,"FLOYD",{"$f":"VLOOKUP(A40,'March 31 ADM'!$B$6:$E$140,4,FALSE)","v":1991.8},{"$f":"VLOOKUP(A40, '2020-2022 Composite Index Data'!$A$5:$F$139, 6, FALSE)","v":1971.33},null,-20.470000000000027,-1.0277136258660523E-2,"BELOW",null,{"$f":"VLOOKUP(A40,Population!$B$6:$E$140,4,FALSE)","v":15430},{"$f":"VLOOKUP(A40, '2020-2022 Composite Index Data'!$A$5:$G$139, 7, FALSE)","v":15550},null,120,7.7770576798444589E-3,"BELOW"]
[32,"FLUVANNA",{"$f":"VLOOKUP(A41,'March 31 ADM'!$B$6:$E$140,4,FALSE)","v":3447.7},{"$f":"VLOOKUP(A41, '2020-2022 Composite Index Data'!$A$5:$F$139, 6, FALSE)","v":3471.79},null,24.090000000000146,6.9872668735679287E-3,"ABOVE",null,{"$f":"VLOOKUP(A41,Population!$B$6:$E$140,4,FALSE)","v":26162},{"$f":"VLOOKUP(A41, '2020-2022 Composite Index Data'!$A$5:$G$139, 7, FALSE)","v":26467},null,305,1.165813011237673E-2,"ABOVE"]
[33,"FRANKLIN COUNTY",{"$f":"VLOOKUP(A42,'March 31 ADM'!$B$6:$E$140,4,FALSE)","v":6951.64},{"$f":"VLOOKUP(A42, '2020-2022 Composite Index Data'!$A$5:$F$139, 6, FALSE)","v":6858.45},null,-93.190000000000509,-1.34054697884241E-2,"BELOW",null,{"$f":"VLOOKUP(A42,Population!$B$6:$E$140,4,FALSE)","v":56373},{"$f":"VLOOKUP(A42, '2020-2022 Composite Index Data'!$A$5:$G$139, 7, FALSE)","v":56427},null,54,9.5790538023521896E-4,"BELOW"]
[34,"FREDERICK",{"$f":"VLOOKUP(A43,'March 31 ADM'!$B$6:$E$140,4,FALSE)","v":13041.46},{"$f":"VLOOKUP(A43, '2020-2022 Composite Index Data'!$A$5:$F$139, 6, FALSE)","v":13343.46},null,302,2.3156916480210038E-2,"ABOVE",null,{"$f":"VLOOKUP(A43,Population!$B$6:$E$140,4,FALSE)","v":82623},{"$f":"VLOOKUP(A43, '2020-2022 Composite Index Data'!$A$5:$G$139, 7, FALSE)","v":85820},null,3197,3.8693826174309817E-2,"ABOVE"]
[35,"GILES",{"$f":"VLOOKUP(A44,'March 31 ADM'!$B$6:$E$140,4,FALSE)","v":2391.04},{"$f":"VLOOKUP(A44, '2020-2022 Composite Index Data'!$A$5:$F$139, 6, FALSE)","v":2386.69},null,-4.3499999999999091,-1.8192920235545658E-3,"BELOW",null,{"$f":"VLOOKUP(A44,Population!$B$6:$E$140,4,FALSE)","v":17179},{"$f":"VLOOKUP(A44, '2020-2022 Composite Index Data'!$A$5:$G$139, 7, FALSE)","v":17053},null,-126,-7.3345363525234297E-3,"BELOW"]
[36,"GLOUCESTER",{"$f":"VLOOKUP(A45,'March 31 ADM'!$B$6:$E$140,4,FALSE)","v":5381.45},{"$f":"VLOOKUP(A45, '2020-2022 Composite Index Data'!$A$5:$F$139, 6, FALSE)","v":5270.45},null,-111,-2.0626411097380819E-2,"BELOW",null,{"$f":"VLOOKUP(A45,Population!$B$6:$E$140,4,FALSE)","v":37072},{"$f":"VLOOKUP(A45, '2020-2022 Composite Index Data'!$A$5:$G$139, 7, FALSE)","v":37169},null,97,2.6165299956840741E-3,"BELOW"]
[37,"GOOCHLAND",{"$f":"VLOOKUP(A46,'March 31 ADM'!$B$6:$E$140,4,FALSE)","v":2495.3000000000002},{"$f":"VLOOKUP(A46, '2020-2022 Composite Index Data'!$A$5:$F$139, 6, FALSE)","v":2550.6},null,55.299999999999727,2.2161663928184878E-2,"ABOVE",null,{"$f":"VLOOKUP(A46,Population!$B$6:$E$140,4,FALSE)","v":22277},{"$f":"VLOOKUP(A46, '2020-2022 Composite Index Data'!$A$5:$G$139, 7, FALSE)","v":22705},null,428,1.9212640840328591E-2,"ABOVE"]
[38,"GRAYSON",{"$f":"VLOOKUP(A47,'March 31 ADM'!$B$6:$E$140,4,FALSE)","v":1615.96},{"$f":"VLOOKUP(A47, '2020-2022 Composite Index Data'!$A$5:$F$139, 6, FALSE)","v":1510.86},null,-105.10000000000014,-6.503873858263827E-2,"BELOW",null,{"$f":"VLOOKUP(A47,Population!$B$6:$E$140,4,FALSE)","v":16087},{"$f":"VLOOKUP(A47, '2020-2022 Composite Index Data'!$A$5:$G$139, 7, FALSE)","v":15669},null,-418,-2.5983713557530926E-2,"BELOW"]
[39,"GREENE",{"$f":"VLOOKUP(A48,'March 31 ADM'!$B$6:$E$140,4,FALSE)","v":3069.9},{"$f":"VLOOKUP(A48, '2020-2022 Composite Index Data'!$A$5:$F$139, 6, FALSE)","v":2982.62},null,-87.2800000000002,-2.8430893514446789E-2,"BELOW",null,{"$f":"VLOOKUP(A48,Population!$B$6:$E$140,4,FALSE)","v":19840},{"$f":"VLOOKUP(A48, '2020-2022 Composite Index Data'!$A$5:$G$139, 7, FALSE)","v":19985},null,145,7.3084677419354835E-3,"BELOW"]
[40,"GREENSVILLE",{"$f":"VLOOKUP(A49,'March 31 ADM'!$B$6:$E$140,4,FALSE)","v":1399.62},{"$f":"VLOOKUP(A49, '2020-2022 Composite Index Data'!$A$5:$F$139, 6, FALSE)","v":1218.05},null,-181.56999999999994,-0.12972806904731279,"BELOW",null,{"$f":"VLOOKUP(A49,Population!$B$6:$E$140,4,FALSE)","v":11804},{"$f":"VLOOKUP(A49, '2020-2022 Composite Index Data'!$A$5:$G$139, 7, FALSE)","v":11563},null,-241,-2.0416807861741781E-2,"BELOW"]
[41,"HALIFAX",{"$f":"VLOOKUP(A50,'March 31 ADM'!$B$6:$E$140,4,FALSE)","v":5040.01},{"$f":"VLOOKUP(A50, '2020-2022 Composite Index Data'!$A$5:$F$139, 6, FALSE)","v":4722.6499999999996},null,-317.36000000000058,-6.2968129031490128E-2,"BELOW",null,{"$f":"VLOOKUP(A50,Population!$B$6:$E$140,4,FALSE)","v":35766},{"$f":"VLOOKUP(A50, '2020-2022 Composite Index Data'!$A$5:$G$139, 7, FALSE)","v":35215},null,-551,-1.5405692557177207E-2,"BELOW"]
[42,"HANOVER",{"$f":"VLOOKUP(A51,'March 31 ADM'!$B$6:$E$140,4,FALSE)","v":17753.43},{"$f":"VLOOKUP(A51, '2020-2022 Composite Index Data'!$A$5:$F$139, 6, FALSE)","v":17613.38},null,-140.04999999999927,-7.8886164532712428E-3,"BELOW",null,{"$f":"VLOOKUP(A51,Population!$B$6:$E$140,4,FALSE)","v":104013},{"$f":"VLOOKUP(A51, '2020-2022 Composite Index Data'!$A$5:$G$139, 7, FALSE)","v":106375},null,2362,2.2708699874054206E-2,"ABOVE"]
[43,"HENRICO",{"$f":"VLOOKUP(A52,'March 31 ADM'!$B$6:$E$140,4,FALSE)","v":50308.69},{"$f":"VLOOKUP(A52, '2020-2022 Composite Index Data'!$A$5:$F$139, 6, FALSE)","v":50283.77},null,-24.92000000000553,-4.9534185843450756E-4,"BELOW",null,{"$f":"VLOOKUP(A52,Population!$B$6:$E$140,4,FALSE)","v":320717},{"$f":"VLOOKUP(A52, '2020-2022 Composite Index Data'!$A$5:$G$139, 7, FALSE)","v":324395},null,3678,1.1468054390630993E-2,"ABOVE"]
[44,"HENRY",{"$f":"VLOOKUP(A53,'March 31 ADM'!$B$6:$E$140,4,FALSE)","v":7044.63},{"$f":"VLOOKUP(A53, '2020-2022 Composite Index Data'!$A$5:$F$139, 6, FALSE)","v":7045.22},null,0.59000000000014552,8.3751737138805797E-5,"BELOW",null,{"$f":"VLOOKUP(A53,Population!$B$6:$E$140,4,FALSE)","v":52822},{"$f":"VLOOKUP(A53, '2020-2022 Composite Index Data'!$A$5:$G$139, 7, FALSE)","v":51975},null,-847,-1.6034985422740525E-2,"BELOW"]
[45,"HIGHLAND",{"$f":"VLOOKUP(A54,'March 31 ADM'!$B$6:$E$140,4,FALSE)","v":193.23},{"$f":"VLOOKUP(A54, '2020-2022 Composite Index Data'!$A$5:$F$139, 6, FALSE)","v":193.03},null,-0.19999999999998863,-1.0350359674998119E-3,"BELOW",null,{"$f":"VLOOKUP(A54,Population!$B$6:$E$140,4,FALSE)","v":2277},{"$f":"VLOOKUP(A54, '2020-2022 Composite Index Data'!$A$5:$G$139, 7, FALSE)","v":2284},null,7,3.0742204655248135E-3,"BELOW"]
[46,"ISLE OF WIGHT",{"$f":"VLOOKUP(A55,'March 31 ADM'!$B$6:$E$140,4,FALSE)","v":5314.23},{"$f":"VLOOKUP(A55, '2020-2022 Composite Index Data'!$A$5:$F$139, 6, FALSE)","v":5338.11},null,23.880000000000109,4.4935954973721708E-3,"BELOW",null,{"$f":"VLOOKUP(A55,Population!$B$6:$E$140,4,FALSE)","v":36438},{"$f":"VLOOKUP(A55, '2020-2022 Composite Index Data'!$A$5:$G$139, 7, FALSE)","v":37333},null,895,2.4562270157527856E-2,"ABOVE"]
[47,"JAMES CITY",{"$f":"VLOOKUP(A56,'March 31 ADM'!$B$6:$E$140,4,FALSE)","v":10278.19},{"$f":"VLOOKUP(A56, '2020-2022 Composite Index Data'!$A$5:$F$139, 6, FALSE)","v":10422.450000000001},null,144.26000000000022,1.4035545168945136E-2,"ABOVE",null,{"$f":"VLOOKUP(A56,Population!$B$6:$E$140,4,FALSE)","v":73325},{"$f":"VLOOKUP(A56, '2020-2022 Composite Index Data'!$A$5:$G$139, 7, FALSE)","v":74722},null,1397,1.9052165018752131E-2,"ABOVE"]
[48,"KING GEORGE",{"$f":"VLOOKUP(A57,'March 31 ADM'!$B$6:$E$140,4,FALSE)","v":4219.38},{"$f":"VLOOKUP(A57, '2020-2022 Composite Index Data'!$A$5:$F$139, 6, FALSE)","v":4362.9399999999996},null,143.55999999999949,3.4023956126255396E-2,"ABOVE",null,{"$f":"VLOOKUP(A57,Population!$B$6:$E$140,4,FALSE)","v":24600},{"$f":"VLOOKUP(A57, '2020-2022 Composite Index Data'!$A$5:$G$139, 7, FALSE)","v":25381},null,781,3.1747967479674795E-2,"ABOVE"]
[49,"KING AND QUEEN",{"$f":"VLOOKUP(A58,'March 31 ADM'!$B$6:$E$140,4,FALSE)","v":813.36},{"$f":"VLOOKUP(A58, '2020-2022 Composite Index Data'!$A$5:$F$139, 6, FALSE)","v":773.2},null,-40.159999999999968,-4.9375430313760162E-2,"BELOW",null,{"$f":"VLOOKUP(A58,Population!$B$6:$E$140,4,FALSE)","v":7190},{"$f":"VLOOKUP(A58, '2020-2022 Composite Index Data'!$A$5:$G$139, 7, FALSE)","v":6935},null,-255,-3.5465924895688457E-2,"BELOW"]
[50,"KING WILLIAM",{"$f":"VLOOKUP(A59,'March 31 ADM'!$B$6:$E$140,4,FALSE)","v":2211.46},{"$f":"VLOOKUP(A59, '2020-2022 Composite Index Data'!$A$5:$F$139, 6, FALSE)","v":2172.5300000000002},null,-38.929999999999836,-1.7603754985394189E-2,"BELOW",null,{"$f":"VLOOKUP(A59,Population!$B$6:$E$140,4,FALSE)","v":12920},{"$f":"VLOOKUP(A59, '2020-2022 Composite Index Data'!$A$5:$G$139, 7, FALSE)","v":13314},null,394,3.0495356037151703E-2,"ABOVE"]
[51,"LANCASTER",{"$f":"VLOOKUP(A60,'March 31 ADM'!$B$6:$E$140,4,FALSE)","v":1132.02},{"$f":"VLOOKUP(A60, '2020-2022 Composite Index Data'!$A$5:$F$139, 6, FALSE)","v":1062.3},null,-69.720000000000027,-6.1589017861875255E-2,"BELOW",null,{"$f":"VLOOKUP(A60,Population!$B$6:$E$140,4,FALSE)","v":11297},{"$f":"VLOOKUP(A60, '2020-2022 Composite Index Data'!$A$5:$G$139, 7, FALSE)","v":11171},null,-126,-1.115340355846685E-2,"BELOW"]
[52,"LEE",{"$f":"VLOOKUP(A61,'March 31 ADM'!$B$6:$E$140,4,FALSE)","v":3063.5},{"$f":"VLOOKUP(A61, '2020-2022 Composite Index Data'!$A$5:$F$139, 6, FALSE)","v":3053.46},null,-10.039999999999964,-3.277297209074576E-3,"BELOW",null,{"$f":"VLOOKUP(A61,Population!$B$6:$E$140,4,FALSE)","v":25182},{"$f":"VLOOKUP(A61, '2020-2022 Composite Index Data'!$A$5:$G$139, 7, FALSE)","v":24363},null,-819,-3.2523230879199429E-2,"BELOW"]
[53,"LOUDOUN",{"$f":"VLOOKUP(A62,'March 31 ADM'!$B$6:$E$140,4,FALSE)","v":75549.69},{"$f":"VLOOKUP(A62, '2020-2022 Composite Index Data'!$A$5:$F$139, 6, FALSE)","v":80270.95},null,4721.2599999999948,6.2492116115896633E-2,"ABOVE",null,{"$f":"VLOOKUP(A62,Population!$B$6:$E$140,4,FALSE)","v":374451},{"$f":"VLOOKUP(A62, '2020-2022 Composite Index Data'!$A$5:$G$139, 7, FALSE)","v":396068},null,21617,5.7729849833489562E-2,"ABOVE"]
[54,"LOUISA",{"$f":"VLOOKUP(A63,'March 31 ADM'!$B$6:$E$140,4,FALSE)","v":4688.0200000000004},{"$f":"VLOOKUP(A63, '2020-2022 Composite Index Data'!$A$5:$F$139, 6, FALSE)","v":4704.2},null,16.179999999999382,3.451350463521781E-3,"BELOW",null,{"$f":"VLOOKUP(A63,Population!$B$6:$E$140,4,FALSE)","v":34244},{"$f":"VLOOKUP(A63, '2020-2022 Composite Index Data'!$A$5:$G$139, 7, FALSE)","v":35035},null,791,2.3098937040065413E-2,"ABOVE"]
[55,"LUNENBURG",{"$f":"VLOOKUP(A64,'March 31 ADM'!$B$6:$E$140,4,FALSE)","v":1483.44},{"$f":"VLOOKUP(A64, '2020-2022 Composite Index Data'!$A$5:$F$139, 6, FALSE)","v":1441.57},null,-41.870000000000118,-2.8224936633770233E-2,"BELOW",null,{"$f":"VLOOKUP(A64,Population!$B$6:$E$140,4,FALSE)","v":12435},{"$f":"VLOOKUP(A64, '2020-2022 Composite Index Data'!$A$5:$G$139, 7, FALSE)","v":12386},null,-49,-3.9404905508644951E-3,"BELOW"]
[56,"MADISON",{"$f":"VLOOKUP(A65,'March 31 ADM'!$B$6:$E$140,4,FALSE)","v":1710.45},{"$f":"VLOOKUP(A65, '2020-2022 Composite Index Data'!$A$5:$F$139, 6, FALSE)","v":1673.19},null,-37.259999999999991,-2.1783741120757691E-2,"BELOW",null,{"$f":"VLOOKUP(A65,Population!$B$6:$E$140,4,FALSE)","v":13099},{"$f":"VLOOKUP(A65, '2020-2022 Composite Index Data'!$A$5:$G$139, 7, FALSE)","v":13190},null,91,6.9470951981067258E-3,"BELOW"]
[57,"MATHEWS",{"$f":"VLOOKUP(A66,'March 31 ADM'!$B$6:$E$140,4,FALSE)","v":1096.07},{"$f":"VLOOKUP(A66, '2020-2022 Composite Index Data'!$A$5:$F$139, 6, FALSE)","v":1075.74},null,-20.329999999999927,-1.8548085432499684E-2,"BELOW",null,{"$f":"VLOOKUP(A66,Population!$B$6:$E$140,4,FALSE)","v":8737},{"$f":"VLOOKUP(A66, '2020-2022 Composite Index Data'!$A$5:$G$139, 7, FALSE)","v":8651},null,-86,-9.8431956048987065E-3,"BELOW"]
[58,"MECKLENBURG",{"$f":"VLOOKUP(A67,'March 31 ADM'!$B$6:$E$140,4,FALSE)","v":4302.6499999999996},{"$f":"VLOOKUP(A67, '2020-2022 Composite Index Data'!$A$5:$F$139, 6, FALSE)","v":4103.1400000000003},null,-199.50999999999931,-4.6369098113952872E-2,"BELOW",null,{"$f":"VLOOKUP(A67,Population!$B$6:$E$140,4,FALSE)","v":31608},{"$f":"VLOOKUP(A67, '2020-2022 Composite Index Data'!$A$5:$G$139, 7, FALSE)","v":31264},null,-344,-1.0883320678309289E-2,"BELOW"]
[59,"MIDDLESEX",{"$f":"VLOOKUP(A68,'March 31 ADM'!$B$6:$E$140,4,FALSE)","v":1193.1600000000001},{"$f":"VLOOKUP(A68, '2020-2022 Composite Index Data'!$A$5:$F$139, 6, FALSE)","v":1194.26},null,1.0999999999999091,9.2192161990002088E-4,"BELOW",null,{"$f":"VLOOKUP(A68,Population!$B$6:$E$140,4,FALSE)","v":11082},{"$f":"VLOOKUP(A68, '2020-2022 Composite Index Data'!$A$5:$G$139, 7, FALSE)","v":11004},null,-78,-7.0384407146724419E-3,"BELOW"]
[60,"MONTGOMERY",{"$f":"VLOOKUP(A69,'March 31 ADM'!$B$6:$E$140,4,FALSE)","v":9487.9599999999991},{"$f":"VLOOKUP(A69, '2020-2022 Composite Index Data'!$A$5:$F$139, 6, FALSE)","v":9636.9500000000007},null,148.9900000000016,1.5703059456405974E-2,"ABOVE",null,{"$f":"VLOOKUP(A69,Population!$B$6:$E$140,4,FALSE)","v":98121},{"$f":"VLOOKUP(A69, '2020-2022 Composite Index Data'!$A$5:$G$139, 7, FALSE)","v":98776},null,655,6.6754313551635226E-3,"BELOW"]
[62,"NELSON",{"$f":"VLOOKUP(A70,'March 31 ADM'!$B$6:$E$140,4,FALSE)","v":1896.01},{"$f":"VLOOKUP(A70, '2020-2022 Composite Index Data'!$A$5:$F$139, 6, FALSE)","v":1794.43},null,-101.57999999999993,-5.3575666795006319E-2,"BELOW",null,{"$f":"VLOOKUP(A70,Population!$B$6:$E$140,4,FALSE)","v":14993},{"$f":"VLOOKUP(A70, '2020-2022 Composite Index Data'!$A$5:$G$139, 7, FALSE)","v":14858},null,-135,-9.0042019609150939E-3,"BELOW"]
[63,"NEW KENT",{"$f":"VLOOKUP(A71,'March 31 ADM'!$B$6:$E$140,4,FALSE)","v":2983.49},{"$f":"VLOOKUP(A71, '2020-2022 Composite Index Data'!$A$5:$F$139, 6, FALSE)","v":3158.26},null,174.77000000000044,5.8579046686933908E-2,"ABOVE",null,{"$f":"VLOOKUP(A71,Population!$B$6:$E$140,4,FALSE)","v":20468},{"$f":"VLOOKUP(A71, '2020-2022 Composite Index Data'!$A$5:$G$139, 7, FALSE)","v":21709},null,1241,6.06312292358804E-2,"ABOVE"]
[65,"NORTHAMPTON",{"$f":"VLOOKUP(A72,'March 31 ADM'!$B$6:$E$140,4,FALSE)","v":1559.87},{"$f":"VLOOKUP(A72, '2020-2022 Composite Index Data'!$A$5:$F$139, 6, FALSE)","v":1528.2},null,-31.669999999999845,-2.0302973965779101E-2,"BELOW",null,{"$f":"VLOOKUP(A72,Population!$B$6:$E$140,4,FALSE)","v":12176},{"$f":"VLOOKUP(A72, '2020-2022 Composite Index Data'!$A$5:$G$139, 7, FALSE)","v":12000},null,-176,-1.4454664914586071E-2,"BELOW"]
[66,"NORTHUMBERLAND",{"$f":"VLOOKUP(A73,'March 31 ADM'!$B$6:$E$140,4,FALSE)","v":1277.97},{"$f":"VLOOKUP(A73, '2020-2022 Composite Index Data'!$A$5:$F$139, 6, FALSE)","v":1217.5899999999999},null,-60.380000000000109,-4.7246805480566922E-2,"BELOW",null,{"$f":"VLOOKUP(A73,Population!$B$6:$E$140,4,FALSE)","v":12220},{"$f":"VLOOKUP(A73, '2020-2022 Composite Index Data'!$A$5:$G$139, 7, FALSE)","v":12053},null,-167,-1.3666121112929624E-2,"BELOW"]
[67,"NOTTOWAY",{"$f":"VLOOKUP(A74,'March 31 ADM'!$B$6:$E$140,4,FALSE)","v":2092.8000000000002},{"$f":"VLOOKUP(A74, '2020-2022 Composite Index Data'!$A$5:$F$139, 6, FALSE)","v":1958.02},null,-134.7800000000002,-6.4401758409786028E-2,"BELOW",null,{"$f":"VLOOKUP(A74,Population!$B$6:$E$140,4,FALSE)","v":16261},{"$f":"VLOOKUP(A74, '2020-2022 Composite Index Data'!$A$5:$G$139, 7, FALSE)","v":15845},null,-416,-2.5582682491851669E-2,"BELOW"]
[68,"ORANGE",{"$f":"VLOOKUP(A75,'March 31 ADM'!$B$6:$E$140,4,FALSE)","v":4840.2700000000004},{"$f":"VLOOKUP(A75, '2020-2022 Composite Index Data'!$A$5:$F$139, 6, FALSE)","v":4745.57},null,-94.700000000000728,-1.9565024265175437E-2,"BELOW",null,{"$f":"VLOOKUP(A75,Population!$B$6:$E$140,4,FALSE)","v":34015},{"$f":"VLOOKUP(A75, '2020-2022 Composite Index Data'!$A$5:$G$139, 7, FALSE)","v":34521},null,506,1.4875790092606204E-2,"ABOVE"]
[69,"PAGE",{"$f":"VLOOKUP(A76,'March 31 ADM'!$B$6:$E$140,4,FALSE)","v":3280.23},{"$f":"VLOOKUP(A76, '2020-2022 Composite Index Data'!$A$5:$F$139, 6, FALSE)","v":3233.29},null,-46.940000000000055,-1.4309972166585897E-2,{"$f":"IF(G76<$G$146,\"BELOW\", \"ABOVE\")","v":"BELOW"},null,{"$f":"VLOOKUP(A76,Population!$B$6:$E$140,4,FALSE)","v":23719},{"$f":"VLOOKUP(A76, '2020-2022 Composite Index Data'!$A$5:$G$139, 7, FALSE)","v":23665},null,{"$f":"K76-J76","v":-54},{"$f":"M76/J76","v":-2.2766558455246848E-3},{"$f":"IF(N76<$N$146,\"BELOW\", \"ABOVE\")","v":"BELOW"}]
[70,"PATRICK",{"$f":"VLOOKUP(A77,'March 31 ADM'!$B$6:$E$140,4,FALSE)","v":2800.21},{"$f":"VLOOKUP(A77, '2020-2022 Composite Index Data'!$A$5:$F$139, 6, FALSE)","v":2588.38},null,-211.82999999999993,-7.5647897836233685E-2,"BELOW",null,{"$f":"VLOOKUP(A77,Population!$B$6:$E$140,4,FALSE)","v":18450},{"$f":"VLOOKUP(A77, '2020-2022 Composite Index Data'!$A$5:$G$139, 7, FALSE)","v":17930},null,-520,-2.8184281842818428E-2,"BELOW"]
[71,"PITTSYLVANIA",{"$f":"VLOOKUP(A78,'March 31 ADM'!$B$6:$E$140,4,FALSE)","v":8851.89},{"$f":"VLOOKUP(A78, '2020-2022 Composite Index Data'!$A$5:$F$139, 6, FALSE)","v":8619.9699999999993},null,-231.92000000000007,-2.6200054451648188E-2,"BELOW",null,{"$f":"VLOOKUP(A78,Population!$B$6:$E$140,4,FALSE)","v":63255},{"$f":"VLOOKUP(A78, '2020-2022 Composite Index Data'!$A$5:$G$139, 7, FALSE)","v":62166},null,-1089,-1.7216030353331753E-2,"BELOW"]
[72,"POWHATAN",{"$f":"VLOOKUP(A79,'March 31 ADM'!$B$6:$E$140,4,FALSE)","v":4215.07},{"$f":"VLOOKUP(A79, '2020-2022 Composite Index Data'!$A$5:$F$139, 6, FALSE)","v":4220.03},null,{"$f":"D79-C79","v":4.9600000000000364},{"$f":"F79/C79","v":1.1767301610649495E-3},"BELOW",null,{"$f":"VLOOKUP(A79,Population!$B$6:$E$140,4,FALSE)","v":28442},{"$f":"VLOOKUP(A79, '2020-2022 Composite Index Data'!$A$5:$G$139, 7, FALSE)","v":29166},null,724,2.5455312565923635E-2,"ABOVE"]
[73,"PRINCE EDWARD",{"$f":"VLOOKUP(A80,'March 31 ADM'!$B$6:$E$140,4,FALSE)","v":1975.74},{"$f":"VLOOKUP(A80, '2020-2022 Composite Index Data'!$A$5:$F$139, 6, FALSE)","v":1968.27},null,-7.4700000000000273,-3.7808618542925828E-3,"BELOW",null,{"$f":"VLOOKUP(A80,Population!$B$6:$E$140,4,FALSE)","v":23631},{"$f":"VLOOKUP(A80, '2020-2022 Composite Index Data'!$A$5:$G$139, 7, FALSE)","v":23223},null,-408,-1.7265456392027423E-2,"BELOW"]
[74,"PRINCE GEORGE",{"$f":"VLOOKUP(A81,'March 31 ADM'!$B$6:$E$140,4,FALSE)","v":6292.79},{"$f":"VLOOKUP(A81, '2020-2022 Composite Index Data'!$A$5:$F$139, 6, FALSE)","v":6189.27},null,-103.51999999999953,-1.6450572798393008E-2,"BELOW",null,{"$f":"VLOOKUP(A81,Population!$B$6:$E$140,4,FALSE)","v":37131},{"$f":"VLOOKUP(A81, '2020-2022 Composite Index Data'!$A$5:$G$139, 7, FALSE)","v":37025},null,-106,-2.8547574802725486E-3,"BELOW"]
[75,"PRINCE WILLIAM",{"$f":"VLOOKUP(A82,'March 31 ADM'!$B$6:$E$140,4,FALSE)","v":84894.18},{"$f":"VLOOKUP(A82, '2020-2022 Composite Index Data'!$A$5:$F$139, 6, FALSE)","v":87313.29},null,2419.1100000000006,2.8495592984112701E-2,"ABOVE",null,{"$f":"VLOOKUP(A82,Population!$B$6:$E$140,4,FALSE)","v":443463},{"$f":"VLOOKUP(A82, '2020-2022 Composite Index Data'!$A$5:$G$139, 7, FALSE)","v":455990},null,12527,2.8248128930711242E-2,"ABOVE"]
[77,"PULASKI",{"$f":"VLOOKUP(A83,'March 31 ADM'!$B$6:$E$140,4,FALSE)","v":4193.22},{"$f":"VLOOKUP(A83, '2020-2022 Composite Index Data'!$A$5:$F$139, 6, FALSE)","v":4013.88},null,-179.34000000000015,-4.2769041452630704E-2,"BELOW",null,{"$f":"VLOOKUP(A83,Population!$B$6:$E$140,4,FALSE)","v":34841},{"$f":"VLOOKUP(A83, '2020-2022 Composite Index Data'!$A$5:$G$139, 7, FALSE)","v":34467},null,-374,-1.0734479492551879E-2,"BELOW"]
[78,"RAPPAHANNOCK",{"$f":"VLOOKUP(A84,'March 31 ADM'!$B$6:$E$140,4,FALSE)","v":868.78},{"$f":"VLOOKUP(A84, '2020-2022 Composite Index Data'!$A$5:$F$139, 6, FALSE)","v":817.68},null,-51.100000000000023,-5.8818112755818532E-2,"BELOW",null,{"$f":"VLOOKUP(A84,Population!$B$6:$E$140,4,FALSE)","v":7308},{"$f":"VLOOKUP(A84, '2020-2022 Composite Index Data'!$A$5:$G$139, 7, FALSE)","v":7288},null,-20,-2.7367268746579091E-3,"BELOW"]
[79,"RICHMOND COUNTY",{"$f":"VLOOKUP(A85,'March 31 ADM'!$B$6:$E$140,4,FALSE)","v":1247.3599999999999},{"$f":"VLOOKUP(A85, '2020-2022 Composite Index Data'!$A$5:$F$139, 6, FALSE)","v":1275.55},null,28.190000000000055,2.2599730631092912E-2,"ABOVE",null,{"$f":"VLOOKUP(A85,Population!$B$6:$E$140,4,FALSE)","v":9119},{"$f":"VLOOKUP(A85, '2020-2022 Composite Index Data'!$A$5:$G$139, 7, FALSE)","v":9094},null,-25,-2.7415286763899549E-3,"BELOW"]
[80,"ROANOKE COUNTY",{"$f":"VLOOKUP(A86,'March 31 ADM'!$B$6:$E$140,4,FALSE)","v":13981.99},{"$f":"VLOOKUP(A86, '2020-2022 Composite Index Data'!$A$5:$F$139, 6, FALSE)","v":13778.96},null,-203.03000000000065,-1.4520822858548794E-2,"BELOW",null,{"$f":"VLOOKUP(A86,Population!$B$6:$E$140,4,FALSE)","v":93775},{"$f":"VLOOKUP(A86, '2020-2022 Composite Index Data'!$A$5:$G$139, 7, FALSE)","v":93735},null,-40,-4.2655291922154092E-4,"BELOW"]
[81,"ROCKBRIDGE",{"$f":"VLOOKUP(A87,'March 31 ADM'!$B$6:$E$140,4,FALSE)","v":2551.2600000000002},{"$f":"VLOOKUP(A87, '2020-2022 Composite Index Data'!$A$5:$F$139, 6, FALSE)","v":2574.59},null,23.329999999999927,9.1445011484521076E-3,"ABOVE",null,{"$f":"VLOOKUP(A87,Population!$B$6:$E$140,4,FALSE)","v":22163},{"$f":"VLOOKUP(A87, '2020-2022 Composite Index Data'!$A$5:$G$139, 7, FALSE)","v":22596},null,433,1.9537066281640571E-2,"ABOVE"]
[82,"ROCKINGHAM",{"$f":"VLOOKUP(A88,'March 31 ADM'!$B$6:$E$140,4,FALSE)","v":11287.29},{"$f":"VLOOKUP(A88, '2020-2022 Composite Index Data'!$A$5:$F$139, 6, FALSE)","v":11252.58},null,-34.710000000000946,-3.0751402683904588E-3,"BELOW",null,{"$f":"VLOOKUP(A88,Population!$B$6:$E$140,4,FALSE)","v":79134},{"$f":"VLOOKUP(A88, '2020-2022 Composite Index Data'!$A$5:$G$139, 7, FALSE)","v":80666},null,1532,1.9359567316197843E-2,"ABOVE"]
[83,"RUSSELL",{"$f":"VLOOKUP(A89,'March 31 ADM'!$B$6:$E$140,4,FALSE)","v":3849.98},{"$f":"VLOOKUP(A89, '2020-2022 Composite Index Data'!$A$5:$F$139, 6, FALSE)","v":3629.3},null,-220.67999999999984,-5.7319778284562473E-2,"BELOW",null,{"$f":"VLOOKUP(A89,Population!$B$6:$E$140,4,FALSE)","v":28008},{"$f":"VLOOKUP(A89, '2020-2022 Composite Index Data'!$A$5:$G$139, 7, FALSE)","v":27309},null,-699,-2.4957155098543272E-2,"BELOW"]
[84,"SCOTT",{"$f":"VLOOKUP(A90,'March 31 ADM'!$B$6:$E$140,4,FALSE)","v":3540.08},{"$f":"VLOOKUP(A90, '2020-2022 Composite Index Data'!$A$5:$F$139, 6, FALSE)","v":3431.49},null,-108.59000000000015,-3.0674448035072695E-2,"BELOW",null,{"$f":"VLOOKUP(A90,Population!$B$6:$E$140,4,FALSE)","v":22759},{"$f":"VLOOKUP(A90, '2020-2022 Composite Index Data'!$A$5:$G$139, 7, FALSE)","v":22377},null,-382,-1.6784568742036116E-2,"BELOW"]
[85,"SHENANDOAH",{"$f":"VLOOKUP(A91,'March 31 ADM'!$B$6:$E$140,4,FALSE)","v":5832.5},{"$f":"VLOOKUP(A91, '2020-2022 Composite Index Data'!$A$5:$F$139, 6, FALSE)","v":5813},null,-19.5,-3.3433347621088729E-3,"BELOW",null,{"$f":"VLOOKUP(A91,Population!$B$6:$E$140,4,FALSE)","v":42228},{"$f":"VLOOKUP(A91, '2020-2022 Composite Index Data'!$A$5:$G$139, 7, FALSE)","v":42525},null,297,7.0332480818414318E-3,"BELOW"]
[86,"SMYTH",{"$f":"VLOOKUP(A92,'March 31 ADM'!$B$6:$E$140,4,FALSE)","v":4402.57},{"$f":"VLOOKUP(A92, '2020-2022 Composite Index Data'!$A$5:$F$139, 6, FALSE)","v":4217.82},null,-184.75,-4.1964125499424201E-2,"BELOW",null,{"$f":"VLOOKUP(A92,Population!$B$6:$E$140,4,FALSE)","v":31417},{"$f":"VLOOKUP(A92, '2020-2022 Composite Index Data'!$A$5:$G$139, 7, FALSE)","v":30686},null,-731,-2.3267657637584746E-2,"BELOW"]
[87,"SOUTHAMPTON",{"$f":"VLOOKUP(A93,'March 31 ADM'!$B$6:$E$140,4,FALSE)","v":2629.02},{"$f":"VLOOKUP(A93, '2020-2022 Composite Index Data'!$A$5:$F$139, 6, FALSE)","v":2637.85},null,8.8299999999999272,3.3586659667860751E-3,"BELOW",null,{"$f":"VLOOKUP(A93,Population!$B$6:$E$140,4,FALSE)","v":18551},{"$f":"VLOOKUP(A93, '2020-2022 Composite Index Data'!$A$5:$G$139, 7, FALSE)","v":18119},null,-432,-2.3287154331302896E-2,"BELOW"]
[88,"SPOTSYLVANIA",{"$f":"VLOOKUP(A94,'March 31 ADM'!$B$6:$E$140,4,FALSE)","v":23093.59},{"$f":"VLOOKUP(A94, '2020-2022 Composite Index Data'!$A$5:$F$139, 6, FALSE)","v":23183.64},null,90.049999999999272,3.8993504258107671E-3,"BELOW",null,{"$f":"VLOOKUP(A94,Population!$B$6:$E$140,4,FALSE)","v":128998},{"$f":"VLOOKUP(A94, '2020-2022 Composite Index Data'!$A$5:$G$139, 7, FALSE)","v":131549},null,2551,1.9775500395354965E-2,"ABOVE"]
[89,"STAFFORD",{"$f":"VLOOKUP(A95,'March 31 ADM'!$B$6:$E$140,4,FALSE)","v":27518.55},{"$f":"VLOOKUP(A95, '2020-2022 Composite Index Data'!$A$5:$F$139, 6, FALSE)","v":28486.89},null,968.34000000000015,3.5188627307761497E-2,"ABOVE",null,{"$f":"VLOOKUP(A95,Population!$B$6:$E$140,4,FALSE)","v":140176},{"$f":"VLOOKUP(A95, '2020-2022 Composite Index Data'!$A$5:$G$139, 7, FALSE)","v":145699},null,5523,3.9400467983106952E-2,"ABOVE"]
[90,"SURRY",{"$f":"VLOOKUP(A96,'March 31 ADM'!$B$6:$E$140,4,FALSE)","v":785.67},{"$f":"VLOOKUP(A96, '2020-2022 Composite Index Data'!$A$5:$F$139, 6, FALSE)","v":731.15},null,-54.519999999999982,-6.9393002151030309E-2,"BELOW",null,{"$f":"VLOOKUP(A96,Population!$B$6:$E$140,4,FALSE)","v":6819},{"$f":"VLOOKUP(A96, '2020-2022 Composite Index Data'!$A$5:$G$139, 7, FALSE)","v":6674},null,-145,-2.1264114972869921E-2,"BELOW"]
[91,"SUSSEX",{"$f":"VLOOKUP(A97,'March 31 ADM'!$B$6:$E$140,4,FALSE)","v":1022.95},{"$f":"VLOOKUP(A97, '2020-2022 Composite Index Data'!$A$5:$F$139, 6, FALSE)","v":1019.46},null,-3.4900000000000091,-3.4117014516838644E-3,"BELOW",null,{"$f":"VLOOKUP(A97,Population!$B$6:$E$140,4,FALSE)","v":11887},{"$f":"VLOOKUP(A97, '2020-2022 Composite Index Data'!$A$5:$G$139, 7, FALSE)","v":11655},null,-232,-1.9517119542357197E-2,"BELOW"]
[92,"TAZEWELL",{"$f":"VLOOKUP(A98,'March 31 ADM'!$B$6:$E$140,4,FALSE)","v":5936.11},{"$f":"VLOOKUP(A98, '2020-2022 Composite Index Data'!$A$5:$F$139, 6, FALSE)","v":5625.69},null,-310.42000000000007,-5.2293505342724457E-2,"BELOW",null,{"$f":"VLOOKUP(A98,Population!$B$6:$E$140,4,FALSE)","v":44051},{"$f":"VLOOKUP(A98, '2020-2022 Composite Index Data'!$A$5:$G$139, 7, FALSE)","v":42574},null,-1477,-3.3529318290163673E-2,"BELOW"]
[93,"WARREN",{"$f":"VLOOKUP(A99,'March 31 ADM'!$B$6:$E$140,4,FALSE)","v":5332.53},{"$f":"VLOOKUP(A99, '2020-2022 Composite Index Data'!$A$5:$F$139, 6, FALSE)","v":5279.87},null,-52.659999999999854,-9.8752374576420304E-3,"BELOW",null,{"$f":"VLOOKUP(A99,Population!$B$6:$E$140,4,FALSE)","v":38829},{"$f":"VLOOKUP(A99, '2020-2022 Composite Index Data'!$A$5:$G$139, 7, FALSE)","v":39239},null,410,1.055911818486183E-2,"ABOVE"]
[94,"WASHINGTON",{"$f":"VLOOKUP(A100,'March 31 ADM'!$B$6:$E$140,4,FALSE)","v":7089.57},{"$f":"VLOOKUP(A100, '2020-2022 Composite Index Data'!$A$5:$F$139, 6, FALSE)","v":6979.59},null,-109.97999999999956,-1.5512929557081681E-2,"BELOW",null,{"$f":"VLOOKUP(A100,Population!$B$6:$E$140,4,FALSE)","v":54130},{"$f":"VLOOKUP(A100, '2020-2022 Composite Index Data'!$A$5:$G$139, 7, FALSE)","v":53789},null,-341,-6.2996489931646041E-3,"BELOW"]
[95,"WESTMORELAND",{"$f":"VLOOKUP(A101,'March 31 ADM'!$B$6:$E$140,4,FALSE)","v":1561.98},{"$f":"VLOOKUP(A101, '2020-2022 Composite Index Data'!$A$5:$F$139, 6, FALSE)","v":1518.62},null,-43.360000000000127,-2.775963840766215E-2,"BELOW",null,{"$f":"VLOOKUP(A101,Population!$B$6:$E$140,4,FALSE)","v":14145},{"$f":"VLOOKUP(A101, '2020-2022 Composite Index Data'!$A$5:$G$139, 7, FALSE)","v":14191},null,46,3.2520325203252032E-3,"BELOW"]
[96,"WISE",{"$f":"VLOOKUP(A102,'March 31 ADM'!$B$6:$E$140,4,FALSE)","v":5753.71},{"$f":"VLOOKUP(A102, '2020-2022 Composite Index Data'!$A$5:$F$139, 6, FALSE)","v":5575},null,-178.71000000000004,-3.105995957390971E-2,"BELOW",null,{"$f":"VLOOKUP(A102,Population!$B$6:$E$140,4,FALSE)","v":39943},{"$f":"VLOOKUP(A102, '2020-2022 Composite Index Data'!$A$5:$G$139, 7, FALSE)","v":39133},null,-810,-2.0278897428836092E-2,"BELOW"]
[97,"WYTHE",{"$f":"VLOOKUP(A103,'March 31 ADM'!$B$6:$E$140,4,FALSE)","v":4081.37},{"$f":"VLOOKUP(A103, '2020-2022 Composite Index Data'!$A$5:$F$139, 6, FALSE)","v":3999.31},null,-82.059999999999945,-2.0105993820702349E-2,"BELOW",null,{"$f":"VLOOKUP(A103,Population!$B$6:$E$140,4,FALSE)","v":28743},{"$f":"VLOOKUP(A103, '2020-2022 Composite Index Data'!$A$5:$G$139, 7, FALSE)","v":28723},null,-20,-6.9582159134397943E-4,"BELOW"]
[98,"YORK",{"$f":"VLOOKUP(A104,'March 31 ADM'!$B$6:$E$140,4,FALSE)","v":12521.81},{"$f":"VLOOKUP(A104, '2020-2022 Composite Index Data'!$A$5:$F$139, 6, FALSE)","v":12609.72},null,87.909999999999854,7.0205505434118437E-3,"ABOVE",null,{"$f":"VLOOKUP(A104,Population!$B$6:$E$140,4,FALSE)","v":69466},{"$f":"VLOOKUP(A104, '2020-2022 Composite Index Data'!$A$5:$G$139, 7, FALSE)","v":68890},null,-576,-8.2918262171421987E-3,"BELOW"]
[101,"ALEXANDRIA",{"$f":"VLOOKUP(A105,'March 31 ADM'!$B$6:$E$140,4,FALSE)","v":14340.94},{"$f":"VLOOKUP(A105, '2020-2022 Composite Index Data'!$A$5:$F$139, 6, FALSE)","v":14987.82},null,646.8799999999992,4.5107224491560467E-2,"ABOVE",null,{"$f":"VLOOKUP(A105,Population!$B$6:$E$140,4,FALSE)","v":159571},{"$f":"VLOOKUP(A105, '2020-2022 Composite Index Data'!$A$5:$G$139, 7, FALSE)","v":160719},null,1148,7.1942896892292461E-3,"BELOW"]
[102,"BRISTOL",{"$f":"VLOOKUP(A106,'March 31 ADM'!$B$6:$E$140,4,FALSE)","v":2193.2199999999998},{"$f":"VLOOKUP(A106, '2020-2022 Composite Index Data'!$A$5:$F$139, 6, FALSE)","v":2157.2199999999998},null,-36,-1.6414222011471719E-2,"BELOW",null,{"$f":"VLOOKUP(A106,Population!$B$6:$E$140,4,FALSE)","v":17625},{"$f":"VLOOKUP(A106, '2020-2022 Composite Index Data'!$A$5:$G$139, 7, FALSE)","v":17160},null,-465,-2.6382978723404255E-2,"BELOW"]
[103,"BUENA VISTA",{"$f":"VLOOKUP(A107,'March 31 ADM'!$B$6:$E$140,4,FALSE)","v":965.38},{"$f":"VLOOKUP(A107, '2020-2022 Composite Index Data'!$A$5:$F$139, 6, FALSE)","v":892.59},null,-72.789999999999964,-7.5400360479811024E-2,"BELOW",null,{"$f":"VLOOKUP(A107,Population!$B$6:$E$140,4,FALSE)","v":6817},{"$f":"VLOOKUP(A107, '2020-2022 Composite Index Data'!$A$5:$G$139, 7, FALSE)","v":6424},null,-393,-5.7649992665395333E-2,"BELOW"]
[104,"CHARLOTTESVILLE",{"$f":"VLOOKUP(A108,'March 31 ADM'!$B$6:$E$140,4,FALSE)","v":4065.74},{"$f":"VLOOKUP(A108, '2020-2022 Composite Index Data'!$A$5:$F$139, 6, FALSE)","v":4189.74},null,124,3.0498752994534823E-2,"ABOVE",null,{"$f":"VLOOKUP(A108,Population!$B$6:$E$140,4,FALSE)","v":48210},{"$f":"VLOOKUP(A108, '2020-2022 Composite Index Data'!$A$5:$G$139, 7, FALSE)","v":49132},null,922,1.9124662933001451E-2,"ABOVE"]
[106,"COLONIAL HEIGHTS",{"$f":"VLOOKUP(A109,'March 31 ADM'!$B$6:$E$140,4,FALSE)","v":2769.82},{"$f":"VLOOKUP(A109, '2020-2022 Composite Index Data'!$A$5:$F$139, 6, FALSE)","v":2759.15},null,-10.670000000000073,-3.8522358853644179E-3,"BELOW",null,{"$f":"VLOOKUP(A109,Population!$B$6:$E$140,4,FALSE)","v":17215},{"$f":"VLOOKUP(A109, '2020-2022 Composite Index Data'!$A$5:$G$139, 7, FALSE)","v":17320},null,105,6.0993319779262273E-3,"BELOW"]
[107,"COVINGTON",{"$f":"VLOOKUP(A110,'March 31 ADM'!$B$6:$E$140,4,FALSE)","v":940.25},{"$f":"VLOOKUP(A110, '2020-2022 Composite Index Data'!$A$5:$F$139, 6, FALSE)","v":961.48},null,21.230000000000018,2.2579101302845007E-2,"ABOVE",null,{"$f":"VLOOKUP(A110,Population!$B$6:$E$140,4,FALSE)","v":6198},{"$f":"VLOOKUP(A110, '2020-2022 Composite Index Data'!$A$5:$G$139, 7, FALSE)","v":5850},null,-348,-5.6147144240077447E-2,"BELOW"]
[108,"DANVILLE",{"$f":"VLOOKUP(A111,'March 31 ADM'!$B$6:$E$140,4,FALSE)","v":5935.16},{"$f":"VLOOKUP(A111, '2020-2022 Composite Index Data'!$A$5:$F$139, 6, FALSE)","v":5519.2},null,-415.96000000000004,-7.0084041542266773E-2,"BELOW",null,{"$f":"VLOOKUP(A111,Population!$B$6:$E$140,4,FALSE)","v":42544},{"$f":"VLOOKUP(A111, '2020-2022 Composite Index Data'!$A$5:$G$139, 7, FALSE)","v":41358},null,-1186,-2.7877021436630314E-2,"BELOW"]
[109,"FALLS CHURCH",{"$f":"VLOOKUP(A112,'March 31 ADM'!$B$6:$E$140,4,FALSE)","v":2456.87},{"$f":"VLOOKUP(A112, '2020-2022 Composite Index Data'!$A$5:$F$139, 6, FALSE)","v":2607.3000000000002},null,150.43000000000029,6.1228310818236334E-2,"ABOVE",null,{"$f":"VLOOKUP(A112,Population!$B$6:$E$140,4,FALSE)","v":14183},{"$f":"VLOOKUP(A112, '2020-2022 Composite Index Data'!$A$5:$G$139, 7, FALSE)","v":14269},null,86,6.0635972643305362E-3,"BELOW"]
[110,"FREDERICKSBURG",{"$f":"VLOOKUP(A113,'March 31 ADM'!$B$6:$E$140,4,FALSE)","v":3300.13},{"$f":"VLOOKUP(A113, '2020-2022 Composite Index Data'!$A$5:$F$139, 6, FALSE)","v":3400.21},null,100.07999999999993,3.0326078063591413E-2,"ABOVE",null,{"$f":"VLOOKUP(A113,Population!$B$6:$E$140,4,FALSE)","v":26969},{"$f":"VLOOKUP(A113, '2020-2022 Composite Index Data'!$A$5:$G$139, 7, FALSE)","v":27645},null,676,2.5065816307612444E-2,"ABOVE"]
[111,"GALAX",{"$f":"VLOOKUP(A114,'March 31 ADM'!$B$6:$E$140,4,FALSE)","v":1304.99},{"$f":"VLOOKUP(A114, '2020-2022 Composite Index Data'!$A$5:$F$139, 6, FALSE)","v":1229.6600000000001},null,-75.329999999999927,-5.7724580264982818E-2,"BELOW",null,{"$f":"VLOOKUP(A114,Population!$B$6:$E$140,4,FALSE)","v":7043},{"$f":"VLOOKUP(A114, '2020-2022 Composite Index Data'!$A$5:$G$139, 7, FALSE)","v":6748},null,-295,-4.1885560130626151E-2,"BELOW"]
[112,"HAMPTON",{"$f":"VLOOKUP(A115,'March 31 ADM'!$B$6:$E$140,4,FALSE)","v":19748.560000000001},{"$f":"VLOOKUP(A115, '2020-2022 Composite Index Data'!$A$5:$F$139, 6, FALSE)","v":19013.27},null,-735.29000000000087,-3.7232588097562601E-2,"BELOW",null,{"$f":"VLOOKUP(A115,Population!$B$6:$E$140,4,FALSE)","v":138626},{"$f":"VLOOKUP(A115, '2020-2022 Composite Index Data'!$A$5:$G$139, 7, FALSE)","v":136743},null,-1883,-1.3583310490095653E-2,"BELOW"]
[113,"HARRISONBURG",{"$f":"VLOOKUP(A116,'March 31 ADM'!$B$6:$E$140,4,FALSE)","v":5522.56},{"$f":"VLOOKUP(A116, '2020-2022 Composite Index Data'!$A$5:$F$139, 6, FALSE)","v":5886.9},null,364.33999999999924,6.5973027001969956E-2,"ABOVE",null,{"$f":"VLOOKUP(A116,Population!$B$6:$E$140,4,FALSE)","v":53875},{"$f":"VLOOKUP(A116, '2020-2022 Composite Index Data'!$A$5:$G$139, 7, FALSE)","v":54689},null,814,1.5109048723897912E-2,"ABOVE"]
[114,"HOPEWELL",{"$f":"VLOOKUP(A117,'March 31 ADM'!$B$6:$E$140,4,FALSE)","v":4007.24},{"$f":"VLOOKUP(A117, '2020-2022 Composite Index Data'!$A$5:$F$139, 6, FALSE)","v":3976.77},null,-30.4699999999998,-7.6037372356035082E-3,"BELOW",null,{"$f":"VLOOKUP(A117,Population!$B$6:$E$140,4,FALSE)","v":22984},{"$f":"VLOOKUP(A117, '2020-2022 Composite Index Data'!$A$5:$G$139, 7, FALSE)","v":22817},null,-167,-7.2659241211277406E-3,"BELOW"]
[115,"LYNCHBURG",{"$f":"VLOOKUP(A118,'March 31 ADM'!$B$6:$E$140,4,FALSE)","v":8009.13},{"$f":"VLOOKUP(A118, '2020-2022 Composite Index Data'!$A$5:$F$139, 6, FALSE)","v":7978.94},null,-30.190000000000509,-3.7694481173361537E-3,"BELOW",null,{"$f":"VLOOKUP(A118,Population!$B$6:$E$140,4,FALSE)","v":78675},{"$f":"VLOOKUP(A118, '2020-2022 Composite Index Data'!$A$5:$G$139, 7, FALSE)","v":80380},null,1705,2.1671433110899269E-2,"ABOVE"]
[116,"MARTINSVILLE",{"$f":"VLOOKUP(A119,'March 31 ADM'!$B$6:$E$140,4,FALSE)","v":2056.9299999999998},{"$f":"VLOOKUP(A119, '2020-2022 Composite Index Data'!$A$5:$F$139, 6, FALSE)","v":1893.97},null,-162.95999999999981,-7.922486423942468E-2,"BELOW",null,{"$f":"VLOOKUP(A119,Population!$B$6:$E$140,4,FALSE)","v":13474},{"$f":"VLOOKUP(A119, '2020-2022 Composite Index Data'!$A$5:$G$139, 7, FALSE)","v":13382},null,-92,-6.8279649695710256E-3,"BELOW"]
[117,"NEWPORT NEWS",{"$f":"VLOOKUP(A120,'March 31 ADM'!$B$6:$E$140,4,FALSE)","v":27253.040000000001},{"$f":"VLOOKUP(A120, '2020-2022 Composite Index Data'!$A$5:$F$139, 6, FALSE)","v":26872.560000000001},null,-380.47999999999956,-1.3961011322039652E-2,"BELOW",null,{"$f":"VLOOKUP(A120,Population!$B$6:$E$140,4,FALSE)","v":183454},{"$f":"VLOOKUP(A120, '2020-2022 Composite Index Data'!$A$5:$G$139, 7, FALSE)","v":182155},null,-1299,-7.0807940955225834E-3,"BELOW"]
[118,"NORFOLK",{"$f":"VLOOKUP(A121,'March 31 ADM'!$B$6:$E$140,4,FALSE)","v":29606.81},{"$f":"VLOOKUP(A121, '2020-2022 Composite Index Data'!$A$5:$F$139, 6, FALSE)","v":28431.57},null,-1175.2400000000016,-3.9694921540010614E-2,"BELOW",null,{"$f":"VLOOKUP(A121,Population!$B$6:$E$140,4,FALSE)","v":247189},{"$f":"VLOOKUP(A121, '2020-2022 Composite Index Data'!$A$5:$G$139, 7, FALSE)","v":246256},null,-933,-3.7744398011238366E-3,"BELOW"]
[119,"NORTON",{"$f":"VLOOKUP(A122,'March 31 ADM'!$B$6:$E$140,4,FALSE)","v":813.5},{"$f":"VLOOKUP(A122, '2020-2022 Composite Index Data'!$A$5:$F$139, 6, FALSE)","v":766.24},null,-47.259999999999991,-5.8094652735095259E-2,"BELOW",null,{"$f":"VLOOKUP(A122,Population!$B$6:$E$140,4,FALSE)","v":3946},{"$f":"VLOOKUP(A122, '2020-2022 Composite Index Data'!$A$5:$G$139, 7, FALSE)","v":3882},null,-64,-1.6218955904713634E-2,"BELOW"]
[120,"PETERSBURG",{"$f":"VLOOKUP(A123,'March 31 ADM'!$B$6:$E$140,4,FALSE)","v":3871.02},{"$f":"VLOOKUP(A123, '2020-2022 Composite Index Data'!$A$5:$F$139, 6, FALSE)","v":3738.9},null,-132.11999999999989,-3.4130539237720262E-2,"BELOW",null,{"$f":"VLOOKUP(A123,Population!$B$6:$E$140,4,FALSE)","v":32057},{"$f":"VLOOKUP(A123, '2020-2022 Composite Index Data'!$A$5:$G$139, 7, FALSE)","v":31705},null,-352,-1.0980441089309668E-2,"BELOW"]
[121,"PORTSMOUTH",{"$f":"VLOOKUP(A124,'March 31 ADM'!$B$6:$E$140,4,FALSE)","v":14003.22},{"$f":"VLOOKUP(A124, '2020-2022 Composite Index Data'!$A$5:$F$139, 6, FALSE)","v":13476.08},null,-527.13999999999942,-3.7644198977092369E-2,"BELOW",null,{"$f":"VLOOKUP(A124,Population!$B$6:$E$140,4,FALSE)","v":96874},{"$f":"VLOOKUP(A124, '2020-2022 Composite Index Data'!$A$5:$G$139, 7, FALSE)","v":95440},null,-1434,-1.4802733447571072E-2,"BELOW"]
[122,"RADFORD",{"$f":"VLOOKUP(A125,'March 31 ADM'!$B$6:$E$140,4,FALSE)","v":1599.41},{"$f":"VLOOKUP(A125, '2020-2022 Composite Index Data'!$A$5:$F$139, 6, FALSE)","v":1572.47},null,-26.940000000000055,-1.684371111847497E-2,"BELOW",null,{"$f":"VLOOKUP(A125,Population!$B$6:$E$140,4,FALSE)","v":17420},{"$f":"VLOOKUP(A125, '2020-2022 Composite Index Data'!$A$5:$G$139, 7, FALSE)","v":17208},null,-212,-1.21699196326062E-2,"BELOW"]
[123,"RICHMOND CITY",{"$f":"VLOOKUP(A126,'March 31 ADM'!$B$6:$E$140,4,FALSE)","v":21729.72},{"$f":"VLOOKUP(A126, '2020-2022 Composite Index Data'!$A$5:$F$139, 6, FALSE)","v":22952.560000000001},null,1222.8400000000001,5.6275000322139453E-2,"ABOVE",null,{"$f":"VLOOKUP(A126,Population!$B$6:$E$140,4,FALSE)","v":217938},{"$f":"VLOOKUP(A126, '2020-2022 Composite Index Data'!$A$5:$G$139, 7, FALSE)","v":222853},null,4915,2.2552285512393432E-2,"ABOVE"]
[124,"ROANOKE CITY",{"$f":"VLOOKUP(A127,'March 31 ADM'!$B$6:$E$140,4,FALSE)","v":12791.44},{"$f":"VLOOKUP(A127, '2020-2022 Composite Index Data'!$A$5:$F$139, 6, FALSE)","v":12822.83},null,31.389999999999418,2.4539848523699769E-3,"BELOW",null,{"$f":"VLOOKUP(A127,Population!$B$6:$E$140,4,FALSE)","v":99681},{"$f":"VLOOKUP(A127, '2020-2022 Composite Index Data'!$A$5:$G$139, 7, FALSE)","v":99908},null,227,2.2772644736710106E-3,"BELOW"]
[126,"STAUNTON",{"$f":"VLOOKUP(A128,'March 31 ADM'!$B$6:$E$140,4,FALSE)","v":2535.46},{"$f":"VLOOKUP(A128, '2020-2022 Composite Index Data'!$A$5:$F$139, 6, FALSE)","v":2563.29},null,27.829999999999927,1.0976311990723547E-2,"ABOVE",null,{"$f":"VLOOKUP(A128,Population!$B$6:$E$140,4,FALSE)","v":24542},{"$f":"VLOOKUP(A128, '2020-2022 Composite Index Data'!$A$5:$G$139, 7, FALSE)","v":24761},null,219,8.9234781191426943E-3,"BELOW"]
[127,"SUFFOLK",{"$f":"VLOOKUP(A129,'March 31 ADM'!$B$6:$E$140,4,FALSE)","v":13836.67},{"$f":"VLOOKUP(A129, '2020-2022 Composite Index Data'!$A$5:$F$139, 6, FALSE)","v":13783.08},null,-53.590000000000146,-3.8730417072894087E-3,"BELOW",null,{"$f":"VLOOKUP(A129,Population!$B$6:$E$140,4,FALSE)","v":90426},{"$f":"VLOOKUP(A129, '2020-2022 Composite Index Data'!$A$5:$G$139, 7, FALSE)","v":92533},null,2107,2.3300820560458277E-2,"ABOVE"]
[128,"VIRGINIA BEACH",{"$f":"VLOOKUP(A130,'March 31 ADM'!$B$6:$E$140,4,FALSE)","v":67889.72},{"$f":"VLOOKUP(A130, '2020-2022 Composite Index Data'!$A$5:$F$139, 6, FALSE)","v":67090.94},null,-798.77999999999884,-1.1765846139886847E-2,"BELOW",null,{"$f":"VLOOKUP(A130,Population!$B$6:$E$140,4,FALSE)","v":453500},{"$f":"VLOOKUP(A130, '2020-2022 Composite Index Data'!$A$5:$G$139, 7, FALSE)","v":454448},null,948,2.0904079382579933E-3,"BELOW"]
[130,"WAYNESBORO",{"$f":"VLOOKUP(A131,'March 31 ADM'!$B$6:$E$140,4,FALSE)","v":3041.12},{"$f":"VLOOKUP(A131, '2020-2022 Composite Index Data'!$A$5:$F$139, 6, FALSE)","v":2934.02},null,-107.09999999999991,-3.5217288367443547E-2,"BELOW",null,{"$f":"VLOOKUP(A131,Population!$B$6:$E$140,4,FALSE)","v":21795},{"$f":"VLOOKUP(A131, '2020-2022 Composite Index Data'!$A$5:$G$139, 7, FALSE)","v":21955},null,160,7.34113328745125E-3,"BELOW"]
[131,"WILLIAMSBURG",{"$f":"VLOOKUP(A132,'March 31 ADM'!$B$6:$E$140,4,FALSE)","v":989.87},{"$f":"VLOOKUP(A132, '2020-2022 Composite Index Data'!$A$5:$F$139, 6, FALSE)","v":998.36},null,8.4900000000000091,8.576883833230636E-3,"ABOVE",null,{"$f":"VLOOKUP(A132,Population!$B$6:$E$140,4,FALSE)","v":14860},{"$f":"VLOOKUP(A132, '2020-2022 Composite Index Data'!$A$5:$G$139, 7, FALSE)","v":15404},null,544,3.660834454912517E-2,"ABOVE"]
[132,"WINCHESTER",{"$f":"VLOOKUP(A133,'March 31 ADM'!$B$6:$E$140,4,FALSE)","v":4227.17},{"$f":"VLOOKUP(A133, '2020-2022 Composite Index Data'!$A$5:$F$139, 6, FALSE)","v":4169.8599999999997},null,-57.3100000000004,-1.3557533763723815E-2,"BELOW",null,{"$f":"VLOOKUP(A133,Population!$B$6:$E$140,4,FALSE)","v":27515},{"$f":"VLOOKUP(A133, '2020-2022 Composite Index Data'!$A$5:$G$139, 7, FALSE)","v":28005},null,490,1.7808468108304561E-2,"ABOVE"]
[134,"FAIRFAX CITY",{"$f":"VLOOKUP(A134,'March 31 ADM'!$B$6:$E$140,4,FALSE)","v":3124.97},{"$f":"VLOOKUP(A134, '2020-2022 Composite Index Data'!$A$5:$F$139, 6, FALSE)","v":3079.33},null,-45.639999999999873,-1.4604940207425952E-2,"BELOW",null,{"$f":"VLOOKUP(A134,Population!$B$6:$E$140,4,FALSE)","v":23193},{"$f":"VLOOKUP(A134, '2020-2022 Composite Index Data'!$A$5:$G$139, 7, FALSE)","v":23825},null,632,2.7249601172767646E-2,"ABOVE"]
[135,"FRANKLIN CITY",{"$f":"VLOOKUP(A135,'March 31 ADM'!$B$6:$E$140,4,FALSE)","v":1057.17},{"$f":"VLOOKUP(A135, '2020-2022 Composite Index Data'!$A$5:$F$139, 6, FALSE)","v":1032.56},null,-24.610000000000127,-2.3279132022286032E-2,"BELOW",null,{"$f":"VLOOKUP(A135,Population!$B$6:$E$140,4,FALSE)","v":8535},{"$f":"VLOOKUP(A135, '2020-2022 Composite Index Data'!$A$5:$G$139, 7, FALSE)","v":8474},null,-61,-7.1470415934387814E-3,"BELOW"]
[136,"CHESAPEAKE",{"$f":"VLOOKUP(A136,'March 31 ADM'!$B$6:$E$140,4,FALSE)","v":38885.050000000003},{"$f":"VLOOKUP(A136, '2020-2022 Composite Index Data'!$A$5:$F$139, 6, FALSE)","v":39613.21},null,728.15999999999622,1.872596280575687E-2,"ABOVE",null,{"$f":"VLOOKUP(A136,Population!$B$6:$E$140,4,FALSE)","v":238283},{"$f":"VLOOKUP(A136, '2020-2022 Composite Index Data'!$A$5:$G$139, 7, FALSE)","v":242655},null,4372,1.8347930821753965E-2,"ABOVE"]
[137,"LEXINGTON",{"$f":"VLOOKUP(A137,'March 31 ADM'!$B$6:$E$140,4,FALSE)","v":652.9},{"$f":"VLOOKUP(A137, '2020-2022 Composite Index Data'!$A$5:$F$139, 6, FALSE)","v":659.79},null,6.8899999999999864,1.0552917751569899E-2,"ABOVE",null,{"$f":"VLOOKUP(A137,Population!$B$6:$E$140,4,FALSE)","v":7410},{"$f":"VLOOKUP(A137, '2020-2022 Composite Index Data'!$A$5:$G$139, 7, FALSE)","v":7284},null,-126,-1.7004048582995951E-2,"BELOW"]
[138,"EMPORIA",{"$f":"VLOOKUP(A138,'March 31 ADM'!$B$6:$E$140,4,FALSE)","v":1023.48},{"$f":"VLOOKUP(A138, '2020-2022 Composite Index Data'!$A$5:$F$139, 6, FALSE)","v":1021.87},null,-1.6100000000000136,-1.5730644467893985E-3,"BELOW",null,{"$f":"VLOOKUP(A138,Population!$B$6:$E$140,4,FALSE)","v":6082},{"$f":"VLOOKUP(A138, '2020-2022 Composite Index Data'!$A$5:$G$139, 7, FALSE)","v":5797},null,-285,-4.6859585662610982E-2,"BELOW"]
[139,"SALEM",{"$f":"VLOOKUP(A139,'March 31 ADM'!$B$6:$E$140,4,FALSE)","v":3716.18},{"$f":"VLOOKUP(A139, '2020-2022 Composite Index Data'!$A$5:$F$139, 6, FALSE)","v":3872.18},null,156,4.19785909186315E-2,"ABOVE",null,{"$f":"VLOOKUP(A139,Population!$B$6:$E$140,4,FALSE)","v":25438},{"$f":"VLOOKUP(A139, '2020-2022 Composite Index Data'!$A$5:$G$139, 7, FALSE)","v":25679},null,241,9.474015252771445E-3,"BELOW"]
[142,"POQUOSON",{"$f":"VLOOKUP(A140,'March 31 ADM'!$B$6:$E$140,4,FALSE)","v":2078.3200000000002},{"$f":"VLOOKUP(A140, '2020-2022 Composite Index Data'!$A$5:$F$139, 6, FALSE)","v":2095.1999999999998},null,16.879999999999654,8.1219446475998183E-3,{"$f":"IF(G140<$G$146,\"BELOW\", \"ABOVE\")","v":"ABOVE"},null,{"$f":"VLOOKUP(A140,Population!$B$6:$E$140,4,FALSE)","v":12359},{"$f":"VLOOKUP(A140, '2020-2022 Composite Index Data'!$A$5:$G$139, 7, FALSE)","v":12311},null,{"$f":"K140-J140","v":-48},{"$f":"M140/J140","v":-3.8838093696901043E-3},{"$f":"IF(N140<$N$146,\"BELOW\", \"ABOVE\")","v":"BELOW"}]
[143,"MANASSAS",{"$f":"VLOOKUP(A141,'March 31 ADM'!$B$6:$E$140,4,FALSE)","v":7230.2},{"$f":"VLOOKUP(A141, '2020-2022 Composite Index Data'!$A$5:$F$139, 6, FALSE)","v":7420.46},null,190.26000000000022,2.6314624768332857E-2,{"$f":"IF(G141<$G$146,\"BELOW\", \"ABOVE\")","v":"ABOVE"},null,{"$f":"VLOOKUP(A141,Population!$B$6:$E$140,4,FALSE)","v":41577},{"$f":"VLOOKUP(A141, '2020-2022 Composite Index Data'!$A$5:$G$139, 7, FALSE)","v":41783},null,{"$f":"K141-J141","v":206},{"$f":"M141/J141","v":4.9546624335570144E-3},{"$f":"IF(N141<$N$146,\"BELOW\", \"ABOVE\")","v":"BELOW"}]
[144,"MANASSAS PARK",{"$f":"VLOOKUP(A142,'March 31 ADM'!$B$6:$E$140,4,FALSE)","v":3330.38},{"$f":"VLOOKUP(A142, '2020-2022 Composite Index Data'!$A$5:$F$139, 6, FALSE)","v":3541.06},null,{"$f":"D142-C142","v":210.67999999999984},{"$f":"F142/C142","v":6.3260048402884905E-2},{"$f":"IF(G142<$G$146,\"BELOW\", \"ABOVE\")","v":"ABOVE"},null,{"$f":"VLOOKUP(A142,Population!$B$6:$E$140,4,FALSE)","v":15700},{"$f":"VLOOKUP(A142, '2020-2022 Composite Index Data'!$A$5:$G$139, 7, FALSE)","v":16142},null,{"$f":"K142-J142","v":442},{"$f":"M142/J142","v":2.8152866242038218E-2},{"$f":"IF(N142<$N$146,\"BELOW\", \"ABOVE\")","v":"ABOVE"}]
[202,"COLONIAL BEACH",{"$f":"VLOOKUP(A143,'March 31 ADM'!$B$6:$E$140,4,FALSE)","v":571.45000000000005},{"$f":"VLOOKUP(A143, '2020-2022 Composite Index Data'!$A$5:$F$139, 6, FALSE)","v":598.48},null,{"$f":"D143-C143","v":27.029999999999973},{"$f":"F143/C143","v":4.7300726222766598E-2},{"$f":"IF(G143<$G$146,\"BELOW\", \"ABOVE\")","v":"ABOVE"},null,{"$f":"VLOOKUP(A143,Population!$B$6:$E$140,4,FALSE)","v":3580},{"$f":"VLOOKUP(A143, '2020-2022 Composite Index Data'!$A$5:$G$139, 7, FALSE)","v":3569},null,{"$f":"K143-J143","v":-11},{"$f":"M143/J143","v":-3.0726256983240221E-3},{"$f":"IF(N143<$N$146,\"BELOW\", \"ABOVE\")","v":"BELOW"}]
[207,"WEST POINT",{"$f":"VLOOKUP(A144,'March 31 ADM'!$B$6:$E$140,4,FALSE)","v":757.77},{"$f":"VLOOKUP(A144, '2020-2022 Composite Index Data'!$A$5:$F$139, 6, FALSE)","v":789.13},null,{"$f":"D144-C144","v":31.360000000000014},{"$f":"F144/C144","v":4.1384588991382629E-2},{"$f":"IF(G144<$G$146,\"BELOW\", \"ABOVE\")","v":"ABOVE"},null,{"$f":"VLOOKUP(A144,Population!$B$6:$E$140,4,FALSE)","v":3333},{"$f":"VLOOKUP(A144, '2020-2022 Composite Index Data'!$A$5:$G$139, 7, FALSE)","v":3313},null,{"$f":"K144-J144","v":-20},{"$f":"M144/J144","v":-6.0006000600060002E-3},{"$f":"IF(N144<$N$146,\"BELOW\", \"ABOVE\")","v":"BELOW"}]
[]
[null," STATE TOTALS",{"$f":"SUM(C10:C145)","v":1239781.2999999996},{"$f":"SUM(D10:D145)","v":1246930.6500000001},null,{"$f":"SUM(F10:F145)","v":7149.3499999999622},{"$f":"F146/C146","v":5.7666219033953529E-3},null,null,{"$f":"SUM(J10:J145)","v":8382993},{"$f":"SUM(K10:K145)","v":8470020},null,{"$f":"SUM(M10:M145)","v":87027},{"$f":"M146/J146","v":1.0381375721058099E-2}]
[null,null,{"$f":"C146-'March 31 ADM'!E141","v":0},{"$f":"D146-'March 31 ADM'!D141","v":0},null,null,null,null,null,{"$f":"J146-Population!E141","v":0}]
[null,null,null,"Average Change",null,{"$f":"AVERAGE(F10:F144)","v":52.95814814814787},null,null,null,null,"Average Change",null,{"$f":"AVERAGE(M10:M144)","v":644.64444444444439}]

{"sheet":"Final Check","index":20,"n_rows":138,"n_cols":9,"rows_kept":138,"cut":false,"hidden":true,"merged":[[0,4,0,5]]}
[null,null,null,null,"School Division",null,"2018-2020 Composite Index","From Template","Variance"]
[null,null,null,null,1,"ACCOMACK",{"$f":"VLOOKUP(E2,'Comp Index Comparison - Ranked'!$B$6:$D$140,3,FALSE)","v":0.33739999999999998},0.34599999999999997,{"$f":"G2-H2","v":-8.5999999999999965E-3}]
[null,null,null,null,2,"ALBEMARLE",{"$f":"VLOOKUP(E3,'Comp Index Comparison - Ranked'!$B$6:$D$140,3,FALSE)","v":0.64490000000000003},0.6391,5.8000000000000274E-3]
[null,null,null,null,3,"ALLEGHANY",{"$f":"VLOOKUP(E4,'Comp Index Comparison - Ranked'!$B$6:$D$140,3,FALSE)","v":0.28189999999999998},0.24229999999999999,3.9599999999999996E-2]
[null,null,null,null,4,"AMELIA",{"$f":"VLOOKUP(E5,'Comp Index Comparison - Ranked'!$B$6:$D$140,3,FALSE)","v":0.34789999999999999},0.318,2.9899999999999982E-2]
[null,null,null,null,5,"AMHERST",{"$f":"VLOOKUP(E6,'Comp Index Comparison - Ranked'!$B$6:$D$140,3,FALSE)","v":0.31409999999999999},0.313,1.0999999999999899E-3]
[null,null,null,null,6,"APPOMATTOX",{"$f":"VLOOKUP(E7,'Comp Index Comparison - Ranked'!$B$6:$D$140,3,FALSE)","v":0.29780000000000001},0.29149999999999998,6.3000000000000278E-3]
[null,null,null,null,7,"ARLINGTON",{"$f":"VLOOKUP(E8,'Comp Index Comparison - Ranked'!$B$6:$D$140,3,FALSE)","v":0.8},0.8,0]
[null,null,null,null,8,"AUGUSTA",{"$f":"VLOOKUP(E9,'Comp Index Comparison - Ranked'!$B$6:$D$140,3,FALSE)","v":0.37690000000000001},0.35060000000000002,2.629999999999999E-2]
[null,null,null,null,9,"BATH",{"$f":"VLOOKUP(E10,'Comp Index Comparison - Ranked'!$B$6:$D$140,3,FALSE)","v":0.8},0.8,0]
[null,null,null,null,10,"BEDFORD COUNTY",{"$f":"VLOOKUP(E11,'Comp Index Comparison - Ranked'!$B$6:$D$140,3,FALSE)","v":0.31319999999999998},0.31319999999999998,0]
[null,null,null,null,11,"BLAND",{"$f":"VLOOKUP(E12,'Comp Index Comparison - Ranked'!$B$6:$D$140,3,FALSE)","v":0.33800000000000002},0.30009999999999998,3.7900000000000045E-2]
[null,null,null,null,12,"BOTETOURT",{"$f":"VLOOKUP(E13,'Comp Index Comparison - Ranked'!$B$6:$D$140,3,FALSE)","v":0.39750000000000002},0.37640000000000001,2.1100000000000008E-2]
[null,null,null,null,13,"BRUNSWICK",{"$f":"VLOOKUP(E14,'Comp Index Comparison - Ranked'!$B$6:$D$140,3,FALSE)","v":0.42899999999999999},0.28060000000000002,0.14839999999999998]
[null,null,null,null,14,"BUCHANAN",{"$f":"VLOOKUP(E15,'Comp Index Comparison - Ranked'!$B$6:$D$140,3,FALSE)","v":0.29749999999999999},0.31690000000000002,-1.9400000000000028E-2]
[null,null,null,null,15,"BUCKINGHAM",{"$f":"VLOOKUP(E16,'Comp Index Comparison - Ranked'!$B$6:$D$140,3,FALSE)","v":0.3422},0.3402,2.0000000000000018E-3]
[null,null,null,null,16,"CAMPBELL",{"$f":"VLOOKUP(E17,'Comp Index Comparison - Ranked'!$B$6:$D$140,3,FALSE)","v":0.2878},0.27450000000000002,1.3299999999999979E-2]
[null,null,null,null,17,"CAROLINE",{"$f":"VLOOKUP(E18,'Comp Index Comparison - Ranked'!$B$6:$D$140,3,FALSE)","v":0.3553},0.3256,2.9700000000000004E-2]
[null,null,null,null,18,"CARROLL",{"$f":"VLOOKUP(E19,'Comp Index Comparison - Ranked'!$B$6:$D$140,3,FALSE)","v":0.27489999999999998},0.27200000000000002,2.8999999999999582E-3]
[null,null,null,null,19,"CHARLES CITY",{"$f":"VLOOKUP(E20,'Comp Index Comparison - Ranked'!$B$6:$D$140,3,FALSE)","v":0.58799999999999997},0.49059999999999998,9.7399999999999987E-2]
[null,null,null,null,20,"CHARLOTTE",{"$f":"VLOOKUP(E21,'Comp Index Comparison - Ranked'!$B$6:$D$140,3,FALSE)","v":0.24440000000000001},0.25369999999999998,-9.299999999999975E-3]
[null,null,null,null,21,"CHESTERFIELD",{"$f":"VLOOKUP(E22,'Comp Index Comparison - Ranked'!$B$6:$D$140,3,FALSE)","v":0.3584},0.35089999999999999,7.5000000000000067E-3]
[null,null,null,null,22,"CLARKE",{"$f":"VLOOKUP(E23,'Comp Index Comparison - Ranked'!$B$6:$D$140,3,FALSE)","v":0.57289999999999996},0.54349999999999998,2.9399999999999982E-2]
[null,null,null,null,23,"CRAIG",{"$f":"VLOOKUP(E24,'Comp Index Comparison - Ranked'!$B$6:$D$140,3,FALSE)","v":0.33360000000000001},0.3024,3.1200000000000006E-2]
[null,null,null,null,24,"CULPEPER",{"$f":"VLOOKUP(E25,'Comp Index Comparison - Ranked'!$B$6:$D$140,3,FALSE)","v":0.37409999999999999},0.35730000000000001,1.6799999999999982E-2]
[null,null,null,null,25,"CUMBERLAND",{"$f":"VLOOKUP(E26,'Comp Index Comparison - Ranked'!$B$6:$D$140,3,FALSE)","v":0.29780000000000001},0.28149999999999997,1.6300000000000037E-2]
[null,null,null,null,26,"DICKENSON",{"$f":"VLOOKUP(E27,'Comp Index Comparison - Ranked'!$B$6:$D$140,3,FALSE)","v":0.24709999999999999},0.26979999999999998,-2.2699999999999998E-2]
[null,null,null,null,27,"DINWIDDIE",{"$f":"VLOOKUP(E28,'Comp Index Comparison - Ranked'!$B$6:$D$140,3,FALSE)","v":0.28789999999999999},0.27739999999999998,1.0500000000000009E-2]
[null,null,null,null,28,"ESSEX",{"$f":"VLOOKUP(E29,'Comp Index Comparison - Ranked'!$B$6:$D$140,3,FALSE)","v":0.46360000000000001},0.43140000000000001,3.2200000000000006E-2]
[null,null,null,null,29,"FAIRFAX COUNTY",{"$f":"VLOOKUP(E30,'Comp Index Comparison - Ranked'!$B$6:$D$140,3,FALSE)","v":0.65410000000000001},0.68400000000000005,-2.9900000000000038E-2]
[null,null,null,null,30,"FAUQUIER",{"$f":"VLOOKUP(E31,'Comp Index Comparison - Ranked'!$B$6:$D$140,3,FALSE)","v":0.58789999999999998},0.58230000000000004,5.5999999999999384E-3]
[null,null,null,null,31,"FLOYD",{"$f":"VLOOKUP(E32,'Comp Index Comparison - Ranked'!$B$6:$D$140,3,FALSE)","v":0.34179999999999999},0.34,1.7999999999999683E-3]
[null,null,null,null,32,"FLUVANNA",{"$f":"VLOOKUP(E33,'Comp Index Comparison - Ranked'!$B$6:$D$140,3,FALSE)","v":0.39400000000000002},0.37569999999999998,1.8300000000000038E-2]
[null,null,null,null,33,"FRANKLIN COUNTY",{"$f":"VLOOKUP(E34,'Comp Index Comparison - Ranked'!$B$6:$D$140,3,FALSE)","v":0.39529999999999998},0.39460000000000001,6.9999999999997842E-4]
[null,null,null,null,34,"FREDERICK",{"$f":"VLOOKUP(E35,'Comp Index Comparison - Ranked'!$B$6:$D$140,3,FALSE)","v":0.41199999999999998},0.38869999999999999,2.3299999999999987E-2]
[null,null,null,null,35,"GILES",{"$f":"VLOOKUP(E36,'Comp Index Comparison - Ranked'!$B$6:$D$140,3,FALSE)","v":0.26950000000000002},0.27379999999999999,-4.2999999999999705E-3]
[null,null,null,null,36,"GLOUCESTER",{"$f":"VLOOKUP(E37,'Comp Index Comparison - Ranked'!$B$6:$D$140,3,FALSE)","v":0.38850000000000001},0.37280000000000002,1.5699999999999992E-2]
[null,null,null,null,37,"GOOCHLAND",{"$f":"VLOOKUP(E38,'Comp Index Comparison - Ranked'!$B$6:$D$140,3,FALSE)","v":0.8},0.8,0]
[null,null,null,null,38,"GRAYSON",{"$f":"VLOOKUP(E39,'Comp Index Comparison - Ranked'!$B$6:$D$140,3,FALSE)","v":0.36149999999999999},0.33350000000000002,2.7999999999999969E-2]
[null,null,null,null,39,"GREENE",{"$f":"VLOOKUP(E40,'Comp Index Comparison - Ranked'!$B$6:$D$140,3,FALSE)","v":0.34460000000000002},0.32790000000000002,1.6699999999999993E-2]
[null,null,null,null,40,"GREENSVILLE",{"$f":"VLOOKUP(E41,'Comp Index Comparison - Ranked'!$B$6:$D$140,3,FALSE)","v":0.27989999999999998},0.2235,5.6399999999999978E-2]
[null,null,null,null,41,"HALIFAX",{"$f":"VLOOKUP(E42,'Comp Index Comparison - Ranked'!$B$6:$D$140,3,FALSE)","v":0.30580000000000002},0.30220000000000002,3.5999999999999921E-3]
[null,null,null,null,42,"HANOVER",{"$f":"VLOOKUP(E43,'Comp Index Comparison - Ranked'!$B$6:$D$140,3,FALSE)","v":0.46260000000000001},0.42830000000000001,3.4299999999999997E-2]
[null,null,null,null,43,"HENRICO",{"$f":"VLOOKUP(E44,'Comp Index Comparison - Ranked'!$B$6:$D$140,3,FALSE)","v":0.4279},0.4219,6.0000000000000053E-3]
[null,null,null,null,44,"HENRY",{"$f":"VLOOKUP(E45,'Comp Index Comparison - Ranked'!$B$6:$D$140,3,FALSE)","v":0.2253},0.23300000000000001,-7.7000000000000124E-3]
[null,null,null,null,45,"HIGHLAND",{"$f":"VLOOKUP(E46,'Comp Index Comparison - Ranked'!$B$6:$D$140,3,FALSE)","v":0.8},0.8,0]
[null,null,null,null,46,"ISLE OF WIGHT",{"$f":"VLOOKUP(E47,'Comp Index Comparison - Ranked'!$B$6:$D$140,3,FALSE)","v":0.39639999999999997},0.40089999999999998,-4.500000000000004E-3]
[null,null,null,null,47,"JAMES CITY",{"$f":"VLOOKUP(E48,'Comp Index Comparison - Ranked'!$B$6:$D$140,3,FALSE)","v":0.55530000000000002},0.56379999999999997,-8.499999999999952E-3]
[null,null,null,null,48,"KING GEORGE",{"$f":"VLOOKUP(E49,'Comp Index Comparison - Ranked'!$B$6:$D$140,3,FALSE)","v":0.37030000000000002},0.36620000000000003,4.0999999999999925E-3]
[null,null,null,null,49,"KING AND QUEEN",{"$f":"VLOOKUP(E50,'Comp Index Comparison - Ranked'!$B$6:$D$140,3,FALSE)","v":0.41389999999999999},0.41499999999999998,-1.0999999999999899E-3]
[null,null,null,null,50,"KING WILLIAM",{"$f":"VLOOKUP(E51,'Comp Index Comparison - Ranked'!$B$6:$D$140,3,FALSE)","v":0.3407},0.31180000000000002,2.8899999999999981E-2]
[null,null,null,null,51,"LANCASTER",{"$f":"VLOOKUP(E52,'Comp Index Comparison - Ranked'!$B$6:$D$140,3,FALSE)","v":0.78349999999999997},0.75600000000000001,2.7499999999999969E-2]
[null,null,null,null,52,"LEE",{"$f":"VLOOKUP(E53,'Comp Index Comparison - Ranked'!$B$6:$D$140,3,FALSE)","v":0.16919999999999999},0.1701,-9.000000000000119E-4]
[null,null,null,null,53,"LOUDOUN",{"$f":"VLOOKUP(E54,'Comp Index Comparison - Ranked'!$B$6:$D$140,3,FALSE)","v":0.54659999999999997},0.5494,-2.8000000000000247E-3]
[null,null,null,null,54,"LOUISA",{"$f":"VLOOKUP(E55,'Comp Index Comparison - Ranked'!$B$6:$D$140,3,FALSE)","v":0.54059999999999997},0.54320000000000002,-2.6000000000000467E-3]
[null,null,null,null,55,"LUNENBURG",{"$f":"VLOOKUP(E56,'Comp Index Comparison - Ranked'!$B$6:$D$140,3,FALSE)","v":0.25609999999999999},0.2432,1.2899999999999995E-2]
[null,null,null,null,56,"MADISON",{"$f":"VLOOKUP(E57,'Comp Index Comparison - Ranked'!$B$6:$D$140,3,FALSE)","v":0.4738},0.44080000000000003,3.2999999999999974E-2]
[null,null,null,null,57,"MATHEWS",{"$f":"VLOOKUP(E58,'Comp Index Comparison - Ranked'!$B$6:$D$140,3,FALSE)","v":0.51619999999999999},0.52280000000000004,-6.6000000000000503E-3]
[null,null,null,null,58,"MECKLENBURG",{"$f":"VLOOKUP(E59,'Comp Index Comparison - Ranked'!$B$6:$D$140,3,FALSE)","v":0.39960000000000001},0.3488,5.0800000000000012E-2]
[null,null,null,null,59,"MIDDLESEX",{"$f":"VLOOKUP(E60,'Comp Index Comparison - Ranked'!$B$6:$D$140,3,FALSE)","v":0.6008},0.6331,-3.2299999999999995E-2]
[null,null,null,null,60,"MONTGOMERY",{"$f":"VLOOKUP(E61,'Comp Index Comparison - Ranked'!$B$6:$D$140,3,FALSE)","v":0.40050000000000002},0.38300000000000001,1.7500000000000016E-2]
[null,null,null,null,62,"NELSON",{"$f":"VLOOKUP(E62,'Comp Index Comparison - Ranked'!$B$6:$D$140,3,FALSE)","v":0.56040000000000001},0.59279999999999999,-3.2399999999999984E-2]
[null,null,null,null,63,"NEW KENT",{"$f":"VLOOKUP(E63,'Comp Index Comparison - Ranked'!$B$6:$D$140,3,FALSE)","v":0.41660000000000003},0.41489999999999999,1.7000000000000348E-3]
[null,null,null,null,65,"NORTHAMPTON",{"$f":"VLOOKUP(E64,'Comp Index Comparison - Ranked'!$B$6:$D$140,3,FALSE)","v":0.46960000000000002},0.49099999999999999,-2.1399999999999975E-2]
[null,null,null,null,66,"NORTHUMBERLAND",{"$f":"VLOOKUP(E65,'Comp Index Comparison - Ranked'!$B$6:$D$140,3,FALSE)","v":0.71160000000000001},0.75360000000000005,-4.2000000000000037E-2]
[null,null,null,null,67,"NOTTOWAY",{"$f":"VLOOKUP(E66,'Comp Index Comparison - Ranked'!$B$6:$D$140,3,FALSE)","v":0.25969999999999999},0.23649999999999999,{"$f":"G66-H66","v":2.3199999999999998E-2}]
[null,null,null,null,68,"ORANGE",{"$f":"VLOOKUP(E67,'Comp Index Comparison - Ranked'!$B$6:$D$140,3,FALSE)","v":0.41049999999999998},0.38090000000000002,2.959999999999996E-2]
[null,null,null,null,69,"PAGE",{"$f":"VLOOKUP(E68,'Comp Index Comparison - Ranked'!$B$6:$D$140,3,FALSE)","v":0.31979999999999997},0.29580000000000001,2.3999999999999966E-2]
[null,null,null,null,70,"PATRICK",{"$f":"VLOOKUP(E69,'Comp Index Comparison - Ranked'!$B$6:$D$140,3,FALSE)","v":0.24560000000000001},0.2477,-2.0999999999999908E-3]
[null,null,null,null,71,"PITTSYLVANIA",{"$f":"VLOOKUP(E70,'Comp Index Comparison - Ranked'!$B$6:$D$140,3,FALSE)","v":0.24460000000000001},0.24079999999999999,3.8000000000000256E-3]
[null,null,null,null,72,"POWHATAN",{"$f":"VLOOKUP(E71,'Comp Index Comparison - Ranked'!$B$6:$D$140,3,FALSE)","v":0.45069999999999999},0.40300000000000002,4.7699999999999965E-2]
[null,null,null,null,73,"PRINCE EDWARD",{"$f":"VLOOKUP(E72,'Comp Index Comparison - Ranked'!$B$6:$D$140,3,FALSE)","v":0.35539999999999999},0.33750000000000002,1.7899999999999971E-2]
[null,null,null,null,74,"PRINCE GEORGE",{"$f":"VLOOKUP(E73,'Comp Index Comparison - Ranked'!$B$6:$D$140,3,FALSE)","v":0.2467},0.24529999999999999,1.4000000000000123E-3]
[null,null,null,null,75,"PRINCE WILLIAM",{"$f":"VLOOKUP(E74,'Comp Index Comparison - Ranked'!$B$6:$D$140,3,FALSE)","v":0.37990000000000002},0.3846,-4.699999999999982E-3]
[null,null,null,null,77,"PULASKI",{"$f":"VLOOKUP(E75,'Comp Index Comparison - Ranked'!$B$6:$D$140,3,FALSE)","v":0.32350000000000001},0.31040000000000001,1.3100000000000001E-2]
[null,null,null,null,78,"RAPPAHANNOCK",{"$f":"VLOOKUP(E76,'Comp Index Comparison - Ranked'!$B$6:$D$140,3,FALSE)","v":0.79900000000000004},0.73919999999999997,5.9800000000000075E-2]
[null,null,null,null,79,"RICHMOND COUNTY",{"$f":"VLOOKUP(E77,'Comp Index Comparison - Ranked'!$B$6:$D$140,3,FALSE)","v":0.312},0.31780000000000003,-5.8000000000000274E-3]
[null,null,null,null,80,"ROANOKE COUNTY",{"$f":"VLOOKUP(E78,'Comp Index Comparison - Ranked'!$B$6:$D$140,3,FALSE)","v":0.36599999999999999},0.35849999999999999,7.5000000000000067E-3]
[null,null,null,null,81,"ROCKBRIDGE",{"$f":"VLOOKUP(E79,'Comp Index Comparison - Ranked'!$B$6:$D$140,3,FALSE)","v":0.4506},0.45190000000000002,-1.3000000000000234E-3]
[null,null,null,null,82,"ROCKINGHAM",{"$f":"VLOOKUP(E80,'Comp Index Comparison - Ranked'!$B$6:$D$140,3,FALSE)","v":0.37990000000000002},0.35589999999999999,2.4000000000000021E-2]
[null,null,null,null,83,"RUSSELL",{"$f":"VLOOKUP(E81,'Comp Index Comparison - Ranked'!$B$6:$D$140,3,FALSE)","v":0.23730000000000001},0.23730000000000001,0]
[null,null,null,null,84,"SCOTT",{"$f":"VLOOKUP(E82,'Comp Index Comparison - Ranked'!$B$6:$D$140,3,FALSE)","v":0.18990000000000001},0.18870000000000001,1.2000000000000066E-3]
[null,null,null,null,85,"SHENANDOAH",{"$f":"VLOOKUP(E83,'Comp Index Comparison - Ranked'!$B$6:$D$140,3,FALSE)","v":0.38319999999999999},0.36620000000000003,1.699999999999996E-2]
[null,null,null,null,86,"SMYTH",{"$f":"VLOOKUP(E84,'Comp Index Comparison - Ranked'!$B$6:$D$140,3,FALSE)","v":0.2228},0.2135,9.3000000000000027E-3]
[null,null,null,null,87,"SOUTHAMPTON",{"$f":"VLOOKUP(E85,'Comp Index Comparison - Ranked'!$B$6:$D$140,3,FALSE)","v":0.30149999999999999},0.2853,1.6199999999999992E-2]
[null,null,null,null,88,"SPOTSYLVANIA",{"$f":"VLOOKUP(E86,'Comp Index Comparison - Ranked'!$B$6:$D$140,3,FALSE)","v":0.37219999999999998},0.36149999999999999,1.0699999999999987E-2]
[null,null,null,null,89,"STAFFORD",{"$f":"VLOOKUP(E87,'Comp Index Comparison - Ranked'!$B$6:$D$140,3,FALSE)","v":0.34699999999999998},0.34429999999999999,2.6999999999999802E-3]
[null,null,null,null,90,"SURRY",{"$f":"VLOOKUP(E88,'Comp Index Comparison - Ranked'!$B$6:$D$140,3,FALSE)","v":0.8},0.8,0]
[null,null,null,null,91,"SUSSEX",{"$f":"VLOOKUP(E89,'Comp Index Comparison - Ranked'!$B$6:$D$140,3,FALSE)","v":0.34920000000000001},0.34789999999999999,1.3000000000000234E-3]
[null,null,null,null,92,"TAZEWELL",{"$f":"VLOOKUP(E90,'Comp Index Comparison - Ranked'!$B$6:$D$140,3,FALSE)","v":0.25750000000000001},0.27429999999999999,-1.6799999999999982E-2]
[null,null,null,null,93,"WARREN",{"$f":"VLOOKUP(E91,'Comp Index Comparison - Ranked'!$B$6:$D$140,3,FALSE)","v":0.44319999999999998},0.40400000000000003,3.9199999999999957E-2]
[null,null,null,null,94,"WASHINGTON",{"$f":"VLOOKUP(E92,'Comp Index Comparison - Ranked'!$B$6:$D$140,3,FALSE)","v":0.34160000000000001},0.34920000000000001,-7.5999999999999956E-3]
[null,null,null,null,95,"WESTMORELAND",{"$f":"VLOOKUP(E93,'Comp Index Comparison - Ranked'!$B$6:$D$140,3,FALSE)","v":0.46179999999999999},0.45540000000000003,6.3999999999999613E-3]
[null,null,null,null,96,"WISE",{"$f":"VLOOKUP(E94,'Comp Index Comparison - Ranked'!$B$6:$D$140,3,FALSE)","v":0.23719999999999999},0.26679999999999998,-2.9599999999999987E-2]
[null,null,null,null,97,"WYTHE",{"$f":"VLOOKUP(E95,'Comp Index Comparison - Ranked'!$B$6:$D$140,3,FALSE)","v":0.32040000000000002},0.312,8.4000000000000186E-3]
[null,null,null,null,98,"YORK",{"$f":"VLOOKUP(E96,'Comp Index Comparison - Ranked'!$B$6:$D$140,3,FALSE)","v":0.38119999999999998},0.39029999999999998,-9.099999999999997E-3]
[null,null,null,null,101,"ALEXANDRIA",{"$f":"VLOOKUP(E97,'Comp Index Comparison - Ranked'!$B$6:$D$140,3,FALSE)","v":0.8},0.8,0]
[null,null,null,null,102,"BRISTOL",{"$f":"VLOOKUP(E98,'Comp Index Comparison - Ranked'!$B$6:$D$140,3,FALSE)","v":0.30509999999999998},0.30420000000000003,8.9999999999995639E-4]
[null,null,null,null,103,"BUENA VISTA",{"$f":"VLOOKUP(E99,'Comp Index Comparison - Ranked'!$B$6:$D$140,3,FALSE)","v":0.1893},0.17730000000000001,1.1999999999999983E-2]
[null,null,null,null,104,"CHARLOTTESVILLE",{"$f":"VLOOKUP(E100,'Comp Index Comparison - Ranked'!$B$6:$D$140,3,FALSE)","v":0.68859999999999999},0.65859999999999996,3.0000000000000027E-2]
[null,null,null,null,106,"COLONIAL HEIGHTS",{"$f":"VLOOKUP(E101,'Comp Index Comparison - Ranked'!$B$6:$D$140,3,FALSE)","v":0.41560000000000002},0.41810000000000003,-2.5000000000000022E-3]
[null,null,null,null,107,"COVINGTON",{"$f":"VLOOKUP(E102,'Comp Index Comparison - Ranked'!$B$6:$D$140,3,FALSE)","v":0.2913},0.2802,1.1099999999999999E-2]
[null,null,null,null,108,"DANVILLE",{"$f":"VLOOKUP(E103,'Comp Index Comparison - Ranked'!$B$6:$D$140,3,FALSE)","v":0.26219999999999999},0.26290000000000002,-7.0000000000003393E-4]
[null,null,null,null,109,"FALLS CHURCH",{"$f":"VLOOKUP(E104,'Comp Index Comparison - Ranked'!$B$6:$D$140,3,FALSE)","v":0.8},0.8,0]
[null,null,null,null,110,"FREDERICKSBURG",{"$f":"VLOOKUP(E105,'Comp Index Comparison - Ranked'!$B$6:$D$140,3,FALSE)","v":0.58399999999999996},0.6069,-2.2900000000000031E-2]
[null,null,null,null,111,"GALAX",{"$f":"VLOOKUP(E106,'Comp Index Comparison - Ranked'!$B$6:$D$140,3,FALSE)","v":0.27750000000000002},0.26069999999999999,1.6800000000000037E-2]
[null,null,null,null,112,"HAMPTON",{"$f":"VLOOKUP(E107,'Comp Index Comparison - Ranked'!$B$6:$D$140,3,FALSE)","v":0.27429999999999999},0.2772,-2.9000000000000137E-3]
[null,null,null,null,113,"HARRISONBURG",{"$f":"VLOOKUP(E108,'Comp Index Comparison - Ranked'!$B$6:$D$140,3,FALSE)","v":0.35370000000000001},0.38529999999999998,-3.1599999999999961E-2]
[null,null,null,null,114,"HOPEWELL",{"$f":"VLOOKUP(E109,'Comp Index Comparison - Ranked'!$B$6:$D$140,3,FALSE)","v":0.20530000000000001},0.2107,-5.3999999999999881E-3]
[null,null,null,null,115,"LYNCHBURG",{"$f":"VLOOKUP(E110,'Comp Index Comparison - Ranked'!$B$6:$D$140,3,FALSE)","v":0.36680000000000001},0.36280000000000001,4.0000000000000036E-3]
[null,null,null,null,116,"MARTINSVILLE",{"$f":"VLOOKUP(E111,'Comp Index Comparison - Ranked'!$B$6:$D$140,3,FALSE)","v":0.2185},0.21099999999999999,7.5000000000000067E-3]
[null,null,null,null,117,"NEWPORT NEWS",{"$f":"VLOOKUP(E112,'Comp Index Comparison - Ranked'!$B$6:$D$140,3,FALSE)","v":0.28420000000000001},0.28189999999999998,2.3000000000000242E-3]
[null,null,null,null,118,"NORFOLK",{"$f":"VLOOKUP(E113,'Comp Index Comparison - Ranked'!$B$6:$D$140,3,FALSE)","v":0.30590000000000001},0.29859999999999998,7.3000000000000287E-3]
[null,null,null,null,119,"NORTON",{"$f":"VLOOKUP(E114,'Comp Index Comparison - Ranked'!$B$6:$D$140,3,FALSE)","v":0.27100000000000002},0.28549999999999998,-1.4499999999999957E-2]
[null,null,null,null,120,"PETERSBURG",{"$f":"VLOOKUP(E115,'Comp Index Comparison - Ranked'!$B$6:$D$140,3,FALSE)","v":0.2442},0.2364,7.8000000000000014E-3]
[null,null,null,null,121,"PORTSMOUTH",{"$f":"VLOOKUP(E116,'Comp Index Comparison - Ranked'!$B$6:$D$140,3,FALSE)","v":0.24260000000000001},0.2505,-7.8999999999999904E-3]
[null,null,null,null,122,"RADFORD",{"$f":"VLOOKUP(E117,'Comp Index Comparison - Ranked'!$B$6:$D$140,3,FALSE)","v":0.2452},0.25109999999999999,-5.8999999999999886E-3]
[null,null,null,null,123,"RICHMOND CITY",{"$f":"VLOOKUP(E118,'Comp Index Comparison - Ranked'!$B$6:$D$140,3,FALSE)","v":0.46879999999999999},0.47560000000000002,-6.8000000000000282E-3]
[null,null,null,null,124,"ROANOKE CITY",{"$f":"VLOOKUP(E119,'Comp Index Comparison - Ranked'!$B$6:$D$140,3,FALSE)","v":0.32840000000000003},0.34420000000000001,-1.5799999999999981E-2]
[null,null,null,null,126,"STAUNTON",{"$f":"VLOOKUP(E120,'Comp Index Comparison - Ranked'!$B$6:$D$140,3,FALSE)","v":0.38769999999999999},0.38250000000000001,5.1999999999999824E-3]
[null,null,null,null,127,"SUFFOLK",{"$f":"VLOOKUP(E121,'Comp Index Comparison - Ranked'!$B$6:$D$140,3,FALSE)","v":0.34870000000000001},0.3407,8.0000000000000071E-3]
[null,null,null,null,128,"VIRGINIA BEACH",{"$f":"VLOOKUP(E122,'Comp Index Comparison - Ranked'!$B$6:$D$140,3,FALSE)","v":0.40820000000000001},0.39240000000000003,1.5799999999999981E-2]
[null,null,null,null,130,"WAYNESBORO",{"$f":"VLOOKUP(E123,'Comp Index Comparison - Ranked'!$B$6:$D$140,3,FALSE)","v":0.36520000000000002},0.35549999999999998,9.7000000000000419E-3]
[null,null,null,null,131,"WILLIAMSBURG",{"$f":"VLOOKUP(E124,'Comp Index Comparison - Ranked'!$B$6:$D$140,3,FALSE)","v":0.74590000000000001},0.77439999999999998,-2.849999999999997E-2]
[null,null,null,null,132,"WINCHESTER",{"$f":"VLOOKUP(E125,'Comp Index Comparison - Ranked'!$B$6:$D$140,3,FALSE)","v":0.43190000000000001},0.43240000000000001,-5.0000000000000044E-4]
[null,null,null,null,134,"FAIRFAX CITY",{"$f":"VLOOKUP(E126,'Comp Index Comparison - Ranked'!$B$6:$D$140,3,FALSE)","v":0.8},0.8,0]
[null,null,null,null,135,"FRANKLIN CITY",{"$f":"VLOOKUP(E127,'Comp Index Comparison - Ranked'!$B$6:$D$140,3,FALSE)","v":0.29289999999999999},0.29289999999999999,0]
[null,null,null,null,136,"CHESAPEAKE",{"$f":"VLOOKUP(E128,'Comp Index Comparison - Ranked'!$B$6:$D$140,3,FALSE)","v":0.34860000000000002},0.34370000000000001,4.9000000000000155E-3]
[null,null,null,null,137,"LEXINGTON",{"$f":"VLOOKUP(E129,'Comp Index Comparison - Ranked'!$B$6:$D$140,3,FALSE)","v":0.39200000000000002},0.40510000000000002,-1.3100000000000001E-2]
[null,null,null,null,138,"EMPORIA",{"$f":"VLOOKUP(E130,'Comp Index Comparison - Ranked'!$B$6:$D$140,3,FALSE)","v":0.2228},0.21609999999999999,{"$f":"G130-H130","v":6.7000000000000115E-3}]
[null,null,null,null,139,"SALEM",{"$f":"VLOOKUP(E131,'Comp Index Comparison - Ranked'!$B$6:$D$140,3,FALSE)","v":0.36409999999999998},0.37019999999999997,-6.0999999999999943E-3]
[null,null,null,null,142,"POQUOSON",{"$f":"VLOOKUP(E132,'Comp Index Comparison - Ranked'!$B$6:$D$140,3,FALSE)","v":0.37030000000000002},0.37940000000000002,-9.099999999999997E-3]
[null,null,null,null,143,"MANASSAS",{"$f":"VLOOKUP(E133,'Comp Index Comparison - Ranked'!$B$6:$D$140,3,FALSE)","v":0.36109999999999998},0.3579,3.1999999999999806E-3]
[null,null,null,null,144,"MANASSAS PARK",{"$f":"VLOOKUP(E134,'Comp Index Comparison - Ranked'!$B$6:$D$140,3,FALSE)","v":0.27550000000000002},0.26750000000000002,8.0000000000000071E-3]
[null,null,null,null,202,"COLONIAL BEACH",{"$f":"VLOOKUP(E135,'Comp Index Comparison - Ranked'!$B$6:$D$140,3,FALSE)","v":0.33169999999999999},0.33989999999999998,-8.1999999999999851E-3]
[null,null,null,null,207,"WEST POINT",{"$f":"VLOOKUP(E136,'Comp Index Comparison - Ranked'!$B$6:$D$140,3,FALSE)","v":0.26140000000000002},0.24210000000000001,1.9300000000000012E-2]
[]
[null,null,null,null,null,null,null,"Variance excluding hold harmless divisions",{"$f":"SUM(I2:I136)-I4-I11","v":0.98129999999999951}]

{"sheet":"Instructions For Updating","index":21,"n_rows":19,"n_cols":1,"rows_kept":19,"cut":false,"hidden":true,"merged":[]}
["Data to Update Composite Index Web Tool:"]
[]
["1.  Update composite index data in \"2014-2016 Composite Index\" sheet."]
["2.  Update composite index data in \"2014-16 Composite Index Non-Res.\" sheet."]
["3.  In \"Summary\" sheet, update list of Non-Res AGI divisions in formula for latest composite index. "]
["4.  In \"AGI Analysis\" sheet, update list of Non-Res AGI divisions in formula for latest AGI Data column."]
["5.  In \"2012-2014 Calculation Template,\" update the list of Non-Res AGI divisions in formula for Local AGI and Statewide AGI - column R - done by formula"]
["6.  Update Appropriation Act Reference and Language."]
["7.  Update text to reference new biennium of data and new source of \"Source\" data."]
[]
["For next year, create a much more robust \"internal\" version.  Link ALL tabs to one source, so there isn't so much copying as values, and less vlookups to do."]
["As of the 2014-16 file, external links are on these sheets:"]
["AGI analysis (prior biennium values)"]
["True Value of Property (prior biennium values)"]
["Adjusted Gross Income (prior biennium values)"]
["Taxable Sales (prior biennium values)"]
["March 31 ADM (prior biennium values)"]
["Population (prior biennium values)"]
["2014-2016 Composite Index"]